{"text_format":"1","workbook":"xlsx","n_sheets":15,"sheets":["Project Information","Railcar and Passenger Demand","Project Cost","Detailed Location","Required Fields","Summary","Intermediate Freight Calcs","Freight Calcs","BCA Values Freight","BCA Values Freight Congestion","Intermediate Pass Calcs","Passenger Calcs","BCA Values Passenger","BCA Values Passenger VOT ","BCA Values Passenger Congestion"],"not_rendered":{"charts":0,"images":1,"macros":1,"external_links":0,"defined_names":5,"comments":1,"pivot_tables":0},"unopened":[],"bounds":{"document_bytes":16777216,"sheet_cells":100000,"rows_first":2000,"rows_last":500,"rows_between":2000,"halvings":0,"cell_chars":16384,"cell_head_chars":4096},"cells_cut":0,"cells_raw":0,"read":"whole","date_system":"1900"}

{"sheet":"Project Information","index":0,"n_rows":60,"n_cols":36,"rows_kept":60,"cut":false,"hidden":false,"merged":[[0,2,0,3],[1,2,1,3],[0,5,1,5],[0,4,1,4],[12,4,20,5],[6,2,6,3],[7,2,7,3],[8,2,8,3],[9,2,9,3],[11,2,11,3],[28,2,28,3],[40,2,40,3],[24,2,24,3],[25,2,25,3],[26,2,26,3],[27,2,27,3],[57,0,59,0],[7,0,9,0],[11,0,22,0],[39,6,41,6],[48,2,48,3],[35,2,35,3],[29,2,29,3],[30,2,30,3],[31,2,31,3],[32,2,32,3],[34,2,34,3],[24,6,26,6],[24,0,32,0],[34,0,36,0],[36,2,36,3],[39,0,49,0]]}
[null,"Project Name","Freight Test",null,"Project Description and Notes","Example for Freight","^Click on Plus sign for data definitions"]
[null,"Organization ","DRPT"]
[]
[]
[]
[]
[null,"Applicant Entry Field Name","Information Entry",null,"Units or Accepted Values","Description/Definition"]
["Project Timeline","Current Year",null,null,"4-Digit Year","The current year, the year in which projects are scored."]
[null,"Project Start",null,null,"4-Digit Year","The year in which project construction is slated to begin.  "]
[null,"Project Finish",null,null,"4-Digit Year","The first full year in which project construction will be finished, project benefits will start to be realized in this year.  ",null,null,null,null,null,null,null,null,null,null,null,null,null,null,null,null,null,null,null,null,null,null,null,null,null,null,null,null,null,{"$f":"IF('Project Information'!C58=\"\",\"N\",IF(AM10=\"N\",\"Y\",\"N\"))","v":"N"}]
[]
["Project Location","Associated Highway","Multiple",null,"(I-64, I-66, I-81, I-95, US29, US58, US460, and/or Select Counties)","The highway(s) that new rail freight or passenger service is diverting from when switching from highway use. Click to select one or more highways from the list at left. For state average, select all highways. To select or remove individual counties from selected highways go to Detailed Location worksheet (Make Highway Selection First)."]
[null,null,"Mileage","Percentage","Calculates mileages and percentages of highways associated with the project (selected above). Highway names that are highlighted in orange have had counties removed from the totals. Highways can be reset on the Detail Location worksheet.    "]
[null,"I-64",{"$f":"'Detailed Location'!I25","v":0},{"$f":"IF(C14=\"\",0,IF(C14=0,0,C14/$C$21))","v":0},null,null,null,"I-64",{"$f":"IF(COUNTIF('Project Information'!$G$13,\"*1*\"),\"x\",\"\")","v":""}]
[null,"I-66",{"$f":"'Detailed Location'!I34","v":0},0,null,null,null,"I-66",{"$f":"IF(COUNTIF('Project Information'!$G$13,\"*2*\"),\"x\",\"\")","v":""}]
[null,"I-81",{"$f":"'Detailed Location'!I54","v":0},0,null,null,null,"I-81",{"$f":"IF(COUNTIF('Project Information'!$G$13,\"*3*\"),\"x\",\"\")","v":""}]
[null,"I-95",{"$f":"'Detailed Location'!I73","v":0},0,null,null,null,"I-95",{"$f":"IF(COUNTIF('Project Information'!$G$13,\"*4*\"),\"x\",\"\")","v":""}]
[null,"US29",{"$f":"'Detailed Location'!I91","v":0},0,null,null,null,"US29",{"$f":"IF(COUNTIF('Project Information'!$G$13,\"*5*\"),\"x\",\"\")","v":""}]
[null,"US58",{"$f":"'Detailed Location'!I121","v":0},0,null,null,null,"US58",{"$f":"IF(COUNTIF('Project Information'!$G$13,\"*6*\"),\"x\",\"\")","v":""}]
[null,"US460",{"$f":"'Detailed Location'!I146","v":0},0,null,null,null,"US460",{"$f":"IF(COUNTIF('Project Information'!$G$13,\"*7*\"),\"x\",\"\")","v":""}]
[null,"Total",{"$f":"SUM(C14:C20)","v":0},{"$f":"SUM(D14:D20)","v":0}]
[null,null,"Rural","Urban"]
[null,"Rural and Urban Breakdown",{"$f":"IF(G13<>\"\",'Detailed Location'!H149,\"\")","v":""},{"$f":"IF(G13<>\"\",'Detailed Location'!G149,\"\")","v":""},"Rural Percentage, Left; Urban Percentage, Right","Percentages of Rural and Urban along the selected routes. "]
[]
["Rail Freight Data","Annual tons of rail shipments (current)",{"$f":"IF(C26=0,\"\",C26*C28)","v":""},null,"tons/year","The current tonnage of rail shipments being made that can be associated with the project that start in, finish in, travel within or go through Virginia.  ","Return to Required Fields Page"]
[null,"Current Railcar Demand",null,null,"# of railcars/year","Number of rail cars hauled on the line or branch serving the project (previous year).  "]
[null,"Additional Annual Railcar Demand","Please See Railcar/Passenger Demand Worksheet",null,"# of railcars/year","Projected number, in addition to the current railcar demand, of railcars needed for service, by year, after project completion.  "]
[null,"Rail tons per railcar",70.2,null,"tons/railcar","The average number of tons carried by one railcar on the project route.  This value can be changed if detailed information about the shipments made on this route are available and will override the default value listed for trucks per railcar.  The default value is 70.2 tons/railcar. "]
[null,"Railcars per train",null,null,"railcars/train","Average number of railcars in a train for the freight service associated with this project. "]
[null,"Freight Rail Route Length, current",null,null,"mi","Length of the current route. "]
[null,"Freight Rail Route length, after project completion",null,null,"mi","Length of the new route after project construction. "]
[null,"Reduced Freight Mileage",{"$f":"C30-C31","v":0},null,"mi","Distance the track in VA has been shortened, in miles, due to the construction of the project. (current-after project completion)"]
[null,"Number of Rail Crossings removed",null,null,"number","Number of rail crossings removed due to the construction of the project. "]
[]
["Truck Freight Data","Truck Trip Length, Current (VA)",null,null,"miles","Average distance traveled per trip by freight trucks, that will switch to rail after project completion.  The mileage reflects highway miles driven in Virginia.  "]
[null,"Trucks per railcar",{"$f":"C28/C37","v":3.4094220495386112},null,"#","The average number of trucks required to replace one railcar.  The default value is based on freight movements starting in, ending in, travelling through or travelling within the State of Virginia.  This value will be overwritten if rail tons per railcar and/or tons per truck load are overwritten.  "]
[null,"Tons per Truck Load",20.59,null,"tons/truckload","The average number of tons carried by one truck related to the the project route.  This value can be changed if detailed information about the shipments made on this route are available and will override the default value listed for trucks per railcar.  The default value is 20.59 tons/truck.  "]
[]
[null,null,"Amtrak","VRE"]
["Rail Passenger Data","Number of Passengers per year (Current)",null,null,"#","Number of passengers in the most current year.  (Amtrak and VRE) This number accounts for the Virginia ridership in the current year on routes associated with the project. ","Return to Required Fields Page",{"$f":"IF(C40+D40>0,1,\"\")","v":""}]
[null,"Additional Passenger Demand","Please See Railcar/Passenger Demand Worksheet",null,"#","Number of additional passengers per year expected after project completion (Amtrak and VRE). These values are projected by year and account for Virginia ridership on routes that will benefit from project construction. "]
[null,"Number of Passenger Trains per year (Current)",null,null,"#","The current number of passenger trains that can be associated with the project that start in, finish in, travel within or go through Virginia.  ",null,{"$f":"IF(C42+D42>0,1,\"\")","v":""}]
[null,"Passenger Trip Length (Existing, Rail)",null,null,"miles","The current average length of trip, in miles, per passenger ",{"$f":"IF(C43+D43>0,1,\"\")","v":""}]
[null,"Passenger Trip Length (After Project, Rail)",null,null,"miles","The average length of trip, in miles after the project is complete, per passenger ",""]
[null,"Reduced Passenger Mileage",{"$f":"C43-C44","v":0},{"$f":"D43-D44","v":0},"miles","The reduction of passenger miles due to project completion, per trip. ",""]
[null,"Travel time per trip (current train)",null,null,"minutes","The average amount it time it takes one passenger to complete the route (current). ",""]
[null,"Travel time per trip (After Project)",null,null,"minutes","The average amount it time it will take one passenger to complete the route after project completion. ",""]
[null,"Reduction in Travel Time",{"$f":"C46-C47","v":0},{"$f":"D46-D47","v":0},"minutes","The travel time saved between the current and completed routes.  ",{"$f":"IF(OR((C48+D48>0), (C60+D60>1)),1,\"\")","v":""}]
[null,"Number of Rail Crossings removed",{"$f":"C33","v":0},null,"number","Number of rail crossings removed due to the construction of the project. ",""]
[null,"Passenger Travel Purpose","Breakdown in Percent for Amtrak Users","Breakdown in Percent for VRE Users","Local, Intercity, Business, Aggregated Local, Aggregated Intercity","The reason why passengers are using rail service.  For each category, a percentage or value can be given.  Local travel represents people travelling within the same city.  Intercity travel is for travel between cities.  Business travel represents passengers that are traveling for business.  The aggregated values represent the combination of business and local or business and aggregated values based on county, regional or state levels.  Values default to aggregated local Value of Time for VRE passengers and aggregated intercity Value of Time for Amtrak passengers. ",{"$f":"IF(C48+D48>0,1,\"\")","v":""}]
[null,"Local Personal VOT",null,null,null,null,{"$f":"IF(C51+D51>0,1,\"\")","v":""}]
[null,"Intercity Personal VOT",null,null,null,null,""]
[null,"Business VOT",null,null,null,null,""]
[null,"Aggregated local VOT",null,100,null,null,1]
[null,"Aggregated intercity VOT",100,null,null,null,1]
[null,"Total",{"$f":"SUM(C51:C55)","v":100},{"$f":"SUM(D51:D55)","v":100},null,"Warning: Must total 100 each for Amtrak and for VRE.  ",1]
[null,null,null,null,null,null,""]
["Vehicle Passenger Data","Automobile trip length",null,null,"miles","Average distance traveled in automobiles by (automobile) passengers, that will switch to rail after project completion.  ",""]
[null,"Current travel time by vehicle",null,null,"minutes","Current time to travel by vehicle."]
[null,"Change in travel time for switching",{"$f":"C59-C47","v":0},{"$f":"D59-D47","v":0},"minutes","Time savings realized by switching to train travel from passenger vehicle. ",""]

{"sheet":"Railcar and Passenger Demand","index":1,"n_rows":30,"n_cols":10,"rows_kept":30,"cut":false,"hidden":false,"merged":[[25,9,26,10]]}
["Freight","Projected number of railcars needed for service (total, in Virginia), by year, after project completion.  ","Number of Railcars needed in addition to current service demand. (Total Needed - Current Used)",null,"Passenger","Projected number of passengers per year expected after project completion (total, in Virginia) (Amtrak). These values account for Virginia ridership on routes that will benefit from project construction. ","Number of additional passengers per year expected after project completion (Amtrak). (Total needed - Current used)","Projected number of passengers per year expected after project completion (total, in Virginia)(VRE). These values account for Virginia ridership on routes that will benefit from project construction. ","Number of additional passengers per year expected after project completion (VRE). (Total needed - Current Used)","Return to Required Fields Worksheet"]
[{"$f":"IF('Project Information'!C8>2040, \"No Values Available\", 'Project Information'!C8)","v":0},{"$f":"'Project Information'!C26","v":0},null,null,{"$f":"A2","v":0},{"$f":"'Project Information'!C40","v":0},null,{"$f":"'Project Information'!D40","v":0}]
[{"$f":"IF('Project Information'!C8+1>2040, \"No Values Available\", 'Project Information'!C8+1)","v":1},null,{"$f":"IF(B3=\"\",\"\",IF(B3=\"No Value\",\"No Value\",B3-$B$2))","v":""},null,{"$f":"IF('Project Information'!C8+1>2040, \"No Values Available\", 'Project Information'!C8+1)","v":1},null,{"$f":"IF(F3=\"\",\"\",IF(F3=\"No Value\",\"No Value\",F3-$F$2))","v":""},null,{"$f":"IF(H3=\"\",\"\",IF(H3=\"No Value\",\"No Value\",H3-$H$2))","v":""}]
[{"$f":"IFERROR((IF(A3+1>2040,\"No Values Available\",A3+1)),\"No Values Available\")","v":2},null,{"$f":"IF(B4=\"\",\"\",IF(B4=\"No Value\",\"No Value\",B4-$B$2))","v":""},null,{"$f":"IFERROR((IF(E3+1>2040,\"No Values Available\",E3+1)),\"No Values Available\")","v":2},null,"",null,""]
[{"$f":"IFERROR((IF(A4+1>2040,\"No Values Available\",A4+1)),\"No Values Available\")","v":3},null,"",null,{"$f":"IFERROR((IF(E4+1>2040,\"No Values Available\",E4+1)),\"No Values Available\")","v":3},null,"",null,""]
[4,null,"",null,4,null,"",null,""]
[5,null,"",null,5,null,"",null,""]
[6,null,"",null,6,null,"",null,""]
[7,null,"",null,7,null,"",null,""]
[8,null,"",null,8,null,"",null,""]
[9,null,"",null,9,null,"",null,""]
[10,null,"",null,10,null,"",null,{"$f":"IF(H12=\"\",\"\",IF(H12=\"No Value\",\"No Value\",H12-$H$2))","v":""}]
[11,null,"",null,11,null,"",null,""]
[12,null,"",null,12,null,"",null,""]
[13,null,"",null,13,null,"",null,""]
[14,null,"",null,14,null,"",null,""]
[15,null,"",null,15,null,{"$f":"IF(F17=\"\",\"\",IF(F17=\"No Value\",\"No Value\",F17-$F$2))","v":""},null,""]
[16,null,"",null,16,null,"",null,""]
[17,null,"",null,17,null,"",null,""]
[18,null,"",null,18,null,"",null,""]
[19,null,"",null,19,null,"",null,""]
[20,null,"",null,20,null,"",null,""]
[21,null,"",null,21,null,"",null,""]
[22,null,"",null,22,null,"",null,""]
[23,null,"",null,23,null,"",null,""]
[24,null,"",null,24,null,"",null,"","Return to Project Information Worksheet"]
[25,null,"",null,25,null,"",null,""]
[]
["Project Start",{"$f":"SUM(B3:B27)","v":0},null,null,"Project Start"]
["Project Completion",null,null,null,"Project Completion"]

{"sheet":"Project Cost","index":2,"n_rows":144,"n_cols":45,"rows_kept":144,"cut":false,"hidden":false,"merged":[[60,5,60,6],[29,0,30,0],[0,1,0,9],[29,1,30,1],[28,2,28,3],[29,5,30,5],[29,9,29,11],[29,6,29,8]]}
[null,"Capital Costs (All Costs Associated with the Project, DRPT + Other sources of funding)"]
["1) Fill in Project Costs","Capital Costs (All Costs Associated, DRPT + Other sources of funding)","Environmental Evaluation/ Permitting","Public Involvement","Design Engineering","Right of Way Acquisition/ Utilities","Construction","Construction Management","Lease/ Acquisition of Equipment","Other ","In Kind Contributions","Total Project Cost by Year"]
[{"$f":"'Project Information'!C8","v":0},null,null,null,null,null,null,null,null,null,null,{"$f":"SUM(B3:J3)","v":0},{"$f":"A3","v":0}]
[{"$f":"IF(A3=2040,\"No Values Available\",IF(A3=\"No Values Available\",\"No Values Available\",A3+1))","v":1},null,null,null,null,null,null,null,null,null,null,{"$f":"SUM(B4:J4)","v":0},{"$f":"IF(M3=2040,\"No Values Available\",IF(M3=\"No Values Available\",\"No Values Available\",M3+1))","v":1}]
[{"$f":"IF(A4=2040,\"No Values Available\",IF(A4=\"No Values Available\",\"No Values Available\",A4+1))","v":2},null,null,null,null,null,null,null,null,null,null,0,{"$f":"IF(M4=2040,\"No Values Available\",IF(M4=\"No Values Available\",\"No Values Available\",M4+1))","v":2}]
[3,null,null,null,null,null,null,null,null,null,null,0,3]
[4,null,null,null,null,null,null,null,null,null,null,0,4]
[5,null,null,null,null,null,null,null,null,null,null,0,5]
[6,null,null,null,null,null,null,null,null,null,null,0,6]
[7,null,null,null,null,null,null,null,null,null,null,0,7]
[8,null,null,null,null,null,null,null,null,null,null,0,8]
[9,null,null,null,null,null,null,null,null,null,null,0,9]
[10,null,null,null,null,null,null,null,null,null,null,0,10]
[11,null,null,null,null,null,null,null,null,null,null,0,11]
[12,null,null,null,null,null,null,null,null,null,null,0,12]
[13,null,null,null,null,null,null,null,null,null,null,0,13]
[14,null,null,null,null,null,null,null,null,null,null,0,14]
[15,null,null,null,null,null,null,null,null,null,null,0,15]
[16,null,null,null,null,null,null,null,null,null,null,0,16]
[17,null,null,null,null,null,null,null,null,null,null,0,17]
[18,null,null,null,null,null,null,null,null,null,null,0,18]
[19,null,null,null,null,null,null,null,null,null,null,0,19]
[20,null,null,null,null,null,null,null,null,null,null,0,20]
[21,null,null,null,null,null,null,null,null,null,null,0,21]
[22,null,null,null,null,null,null,null,null,null,null,0,22]
[23,null,null,null,null,null,null,null,null,null,null,0,23]
[24,null,null,null,null,null,null,null,null,null,null,0,24]
[]
[null,null,"Funding Sources"]
["2) Classify Funding Sources by entering DRPT Percentage>>>","Project Total Costs by Year","DRPT Funds","Outside Funds",null,null,"Project Costs",null,null,"Project Benefit"]
[null,null,0.7,{"$f":"1-C31","v":0.30000000000000004},null,null,"Project Total Costs by Year","Net Present Value at 3% Rate","Net Present Value at 7% rate","Benefit by Year","Net Present Value at 3% Rate","Net Present Value at 7% rate",null,"DRPT Funds","Net Present Value at 3% Rate","Net Present Value at 7% rate","Outside Funds","Net Present Value at 3% Rate","Net Present Value at 7% rate"]
[{"$f":"'Project Information'!C8","v":0},{"$f":"SUM(B3:J3)","v":0},{"$f":"B32*$C$31","v":0},{"$f":"$D$31*B32","v":0},null,{"$f":"A32","v":0},{"$f":"IF(F32-'Project Information'!$C$8<=$H$61,B32,0)","v":0},{"$f":"G32","v":0},{"$f":"G32","v":0},{"$f":"IF(F32-'Project Information'!$C$8<='Project Cost'!$H$61,IF(A32<'Project Information'!$C$10,0,('Freight Calcs'!I34+'Passenger Calcs'!K34)),0)","v":{"$error":"#VALUE!"}},{"$f":"J32","v":{"$error":"#VALUE!"}},{"$f":"J32","v":{"$error":"#VALUE!"}},null,{"$f":"B32*$C$31","v":0},{"$f":"N32","v":0},{"$f":"N32","v":0},{"$f":"$D$31*B32","v":0},{"$f":"Q32","v":0},{"$f":"Q32","v":0}]
[{"$f":"IF(A32=2040,\"No Values Available\",IF(A32=\"No Values Available\",\"No Values Available\",A32+1))","v":1},0,0,0,null,{"$f":"IF(F32=2040,\"No Values Available\",IF(F32=\"No Values Available\",\"No Values Available\",F32+1))","v":1},{"$f":"IF(F33-'Project Information'!$C$8<=$H$61,B33,0)","v":0},{"$f":"PV(0.03,1,0,-G33)","v":0},{"$f":"PV(0.07,1,0,-G33)","v":0},{"$f":"IF(F33-'Project Information'!$C$8<='Project Cost'!$H$61,IF(A33<'Project Information'!$C$10,0,('Freight Calcs'!I35+'Passenger Calcs'!K35)),0)","v":{"$error":"#VALUE!"}},{"$f":"PV(0.03,1,0,-J33)","v":{"$error":"#VALUE!"}},{"$f":"PV(0.07,1,0,-J33)","v":{"$error":"#VALUE!"}},null,{"$f":"B33*$C$31","v":0},{"$f":"PV(0.03,1,0,-N33)","v":0},{"$f":"PV(0.07,1,0,-N33)","v":0},{"$f":"$D$31*B33","v":0},{"$f":"PV(0.03,1,0,-Q33)","v":0},{"$f":"PV(0.07,1,0,-Q33)","v":0}]
[{"$f":"IF(A33=2040,\"No Values Available\",IF(A33=\"No Values Available\",\"No Values Available\",A33+1))","v":2},0,0,0,null,{"$f":"IF(F33=2040,\"No Values Available\",IF(F33=\"No Values Available\",\"No Values Available\",F33+1))","v":2},{"$f":"IF(F34-'Project Information'!$C$8<=$H$61,B34,0)","v":0},{"$f":"PV(0.03,2,0,-G34)","v":0},{"$f":"PV(0.07,2,0,-G34)","v":0},{"$f":"IF(F34-'Project Information'!$C$8<='Project Cost'!$H$61,IF(A34<'Project Information'!$C$10,0,('Freight Calcs'!I36+'Passenger Calcs'!K36)),0)","v":{"$error":"#VALUE!"}},{"$f":"PV(0.03,2,0,-J34)","v":{"$error":"#VALUE!"}},{"$f":"PV(0.07,2,0,-J34)","v":{"$error":"#VALUE!"}},null,0,{"$f":"PV(0.03,2,0,-N34)","v":0},{"$f":"PV(0.07,2,0,-N34)","v":0},0,{"$f":"PV(0.03,2,0,-Q34)","v":0},{"$f":"PV(0.07,2,0,-Q34)","v":0}]
[3,0,0,0,null,3,{"$f":"IF(F35-'Project Information'!$C$8<=$H$61,B35,0)","v":0},{"$f":"PV(0.03,3,0,-G35)","v":0},{"$f":"PV(0.07,3,0,-G35)","v":0},{"$f":"IF(F35-'Project Information'!$C$8<='Project Cost'!$H$61,IF(A35<'Project Information'!$C$10,0,('Freight Calcs'!I37+'Passenger Calcs'!K37)),0)","v":{"$error":"#VALUE!"}},{"$f":"PV(0.03,3,0,-J35)","v":{"$error":"#VALUE!"}},{"$f":"PV(0.07,3,0,-J35)","v":{"$error":"#VALUE!"}},null,0,{"$f":"PV(0.03,3,0,-N35)","v":0},{"$f":"PV(0.07,3,0,-N35)","v":0},0,{"$f":"PV(0.03,3,0,-Q35)","v":0},{"$f":"PV(0.07,3,0,-Q35)","v":0}]
[4,0,0,0,null,4,{"$f":"IF(F36-'Project Information'!$C$8<=$H$61,B36,0)","v":0},{"$f":"PV(0.03,4,0,-G36)","v":0},{"$f":"PV(0.07,4,0,-G36)","v":0},{"$f":"IF(F36-'Project Information'!$C$8<='Project Cost'!$H$61,IF(A36<'Project Information'!$C$10,0,('Freight Calcs'!I38+'Passenger Calcs'!K38)),0)","v":{"$error":"#VALUE!"}},{"$f":"PV(0.03,4,0,-J36)","v":{"$error":"#VALUE!"}},{"$f":"PV(0.07,4,0,-J36)","v":{"$error":"#VALUE!"}},null,0,{"$f":"PV(0.03,4,0,-N36)","v":0},{"$f":"PV(0.07,4,0,-N36)","v":0},0,{"$f":"PV(0.03,4,0,-Q36)","v":0},{"$f":"PV(0.07,4,0,-Q36)","v":0}]
[5,0,0,0,null,5,{"$f":"IF(F37-'Project Information'!$C$8<=$H$61,B37,0)","v":0},{"$f":"PV(0.03,5,0,-G37)","v":0},{"$f":"PV(0.07,5,0,-G37)","v":0},{"$f":"IF(F37-'Project Information'!$C$8<='Project Cost'!$H$61,IF(A37<'Project Information'!$C$10,0,('Freight Calcs'!I39+'Passenger Calcs'!K39)),0)","v":{"$error":"#VALUE!"}},{"$f":"PV(0.03,5,0,-J37)","v":{"$error":"#VALUE!"}},{"$f":"PV(0.07,5,0,-J37)","v":{"$error":"#VALUE!"}},null,0,{"$f":"PV(0.03,5,0,-N37)","v":0},{"$f":"PV(0.07,5,0,-N37)","v":0},0,{"$f":"PV(0.03,5,0,-Q37)","v":0},{"$f":"PV(0.07,5,0,-Q37)","v":0}]
[6,0,0,0,null,6,{"$f":"IF(F38-'Project Information'!$C$8<=$H$61,B38,0)","v":0},{"$f":"PV(0.03,6,0,-G38)","v":0},{"$f":"PV(0.07,6,0,-G38)","v":0},{"$f":"IF(F38-'Project Information'!$C$8<='Project Cost'!$H$61,IF(A38<'Project Information'!$C$10,0,('Freight Calcs'!I40+'Passenger Calcs'!K40)),0)","v":{"$error":"#VALUE!"}},{"$f":"PV(0.03,6,0,-J38)","v":{"$error":"#VALUE!"}},{"$f":"PV(0.07,6,0,-J38)","v":{"$error":"#VALUE!"}},null,0,{"$f":"PV(0.03,6,0,-N38)","v":0},{"$f":"PV(0.07,6,0,-N38)","v":0},0,{"$f":"PV(0.03,6,0,-Q38)","v":0},{"$f":"PV(0.07,6,0,-Q38)","v":0}]
[7,0,0,0,null,7,{"$f":"IF(F39-'Project Information'!$C$8<=$H$61,B39,0)","v":0},{"$f":"PV(0.03,7,0,-G39)","v":0},{"$f":"PV(0.07,7,0,-G39)","v":0},{"$f":"IF(F39-'Project Information'!$C$8<='Project Cost'!$H$61,IF(A39<'Project Information'!$C$10,0,('Freight Calcs'!I41+'Passenger Calcs'!K41)),0)","v":{"$error":"#VALUE!"}},{"$f":"PV(0.03,7,0,-J39)","v":{"$error":"#VALUE!"}},{"$f":"PV(0.07,7,0,-J39)","v":{"$error":"#VALUE!"}},null,0,{"$f":"PV(0.03,7,0,-N39)","v":0},{"$f":"PV(0.07,7,0,-N39)","v":0},0,{"$f":"PV(0.03,7,0,-Q39)","v":0},{"$f":"PV(0.07,7,0,-Q39)","v":0}]
[8,0,0,0,null,8,{"$f":"IF(F40-'Project Information'!$C$8<=$H$61,B40,0)","v":0},{"$f":"PV(0.03,8,0,-G40)","v":0},{"$f":"PV(0.07,8,0,-G40)","v":0},{"$f":"IF(F40-'Project Information'!$C$8<='Project Cost'!$H$61,IF(A40<'Project Information'!$C$10,0,('Freight Calcs'!I42+'Passenger Calcs'!K42)),0)","v":{"$error":"#VALUE!"}},{"$f":"PV(0.03,8,0,-J40)","v":{"$error":"#VALUE!"}},{"$f":"PV(0.07,8,0,-J40)","v":{"$error":"#VALUE!"}},null,0,{"$f":"PV(0.03,8,0,-N40)","v":0},{"$f":"PV(0.07,8,0,-N40)","v":0},0,{"$f":"PV(0.03,8,0,-Q40)","v":0},{"$f":"PV(0.07,8,0,-Q40)","v":0}]
[9,0,0,0,null,9,{"$f":"IF(F41-'Project Information'!$C$8<=$H$61,B41,0)","v":0},{"$f":"PV(0.03,9,0,-G41)","v":0},{"$f":"PV(0.07,9,0,-G41)","v":0},{"$f":"IF(F41-'Project Information'!$C$8<='Project Cost'!$H$61,IF(A41<'Project Information'!$C$10,0,('Freight Calcs'!I43+'Passenger Calcs'!K43)),0)","v":{"$error":"#VALUE!"}},{"$f":"PV(0.03,9,0,-J41)","v":{"$error":"#VALUE!"}},{"$f":"PV(0.07,9,0,-J41)","v":{"$error":"#VALUE!"}},null,0,{"$f":"PV(0.03,9,0,-N41)","v":0},{"$f":"PV(0.07,9,0,-N41)","v":0},0,{"$f":"PV(0.03,9,0,-Q41)","v":0},{"$f":"PV(0.07,9,0,-Q41)","v":0}]
[10,0,0,0,null,10,{"$f":"IF(F42-'Project Information'!$C$8<=$H$61,B42,0)","v":0},{"$f":"PV(0.03,10,0,-G42)","v":0},{"$f":"PV(0.07,10,0,-G42)","v":0},{"$f":"IF(F42-'Project Information'!$C$8<='Project Cost'!$H$61,IF(A42<'Project Information'!$C$10,0,('Freight Calcs'!I44+'Passenger Calcs'!K44)),0)","v":{"$error":"#VALUE!"}},{"$f":"PV(0.03,10,0,-J42)","v":{"$error":"#VALUE!"}},{"$f":"PV(0.07,10,0,-J42)","v":{"$error":"#VALUE!"}},null,0,{"$f":"PV(0.03,10,0,-N42)","v":0},{"$f":"PV(0.07,10,0,-N42)","v":0},0,{"$f":"PV(0.03,10,0,-Q42)","v":0},{"$f":"PV(0.07,10,0,-Q42)","v":0}]
[11,0,0,0,null,11,{"$f":"IF(F43-'Project Information'!$C$8<=$H$61,B43,0)","v":0},{"$f":"PV(0.03,11,0,-G43)","v":0},{"$f":"PV(0.07,11,0,-G43)","v":0},{"$f":"IF(F43-'Project Information'!$C$8<='Project Cost'!$H$61,IF(A43<'Project Information'!$C$10,0,('Freight Calcs'!I45+'Passenger Calcs'!K45)),0)","v":{"$error":"#VALUE!"}},{"$f":"PV(0.03,11,0,-J43)","v":{"$error":"#VALUE!"}},{"$f":"PV(0.07,11,0,-J43)","v":{"$error":"#VALUE!"}},null,0,{"$f":"PV(0.03,11,0,-N43)","v":0},{"$f":"PV(0.07,11,0,-N43)","v":0},0,{"$f":"PV(0.03,11,0,-Q43)","v":0},{"$f":"PV(0.07,11,0,-Q43)","v":0}]
[12,0,0,0,null,12,{"$f":"IF(F44-'Project Information'!$C$8<=$H$61,B44,0)","v":0},{"$f":"PV(0.03,12,0,-G44)","v":0},{"$f":"PV(0.07,12,0,-G44)","v":0},{"$f":"IF(F44-'Project Information'!$C$8<='Project Cost'!$H$61,IF(A44<'Project Information'!$C$10,0,('Freight Calcs'!I46+'Passenger Calcs'!K46)),0)","v":{"$error":"#VALUE!"}},{"$f":"PV(0.03,12,0,-J44)","v":{"$error":"#VALUE!"}},{"$f":"PV(0.07,12,0,-J44)","v":{"$error":"#VALUE!"}},null,0,{"$f":"PV(0.03,12,0,-N44)","v":0},{"$f":"PV(0.07,12,0,-N44)","v":0},0,{"$f":"PV(0.03,12,0,-Q44)","v":0},{"$f":"PV(0.07,12,0,-Q44)","v":0}]
[13,0,0,0,null,13,{"$f":"IF(F45-'Project Information'!$C$8<=$H$61,B45,0)","v":0},{"$f":"PV(0.03,13,0,-G45)","v":0},{"$f":"PV(0.07,13,0,-G45)","v":0},{"$f":"IF(F45-'Project Information'!$C$8<='Project Cost'!$H$61,IF(A45<'Project Information'!$C$10,0,('Freight Calcs'!I47+'Passenger Calcs'!K47)),0)","v":{"$error":"#VALUE!"}},{"$f":"PV(0.03,13,0,-J45)","v":{"$error":"#VALUE!"}},{"$f":"PV(0.07,13,0,-J45)","v":{"$error":"#VALUE!"}},null,0,{"$f":"PV(0.03,13,0,-N45)","v":0},{"$f":"PV(0.07,13,0,-N45)","v":0},0,{"$f":"PV(0.03,13,0,-Q45)","v":0},{"$f":"PV(0.07,13,0,-Q45)","v":0}]
[14,0,0,0,null,14,{"$f":"IF(F46-'Project Information'!$C$8<=$H$61,B46,0)","v":0},{"$f":"PV(0.03,14,0,-G46)","v":0},{"$f":"PV(0.07,14,0,-G46)","v":0},{"$f":"IF(F46-'Project Information'!$C$8<='Project Cost'!$H$61,IF(A46<'Project Information'!$C$10,0,('Freight Calcs'!I48+'Passenger Calcs'!K48)),0)","v":{"$error":"#VALUE!"}},{"$f":"PV(0.03,14,0,-J46)","v":{"$error":"#VALUE!"}},{"$f":"PV(0.07,14,0,-J46)","v":{"$error":"#VALUE!"}},null,0,{"$f":"PV(0.03,14,0,-N46)","v":0},{"$f":"PV(0.07,14,0,-N46)","v":0},0,{"$f":"PV(0.03,14,0,-Q46)","v":0},{"$f":"PV(0.07,14,0,-Q46)","v":0}]
[15,0,0,0,null,15,{"$f":"IF(F47-'Project Information'!$C$8<=$H$61,B47,0)","v":0},{"$f":"PV(0.03,15,0,-G47)","v":0},{"$f":"PV(0.07,15,0,-G47)","v":0},{"$f":"IF(F47-'Project Information'!$C$8<='Project Cost'!$H$61,IF(A47<'Project Information'!$C$10,0,('Freight Calcs'!I49+'Passenger Calcs'!K49)),0)","v":0},{"$f":"PV(0.03,15,0,-J47)","v":0},{"$f":"PV(0.07,15,0,-J47)","v":0},null,0,{"$f":"PV(0.03,15,0,-N47)","v":0},{"$f":"PV(0.07,15,0,-N47)","v":0},0,{"$f":"PV(0.03,15,0,-Q47)","v":0},{"$f":"PV(0.07,15,0,-Q47)","v":0}]
[16,0,0,0,null,16,{"$f":"IF(F48-'Project Information'!$C$8<=$H$61,B48,0)","v":0},{"$f":"PV(0.03,16,0,-G48)","v":0},{"$f":"PV(0.07,16,0,-G48)","v":0},{"$f":"IF(F48-'Project Information'!$C$8<='Project Cost'!$H$61,IF(A48<'Project Information'!$C$10,0,('Freight Calcs'!I50+'Passenger Calcs'!K50)),0)","v":0},{"$f":"PV(0.03,16,0,-J48)","v":0},{"$f":"PV(0.07,16,0,-J48)","v":0},null,0,{"$f":"PV(0.03,16,0,-N48)","v":0},{"$f":"PV(0.07,16,0,-N48)","v":0},0,{"$f":"PV(0.03,16,0,-Q48)","v":0},{"$f":"PV(0.07,16,0,-Q48)","v":0}]
[17,0,0,0,null,17,{"$f":"IF(F49-'Project Information'!$C$8<=$H$61,B49,0)","v":0},{"$f":"PV(0.03,17,0,-G49)","v":0},{"$f":"PV(0.07,17,0,-G49)","v":0},{"$f":"IF(F49-'Project Information'!$C$8<='Project Cost'!$H$61,IF(A49<'Project Information'!$C$10,0,('Freight Calcs'!I51+'Passenger Calcs'!K51)),0)","v":0},{"$f":"PV(0.03,17,0,-J49)","v":0},{"$f":"PV(0.07,17,0,-J49)","v":0},null,0,{"$f":"PV(0.03,17,0,-N49)","v":0},{"$f":"PV(0.07,17,0,-N49)","v":0},0,{"$f":"PV(0.03,17,0,-Q49)","v":0},{"$f":"PV(0.07,17,0,-Q49)","v":0}]
[18,0,0,0,null,18,{"$f":"IF(F50-'Project Information'!$C$8<=$H$61,B50,0)","v":0},{"$f":"PV(0.03,18,0,-G50)","v":0},{"$f":"PV(0.07,18,0,-G50)","v":0},{"$f":"IF(F50-'Project Information'!$C$8<='Project Cost'!$H$61,IF(A50<'Project Information'!$C$10,0,('Freight Calcs'!I52+'Passenger Calcs'!K52)),0)","v":0},{"$f":"PV(0.03,18,0,-J50)","v":0},{"$f":"PV(0.07,18,0,-J50)","v":0},null,0,{"$f":"PV(0.03,18,0,-N50)","v":0},{"$f":"PV(0.07,18,0,-N50)","v":0},0,{"$f":"PV(0.03,18,0,-Q50)","v":0},{"$f":"PV(0.07,18,0,-Q50)","v":0}]
[19,0,0,0,null,19,{"$f":"IF(F51-'Project Information'!$C$8<=$H$61,B51,0)","v":0},{"$f":"PV(0.03,19,0,-G51)","v":0},{"$f":"PV(0.07,19,0,-G51)","v":0},{"$f":"IF(F51-'Project Information'!$C$8<='Project Cost'!$H$61,IF(A51<'Project Information'!$C$10,0,('Freight Calcs'!I53+'Passenger Calcs'!K53)),0)","v":0},{"$f":"PV(0.03,19,0,-J51)","v":0},{"$f":"PV(0.07,19,0,-J51)","v":0},null,0,{"$f":"PV(0.03,19,0,-N51)","v":0},{"$f":"PV(0.07,19,0,-N51)","v":0},0,{"$f":"PV(0.03,19,0,-Q51)","v":0},{"$f":"PV(0.07,19,0,-Q51)","v":0}]
[20,0,0,0,null,20,{"$f":"IF(F52-'Project Information'!$C$8<=$H$61,B52,0)","v":0},{"$f":"PV(0.03,20,0,-G52)","v":0},{"$f":"PV(0.07,20,0,-G52)","v":0},{"$f":"IF(F52-'Project Information'!$C$8<='Project Cost'!$H$61,IF(A52<'Project Information'!$C$10,0,('Freight Calcs'!I54+'Passenger Calcs'!K54)),0)","v":0},{"$f":"PV(0.03,20,0,-J52)","v":0},{"$f":"PV(0.07,20,0,-J52)","v":0},null,0,{"$f":"PV(0.03,20,0,-N52)","v":0},{"$f":"PV(0.07,20,0,-N52)","v":0},0,{"$f":"PV(0.03,20,0,-Q52)","v":0},{"$f":"PV(0.07,20,0,-Q52)","v":0}]
[21,0,0,0,null,21,{"$f":"IF(F53-'Project Information'!$C$8<=$H$61,B53,0)","v":0},{"$f":"PV(0.03,21,0,-G53)","v":0},{"$f":"PV(0.07,21,0,-G53)","v":0},{"$f":"IF(F53-'Project Information'!$C$8<='Project Cost'!$H$61,IF(A53<'Project Information'!$C$10,0,('Freight Calcs'!I55+'Passenger Calcs'!K55)),0)","v":0},{"$f":"PV(0.03,21,0,-J53)","v":0},{"$f":"PV(0.07,21,0,-J53)","v":0},null,0,{"$f":"PV(0.03,21,0,-N53)","v":0},{"$f":"PV(0.07,21,0,-N53)","v":0},0,{"$f":"PV(0.03,21,0,-Q53)","v":0},{"$f":"PV(0.07,21,0,-Q53)","v":0}]
[22,0,0,0,null,22,{"$f":"IF(F54-'Project Information'!$C$8<=$H$61,B54,0)","v":0},{"$f":"PV(0.03,22,0,-G54)","v":0},{"$f":"PV(0.07,22,0,-G54)","v":0},{"$f":"IF(F54-'Project Information'!$C$8<='Project Cost'!$H$61,IF(A54<'Project Information'!$C$10,0,('Freight Calcs'!I56+'Passenger Calcs'!K56)),0)","v":0},{"$f":"PV(0.03,22,0,-J54)","v":0},{"$f":"PV(0.07,22,0,-J54)","v":0},null,0,{"$f":"PV(0.03,22,0,-N54)","v":0},{"$f":"PV(0.07,22,0,-N54)","v":0},0,{"$f":"PV(0.03,22,0,-Q54)","v":0},{"$f":"PV(0.07,22,0,-Q54)","v":0}]
[23,0,0,0,null,23,{"$f":"IF(F55-'Project Information'!$C$8<=$H$61,B55,0)","v":0},{"$f":"PV(0.03,23,0,-G55)","v":0},{"$f":"PV(0.07,23,0,-G55)","v":0},{"$f":"IF(F55-'Project Information'!$C$8<='Project Cost'!$H$61,IF(A55<'Project Information'!$C$10,0,('Freight Calcs'!I57+'Passenger Calcs'!K57)),0)","v":0},{"$f":"PV(0.03,23,0,-J55)","v":0},{"$f":"PV(0.07,23,0,-J55)","v":0},null,0,{"$f":"PV(0.03,23,0,-N55)","v":0},{"$f":"PV(0.07,23,0,-N55)","v":0},0,{"$f":"PV(0.03,23,0,-Q55)","v":0},{"$f":"PV(0.07,23,0,-Q55)","v":0}]
[24,0,0,0,null,24,{"$f":"IF(F56-'Project Information'!$C$8<=$H$61,B56,0)","v":0},{"$f":"PV(0.03,24,0,-G56)","v":0},{"$f":"PV(0.07,24,0,-G56)","v":0},{"$f":"IF(F56-'Project Information'!$C$8<='Project Cost'!$H$61,IF(A56<'Project Information'!$C$10,0,('Freight Calcs'!I58+'Passenger Calcs'!K58)),0)","v":0},{"$f":"PV(0.03,24,0,-J56)","v":0},{"$f":"PV(0.07,24,0,-J56)","v":0},null,0,{"$f":"PV(0.03,24,0,-N56)","v":0},{"$f":"PV(0.07,24,0,-N56)","v":0},0,{"$f":"PV(0.03,24,0,-Q56)","v":0},{"$f":"PV(0.07,24,0,-Q56)","v":0}]
[null,{"$f":"SUM(B32:B56)","v":0},{"$f":"SUM(C32:C56)","v":0},{"$f":"SUM(D32:D56)","v":0},null,"Totals",{"$f":"SUM(G32:G56)","v":0},0,0,{"$error":"#VALUE!"},{"$error":"#VALUE!"},{"$error":"#VALUE!"},null,{"$f":"SUM(N32:N56)","v":0},0,0,0,0,0]
[]
[]
[null,"Benefit Cost NPV 3%","Benefit Cost NPV 7% ",null,null,null,null,null,null,null,null,null,null,"Freight (Not Adjusted)","Congestion Cost","Environmental Improvement - (Shift from trucks to trains) ","Environmental Improvement - (Distance Reduction) ","Shipping Cost Reduction - (Distance Reduction)","Shipping Cost Reduction - (Mode Switch)","Savings in Pavement Maintenance","Reduced Accident Costs","Freight Benefits",null,null,"Freight (3%)","Congestion Cost","Environmental Improvement - (Shift from trucks to trains) ","Environmental Improvement - (Distance Reduction) ","Shipping Cost Reduction - (Distance Reduction)","Shipping Cost Reduction - (Mode Switch)","Savings in Pavement Maintenance","Reduced Accident Costs","Freight Benefits",null,null,"Freight (7%)","Congestion Cost","Environmental Improvement - (Shift from trucks to trains) ","Environmental Improvement - (Distance Reduction) ","Shipping Cost Reduction - (Distance Reduction)","Shipping Cost Reduction - (Mode Switch)","Savings in Pavement Maintenance","Reduced Accident Costs","Freight Benefits"]
["DRPT Funds",{"$f":"K57/O57","v":{"$error":"#VALUE!"}},{"$f":"L57/P57","v":{"$error":"#VALUE!"}},null,null,"Number of Years to Calculate:",null,15,null,null,null,null,null,{"$f":"'Freight Calcs'!A4","v":0},{"$f":"'Freight Calcs'!C4","v":0},{"$f":"'Freight Calcs'!E4","v":0},{"$f":"'Freight Calcs'!G4","v":{"$error":"#N/A"}},{"$f":"'Freight Calcs'!I4","v":{"$error":"#N/A"}},{"$f":"'Freight Calcs'!C34","v":0},{"$f":"'Freight Calcs'!E34","v":0},{"$f":"'Freight Calcs'!G34","v":0},{"$f":"'Freight Calcs'!I34","v":0},null,null,{"$f":"N61","v":0},{"$f":"PV(0.03,0,0,-O61)","v":0},{"$f":"PV(0.03,0,0,-P61)","v":0},{"$error":"#N/A"},{"$error":"#N/A"},0,0,0,0,null,null,{"$f":"N61","v":0},{"$f":"PV(0.07,0,0,-O61)","v":0},{"$f":"PV(0.07,0,0,-P61)","v":0},{"$error":"#N/A"},{"$error":"#N/A"},0,0,0,0]
["Total Funds",{"$f":"K57/H57","v":{"$error":"#VALUE!"}},{"$f":"L57/I57","v":{"$error":"#VALUE!"}},null,null,null,null,null,null,null,null,null,null,{"$f":"'Freight Calcs'!A5","v":1},{"$f":"'Freight Calcs'!C5","v":0},{"$f":"'Freight Calcs'!E5","v":0},{"$f":"'Freight Calcs'!G5","v":{"$error":"#N/A"}},{"$f":"'Freight Calcs'!I5","v":{"$error":"#N/A"}},{"$f":"'Freight Calcs'!C35","v":0},{"$f":"'Freight Calcs'!E35","v":0},{"$f":"'Freight Calcs'!G35","v":0},{"$f":"'Freight Calcs'!I35","v":0},null,null,{"$f":"N62","v":1},{"$f":"PV(0.03,1,0,-O62)","v":0},{"$f":"PV(0.03,1,0,-P62)","v":0},{"$error":"#N/A"},{"$error":"#N/A"},0,0,0,0,null,null,{"$f":"N62","v":1},{"$f":"PV(0.07,1,0,-O62)","v":0},{"$f":"PV(0.07,1,0,-P62)","v":0},{"$error":"#N/A"},{"$error":"#N/A"},0,0,0,0]
[null,null,null,null,null,null,null,null,null,null,null,null,null,{"$f":"'Freight Calcs'!A6","v":2},{"$f":"'Freight Calcs'!C6","v":0},{"$f":"'Freight Calcs'!E6","v":0},{"$f":"'Freight Calcs'!G6","v":{"$error":"#N/A"}},{"$f":"'Freight Calcs'!I6","v":{"$error":"#N/A"}},{"$f":"'Freight Calcs'!C36","v":0},{"$f":"'Freight Calcs'!E36","v":0},{"$f":"'Freight Calcs'!G36","v":0},{"$f":"'Freight Calcs'!I36","v":0},null,null,2,{"$f":"PV(0.03,2,0,-O63)","v":0},{"$f":"PV(0.03,2,0,-P63)","v":0},{"$error":"#N/A"},{"$error":"#N/A"},0,0,0,0,null,null,2,{"$f":"PV(0.07,2,0,-O63)","v":0},{"$f":"PV(0.07,2,0,-P63)","v":0},{"$error":"#N/A"},{"$error":"#N/A"},0,0,0,0]
[null,null,null,null,null,null,null,null,null,null,null,null,null,{"$f":"'Freight Calcs'!A7","v":3},{"$f":"'Freight Calcs'!C7","v":0},{"$f":"'Freight Calcs'!E7","v":0},{"$f":"'Freight Calcs'!G7","v":{"$error":"#N/A"}},{"$f":"'Freight Calcs'!I7","v":{"$error":"#N/A"}},{"$f":"'Freight Calcs'!C37","v":0},{"$f":"'Freight Calcs'!E37","v":0},{"$f":"'Freight Calcs'!G37","v":0},{"$f":"'Freight Calcs'!I37","v":0},null,null,3,{"$f":"PV(0.03,3,0,-O64)","v":0},{"$f":"PV(0.03,3,0,-P64)","v":0},{"$error":"#N/A"},{"$error":"#N/A"},0,0,0,0,null,null,3,{"$f":"PV(0.07,3,0,-O64)","v":0},{"$f":"PV(0.07,3,0,-P64)","v":0},{"$error":"#N/A"},{"$error":"#N/A"},0,0,0,0]
[null,null,null,null,null,null,null,null,null,null,null,null,null,{"$f":"'Freight Calcs'!A8","v":4},{"$f":"'Freight Calcs'!C8","v":0},{"$f":"'Freight Calcs'!E8","v":0},{"$f":"'Freight Calcs'!G8","v":{"$error":"#N/A"}},{"$f":"'Freight Calcs'!I8","v":{"$error":"#N/A"}},{"$f":"'Freight Calcs'!C38","v":0},{"$f":"'Freight Calcs'!E38","v":0},{"$f":"'Freight Calcs'!G38","v":0},{"$f":"'Freight Calcs'!I38","v":0},null,null,4,{"$f":"PV(0.03,4,0,-O65)","v":0},{"$f":"PV(0.03,4,0,-P65)","v":0},{"$error":"#N/A"},{"$error":"#N/A"},0,0,0,0,null,null,4,{"$f":"PV(0.07,4,0,-O65)","v":0},{"$f":"PV(0.07,4,0,-P65)","v":0},{"$error":"#N/A"},{"$error":"#N/A"},0,0,0,0]
[null,null,null,null,null,null,null,null,null,null,null,null,null,{"$f":"'Freight Calcs'!A9","v":5},{"$f":"'Freight Calcs'!C9","v":0},{"$f":"'Freight Calcs'!E9","v":0},{"$f":"'Freight Calcs'!G9","v":{"$error":"#N/A"}},{"$f":"'Freight Calcs'!I9","v":{"$error":"#N/A"}},{"$f":"'Freight Calcs'!C39","v":0},{"$f":"'Freight Calcs'!E39","v":0},{"$f":"'Freight Calcs'!G39","v":0},{"$f":"'Freight Calcs'!I39","v":0},null,null,5,{"$f":"PV(0.03,5,0,-O66)","v":0},{"$f":"PV(0.03,5,0,-P66)","v":0},{"$error":"#N/A"},{"$error":"#N/A"},0,0,0,0,null,null,5,{"$f":"PV(0.07,5,0,-O66)","v":0},{"$f":"PV(0.07,5,0,-P66)","v":0},{"$error":"#N/A"},{"$error":"#N/A"},0,0,0,0]
[null,null,null,null,null,null,null,null,null,null,null,null,null,{"$f":"'Freight Calcs'!A10","v":6},{"$f":"'Freight Calcs'!C10","v":0},{"$f":"'Freight Calcs'!E10","v":0},{"$f":"'Freight Calcs'!G10","v":{"$error":"#N/A"}},{"$f":"'Freight Calcs'!I10","v":{"$error":"#N/A"}},{"$f":"'Freight Calcs'!C40","v":0},{"$f":"'Freight Calcs'!E40","v":0},{"$f":"'Freight Calcs'!G40","v":0},{"$f":"'Freight Calcs'!I40","v":0},null,null,6,{"$f":"PV(0.03,6,0,-O67)","v":0},{"$f":"PV(0.03,6,0,-P67)","v":0},{"$error":"#N/A"},{"$error":"#N/A"},0,0,0,0,null,null,6,{"$f":"PV(0.07,6,0,-O67)","v":0},{"$f":"PV(0.07,6,0,-P67)","v":0},{"$error":"#N/A"},{"$error":"#N/A"},0,0,0,0]
[null,null,null,null,null,null,null,null,null,null,null,null,null,{"$f":"'Freight Calcs'!A11","v":7},{"$f":"'Freight Calcs'!C11","v":0},{"$f":"'Freight Calcs'!E11","v":0},{"$f":"'Freight Calcs'!G11","v":{"$error":"#N/A"}},{"$f":"'Freight Calcs'!I11","v":{"$error":"#N/A"}},{"$f":"'Freight Calcs'!C41","v":0},{"$f":"'Freight Calcs'!E41","v":0},{"$f":"'Freight Calcs'!G41","v":0},{"$f":"'Freight Calcs'!I41","v":0},null,null,7,{"$f":"PV(0.03,7,0,-O68)","v":0},{"$f":"PV(0.03,7,0,-P68)","v":0},{"$error":"#N/A"},{"$error":"#N/A"},0,0,0,0,null,null,7,{"$f":"PV(0.07,7,0,-O68)","v":0},{"$f":"PV(0.07,7,0,-P68)","v":0},{"$error":"#N/A"},{"$error":"#N/A"},0,0,0,0]
[null,null,null,null,null,null,null,null,null,null,null,null,null,{"$f":"'Freight Calcs'!A12","v":8},{"$f":"'Freight Calcs'!C12","v":0},{"$f":"'Freight Calcs'!E12","v":0},{"$f":"'Freight Calcs'!G12","v":{"$error":"#N/A"}},{"$f":"'Freight Calcs'!I12","v":{"$error":"#N/A"}},{"$f":"'Freight Calcs'!C42","v":0},{"$f":"'Freight Calcs'!E42","v":0},{"$f":"'Freight Calcs'!G42","v":0},{"$f":"'Freight Calcs'!I42","v":0},null,null,8,{"$f":"PV(0.03,8,0,-O69)","v":0},{"$f":"PV(0.03,8,0,-P69)","v":0},{"$error":"#N/A"},{"$error":"#N/A"},0,0,0,0,null,null,8,{"$f":"PV(0.07,8,0,-O69)","v":0},{"$f":"PV(0.07,8,0,-P69)","v":0},{"$error":"#N/A"},{"$error":"#N/A"},0,0,0,0]
[null,null,null,null,null,null,null,null,null,null,null,null,null,{"$f":"'Freight Calcs'!A13","v":9},{"$f":"'Freight Calcs'!C13","v":0},{"$f":"'Freight Calcs'!E13","v":0},{"$f":"'Freight Calcs'!G13","v":{"$error":"#N/A"}},{"$f":"'Freight Calcs'!I13","v":{"$error":"#N/A"}},{"$f":"'Freight Calcs'!C43","v":0},{"$f":"'Freight Calcs'!E43","v":0},{"$f":"'Freight Calcs'!G43","v":0},{"$f":"'Freight Calcs'!I43","v":0},null,null,9,{"$f":"PV(0.03,9,0,-O70)","v":0},{"$f":"PV(0.03,9,0,-P70)","v":0},{"$error":"#N/A"},{"$error":"#N/A"},0,0,0,0,null,null,9,{"$f":"PV(0.07,9,0,-O70)","v":0},{"$f":"PV(0.07,9,0,-P70)","v":0},{"$error":"#N/A"},{"$error":"#N/A"},0,0,0,0]
[null,null,null,null,null,null,null,null,null,null,null,null,null,{"$f":"'Freight Calcs'!A14","v":10},{"$f":"'Freight Calcs'!C14","v":0},{"$f":"'Freight Calcs'!E14","v":0},{"$f":"'Freight Calcs'!G14","v":{"$error":"#N/A"}},{"$f":"'Freight Calcs'!I14","v":{"$error":"#N/A"}},{"$f":"'Freight Calcs'!C44","v":0},{"$f":"'Freight Calcs'!E44","v":0},{"$f":"'Freight Calcs'!G44","v":0},{"$f":"'Freight Calcs'!I44","v":0},null,null,10,{"$f":"PV(0.03,10,0,-O71)","v":0},{"$f":"PV(0.03,10,0,-P71)","v":0},{"$error":"#N/A"},{"$error":"#N/A"},0,0,0,0,null,null,10,{"$f":"PV(0.07,10,0,-O71)","v":0},{"$f":"PV(0.07,10,0,-P71)","v":0},{"$error":"#N/A"},{"$error":"#N/A"},0,0,0,0]
[null,null,null,null,null,null,null,null,null,null,null,null,null,{"$f":"'Freight Calcs'!A15","v":11},{"$f":"'Freight Calcs'!C15","v":0},{"$f":"'Freight Calcs'!E15","v":0},{"$f":"'Freight Calcs'!G15","v":{"$error":"#N/A"}},{"$f":"'Freight Calcs'!I15","v":{"$error":"#N/A"}},{"$f":"'Freight Calcs'!C45","v":0},{"$f":"'Freight Calcs'!E45","v":0},{"$f":"'Freight Calcs'!G45","v":0},{"$f":"'Freight Calcs'!I45","v":0},null,null,11,{"$f":"PV(0.03,11,0,-O72)","v":0},{"$f":"PV(0.03,11,0,-P72)","v":0},{"$error":"#N/A"},{"$error":"#N/A"},0,0,0,0,null,null,11,{"$f":"PV(0.07,11,0,-O72)","v":0},{"$f":"PV(0.07,11,0,-P72)","v":0},{"$error":"#N/A"},{"$error":"#N/A"},0,0,0,0]
[null,null,null,null,null,null,null,null,null,null,null,null,null,{"$f":"'Freight Calcs'!A16","v":12},{"$f":"'Freight Calcs'!C16","v":0},{"$f":"'Freight Calcs'!E16","v":0},{"$f":"'Freight Calcs'!G16","v":{"$error":"#N/A"}},{"$f":"'Freight Calcs'!I16","v":{"$error":"#N/A"}},{"$f":"'Freight Calcs'!C46","v":0},{"$f":"'Freight Calcs'!E46","v":0},{"$f":"'Freight Calcs'!G46","v":0},{"$f":"'Freight Calcs'!I46","v":0},null,null,12,{"$f":"PV(0.03,12,0,-O73)","v":0},{"$f":"PV(0.03,12,0,-P73)","v":0},{"$error":"#N/A"},{"$error":"#N/A"},0,0,0,0,null,null,12,{"$f":"PV(0.07,12,0,-O73)","v":0},{"$f":"PV(0.07,12,0,-P73)","v":0},{"$error":"#N/A"},{"$error":"#N/A"},0,0,0,0]
[null,null,null,null,null,null,null,null,null,null,null,null,null,{"$f":"'Freight Calcs'!A17","v":13},{"$f":"'Freight Calcs'!C17","v":0},{"$f":"'Freight Calcs'!E17","v":0},{"$f":"'Freight Calcs'!G17","v":{"$error":"#N/A"}},{"$f":"'Freight Calcs'!I17","v":{"$error":"#N/A"}},{"$f":"'Freight Calcs'!C47","v":0},{"$f":"'Freight Calcs'!E47","v":0},{"$f":"'Freight Calcs'!G47","v":0},{"$f":"'Freight Calcs'!I47","v":0},null,null,13,{"$f":"PV(0.03,13,0,-O74)","v":0},{"$f":"PV(0.03,13,0,-P74)","v":0},{"$error":"#N/A"},{"$error":"#N/A"},0,0,0,0,null,null,13,{"$f":"PV(0.07,13,0,-O74)","v":0},{"$f":"PV(0.07,13,0,-P74)","v":0},{"$error":"#N/A"},{"$error":"#N/A"},0,0,0,0]
[null,null,null,null,null,null,null,null,null,null,null,null,null,{"$f":"'Freight Calcs'!A18","v":14},{"$f":"'Freight Calcs'!C18","v":0},{"$f":"'Freight Calcs'!E18","v":0},{"$f":"'Freight Calcs'!G18","v":{"$error":"#N/A"}},{"$f":"'Freight Calcs'!I18","v":{"$error":"#N/A"}},{"$f":"'Freight Calcs'!C48","v":0},{"$f":"'Freight Calcs'!E48","v":0},{"$f":"'Freight Calcs'!G48","v":0},{"$f":"'Freight Calcs'!I48","v":0},null,null,14,{"$f":"PV(0.03,14,0,-O75)","v":0},{"$f":"PV(0.03,14,0,-P75)","v":0},{"$error":"#N/A"},{"$error":"#N/A"},0,0,0,0,null,null,14,{"$f":"PV(0.07,14,0,-O75)","v":0},{"$f":"PV(0.07,14,0,-P75)","v":0},{"$error":"#N/A"},{"$error":"#N/A"},0,0,0,0]
[null,null,null,null,null,null,null,null,null,null,null,null,null,{"$f":"'Freight Calcs'!A19","v":15},{"$f":"'Freight Calcs'!C19","v":0},{"$f":"'Freight Calcs'!E19","v":0},{"$f":"'Freight Calcs'!G19","v":0},{"$f":"'Freight Calcs'!I19","v":0},{"$f":"'Freight Calcs'!C49","v":0},{"$f":"'Freight Calcs'!E49","v":0},{"$f":"'Freight Calcs'!G49","v":0},{"$f":"'Freight Calcs'!I49","v":0},null,null,15,{"$f":"PV(0.03,15,0,-O76)","v":0},{"$f":"PV(0.03,15,0,-P76)","v":0},0,0,0,0,0,0,null,null,15,{"$f":"PV(0.07,15,0,-O76)","v":0},{"$f":"PV(0.07,15,0,-P76)","v":0},0,0,0,0,0,0]
[null,null,null,null,null,null,null,null,null,null,null,null,null,{"$f":"'Freight Calcs'!A20","v":16},{"$f":"'Freight Calcs'!C20","v":0},{"$f":"'Freight Calcs'!E20","v":0},{"$f":"'Freight Calcs'!G20","v":0},{"$f":"'Freight Calcs'!I20","v":0},{"$f":"'Freight Calcs'!C50","v":0},{"$f":"'Freight Calcs'!E50","v":0},{"$f":"'Freight Calcs'!G50","v":0},{"$f":"'Freight Calcs'!I50","v":0},null,null,16,{"$f":"PV(0.03,16,0,-O77)","v":0},{"$f":"PV(0.03,16,0,-P77)","v":0},0,0,0,0,0,0,null,null,16,{"$f":"PV(0.07,16,0,-O77)","v":0},{"$f":"PV(0.07,16,0,-P77)","v":0},0,0,0,0,0,0]
[null,null,null,null,null,null,null,null,null,null,null,null,null,{"$f":"'Freight Calcs'!A21","v":17},{"$f":"'Freight Calcs'!C21","v":0},{"$f":"'Freight Calcs'!E21","v":0},{"$f":"'Freight Calcs'!G21","v":0},{"$f":"'Freight Calcs'!I21","v":0},{"$f":"'Freight Calcs'!C51","v":0},{"$f":"'Freight Calcs'!E51","v":0},{"$f":"'Freight Calcs'!G51","v":0},{"$f":"'Freight Calcs'!I51","v":0},null,null,17,{"$f":"PV(0.03,17,0,-O78)","v":0},{"$f":"PV(0.03,17,0,-P78)","v":0},0,0,0,0,0,0,null,null,17,{"$f":"PV(0.07,17,0,-O78)","v":0},{"$f":"PV(0.07,17,0,-P78)","v":0},0,0,0,0,0,0]
[null,null,null,null,null,null,null,null,null,null,null,null,null,{"$f":"'Freight Calcs'!A22","v":18},{"$f":"'Freight Calcs'!C22","v":0},{"$f":"'Freight Calcs'!E22","v":0},{"$f":"'Freight Calcs'!G22","v":0},{"$f":"'Freight Calcs'!I22","v":0},{"$f":"'Freight Calcs'!C52","v":0},{"$f":"'Freight Calcs'!E52","v":0},{"$f":"'Freight Calcs'!G52","v":0},{"$f":"'Freight Calcs'!I52","v":0},null,null,18,{"$f":"PV(0.03,18,0,-O79)","v":0},{"$f":"PV(0.03,18,0,-P79)","v":0},0,0,0,0,0,0,null,null,18,{"$f":"PV(0.07,18,0,-O79)","v":0},{"$f":"PV(0.07,18,0,-P79)","v":0},0,0,0,0,0,0]
[null,null,null,null,null,null,null,null,null,null,null,null,null,{"$f":"'Freight Calcs'!A23","v":19},{"$f":"'Freight Calcs'!C23","v":0},{"$f":"'Freight Calcs'!E23","v":0},{"$f":"'Freight Calcs'!G23","v":0},{"$f":"'Freight Calcs'!I23","v":0},{"$f":"'Freight Calcs'!C53","v":0},{"$f":"'Freight Calcs'!E53","v":0},{"$f":"'Freight Calcs'!G53","v":0},{"$f":"'Freight Calcs'!I53","v":0},null,null,19,{"$f":"PV(0.03,19,0,-O80)","v":0},{"$f":"PV(0.03,19,0,-P80)","v":0},0,0,0,0,0,0,null,null,19,{"$f":"PV(0.07,19,0,-O80)","v":0},{"$f":"PV(0.07,19,0,-P80)","v":0},0,0,0,0,0,0]
[null,null,null,null,null,null,null,null,null,null,null,null,null,{"$f":"'Freight Calcs'!A24","v":20},{"$f":"'Freight Calcs'!C24","v":0},{"$f":"'Freight Calcs'!E24","v":0},{"$f":"'Freight Calcs'!G24","v":0},{"$f":"'Freight Calcs'!I24","v":0},{"$f":"'Freight Calcs'!C54","v":0},{"$f":"'Freight Calcs'!E54","v":0},{"$f":"'Freight Calcs'!G54","v":0},{"$f":"'Freight Calcs'!I54","v":0},null,null,20,{"$f":"PV(0.03,20,0,-O81)","v":0},{"$f":"PV(0.03,20,0,-P81)","v":0},0,0,0,0,0,0,null,null,20,{"$f":"PV(0.07,20,0,-O81)","v":0},{"$f":"PV(0.07,20,0,-P81)","v":0},0,0,0,0,0,0]
[null,null,null,null,null,null,null,null,null,null,null,null,null,{"$f":"'Freight Calcs'!A25","v":21},{"$f":"'Freight Calcs'!C25","v":0},{"$f":"'Freight Calcs'!E25","v":0},{"$f":"'Freight Calcs'!G25","v":0},{"$f":"'Freight Calcs'!I25","v":0},{"$f":"'Freight Calcs'!C55","v":0},{"$f":"'Freight Calcs'!E55","v":0},{"$f":"'Freight Calcs'!G55","v":0},{"$f":"'Freight Calcs'!I55","v":0},null,null,21,{"$f":"PV(0.03,21,0,-O82)","v":0},{"$f":"PV(0.03,21,0,-P82)","v":0},0,0,0,0,0,0,null,null,21,{"$f":"PV(0.07,21,0,-O82)","v":0},{"$f":"PV(0.07,21,0,-P82)","v":0},0,0,0,0,0,0]
[null,null,null,null,null,null,null,null,null,null,null,null,null,{"$f":"'Freight Calcs'!A26","v":22},{"$f":"'Freight Calcs'!C26","v":0},{"$f":"'Freight Calcs'!E26","v":0},{"$f":"'Freight Calcs'!G26","v":0},{"$f":"'Freight Calcs'!I26","v":0},{"$f":"'Freight Calcs'!C56","v":0},{"$f":"'Freight Calcs'!E56","v":0},{"$f":"'Freight Calcs'!G56","v":0},{"$f":"'Freight Calcs'!I56","v":0},null,null,22,{"$f":"PV(0.03,22,0,-O83)","v":0},{"$f":"PV(0.03,22,0,-P83)","v":0},0,0,0,0,0,0,null,null,22,{"$f":"PV(0.07,22,0,-O83)","v":0},{"$f":"PV(0.07,22,0,-P83)","v":0},0,0,0,0,0,0]
[null,null,null,null,null,null,null,null,null,null,null,null,null,{"$f":"'Freight Calcs'!A27","v":23},{"$f":"'Freight Calcs'!C27","v":0},{"$f":"'Freight Calcs'!E27","v":0},{"$f":"'Freight Calcs'!G27","v":0},{"$f":"'Freight Calcs'!I27","v":0},{"$f":"'Freight Calcs'!C57","v":0},{"$f":"'Freight Calcs'!E57","v":0},{"$f":"'Freight Calcs'!G57","v":0},{"$f":"'Freight Calcs'!I57","v":0},null,null,23,{"$f":"PV(0.03,23,0,-O84)","v":0},{"$f":"PV(0.03,23,0,-P84)","v":0},0,0,0,0,0,0,null,null,23,{"$f":"PV(0.07,23,0,-O84)","v":0},{"$f":"PV(0.07,23,0,-P84)","v":0},0,0,0,0,0,0]
[null,null,null,null,null,null,null,null,null,null,null,null,null,{"$f":"'Freight Calcs'!A28","v":24},{"$f":"'Freight Calcs'!C28","v":0},{"$f":"'Freight Calcs'!E28","v":0},{"$f":"'Freight Calcs'!G28","v":0},{"$f":"'Freight Calcs'!I28","v":0},{"$f":"'Freight Calcs'!C58","v":0},{"$f":"'Freight Calcs'!E58","v":0},{"$f":"'Freight Calcs'!G58","v":0},{"$f":"'Freight Calcs'!I58","v":0},null,null,24,{"$f":"PV(0.03,24,0,-O85)","v":0},{"$f":"PV(0.03,24,0,-P85)","v":0},0,0,0,0,0,0,null,null,24,{"$f":"PV(0.07,24,0,-O85)","v":0},{"$f":"PV(0.07,24,0,-P85)","v":0},0,0,0,0,0,0]
[]
[]
[]
[null,null,null,null,null,null,null,null,null,null,null,null,null,"Passenger (Not Adjusted)","Congestion Cost","Reduced Accident Costs","Reduced Passenger Transportation Cost","Travel Time Savings","Environmental Improvement - (Shift from cars to trains) ","Environmental Improvement - (Distance Reduction) ","Wider Economic Benefits","Savings in Pavement Maintenance","Passenger Benefits",null,"Passenger (3%)","Congestion Cost","Reduced Accident Costs","Reduced Passenger Transportation Cost","Travel Time Savings","Environmental Improvement - (Shift from cars to trains) ","Environmental Improvement - (Distance Reduction) ","Wider Economic Benefits","Savings in Pavement Maintenance","Passenger Benefits",null,"Passenger (7%)","Congestion Cost","Reduced Accident Costs","Reduced Passenger Transportation Cost","Travel Time Savings","Environmental Improvement - (Shift from cars to trains) ","Environmental Improvement - (Distance Reduction) ","Wider Economic Benefits","Savings in Pavement Maintenance","Passenger Benefits"]
[null,null,null,null,null,null,null,null,null,null,null,null,null,{"$f":"'Passenger Calcs'!A4","v":0},{"$f":"'Passenger Calcs'!C4","v":{"$error":"#VALUE!"}},{"$f":"'Passenger Calcs'!E4","v":0},{"$f":"'Passenger Calcs'!G4","v":0},{"$f":"'Passenger Calcs'!I4","v":{"$error":"#N/A"}},{"$f":"'Passenger Calcs'!C34","v":0},{"$f":"'Passenger Calcs'!E34","v":{"$error":"#N/A"}},{"$f":"'Passenger Calcs'!G34","v":0},{"$f":"'Passenger Calcs'!I34","v":0},{"$f":"SUM(O90:V90)","v":{"$error":"#VALUE!"}},null,{"$f":"N90","v":0},{"$f":"(PV(0.03,0,0,-O90))","v":{"$error":"#VALUE!"}},{"$f":"(PV(0.03,0,0,-P90))","v":0},0,{"$error":"#N/A"},0,{"$error":"#N/A"},0,0,{"$error":"#VALUE!"},null,{"$f":"N90","v":0},{"$f":"(PV(0.07,0,0,-O90))","v":{"$error":"#VALUE!"}},{"$f":"(PV(0.07,0,0,-P90))","v":0},0,{"$error":"#N/A"},0,{"$error":"#N/A"},0,0,{"$error":"#VALUE!"}]
[null,null,null,null,null,null,null,null,null,null,null,null,null,{"$f":"IFERROR((IF(N90+1>2040,\"No Values Available\",N90+1)),\"No Values Available\")","v":1},{"$f":"'Passenger Calcs'!C5","v":{"$error":"#VALUE!"}},{"$f":"'Passenger Calcs'!E5","v":0},{"$f":"'Passenger Calcs'!G5","v":0},{"$f":"'Passenger Calcs'!I5","v":{"$error":"#VALUE!"}},{"$f":"'Passenger Calcs'!C35","v":0},{"$f":"'Passenger Calcs'!E35","v":{"$error":"#N/A"}},{"$f":"'Passenger Calcs'!G35","v":0},{"$f":"'Passenger Calcs'!I35","v":0},{"$f":"SUM(O91:V91)","v":{"$error":"#VALUE!"}},null,1,{"$f":"(PV(0.03,1,0,-O91))","v":{"$error":"#VALUE!"}},{"$f":"(PV(0.03,1,0,-P91))","v":0},0,{"$error":"#VALUE!"},0,{"$error":"#N/A"},0,0,{"$error":"#VALUE!"},null,1,{"$f":"(PV(0.07,1,0,-O91))","v":{"$error":"#VALUE!"}},{"$f":"(PV(0.07,1,0,-P91))","v":0},0,{"$error":"#VALUE!"},0,{"$error":"#N/A"},0,0,{"$error":"#VALUE!"}]
[null,null,null,null,null,null,null,null,null,null,null,null,null,{"$f":"IFERROR((IF(N91+1>2040,\"No Values Available\",N91+1)),\"No Values Available\")","v":2},{"$f":"'Passenger Calcs'!C6","v":{"$error":"#VALUE!"}},{"$f":"'Passenger Calcs'!E6","v":0},{"$f":"'Passenger Calcs'!G6","v":0},{"$f":"'Passenger Calcs'!I6","v":{"$error":"#VALUE!"}},{"$f":"'Passenger Calcs'!C36","v":0},{"$f":"'Passenger Calcs'!E36","v":{"$error":"#N/A"}},{"$f":"'Passenger Calcs'!G36","v":0},{"$f":"'Passenger Calcs'!I36","v":0},{"$error":"#VALUE!"},null,2,{"$f":"(PV(0.03,2,0,-O92))","v":{"$error":"#VALUE!"}},{"$f":"(PV(0.03,2,0,-P92))","v":0},0,{"$error":"#VALUE!"},0,{"$error":"#N/A"},0,0,{"$error":"#VALUE!"},null,2,{"$f":"(PV(0.07,2,0,-O92))","v":{"$error":"#VALUE!"}},{"$f":"(PV(0.07,2,0,-P92))","v":0},0,{"$error":"#VALUE!"},0,{"$error":"#N/A"},0,0,{"$error":"#VALUE!"}]
[null,null,null,null,null,null,null,null,null,null,null,null,null,3,{"$f":"'Passenger Calcs'!C7","v":{"$error":"#VALUE!"}},{"$f":"'Passenger Calcs'!E7","v":0},{"$f":"'Passenger Calcs'!G7","v":0},{"$f":"'Passenger Calcs'!I7","v":{"$error":"#VALUE!"}},{"$f":"'Passenger Calcs'!C37","v":0},{"$f":"'Passenger Calcs'!E37","v":{"$error":"#N/A"}},{"$f":"'Passenger Calcs'!G37","v":0},{"$f":"'Passenger Calcs'!I37","v":0},{"$error":"#VALUE!"},null,3,{"$f":"(PV(0.03,3,0,-O93))","v":{"$error":"#VALUE!"}},{"$f":"(PV(0.03,3,0,-P93))","v":0},0,{"$error":"#VALUE!"},0,{"$error":"#N/A"},0,0,{"$error":"#VALUE!"},null,3,{"$f":"(PV(0.07,3,0,-O93))","v":{"$error":"#VALUE!"}},{"$f":"(PV(0.07,3,0,-P93))","v":0},0,{"$error":"#VALUE!"},0,{"$error":"#N/A"},0,0,{"$error":"#VALUE!"}]
[null,null,null,null,null,null,null,null,null,null,null,null,null,4,{"$f":"'Passenger Calcs'!C8","v":{"$error":"#VALUE!"}},{"$f":"'Passenger Calcs'!E8","v":0},{"$f":"'Passenger Calcs'!G8","v":0},{"$f":"'Passenger Calcs'!I8","v":{"$error":"#VALUE!"}},{"$f":"'Passenger Calcs'!C38","v":0},{"$f":"'Passenger Calcs'!E38","v":{"$error":"#N/A"}},{"$f":"'Passenger Calcs'!G38","v":0},{"$f":"'Passenger Calcs'!I38","v":0},{"$error":"#VALUE!"},null,4,{"$f":"(PV(0.03,4,0,-O94))","v":{"$error":"#VALUE!"}},{"$f":"(PV(0.03,4,0,-P94))","v":0},0,{"$error":"#VALUE!"},0,{"$error":"#N/A"},0,0,{"$error":"#VALUE!"},null,4,{"$f":"(PV(0.07,4,0,-O94))","v":{"$error":"#VALUE!"}},{"$f":"(PV(0.07,4,0,-P94))","v":0},0,{"$error":"#VALUE!"},0,{"$error":"#N/A"},0,0,{"$error":"#VALUE!"}]
[null,null,null,null,null,null,null,null,null,null,null,null,null,5,{"$f":"'Passenger Calcs'!C9","v":{"$error":"#VALUE!"}},{"$f":"'Passenger Calcs'!E9","v":0},{"$f":"'Passenger Calcs'!G9","v":0},{"$f":"'Passenger Calcs'!I9","v":{"$error":"#VALUE!"}},{"$f":"'Passenger Calcs'!C39","v":0},{"$f":"'Passenger Calcs'!E39","v":{"$error":"#N/A"}},{"$f":"'Passenger Calcs'!G39","v":0},{"$f":"'Passenger Calcs'!I39","v":0},{"$error":"#VALUE!"},null,5,{"$f":"(PV(0.03,5,0,-O95))","v":{"$error":"#VALUE!"}},{"$f":"(PV(0.03,5,0,-P95))","v":0},0,{"$error":"#VALUE!"},0,{"$error":"#N/A"},0,0,{"$error":"#VALUE!"},null,5,{"$f":"(PV(0.07,5,0,-O95))","v":{"$error":"#VALUE!"}},{"$f":"(PV(0.07,5,0,-P95))","v":0},0,{"$error":"#VALUE!"},0,{"$error":"#N/A"},0,0,{"$error":"#VALUE!"}]
[null,null,null,null,null,null,null,null,null,null,null,null,null,6,{"$f":"'Passenger Calcs'!C10","v":{"$error":"#VALUE!"}},{"$f":"'Passenger Calcs'!E10","v":0},{"$f":"'Passenger Calcs'!G10","v":0},{"$f":"'Passenger Calcs'!I10","v":{"$error":"#VALUE!"}},{"$f":"'Passenger Calcs'!C40","v":0},{"$f":"'Passenger Calcs'!E40","v":{"$error":"#N/A"}},{"$f":"'Passenger Calcs'!G40","v":0},{"$f":"'Passenger Calcs'!I40","v":0},{"$error":"#VALUE!"},null,6,{"$f":"(PV(0.03,6,0,-O96))","v":{"$error":"#VALUE!"}},{"$f":"(PV(0.03,6,0,-P96))","v":0},0,{"$error":"#VALUE!"},0,{"$error":"#N/A"},0,0,{"$error":"#VALUE!"},null,6,{"$f":"(PV(0.07,6,0,-O96))","v":{"$error":"#VALUE!"}},{"$f":"(PV(0.07,6,0,-P96))","v":0},0,{"$error":"#VALUE!"},0,{"$error":"#N/A"},0,0,{"$error":"#VALUE!"}]
[null,null,null,null,null,null,null,null,null,null,null,null,null,7,{"$f":"'Passenger Calcs'!C11","v":{"$error":"#VALUE!"}},{"$f":"'Passenger Calcs'!E11","v":0},{"$f":"'Passenger Calcs'!G11","v":0},{"$f":"'Passenger Calcs'!I11","v":{"$error":"#VALUE!"}},{"$f":"'Passenger Calcs'!C41","v":0},{"$f":"'Passenger Calcs'!E41","v":{"$error":"#N/A"}},{"$f":"'Passenger Calcs'!G41","v":0},{"$f":"'Passenger Calcs'!I41","v":0},{"$error":"#VALUE!"},null,7,{"$f":"(PV(0.03,7,0,-O97))","v":{"$error":"#VALUE!"}},{"$f":"(PV(0.03,7,0,-P97))","v":0},0,{"$error":"#VALUE!"},0,{"$error":"#N/A"},0,0,{"$error":"#VALUE!"},null,7,{"$f":"(PV(0.07,7,0,-O97))","v":{"$error":"#VALUE!"}},{"$f":"(PV(0.07,7,0,-P97))","v":0},0,{"$error":"#VALUE!"},0,{"$error":"#N/A"},0,0,{"$error":"#VALUE!"}]
[null,null,null,null,null,null,null,null,null,null,null,null,null,8,{"$f":"'Passenger Calcs'!C12","v":{"$error":"#VALUE!"}},{"$f":"'Passenger Calcs'!E12","v":0},{"$f":"'Passenger Calcs'!G12","v":0},{"$f":"'Passenger Calcs'!I12","v":{"$error":"#VALUE!"}},{"$f":"'Passenger Calcs'!C42","v":0},{"$f":"'Passenger Calcs'!E42","v":{"$error":"#N/A"}},{"$f":"'Passenger Calcs'!G42","v":0},{"$f":"'Passenger Calcs'!I42","v":0},{"$error":"#VALUE!"},null,8,{"$f":"(PV(0.03,8,0,-O98))","v":{"$error":"#VALUE!"}},{"$f":"(PV(0.03,8,0,-P98))","v":0},0,{"$error":"#VALUE!"},0,{"$error":"#N/A"},0,0,{"$error":"#VALUE!"},null,8,{"$f":"(PV(0.07,8,0,-O98))","v":{"$error":"#VALUE!"}},{"$f":"(PV(0.07,8,0,-P98))","v":0},0,{"$error":"#VALUE!"},0,{"$error":"#N/A"},0,0,{"$error":"#VALUE!"}]
[null,null,null,null,null,null,null,null,null,null,null,null,null,9,{"$f":"'Passenger Calcs'!C13","v":{"$error":"#VALUE!"}},{"$f":"'Passenger Calcs'!E13","v":0},{"$f":"'Passenger Calcs'!G13","v":0},{"$f":"'Passenger Calcs'!I13","v":{"$error":"#VALUE!"}},{"$f":"'Passenger Calcs'!C43","v":0},{"$f":"'Passenger Calcs'!E43","v":{"$error":"#N/A"}},{"$f":"'Passenger Calcs'!G43","v":0},{"$f":"'Passenger Calcs'!I43","v":0},{"$error":"#VALUE!"},null,9,{"$f":"(PV(0.03,9,0,-O99))","v":{"$error":"#VALUE!"}},{"$f":"(PV(0.03,9,0,-P99))","v":0},0,{"$error":"#VALUE!"},0,{"$error":"#N/A"},0,0,{"$error":"#VALUE!"},null,9,{"$f":"(PV(0.07,9,0,-O99))","v":{"$error":"#VALUE!"}},{"$f":"(PV(0.07,9,0,-P99))","v":0},0,{"$error":"#VALUE!"},0,{"$error":"#N/A"},0,0,{"$error":"#VALUE!"}]
[null,null,null,null,null,null,null,null,null,null,null,null,null,10,{"$f":"'Passenger Calcs'!C14","v":{"$error":"#VALUE!"}},{"$f":"'Passenger Calcs'!E14","v":0},{"$f":"'Passenger Calcs'!G14","v":0},{"$f":"'Passenger Calcs'!I14","v":{"$error":"#VALUE!"}},{"$f":"'Passenger Calcs'!C44","v":0},{"$f":"'Passenger Calcs'!E44","v":{"$error":"#N/A"}},{"$f":"'Passenger Calcs'!G44","v":0},{"$f":"'Passenger Calcs'!I44","v":0},{"$error":"#VALUE!"},null,10,{"$f":"(PV(0.03,10,0,-O100))","v":{"$error":"#VALUE!"}},{"$f":"(PV(0.03,10,0,-P100))","v":0},0,{"$error":"#VALUE!"},0,{"$error":"#N/A"},0,0,{"$error":"#VALUE!"},null,10,{"$f":"(PV(0.07,10,0,-O100))","v":{"$error":"#VALUE!"}},{"$f":"(PV(0.07,10,0,-P100))","v":0},0,{"$error":"#VALUE!"},0,{"$error":"#N/A"},0,0,{"$error":"#VALUE!"}]
[null,null,null,null,null,null,null,null,null,null,null,null,null,11,{"$f":"'Passenger Calcs'!C15","v":{"$error":"#VALUE!"}},{"$f":"'Passenger Calcs'!E15","v":0},{"$f":"'Passenger Calcs'!G15","v":0},{"$f":"'Passenger Calcs'!I15","v":{"$error":"#VALUE!"}},{"$f":"'Passenger Calcs'!C45","v":0},{"$f":"'Passenger Calcs'!E45","v":{"$error":"#N/A"}},{"$f":"'Passenger Calcs'!G45","v":0},{"$f":"'Passenger Calcs'!I45","v":0},{"$error":"#VALUE!"},null,11,{"$f":"(PV(0.03,11,0,-O101))","v":{"$error":"#VALUE!"}},{"$f":"(PV(0.03,11,0,-P101))","v":0},0,{"$error":"#VALUE!"},0,{"$error":"#N/A"},0,0,{"$error":"#VALUE!"},null,11,{"$f":"(PV(0.07,11,0,-O101))","v":{"$error":"#VALUE!"}},{"$f":"(PV(0.07,11,0,-P101))","v":0},0,{"$error":"#VALUE!"},0,{"$error":"#N/A"},0,0,{"$error":"#VALUE!"}]
[null,null,null,null,null,null,null,null,null,null,null,null,null,12,{"$f":"'Passenger Calcs'!C16","v":{"$error":"#VALUE!"}},{"$f":"'Passenger Calcs'!E16","v":0},{"$f":"'Passenger Calcs'!G16","v":0},{"$f":"'Passenger Calcs'!I16","v":{"$error":"#VALUE!"}},{"$f":"'Passenger Calcs'!C46","v":0},{"$f":"'Passenger Calcs'!E46","v":{"$error":"#N/A"}},{"$f":"'Passenger Calcs'!G46","v":0},{"$f":"'Passenger Calcs'!I46","v":0},{"$error":"#VALUE!"},null,12,{"$f":"(PV(0.03,12,0,-O102))","v":{"$error":"#VALUE!"}},{"$f":"(PV(0.03,12,0,-P102))","v":0},0,{"$error":"#VALUE!"},0,{"$error":"#N/A"},0,0,{"$error":"#VALUE!"},null,12,{"$f":"(PV(0.07,12,0,-O102))","v":{"$error":"#VALUE!"}},{"$f":"(PV(0.07,12,0,-P102))","v":0},0,{"$error":"#VALUE!"},0,{"$error":"#N/A"},0,0,{"$error":"#VALUE!"}]
[null,null,null,null,null,null,null,null,null,null,null,null,null,13,{"$f":"'Passenger Calcs'!C17","v":{"$error":"#VALUE!"}},{"$f":"'Passenger Calcs'!E17","v":0},{"$f":"'Passenger Calcs'!G17","v":0},{"$f":"'Passenger Calcs'!I17","v":{"$error":"#VALUE!"}},{"$f":"'Passenger Calcs'!C47","v":0},{"$f":"'Passenger Calcs'!E47","v":{"$error":"#N/A"}},{"$f":"'Passenger Calcs'!G47","v":0},{"$f":"'Passenger Calcs'!I47","v":0},{"$error":"#VALUE!"},null,13,{"$f":"(PV(0.03,13,0,-O103))","v":{"$error":"#VALUE!"}},{"$f":"(PV(0.03,13,0,-P103))","v":0},0,{"$error":"#VALUE!"},0,{"$error":"#N/A"},0,0,{"$error":"#VALUE!"},null,13,{"$f":"(PV(0.07,13,0,-O103))","v":{"$error":"#VALUE!"}},{"$f":"(PV(0.07,13,0,-P103))","v":0},0,{"$error":"#VALUE!"},0,{"$error":"#N/A"},0,0,{"$error":"#VALUE!"}]
[null,null,null,null,null,null,null,null,null,null,null,null,null,14,{"$f":"'Passenger Calcs'!C18","v":{"$error":"#VALUE!"}},{"$f":"'Passenger Calcs'!E18","v":0},{"$f":"'Passenger Calcs'!G18","v":0},{"$f":"'Passenger Calcs'!I18","v":{"$error":"#VALUE!"}},{"$f":"'Passenger Calcs'!C48","v":0},{"$f":"'Passenger Calcs'!E48","v":{"$error":"#N/A"}},{"$f":"'Passenger Calcs'!G48","v":0},{"$f":"'Passenger Calcs'!I48","v":0},{"$error":"#VALUE!"},null,14,{"$f":"(PV(0.03,14,0,-O104))","v":{"$error":"#VALUE!"}},{"$f":"(PV(0.03,14,0,-P104))","v":0},0,{"$error":"#VALUE!"},0,{"$error":"#N/A"},0,0,{"$error":"#VALUE!"},null,14,{"$f":"(PV(0.07,14,0,-O104))","v":{"$error":"#VALUE!"}},{"$f":"(PV(0.07,14,0,-P104))","v":0},0,{"$error":"#VALUE!"},0,{"$error":"#N/A"},0,0,{"$error":"#VALUE!"}]
[null,null,null,null,null,null,null,null,null,null,null,null,null,15,{"$f":"'Passenger Calcs'!C19","v":0},{"$f":"'Passenger Calcs'!E19","v":0},{"$f":"'Passenger Calcs'!G19","v":0},{"$f":"'Passenger Calcs'!I19","v":0},{"$f":"'Passenger Calcs'!C49","v":0},{"$f":"'Passenger Calcs'!E49","v":0},{"$f":"'Passenger Calcs'!G49","v":0},{"$f":"'Passenger Calcs'!I49","v":0},0,null,15,{"$f":"(PV(0.03,15,0,-O105))","v":0},{"$f":"(PV(0.03,15,0,-P105))","v":0},0,0,0,0,0,0,0,null,15,{"$f":"(PV(0.07,15,0,-O105))","v":0},{"$f":"(PV(0.07,15,0,-P105))","v":0},0,0,0,0,0,0,0]
[null,null,null,null,null,null,null,null,null,null,null,null,null,16,{"$f":"'Passenger Calcs'!C20","v":0},{"$f":"'Passenger Calcs'!E20","v":0},{"$f":"'Passenger Calcs'!G20","v":0},{"$f":"'Passenger Calcs'!I20","v":0},{"$f":"'Passenger Calcs'!C50","v":0},{"$f":"'Passenger Calcs'!E50","v":0},{"$f":"'Passenger Calcs'!G50","v":0},{"$f":"'Passenger Calcs'!I50","v":0},0,null,16,{"$f":"(PV(0.03,16,0,-O106))","v":0},{"$f":"(PV(0.03,16,0,-P106))","v":0},0,0,0,0,0,0,0,null,16,{"$f":"(PV(0.07,16,0,-O106))","v":0},{"$f":"(PV(0.07,16,0,-P106))","v":0},0,0,0,0,0,0,0]
[null,null,null,null,null,null,null,null,null,null,null,null,null,17,{"$f":"'Passenger Calcs'!C21","v":0},{"$f":"'Passenger Calcs'!E21","v":0},{"$f":"'Passenger Calcs'!G21","v":0},{"$f":"'Passenger Calcs'!I21","v":0},{"$f":"'Passenger Calcs'!C51","v":0},{"$f":"'Passenger Calcs'!E51","v":0},{"$f":"'Passenger Calcs'!G51","v":0},{"$f":"'Passenger Calcs'!I51","v":0},0,null,17,{"$f":"(PV(0.03,17,0,-O107))","v":0},{"$f":"(PV(0.03,17,0,-P107))","v":0},0,0,0,0,0,0,0,null,17,{"$f":"(PV(0.07,17,0,-O107))","v":0},{"$f":"(PV(0.07,17,0,-P107))","v":0},0,0,0,0,0,0,0]
[null,null,null,null,null,null,null,null,null,null,null,null,null,18,{"$f":"'Passenger Calcs'!C22","v":0},{"$f":"'Passenger Calcs'!E22","v":0},{"$f":"'Passenger Calcs'!G22","v":0},{"$f":"'Passenger Calcs'!I22","v":0},{"$f":"'Passenger Calcs'!C52","v":0},{"$f":"'Passenger Calcs'!E52","v":0},{"$f":"'Passenger Calcs'!G52","v":0},{"$f":"'Passenger Calcs'!I52","v":0},0,null,18,{"$f":"(PV(0.03,18,0,-O108))","v":0},{"$f":"(PV(0.03,18,0,-P108))","v":0},0,0,0,0,0,0,0,null,18,{"$f":"(PV(0.07,18,0,-O108))","v":0},{"$f":"(PV(0.07,18,0,-P108))","v":0},0,0,0,0,0,0,0]
[null,null,null,null,null,null,null,null,null,null,null,null,null,19,{"$f":"'Passenger Calcs'!C23","v":0},{"$f":"'Passenger Calcs'!E23","v":0},{"$f":"'Passenger Calcs'!G23","v":0},{"$f":"'Passenger Calcs'!I23","v":0},{"$f":"'Passenger Calcs'!C53","v":0},{"$f":"'Passenger Calcs'!E53","v":0},{"$f":"'Passenger Calcs'!G53","v":0},{"$f":"'Passenger Calcs'!I53","v":0},0,null,19,{"$f":"(PV(0.03,19,0,-O109))","v":0},{"$f":"(PV(0.03,19,0,-P109))","v":0},0,0,0,0,0,0,0,null,19,{"$f":"(PV(0.07,19,0,-O109))","v":0},{"$f":"(PV(0.07,19,0,-P109))","v":0},0,0,0,0,0,0,0]
[null,null,null,null,null,null,null,null,null,null,null,null,null,20,{"$f":"'Passenger Calcs'!C24","v":0},{"$f":"'Passenger Calcs'!E24","v":0},{"$f":"'Passenger Calcs'!G24","v":0},{"$f":"'Passenger Calcs'!I24","v":0},{"$f":"'Passenger Calcs'!C54","v":0},{"$f":"'Passenger Calcs'!E54","v":0},{"$f":"'Passenger Calcs'!G54","v":0},{"$f":"'Passenger Calcs'!I54","v":0},0,null,20,{"$f":"(PV(0.03,20,0,-O110))","v":0},{"$f":"(PV(0.03,20,0,-P110))","v":0},0,0,0,0,0,0,0,null,20,{"$f":"(PV(0.07,20,0,-O110))","v":0},{"$f":"(PV(0.07,20,0,-P110))","v":0},0,0,0,0,0,0,0]
[null,null,null,null,null,null,null,null,null,null,null,null,null,21,{"$f":"'Passenger Calcs'!C25","v":0},{"$f":"'Passenger Calcs'!E25","v":0},{"$f":"'Passenger Calcs'!G25","v":0},{"$f":"'Passenger Calcs'!I25","v":0},{"$f":"'Passenger Calcs'!C55","v":0},{"$f":"'Passenger Calcs'!E55","v":0},{"$f":"'Passenger Calcs'!G55","v":0},{"$f":"'Passenger Calcs'!I55","v":0},0,null,21,{"$f":"(PV(0.03,21,0,-O111))","v":0},{"$f":"(PV(0.03,21,0,-P111))","v":0},0,0,0,0,0,0,0,null,21,{"$f":"(PV(0.07,21,0,-O111))","v":0},{"$f":"(PV(0.07,21,0,-P111))","v":0},0,0,0,0,0,0,0]
[null,null,null,null,null,null,null,null,null,null,null,null,null,22,{"$f":"'Passenger Calcs'!C26","v":0},{"$f":"'Passenger Calcs'!E26","v":0},{"$f":"'Passenger Calcs'!G26","v":0},{"$f":"'Passenger Calcs'!I26","v":0},{"$f":"'Passenger Calcs'!C56","v":0},{"$f":"'Passenger Calcs'!E56","v":0},{"$f":"'Passenger Calcs'!G56","v":0},{"$f":"'Passenger Calcs'!I56","v":0},0,null,22,{"$f":"(PV(0.03,22,0,-O112))","v":0},{"$f":"(PV(0.03,22,0,-P112))","v":0},0,0,0,0,0,0,0,null,22,{"$f":"(PV(0.07,22,0,-O112))","v":0},{"$f":"(PV(0.07,22,0,-P112))","v":0},0,0,0,0,0,0,0]
[null,null,null,null,null,null,null,null,null,null,null,null,null,23,{"$f":"'Passenger Calcs'!C27","v":0},{"$f":"'Passenger Calcs'!E27","v":0},{"$f":"'Passenger Calcs'!G27","v":0},{"$f":"'Passenger Calcs'!I27","v":0},{"$f":"'Passenger Calcs'!C57","v":0},{"$f":"'Passenger Calcs'!E57","v":0},{"$f":"'Passenger Calcs'!G57","v":0},{"$f":"'Passenger Calcs'!I57","v":0},0,null,23,{"$f":"(PV(0.03,23,0,-O113))","v":0},{"$f":"(PV(0.03,23,0,-P113))","v":0},0,0,0,0,0,0,0,null,23,{"$f":"(PV(0.07,23,0,-O113))","v":0},{"$f":"(PV(0.07,23,0,-P113))","v":0},0,0,0,0,0,0,0]
[null,null,null,null,null,null,null,null,null,null,null,null,null,24,{"$f":"'Passenger Calcs'!C28","v":0},{"$f":"'Passenger Calcs'!E28","v":0},{"$f":"'Passenger Calcs'!G28","v":0},{"$f":"'Passenger Calcs'!I28","v":0},{"$f":"'Passenger Calcs'!C58","v":0},{"$f":"'Passenger Calcs'!E58","v":0},{"$f":"'Passenger Calcs'!G58","v":0},{"$f":"'Passenger Calcs'!I58","v":0},0,null,24,{"$f":"(PV(0.03,24,0,-O114))","v":0},{"$f":"(PV(0.03,24,0,-P114))","v":0},0,0,0,0,0,0,0,null,24,{"$f":"(PV(0.07,24,0,-O114))","v":0},{"$f":"(PV(0.07,24,0,-P114))","v":0},0,0,0,0,0,0,0]
[]
[]
[]
[]
[]
[]
[]
[]
[]
[]
[]
[]
[]
[]
[]
[]
[]
[]
[]
[]
[]
[]
[]
[]
[]
[]
[]
[]
[null,null,null,null,null,null,null,null,null,null,null,null,null,null,null,null,null,null,null,null,null,null,null,{"$f":"IFERROR((SUMIF(S113:V113,\">0\")+SUMIF(O113:R113,\">0\")),\"\")","v":0}]
[null,null,null,null,null,null,null,null,null,null,null,null,null,null,null,null,null,null,null,null,null,null,null,{"$f":"IFERROR((SUMIF(S114:V114,\">0\")+SUMIF(O114:R114,\">0\")),\"\")","v":0}]

{"sheet":"Detailed Location","index":3,"n_rows":697,"n_cols":11,"rows_kept":697,"cut":false,"hidden":false,"merged":[]}
[null,null,null,"Urban (Mi)","Rural (Mi)","Total (Mi)","Urban Selected (Mi)","Rural Selected (Mi)","Total Selected (Mi)",null,"Return to Project Information Page"]
[{"$f":"IF(COUNTIF('Project Information'!$G$13,\"*1*\"),\"x\",\"\")","v":""}]
[{"$f":"IF(COUNTIF('Project Information'!$G$13,\"*1*\"),\"x\",\"\")","v":""},"ALBEMARLE ","I-64",3.1100000000000003,26.429999999999996,{"$f":"SUM(D3:E3)","v":29.539999999999996},{"$f":"IF(A3=\"x\",D3,0)","v":0},{"$f":"IF(A3=\"x\",E3,0)","v":0},{"$f":"IF(A3=\"x\",F3,0)","v":0}]
[{"$f":"IF(COUNTIF('Project Information'!$G$13,\"*1*\"),\"x\",\"\")","v":""},"ALLEGHANY ","I-64",null,37.5,37.5,{"$f":"IF(A4=\"x\",D4,0)","v":0},{"$f":"IF(A4=\"x\",E4,0)","v":0},{"$f":"IF(A4=\"x\",F4,0)","v":0}]
[{"$f":"IF(COUNTIF('Project Information'!$G$13,\"*1*\"),\"x\",\"\")","v":""},"AUGUSTA ","I-64",null,26.09,26.09,0,0,0]
[{"$f":"IF(COUNTIF('Project Information'!$G$13,\"*1*\"),\"x\",\"\")","v":""},"CHARLOTTESVILLE ","I-64",0.19,null,0.19,0,0,0]
[{"$f":"IF(COUNTIF('Project Information'!$G$13,\"*1*\"),\"x\",\"\")","v":""},"CHESAPEAKE ","I-64",11.999999999999998,null,11.999999999999998,0,0,0]
[{"$f":"IF(COUNTIF('Project Information'!$G$13,\"*1*\"),\"x\",\"\")","v":""},"CLIFTON FORGE ","I-64",null,1.54,1.54,0,0,0]
[{"$f":"IF(COUNTIF('Project Information'!$G$13,\"*1*\"),\"x\",\"\")","v":""},"COVINGTON ","I-64",1.41,null,1.41,0,0,0]
[{"$f":"IF(COUNTIF('Project Information'!$G$13,\"*1*\"),\"x\",\"\")","v":""},"FLUVANNA ","I-64",null,1.61,1.61,0,0,0]
[{"$f":"IF(COUNTIF('Project Information'!$G$13,\"*1*\"),\"x\",\"\")","v":""},"GOOCHLAND ","I-64",null,24,24,0,0,0]
[{"$f":"IF(COUNTIF('Project Information'!$G$13,\"*1*\"),\"x\",\"\")","v":""},"HAMPTON ","I-64",12.47,null,12.47,0,0,0]
[{"$f":"IF(COUNTIF('Project Information'!$G$13,\"*1*\"),\"x\",\"\")","v":""},"HENRICO ","I-64",18.97,3.7299999999999995,22.7,0,0,0]
[{"$f":"IF(COUNTIF('Project Information'!$G$13,\"*1*\"),\"x\",\"\")","v":""},"JAMES CITY ","I-64",2.2999999999999998,8.6300000000000008,10.93,0,0,0]
[{"$f":"IF(COUNTIF('Project Information'!$G$13,\"*1*\"),\"x\",\"\")","v":""},"LOUISA ","I-64",null,18.78,18.78,0,0,0]
[{"$f":"IF(COUNTIF('Project Information'!$G$13,\"*1*\"),\"x\",\"\")","v":""},"NELSON ","I-64",null,1.36,1.36,0,0,0]
[{"$f":"IF(COUNTIF('Project Information'!$G$13,\"*1*\"),\"x\",\"\")","v":""},"NEW KENT ","I-64",null,20.16,20.16,0,0,0]
[{"$f":"IF(COUNTIF('Project Information'!$G$13,\"*1*\"),\"x\",\"\")","v":""},"NEWPORT NEWS ","I-64",12.75,null,12.75,0,0,0]
[{"$f":"IF(COUNTIF('Project Information'!$G$13,\"*1*\"),\"x\",\"\")","v":""},"NORFOLK ","I-64",13.399999999999997,null,13.399999999999997,0,0,0]
[{"$f":"IF(COUNTIF('Project Information'!$G$13,\"*1*\"),\"x\",\"\")","v":""},"RICHMOND ","I-64",6,null,6,0,0,0]
[{"$f":"IF(COUNTIF('Project Information'!$G$13,\"*1*\"),\"x\",\"\")","v":""},"ROCKBRIDGE ","I-64",null,30.599999999999998,30.599999999999998,0,0,0]
[{"$f":"IF(COUNTIF('Project Information'!$G$13,\"*1*\"),\"x\",\"\")","v":""},"VIRGINIA BEACH ","I-64",2.9,null,2.9,0,0,0]
[{"$f":"IF(COUNTIF('Project Information'!$G$13,\"*1*\"),\"x\",\"\")","v":""},"WAYNESBORO ","I-64",2.73,null,2.73,0,0,0]
[{"$f":"IF(COUNTIF('Project Information'!$G$13,\"*1*\"),\"x\",\"\")","v":""},"YORK ","I-64",5.9,5.43,11.33,0,0,0]
[null,null,null,null,null,null,{"$f":"SUM(G3:G24)","v":0},{"$f":"SUM(H3:H24)","v":0},{"$f":"SUM(I3:I24)","v":0}]
[{"$f":"IF(COUNTIF('Project Information'!$G$13,\"*2*\"),\"x\",\"\")","v":""},"Reset I-66"]
[{"$f":"IF(COUNTIF('Project Information'!$G$13,\"*2*\"),\"x\",\"\")","v":""},"ARLINGTON ","I-66",6.97,null,{"$f":"SUM(D27:E27)","v":6.97},{"$f":"IF(A27=\"x\",D27,0)","v":0},{"$f":"IF(A27=\"x\",E27,0)","v":0},{"$f":"IF(A27=\"x\",F27,0)","v":0}]
[{"$f":"IF(COUNTIF('Project Information'!$G$13,\"*2*\"),\"x\",\"\")","v":""},"FAIRFAX COUNTY ","I-66",18.300000000000004,null,{"$f":"SUM(D28:E28)","v":18.300000000000004},0,0,0]
[{"$f":"IF(COUNTIF('Project Information'!$G$13,\"*2*\"),\"x\",\"\")","v":""},"FAUQUIER ","I-66",null,21.980000000000004,21.980000000000004,0,0,0]
[{"$f":"IF(COUNTIF('Project Information'!$G$13,\"*2*\"),\"x\",\"\")","v":""},"FREDERICK ","I-66",null,0.09,0.09,0,0,0]
[{"$f":"IF(COUNTIF('Project Information'!$G$13,\"*2*\"),\"x\",\"\")","v":""},"PRINCE WILLIAM ","I-66",null,12.420000000000002,12.420000000000002,0,0,0]
[{"$f":"IF(COUNTIF('Project Information'!$G$13,\"*2*\"),\"x\",\"\")","v":""},"WARREN ","I-66",null,14.48,14.48,0,0,0]
[{"$f":"IF(COUNTIF('Project Information'!$G$13,\"*2*\"),\"x\",\"\")","v":""},"FAIRFAX ","I-66",0.71,null,0.71,0,0,0]
[null,null,null,null,null,null,{"$f":"SUM(G27:G33)","v":0},{"$f":"SUM(H27:H33)","v":0},{"$f":"SUM(I27:I33)","v":0}]
[{"$f":"IF(COUNTIF('Project Information'!$G$13,\"*3*\"),\"x\",\"\")","v":""},"I-81"]
[{"$f":"IF(COUNTIF('Project Information'!$G$13,\"*3*\"),\"x\",\"\")","v":""},"AUGUSTA ","I-81",null,12.73,{"$f":"SUM(D36:E36)","v":12.73},{"$f":"IF(A36=\"x\",D36,0)","v":0},{"$f":"IF(A36=\"x\",E36,0)","v":0},{"$f":"IF(A36=\"x\",F36,0)","v":0}]
[{"$f":"IF(COUNTIF('Project Information'!$G$13,\"*3*\"),\"x\",\"\")","v":""},"BOTETOURT ","I-81",3.12,23.630000000000003,{"$f":"SUM(D37:E37)","v":26.750000000000004},0,0,0]
[{"$f":"IF(COUNTIF('Project Information'!$G$13,\"*3*\"),\"x\",\"\")","v":""},"BRISTOL ","I-81",7.49,null,7.49,0,0,0]
[{"$f":"IF(COUNTIF('Project Information'!$G$13,\"*3*\"),\"x\",\"\")","v":""},"FREDERICK ","I-81",4.0999999999999996,19.669999999999995,23.769999999999996,0,0,0]
[{"$f":"IF(COUNTIF('Project Information'!$G$13,\"*3*\"),\"x\",\"\")","v":""},"HARRISONBURG ","I-81",6.49,null,6.49,0,0,0]
[{"$f":"IF(COUNTIF('Project Information'!$G$13,\"*3*\"),\"x\",\"\")","v":""},"MONTGOMERY ","I-81",4.5299999999999994,20.800000000000004,25.330000000000005,0,0,0]
[{"$f":"IF(COUNTIF('Project Information'!$G$13,\"*3*\"),\"x\",\"\")","v":""},"PULASKI ","I-81",null,17.669999999999998,17.669999999999998,0,0,0]
[{"$f":"IF(COUNTIF('Project Information'!$G$13,\"*3*\"),\"x\",\"\")","v":""},"ROANOKE COUNTY ","I-81",10.110000000000003,3.88,13.990000000000002,0,0,0]
[{"$f":"IF(COUNTIF('Project Information'!$G$13,\"*3*\"),\"x\",\"\")","v":""},"ROCKBRIDGE ","I-81",null,17.559999999999995,17.559999999999995,0,0,0]
[{"$f":"IF(COUNTIF('Project Information'!$G$13,\"*3*\"),\"x\",\"\")","v":""},"ROCKINGHAM ","I-81",null,20.52,20.52,0,0,0]
[{"$f":"IF(COUNTIF('Project Information'!$G$13,\"*3*\"),\"x\",\"\")","v":""},"SALEM ","I-81",2.7,null,2.7,0,0,0]
[{"$f":"IF(COUNTIF('Project Information'!$G$13,\"*3*\"),\"x\",\"\")","v":""},"SHENANDOAH ","I-81",null,35.140000000000008,35.140000000000008,0,0,0]
[{"$f":"IF(COUNTIF('Project Information'!$G$13,\"*3*\"),\"x\",\"\")","v":""},"SMYTH ","I-81",1.62,21.510000000000005,23.130000000000006,0,0,0]
[{"$f":"IF(COUNTIF('Project Information'!$G$13,\"*3*\"),\"x\",\"\")","v":""},"STAUNTON ","I-81",null,2.6,2.6,0,0,0]
[{"$f":"IF(COUNTIF('Project Information'!$G$13,\"*3*\"),\"x\",\"\")","v":""},"WARREN ","I-81",null,1.29,1.29,0,0,0]
[{"$f":"IF(COUNTIF('Project Information'!$G$13,\"*3*\"),\"x\",\"\")","v":""},"WASHINGTON ","I-81",4.7100000000000009,22.059999999999995,26.769999999999996,0,0,0]
[{"$f":"IF(COUNTIF('Project Information'!$G$13,\"*3*\"),\"x\",\"\")","v":""},"WINCHESTER ","I-81",0.12,null,0.12,0,0,0]
[{"$f":"IF(COUNTIF('Project Information'!$G$13,\"*3*\"),\"x\",\"\")","v":""},"WYTHE ","I-81",3.83,17.27,21.1,0,0,0]
[null,null,null,null,null,null,{"$f":"SUM(G36:G53)","v":0},{"$f":"SUM(H36:H53)","v":0},{"$f":"SUM(I36:I53)","v":0}]
[{"$f":"IF(COUNTIF('Project Information'!$G$13,\"*4*\"),\"x\",\"\")","v":""},"Reset I-95"]
[{"$f":"IF(COUNTIF('Project Information'!$G$13,\"*4*\"),\"x\",\"\")","v":""},"ALEXANDRIA ","I-95",2.4500000000000002,null,{"$f":"SUM(D56:E56)","v":2.4500000000000002},{"$f":"IF(A56=\"x\",D56,0)","v":0},{"$f":"IF(A56=\"x\",E56,0)","v":0},{"$f":"IF(A56=\"x\",F56,0)","v":0}]
[{"$f":"IF(COUNTIF('Project Information'!$G$13,\"*4*\"),\"x\",\"\")","v":""},"CAROLINE ","I-95",null,15.65,{"$f":"SUM(D57:E57)","v":15.65},0,0,0]
[{"$f":"IF(COUNTIF('Project Information'!$G$13,\"*4*\"),\"x\",\"\")","v":""},"CHESTERFIELD ","I-95",11.9,null,11.9,0,0,0]
[{"$f":"IF(COUNTIF('Project Information'!$G$13,\"*4*\"),\"x\",\"\")","v":""},"COLONIAL HEIGHTS ","I-95",3.52,null,3.52,0,0,0]
[{"$f":"IF(COUNTIF('Project Information'!$G$13,\"*4*\"),\"x\",\"\")","v":""},"EMPORIA ","I-95",2.6500000000000004,null,2.6500000000000004,0,0,0]
[{"$f":"IF(COUNTIF('Project Information'!$G$13,\"*4*\"),\"x\",\"\")","v":""},"FAIRFAX COUNTY ","I-95",14.58,null,14.58,0,0,0]
[{"$f":"IF(COUNTIF('Project Information'!$G$13,\"*4*\"),\"x\",\"\")","v":""},"FREDERICKSBURG ","I-95",3.24,null,3.24,0,0,0]
[{"$f":"IF(COUNTIF('Project Information'!$G$13,\"*4*\"),\"x\",\"\")","v":""},"GREENSVILLE ","I-95",null,14.11,14.11,0,0,0]
[{"$f":"IF(COUNTIF('Project Information'!$G$13,\"*4*\"),\"x\",\"\")","v":""},"HANOVER ","I-95",null,14.709999999999999,14.709999999999999,0,0,0]
[{"$f":"IF(COUNTIF('Project Information'!$G$13,\"*4*\"),\"x\",\"\")","v":""},"HENRICO ","I-95",6.3599999999999994,null,6.3599999999999994,0,0,0]
[{"$f":"IF(COUNTIF('Project Information'!$G$13,\"*4*\"),\"x\",\"\")","v":""},"PETERSBURG ","I-95",5.4499999999999984,null,5.4499999999999984,0,0,0]
[{"$f":"IF(COUNTIF('Project Information'!$G$13,\"*4*\"),\"x\",\"\")","v":""},"PRINCE GEORGE ","I-95",2.1900000000000004,10.639999999999999,12.829999999999998,0,0,0]
[{"$f":"IF(COUNTIF('Project Information'!$G$13,\"*4*\"),\"x\",\"\")","v":""},"PRINCE WILLIAM ","I-95",7.2599999999999989,5.7899999999999991,13.049999999999997,0,0,0]
[{"$f":"IF(COUNTIF('Project Information'!$G$13,\"*4*\"),\"x\",\"\")","v":""},"RICHMOND ","I-95",8.7000000000000011,null,8.7000000000000011,0,0,0]
[{"$f":"IF(COUNTIF('Project Information'!$G$13,\"*4*\"),\"x\",\"\")","v":""},"SPOTSYLVANIA ","I-95",3.12,9.27,12.39,0,0,0]
[{"$f":"IF(COUNTIF('Project Information'!$G$13,\"*4*\"),\"x\",\"\")","v":""},"STAFFORD ","I-95",1.4900000000000002,14.04,15.53,0,0,0]
[{"$f":"IF(COUNTIF('Project Information'!$G$13,\"*4*\"),\"x\",\"\")","v":""},"SUSSEX ","I-95",null,17.579999999999998,17.579999999999998,0,0,0]
[null,null,null,null,null,null,{"$f":"SUM(G56:G72)","v":0},{"$f":"SUM(H56:H72)","v":0},{"$f":"SUM(I56:I72)","v":0}]
[{"$f":"IF(COUNTIF('Project Information'!$G$13,\"*5*\"),\"x\",\"\")","v":""},"Reset US-29"]
[{"$f":"IF(COUNTIF('Project Information'!$G$13,\"*5*\"),\"x\",\"\")","v":""},"ALBEMARLE ","US29",{"$f":"1.55+6.65","v":8.2000000000000011},22.749999999999996,{"$f":"SUM(D75:E75)","v":30.949999999999996},{"$f":"IF(A75=\"x\",D75,0)","v":0},{"$f":"IF(A75=\"x\",E75,0)","v":0},{"$f":"IF(A75=\"x\",F75,0)","v":0}]
[{"$f":"IF(COUNTIF('Project Information'!$G$13,\"*5*\"),\"x\",\"\")","v":""},"AMHERST ","US29",{"$f":"4.25+5.16","v":9.41},14.07,{"$f":"SUM(D76:E76)","v":23.48},0,0,0]
[{"$f":"IF(COUNTIF('Project Information'!$G$13,\"*5*\"),\"x\",\"\")","v":""},"ARLINGTON ","US29",6.0299999999999994,null,6.0299999999999994,0,0,0]
[{"$f":"IF(COUNTIF('Project Information'!$G$13,\"*5*\"),\"x\",\"\")","v":""},"CAMPBELL ","US29",0.16,20.25,20.41,0,0,0]
[{"$f":"IF(COUNTIF('Project Information'!$G$13,\"*5*\"),\"x\",\"\")","v":""},"CHARLOTTESVILLE ","US29",{"$f":"0.99+2.56","v":3.55},null,3.55,0,0,0]
[{"$f":"IF(COUNTIF('Project Information'!$G$13,\"*5*\"),\"x\",\"\")","v":""},"CULPEPER ","US29",0.82,7.4499999999999993,8.27,0,0,0]
[{"$f":"IF(COUNTIF('Project Information'!$G$13,\"*5*\"),\"x\",\"\")","v":""},"DANVILLE ","US29",{"$f":"9.04+15.99","v":25.03},0.09,25.12,0,0,0]
[{"$f":"IF(COUNTIF('Project Information'!$G$13,\"*5*\"),\"x\",\"\")","v":""},"FAIRFAX ","US29",3.3300000000000005,null,3.3300000000000005,0,0,0]
[{"$f":"IF(COUNTIF('Project Information'!$G$13,\"*5*\"),\"x\",\"\")","v":""},"FAIRFAX COUNTY ","US29",14.940000000000001,null,14.940000000000001,0,0,0]
[{"$f":"IF(COUNTIF('Project Information'!$G$13,\"*5*\"),\"x\",\"\")","v":""},"FALLS CHURCH ","US29",0.92999999999999994,null,0.92999999999999994,0,0,0]
[{"$f":"IF(COUNTIF('Project Information'!$G$13,\"*5*\"),\"x\",\"\")","v":""},"GREENE ","US29",null,6.8100000000000005,6.8100000000000005,0,0,0]
[{"$f":"IF(COUNTIF('Project Information'!$G$13,\"*5*\"),\"x\",\"\")","v":""},"LYNCHBURG ","US29",{"$f":"1.67+9.5","v":11.17},null,11.17,0,0,0]
[{"$f":"IF(COUNTIF('Project Information'!$G$13,\"*5*\"),\"x\",\"\")","v":""},"MADISON ","US29",null,{"$f":"16.66+1.36","v":18.02},18.02,0,0,0]
[{"$f":"IF(COUNTIF('Project Information'!$G$13,\"*5*\"),\"x\",\"\")","v":""},"NELSON ","US29",null,22.27,22.27,0,0,0]
[{"$f":"IF(COUNTIF('Project Information'!$G$13,\"*5*\"),\"x\",\"\")","v":""},"PITTSYLVANIA ","US29",4.53,{"$f":"38.53+1.28","v":39.81},44.34,0,0,0]
[{"$f":"IF(COUNTIF('Project Information'!$G$13,\"*5*\"),\"x\",\"\")","v":""},"PRINCE WILLIAM ","US29",null,9.1900000000000013,9.1900000000000013,0,0,0]
[null,null,null,null,null,null,{"$f":"SUM(G75:G90)","v":0},{"$f":"SUM(H75:H90)","v":0},{"$f":"SUM(I75:I90)","v":0}]
[{"$f":"IF(COUNTIF('Project Information'!$G$13,\"*6*\"),\"x\",\"\")","v":""},"Insert US58"]
[{"$f":"IF(COUNTIF('Project Information'!$G$13,\"*6*\"),\"x\",\"\")","v":""},"BRISTOL ","US58",0.38,null,{"$f":"SUM(D93:E93)","v":0.38},{"$f":"IF(A93=\"x\",D93,0)","v":0},{"$f":"IF(A93=\"x\",E93,0)","v":0},{"$f":"IF(A93=\"x\",F93,0)","v":0}]
[{"$f":"IF(COUNTIF('Project Information'!$G$13,\"*6*\"),\"x\",\"\")","v":""},"BRUNSWICK ","US58",null,24.17,{"$f":"SUM(D94:E94)","v":24.17},0,0,0]
[{"$f":"IF(COUNTIF('Project Information'!$G$13,\"*6*\"),\"x\",\"\")","v":""},"CARROLL ","US58",null,26.359999999999996,26.359999999999996,0,0,0]
[{"$f":"IF(COUNTIF('Project Information'!$G$13,\"*6*\"),\"x\",\"\")","v":""},"CHESAPEAKE ","US58",1.71,null,1.71,0,0,0]
[{"$f":"IF(COUNTIF('Project Information'!$G$13,\"*6*\"),\"x\",\"\")","v":""},"DANVILLE ","US58",13.14,null,13.14,0,0,0]
[{"$f":"IF(COUNTIF('Project Information'!$G$13,\"*6*\"),\"x\",\"\")","v":""},"EMPORIA ","US58",3.83,null,3.83,0,0,0]
[{"$f":"IF(COUNTIF('Project Information'!$G$13,\"*6*\"),\"x\",\"\")","v":""},"FLOYD ","US58",null,1.56,1.56,0,0,0]
[{"$f":"IF(COUNTIF('Project Information'!$G$13,\"*6*\"),\"x\",\"\")","v":""},"FRANKLIN ","US58",null,2.5,2.5,0,0,0]
[{"$f":"IF(COUNTIF('Project Information'!$G$13,\"*6*\"),\"x\",\"\")","v":""},"GALAX ","US58",5.0199999999999996,null,5.0199999999999996,0,0,0]
[{"$f":"IF(COUNTIF('Project Information'!$G$13,\"*6*\"),\"x\",\"\")","v":""},"GRAYSON ","US58",null,45.05,45.05,0,0,0]
[{"$f":"IF(COUNTIF('Project Information'!$G$13,\"*6*\"),\"x\",\"\")","v":""},"GREENSVILLE ","US58",null,7.72,7.72,0,0,0]
[{"$f":"IF(COUNTIF('Project Information'!$G$13,\"*6*\"),\"x\",\"\")","v":""},"HALIFAX ","US58",null,31.029999999999998,31.029999999999998,0,0,0]
[{"$f":"IF(COUNTIF('Project Information'!$G$13,\"*6*\"),\"x\",\"\")","v":""},"HENRY ","US58",null,{"$f":"12.78+12.83","v":25.61},25.61,0,0,0]
[{"$f":"IF(COUNTIF('Project Information'!$G$13,\"*6*\"),\"x\",\"\")","v":""},"LEE ","US58",null,72.789999999999978,72.789999999999978,0,0,0]
[{"$f":"IF(COUNTIF('Project Information'!$G$13,\"*6*\"),\"x\",\"\")","v":""},"MARTINSVILLE ","US58",3.16,null,3.16,0,0,0]
[{"$f":"IF(COUNTIF('Project Information'!$G$13,\"*6*\"),\"x\",\"\")","v":""},"MECKLENBURG ","US58",null,33.830000000000005,33.830000000000005,0,0,0]
[{"$f":"IF(COUNTIF('Project Information'!$G$13,\"*6*\"),\"x\",\"\")","v":""},"NORFOLK ","US58",{"$f":"7.79+0.91","v":8.6999999999999993},null,{"$f":"SUM(D109:E109)","v":8.6999999999999993},0,0,0]
[{"$f":"IF(COUNTIF('Project Information'!$G$13,\"*6*\"),\"x\",\"\")","v":""},"NORTON ","US58",0.79,1.1599999999999999,1.95,0,0,0]
[{"$f":"IF(COUNTIF('Project Information'!$G$13,\"*6*\"),\"x\",\"\")","v":""},"PATRICK ","US58",null,32.550000000000004,32.550000000000004,0,0,0]
[{"$f":"IF(COUNTIF('Project Information'!$G$13,\"*6*\"),\"x\",\"\")","v":""},"PITTSYLVANIA ","US58",10.35,5.23,15.58,0,0,0]
[{"$f":"IF(COUNTIF('Project Information'!$G$13,\"*6*\"),\"x\",\"\")","v":""},"PORTSMOUTH ","US58",4.3,null,4.3,0,0,0]
[{"$f":"IF(COUNTIF('Project Information'!$G$13,\"*6*\"),\"x\",\"\")","v":""},"RUSSELL ","US58",null,14.709999999999999,14.709999999999999,0,0,0]
[{"$f":"IF(COUNTIF('Project Information'!$G$13,\"*6*\"),\"x\",\"\")","v":""},"SCOTT ","US58",0.57999999999999996,21.71,22.29,0,0,0]
[{"$f":"IF(COUNTIF('Project Information'!$G$13,\"*6*\"),\"x\",\"\")","v":""},"SOUTHAMPTON ","US58",null,{"$f":"31.63+2.07","v":33.699999999999996},33.699999999999996,0,0,0]
[{"$f":"IF(COUNTIF('Project Information'!$G$13,\"*6*\"),\"x\",\"\")","v":""},"SUFFOLK ","US58",{"$f":"8.09+2.89","v":10.98},13.379999999999997,24.36,0,0,0]
[{"$f":"IF(COUNTIF('Project Information'!$G$13,\"*6*\"),\"x\",\"\")","v":""},"VIRGINIA BEACH ","US58",11.52,null,11.52,0,0,0]
[{"$f":"IF(COUNTIF('Project Information'!$G$13,\"*6*\"),\"x\",\"\")","v":""},"WASHINGTON ","US58",0.75,32.769999999999996,33.519999999999996,0,0,0]
[{"$f":"IF(COUNTIF('Project Information'!$G$13,\"*6*\"),\"x\",\"\")","v":""},"WISE ","US58",null,{"$f":"19.25+3.59","v":22.84},22.84,0,0,0]
[null,null,null,null,null,null,{"$f":"SUM(G93:G120)","v":0},{"$f":"SUM(H93:H120)","v":0},{"$f":"SUM(I93:I120)","v":0}]
[{"$f":"IF(COUNTIF('Project Information'!$G$13,\"*7*\"),\"x\",\"\")","v":""},"Reset US460"]
[{"$f":"IF(COUNTIF('Project Information'!$G$13,\"*7*\"),\"x\",\"\")","v":""},"APPOMATTOX ","US460",null,19.290000000000003,{"$f":"SUM(D123:E123)","v":19.290000000000003},{"$f":"IF(A123=\"x\",D123,0)","v":0},{"$f":"IF(A123=\"x\",E123,0)","v":0},{"$f":"IF(A123=\"x\",F123,0)","v":0}]
[{"$f":"IF(COUNTIF('Project Information'!$G$13,\"*7*\"),\"x\",\"\")","v":""},"BEDFORD ","US460",{"$f":"2.48+1.43","v":3.91},null,3.91,0,0,0]
[{"$f":"IF(COUNTIF('Project Information'!$G$13,\"*7*\"),\"x\",\"\")","v":""},"BEDFORD COUNTY ","US460",0.24,12.5,12.74,0,0,0]
[{"$f":"IF(COUNTIF('Project Information'!$G$13,\"*7*\"),\"x\",\"\")","v":""},"BUCHANAN ","US460",null,34.200000000000003,34.200000000000003,0,0,0]
[{"$f":"IF(COUNTIF('Project Information'!$G$13,\"*7*\"),\"x\",\"\")","v":""},"CAMPBELL ","US460",{"$f":"5.1+6.42","v":11.52},5.8199999999999994,17.34,0,0,0]
[{"$f":"IF(COUNTIF('Project Information'!$G$13,\"*7*\"),\"x\",\"\")","v":""},"DINWIDDIE ","US460",4.25,19.86,24.11,0,0,0]
[{"$f":"IF(COUNTIF('Project Information'!$G$13,\"*7*\"),\"x\",\"\")","v":""},"GILES ","US460",null,{"$f":"23.76+0.075","v":23.835000000000001},23.835000000000001,0,0,0]
[{"$f":"IF(COUNTIF('Project Information'!$G$13,\"*7*\"),\"x\",\"\")","v":""},"ISLE OF WIGHT ","US460",null,9.620000000000001,9.620000000000001,0,0,0]
[{"$f":"IF(COUNTIF('Project Information'!$G$13,\"*7*\"),\"x\",\"\")","v":""},"LYNCHBURG ","US460",{"$f":"6.22+5.59","v":11.809999999999999},null,11.809999999999999,0,0,0]
[{"$f":"IF(COUNTIF('Project Information'!$G$13,\"*7*\"),\"x\",\"\")","v":""},"MONTGOMERY ","US460",17.260000000000002,7.1099999999999994,24.37,0,0,0]
[{"$f":"IF(COUNTIF('Project Information'!$G$13,\"*7*\"),\"x\",\"\")","v":""},"NORFOLK ","US460",9.01,null,9.01,0,0,0]
[{"$f":"IF(COUNTIF('Project Information'!$G$13,\"*7*\"),\"x\",\"\")","v":""},"NOTTOWAY ","US460",null,{"$f":"21.29+3.71","v":25},25,0,0,0]
[{"$f":"IF(COUNTIF('Project Information'!$G$13,\"*7*\"),\"x\",\"\")","v":""},"PETERSBURG ","US460",7.3500000000000005,null,7.3500000000000005,0,0,0]
[{"$f":"IF(COUNTIF('Project Information'!$G$13,\"*7*\"),\"x\",\"\")","v":""},"PORTSMOUTH ","US460",0.85,null,0.85,0,0,0]
[{"$f":"IF(COUNTIF('Project Information'!$G$13,\"*7*\"),\"x\",\"\")","v":""},"PRINCE EDWARD ","US460",null,24.119999999999997,24.119999999999997,0,0,0]
[{"$f":"IF(COUNTIF('Project Information'!$G$13,\"*7*\"),\"x\",\"\")","v":""},"PRINCE GEORGE ","US460",1.1099999999999999,9.3699999999999992,10.479999999999999,0,0,0]
[{"$f":"IF(COUNTIF('Project Information'!$G$13,\"*7*\"),\"x\",\"\")","v":""},"ROANOKE ","US460",5.3900000000000015,null,5.3900000000000015,0,0,0]
[{"$f":"IF(COUNTIF('Project Information'!$G$13,\"*7*\"),\"x\",\"\")","v":""},"SALEM ","US460",1.56,null,1.56,0,0,0]
[{"$f":"IF(COUNTIF('Project Information'!$G$13,\"*7*\"),\"x\",\"\")","v":""},"SOUTHAMPTON ","US460",null,8.3800000000000008,8.3800000000000008,0,0,0]
[{"$f":"IF(COUNTIF('Project Information'!$G$13,\"*7*\"),\"x\",\"\")","v":""},"SUFFOLK ","US460",0.2,{"$f":"5.15+1.52","v":6.67},6.87,0,0,0]
[{"$f":"IF(COUNTIF('Project Information'!$G$13,\"*7*\"),\"x\",\"\")","v":""},"SURRY ","US460",null,0.14000000000000001,0.14000000000000001,0,0,0]
[{"$f":"IF(COUNTIF('Project Information'!$G$13,\"*7*\"),\"x\",\"\")","v":""},"SUSSEX ","US460",null,16.7,16.7,0,0,0]
[{"$f":"IF(COUNTIF('Project Information'!$G$13,\"*7*\"),\"x\",\"\")","v":""},"TAZEWELL ","US460",3.54,14.190000000000001,17.73,0,0,0]
[null,null,null,null,null,null,{"$f":"SUM(G123:G145)","v":0},{"$f":"SUM(H123:H145)","v":0},{"$f":"SUM(I123:I145)","v":0}]
[]
[null,"Subtotal of Selected Counties",null,null,null,null,{"$f":"G146+G121+G91+G73+G54+G34+G25","v":0},{"$f":"H146+H121+H91+H73+H54+H34+H25","v":0},{"$f":"I146+I121+I91+I73+I54+I34+I25","v":0}]
[null,null,null,null,null,null,{"$f":"G148/I148","v":{"$error":"#DIV/0!"}},{"$f":"H148/I148","v":{"$error":"#DIV/0!"}}]
[null,null,null,null,null,null,"Urban","Rural"]
[]
[]
[]
[null,"Location Summary, Based on Selected Highways",null,"Urban Selected (Mi)","Rural Selected (Mi)","Total Selected (Mi)"]
[null,"ALBEMARLE ","I-64, US29",{"$f":"G3+G75","v":0},{"$f":"H3+H75","v":0},{"$f":"I3+I75","v":0},{"$f":"F155/$F$251","v":{"$error":"#DIV/0!"}}]
[null,"ALEXANDRIA ","I-95",{"$f":"G56","v":0},{"$f":"H56","v":0},{"$f":"I56","v":0},{"$f":"F156/$F$251","v":{"$error":"#DIV/0!"}}]
[null,"ALLEGHANY ","I-64",{"$f":"G4","v":0},{"$f":"H4","v":0},{"$f":"I4","v":0},{"$error":"#DIV/0!"}]
[null,"AMHERST ","US29",{"$f":"G76","v":0},{"$f":"H76","v":0},{"$f":"I76","v":0},{"$error":"#DIV/0!"}]
[null,"APPOMATTOX ","US460",{"$f":"G123","v":0},{"$f":"H123","v":0},{"$f":"I123","v":0},{"$error":"#DIV/0!"}]
[null,"ARLINGTON ","I-66, US29",{"$f":"G27+G77","v":0},{"$f":"H27+H77","v":0},{"$f":"I27+I77","v":0},{"$error":"#DIV/0!"}]
[null,"AUGUSTA ","I-64, I-81",{"$f":"G5+G36","v":0},{"$f":"H5+H36","v":0},{"$f":"I5+I36","v":0},{"$error":"#DIV/0!"}]
[null,"BEDFORD ","US460",{"$f":"G124","v":0},0,0,{"$error":"#DIV/0!"}]
[null,"BEDFORD COUNTY ","US460",0,0,0,{"$error":"#DIV/0!"}]
[null,"BOTETOURT ","I-81",{"$f":"G37","v":0},{"$f":"H37","v":0},{"$f":"I37","v":0},{"$error":"#DIV/0!"}]
[null,"BRISTOL ","I-81, US58",{"$f":"G38+G93","v":0},{"$f":"H38+H93","v":0},{"$f":"I38+I93","v":0},{"$error":"#DIV/0!"}]
[null,"BRUNSWICK ","US58",{"$f":"G94","v":0},{"$f":"H94","v":0},{"$f":"I94","v":0},{"$error":"#DIV/0!"}]
[null,"BUCHANAN ","US460",{"$f":"G126","v":0},{"$f":"H126","v":0},{"$f":"I126","v":0},{"$error":"#DIV/0!"}]
[null,"CAMPBELL ","US29, US460",{"$f":"G78+G127","v":0},{"$f":"H78+H127","v":0},{"$f":"I78+I127","v":0},{"$error":"#DIV/0!"}]
[null,"CAROLINE ","I-95",{"$f":"G57","v":0},{"$f":"H57","v":0},{"$f":"I57","v":0},{"$error":"#DIV/0!"}]
[null,"CARROLL ","US58",{"$f":"G95","v":0},{"$f":"H95","v":0},{"$f":"I95","v":0},{"$error":"#DIV/0!"}]
[null,"CHARLOTTESVILLE ","I-64, US29",{"$f":"G6+G79","v":0},{"$f":"H6+H79","v":0},{"$f":"I6+I79","v":0},{"$error":"#DIV/0!"}]
[null,"CHESAPEAKE ","I-64, US58",{"$f":"G96+G96","v":0},{"$f":"H96+H96","v":0},{"$f":"I96+I96","v":0},{"$error":"#DIV/0!"}]
[null,"CHESTERFIELD ","I-95",{"$f":"G58","v":0},{"$f":"H58","v":0},{"$f":"I58","v":0},{"$error":"#DIV/0!"}]
[null,"CLIFTON FORGE ","I-64",{"$f":"G8","v":0},{"$f":"H8","v":0},{"$f":"I8","v":0},{"$error":"#DIV/0!"}]
[null,"COLONIAL HEIGHTS ","I-95",{"$f":"G59","v":0},{"$f":"H59","v":0},{"$f":"I59","v":0},{"$error":"#DIV/0!"}]
[null,"COVINGTON ","I-64",{"$f":"G9","v":0},{"$f":"H9","v":0},{"$f":"I9","v":0},{"$error":"#DIV/0!"}]
[null,"CULPEPER ","US29",{"$f":"G80","v":0},{"$f":"H80","v":0},{"$f":"I80","v":0},{"$error":"#DIV/0!"}]
[null,"DANVILLE ","US29, US58",{"$f":"G81+G97","v":0},{"$f":"H81+H97","v":0},{"$f":"I81+I97","v":0},{"$error":"#DIV/0!"}]
[null,"DINWIDDIE ","US460",{"$f":"G128","v":0},{"$f":"H128","v":0},{"$f":"I128","v":0},{"$error":"#DIV/0!"}]
[null,"EMPORIA ","I-95, US58",{"$f":"G60+G98","v":0},{"$f":"H60+H98","v":0},{"$f":"I60+I98","v":0},{"$error":"#DIV/0!"}]
[null,"FAIRFAX ","I-66, US29",{"$f":"G33+G82","v":0},{"$f":"H33+H82","v":0},{"$f":"I33+I82","v":0},{"$error":"#DIV/0!"}]
[null,"FAIRFAX COUNTY ","I-66, I-95, US29",{"$f":"G28+G61+G83","v":0},{"$f":"H28+H61+H83","v":0},{"$f":"I28+I61+I83","v":0},{"$error":"#DIV/0!"}]
[null,"FALLS CHURCH ","US29",{"$f":"G84","v":0},{"$f":"H84","v":0},{"$f":"I84","v":0},{"$error":"#DIV/0!"}]
[null,"FAUQUIER ","I-66",{"$f":"G29","v":0},{"$f":"H29","v":0},{"$f":"I29","v":0},{"$error":"#DIV/0!"}]
[null,"FLOYD ","US58",{"$f":"G99","v":0},{"$f":"H99","v":0},{"$f":"I99","v":0},{"$error":"#DIV/0!"}]
[null,"FLUVANNA ","I-64",{"$f":"G10","v":0},{"$f":"H10","v":0},{"$f":"I10","v":0},{"$error":"#DIV/0!"}]
[null,"FRANKLIN ","US58",{"$f":"G100","v":0},{"$f":"H100","v":0},{"$f":"I100","v":0},{"$error":"#DIV/0!"}]
[null,"FREDERICK ","I-66, I-81",{"$f":"G30+G39","v":0},{"$f":"H30+H39","v":0},{"$f":"I30+I39","v":0},{"$error":"#DIV/0!"}]
[null,"FREDERICKSBURG ","I-95",{"$f":"G62","v":0},{"$f":"H62","v":0},{"$f":"I62","v":0},{"$error":"#DIV/0!"}]
[null,"GALAX ","US58",{"$f":"G101","v":0},{"$f":"H101","v":0},{"$f":"I101","v":0},{"$error":"#DIV/0!"}]
[null,"GILES ","US460",{"$f":"G129","v":0},{"$f":"H129","v":0},{"$f":"I129","v":0},{"$error":"#DIV/0!"}]
[null,"GOOCHLAND ","I-64",{"$f":"G11","v":0},{"$f":"H11","v":0},{"$f":"I11","v":0},{"$error":"#DIV/0!"}]
[null,"GRAYSON ","US58",{"$f":"G102","v":0},{"$f":"H102","v":0},{"$f":"I102","v":0},{"$error":"#DIV/0!"}]
[null,"GREENE ","US29",{"$f":"G85","v":0},{"$f":"H85","v":0},{"$f":"I85","v":0},{"$error":"#DIV/0!"}]
[null,"GREENSVILLE ","I-95, US58",{"$f":"G63+G103","v":0},{"$f":"H63+H103","v":0},{"$f":"I63+I103","v":0},{"$error":"#DIV/0!"}]
[null,"HALIFAX ","US58",{"$f":"G104","v":0},{"$f":"H104","v":0},{"$f":"I104","v":0},{"$error":"#DIV/0!"}]
[null,"HAMPTON ","I-64",{"$f":"G12","v":0},{"$f":"H12","v":0},{"$f":"I12","v":0},{"$error":"#DIV/0!"}]
[null,"HANOVER ","I-95",{"$f":"G64","v":0},{"$f":"H64","v":0},{"$f":"I64","v":0},{"$error":"#DIV/0!"}]
[null,"HARRISONBURG ","I-81",{"$f":"G40","v":0},{"$f":"H40","v":0},{"$f":"I40","v":0},{"$error":"#DIV/0!"}]
[null,"HENRICO ","I-64, I-95",{"$f":"G13+G65","v":0},{"$f":"H13+H65","v":0},{"$f":"I13+I65","v":0},{"$error":"#DIV/0!"}]
[null,"HENRY ","US58",{"$f":"G105","v":0},{"$f":"H105","v":0},{"$f":"I105","v":0},{"$error":"#DIV/0!"}]
[null,"ISLE OF WIGHT ","US460",{"$f":"G130","v":0},{"$f":"H130","v":0},{"$f":"I130","v":0},{"$error":"#DIV/0!"}]
[null,"JAMES CITY ","I-64",{"$f":"G14","v":0},{"$f":"H14","v":0},{"$f":"I14","v":0},{"$error":"#DIV/0!"}]
[null,"LEE ","US58",{"$f":"G106","v":0},{"$f":"H106","v":0},{"$f":"I106","v":0},{"$error":"#DIV/0!"}]
[null,"LOUISA ","I-64",{"$f":"G15","v":0},{"$f":"H15","v":0},{"$f":"I15","v":0},{"$error":"#DIV/0!"}]
[null,"LYNCHBURG ","US29, US460",{"$f":"G86+G131","v":0},{"$f":"H86+H131","v":0},{"$f":"I86+I131","v":0},{"$error":"#DIV/0!"}]
[null,"MADISON ","US29",{"$f":"G87","v":0},{"$f":"H87","v":0},{"$f":"I87","v":0},{"$error":"#DIV/0!"}]
[null,"MARTINSVILLE ","US58",{"$f":"G107","v":0},0,0,{"$error":"#DIV/0!"}]
[null,"MECKLENBURG ","US58",0,0,0,{"$error":"#DIV/0!"}]
[null,"MONTGOMERY ","I-81, US460",{"$f":"G41+G132","v":0},{"$f":"H41+H132","v":0},{"$f":"I41+I132","v":0},{"$error":"#DIV/0!"}]
[null,"NELSON ","I-64, US29",{"$f":"G16+G88","v":0},{"$f":"H16+H88","v":0},{"$f":"I16+I88","v":0},{"$error":"#DIV/0!"}]
[null,"NEW KENT ","I-64",{"$f":"G17","v":0},0,0,{"$error":"#DIV/0!"}]
[null,"NEWPORT NEWS ","I-64",0,0,0,{"$error":"#DIV/0!"}]
[null,"NORFOLK ","I-64, US58, US460",{"$f":"G19+G133+G109","v":0},{"$f":"H19+H133+H109","v":0},{"$f":"I19+I133+I109","v":0},{"$error":"#DIV/0!"}]
[null,"NORTON ","US58",{"$f":"G110","v":0},{"$f":"H110","v":0},{"$f":"I110","v":0},{"$error":"#DIV/0!"}]
[null,"NOTTOWAY ","US460",{"$f":"G134","v":0},{"$f":"H134","v":0},{"$f":"I134","v":0},{"$error":"#DIV/0!"}]
[null,"PATRICK ","US58",{"$f":"G111","v":0},{"$f":"H111","v":0},{"$f":"I111","v":0},{"$error":"#DIV/0!"}]
[null,"PETERSBURG ","I-95, US460",{"$f":"G66+G135","v":0},{"$f":"H66+H135","v":0},{"$f":"I66+I135","v":0},{"$error":"#DIV/0!"}]
[null,"PITTSYLVANIA ","US29, US58",{"$f":"G89+G112","v":0},{"$f":"H89+H112","v":0},{"$f":"I89+I112","v":0},{"$error":"#DIV/0!"}]
[null,"PORTSMOUTH ","US58, US460",{"$f":"G136+G113","v":0},{"$f":"H136+H113","v":0},{"$f":"I136+I113","v":0},{"$f":"F220/$F$251","v":{"$error":"#DIV/0!"}}]
[null,"PRINCE EDWARD ","US460",{"$f":"G137","v":0},{"$f":"H137","v":0},{"$f":"I137","v":0},{"$error":"#DIV/0!"}]
[null,"PRINCE GEORGE ","I-95, US460",{"$f":"G67+G138","v":0},{"$f":"H67+H138","v":0},{"$f":"I67+I138","v":0},{"$error":"#DIV/0!"}]
[null,"PRINCE WILLIAM ","I-66, I-95, US29",{"$f":"G31+G68+G90","v":0},{"$f":"H31+H68+H90","v":0},{"$f":"I31+I68+I90","v":0},{"$error":"#DIV/0!"}]
[null,"PULASKI ","I-81",{"$f":"G42","v":0},{"$f":"H42","v":0},{"$f":"I42","v":0},{"$error":"#DIV/0!"}]
[null,"RICHMOND ","I-64, I-95",{"$f":"G20+G69","v":0},{"$f":"H20+H69","v":0},{"$f":"I20+I69","v":0},{"$error":"#DIV/0!"}]
[null,"ROANOKE ","US460",{"$f":"G139","v":0},{"$f":"H139","v":0},{"$f":"I139","v":0},{"$error":"#DIV/0!"}]
[null,"ROANOKE COUNTY ","I-81",{"$f":"G43","v":0},{"$f":"H43","v":0},{"$f":"I43","v":0},{"$error":"#DIV/0!"}]
[null,"ROCKBRIDGE ","I-64, I-81",{"$f":"G21+G44","v":0},{"$f":"H21+H44","v":0},{"$f":"I21+I44","v":0},{"$error":"#DIV/0!"}]
[null,"ROCKINGHAM ","I-81",{"$f":"G45","v":0},{"$f":"H45","v":0},{"$f":"I45","v":0},{"$error":"#DIV/0!"}]
[null,"RUSSELL ","US58",{"$f":"G114","v":0},{"$f":"H114","v":0},{"$f":"I114","v":0},{"$error":"#DIV/0!"}]
[null,"SALEM ","I-81, US460",{"$f":"G46+G140","v":0},{"$f":"H46+H140","v":0},{"$f":"I46+I140","v":0},{"$error":"#DIV/0!"}]
[null,"SCOTT ","US58",{"$f":"G115","v":0},{"$f":"H115","v":0},{"$f":"I115","v":0},{"$error":"#DIV/0!"}]
[null,"SHENANDOAH ","I-81",{"$f":"G47","v":0},0,0,{"$error":"#DIV/0!"}]
[null,"SMYTH ","I-81",0,0,0,{"$error":"#DIV/0!"}]
[null,"SOUTHAMPTON ","US58, US460",{"$f":"G116+G141","v":0},{"$f":"H116+H141","v":0},{"$f":"I116+I141","v":0},{"$error":"#DIV/0!"}]
[null,"SPOTSYLVANIA ","I-95",{"$f":"G70","v":0},0,0,{"$error":"#DIV/0!"}]
[null,"STAFFORD ","I-95",0,0,0,{"$error":"#DIV/0!"}]
[null,"STAUNTON ","I-81",{"$f":"G49","v":0},{"$f":"H49","v":0},{"$f":"I49","v":0},{"$error":"#DIV/0!"}]
[null,"SUFFOLK ","US58, US460",{"$f":"G142+G117","v":0},{"$f":"H142+H117","v":0},{"$f":"I142+I117","v":0},{"$error":"#DIV/0!"}]
[null,"SURRY ","US460",{"$f":"G143","v":0},{"$f":"H143","v":0},{"$f":"I143","v":0},{"$error":"#DIV/0!"}]
[null,"SUSSEX ","I-95, US460",{"$f":"G72+G144","v":0},{"$f":"H72+H144","v":0},{"$f":"I72+I144","v":0},{"$error":"#DIV/0!"}]
[null,"TAZEWELL ","US460",{"$f":"G145","v":0},{"$f":"H145","v":0},{"$f":"I145","v":0},{"$error":"#DIV/0!"}]
[null,"VIRGINIA BEACH ","I-64, US58",{"$f":"G22+G118","v":0},{"$f":"H22+H118","v":0},{"$f":"I22+I118","v":0},{"$error":"#DIV/0!"}]
[null,"WARREN ","I-66, I-81",{"$f":"G32+G50","v":0},{"$f":"H32+H50","v":0},{"$f":"I32+I50","v":0},{"$error":"#DIV/0!"}]
[null,"WASHINGTON ","I-81, US58",{"$f":"G51+G119","v":0},{"$f":"H51+H119","v":0},{"$f":"I51+I119","v":0},{"$error":"#DIV/0!"}]
[null,"WAYNESBORO ","I-64",{"$f":"G23","v":0},{"$f":"H23","v":0},{"$f":"I23","v":0},{"$error":"#DIV/0!"}]
[null,"WINCHESTER ","I-81",{"$f":"G52","v":0},{"$f":"H52","v":0},{"$f":"I52","v":0},{"$error":"#DIV/0!"}]
[null,"WISE ","US58",{"$f":"G120","v":0},{"$f":"H120","v":0},{"$f":"I120","v":0},{"$error":"#DIV/0!"}]
[null,"WYTHE ","I-81",{"$f":"G53","v":0},{"$f":"H53","v":0},{"$f":"I53","v":0},{"$error":"#DIV/0!"}]
[null,"YORK ","I-64",{"$f":"G24","v":0},{"$f":"H24","v":0},{"$f":"I24","v":0},{"$error":"#DIV/0!"}]
[null,null,null,{"$f":"SUM(D155:D250)","v":0},{"$f":"SUM(E155:E250)","v":0},{"$f":"SUM(F155:F250)","v":0}]
[]
[]
[]
[]
[]
[]
[]
[]
[]
[]
[]
[]
[]
[]
[]
[]
[]
[]
[]
[]
[]
[]
[]
[]
[]
[]
[]
[]
[]
[]
[]
[]
[]
[]
[]
[]
[]
[]
[]
[]
[]
[]
[]
[]
[]
[]
[]
[]
[]
[]
[]
[]
[]
[]
[]
[]
[]
[]
[]
[]
[]
[]
[]
[]
[]
[]
[]
[]
[]
[]
[]
[]
[]
[]
[]
[]
[]
[]
[]
[]
[]
[]
[]
[]
[]
[]
[]
[]
[]
[]
[]
[]
[]
[]
[]
[]
[]
[]
[]
[]
[]
[]
[]
[]
[]
[]
[]
[]
[]
[]
[]
[]
[]
[]
[]
[]
[]
[]
[]
[]
[]
[]
[]
[]
[]
[]
[]
[]
[]
[]
[]
[]
[]
[]
[]
[]
[]
[]
[]
[]
[]
[]
[]
[]
[]
[]
[]
[]
[]
[]
[]
[]
[]
[]
[]
[]
[]
[]
[]
[]
[]
[]
[]
[]
[]
[]
[]
[]
[]
[]
[]
[]
[]
[]
[]
[]
[]
[]
[]
[]
[]
[]
[]
[]
[]
[]
[]
[]
[]
[]
[]
[]
[]
[]
[]
[]
[]
[]
[]
[]
[]
[]
[]
[]
[]
[]
[]
[]
[]
[]
[]
[]
[]
[]
[]
[]
[]
[]
[]
[]
[]
[]
[]
[]
[]
[]
[]
[]
[]
[]
[]
[]
[]
[]
[]
[]
[]
[]
[]
[]
[]
[]
[]
[]
[]
[]
[]
[]
[]
[]
[]
[]
[]
[]
[]
[]
[]
[]
[]
[]
[]
[]
[]
[]
[]
[]
[]
[]
[]
[]
[]
[]
[]
[]
[]
[]
[]
[]
[]
[]
[]
[]
[]
[]
[]
[]
[]
[]
[]
[]
[]
[]
[]
[]
[]
[]
[]
[]
[]
[]
[]
[]
[]
[]
[]
[]
[]
[]
[]
[]
[]
[]
[]
[]
[]
[]
[]
[]
[]
[]
[]
[]
[]
[]
[]
[]
[]
[]
[]
[]
[]
[]
[]
[]
[]
[]
[]
[]
[]
[]
[]
[]
[]
[]
[]
[]
[]
[]
[]
[]
[]
[]
[]
[]
[]
[]
[]
[]
[]
[]
[]
[]
[]
[]
[]
[]
[]
[]
[]
[]
[]
[]
[]
[]
[]
[]
[]
[]
[]
[]
[]
[]
[]
[]
[]
[]
[]
[]
[]
[]
[]
[]
[]
[]
[]
[]
[]
[]
[]
[]
[]
[]
[]
[]
[]
[]
[]
[]
[]
[]
[]
[]
[]
[]
[]
[]
[]
[]
[]
[]
[]
[]
[]
[]
[]
[]
[]
[]
[]
[]
[]
[]
[]
[]
[]
[]
[]
[]
[]
[]
[]
[]
[]
[]
[]
[null,null,null,{"$f":"'Detailed Location'!G155+'Detailed Location'!G156+'Detailed Location'!G157+'Detailed Location'!G158+'Detailed Location'!G159+'Detailed Location'!G160+'Detailed Location'!G161+'Detailed Location'!G162+'Detailed Location'!G163+'Detailed Location'!G164+'Detailed Location'!G165+'Detailed Location'!G166+'Detailed Location'!G167+'Detailed Location'!G168+'Detailed Location'!G169+'Detailed Location'!G170+'Detailed Location'!G171+'Detailed Location'!G172+'Detailed Location'!G173+'Detailed Location'!G174+'Detailed Location'!G175+'Detailed Location'!G176+'Detailed Location'!G177+'Detailed Location'!G178+'Detailed Location'!G179+'Detailed Location'!G180+'Detailed Location'!G181+'Detailed Location'!G182+'Detailed Location'!G183+'Detailed Location'!G184+'Detailed Location'!G185+'Detailed Location'!G186+'Detailed Location'!G187+'Detailed Location'!G188+'Detailed Location'!G189+'Detailed Location'!G190+'Detailed Location'!G191+'Detailed Location'!G192+'Detailed Location'!G193+'Detailed Location'!G194+'Detailed Location'!G195+'Detailed Location'!G196+'Detailed Location'!G197+'Detailed Location'!G198+'Detailed Location'!G199+'Detailed Location'!G200+'Detailed Location'!G201+'Detailed Location'!G202+'Detailed Location'!G203+'Detailed Location'!G204+'Detailed Location'!G205+'Detailed Location'!G206+'Detailed Location'!G207+'Detailed Location'!G208+'Detailed Location'!G209+'Detailed Location'!G210+'Detailed Location'!G211+'Detailed Location'!G212+'Detailed Location'!G213+'Detailed Location'!G214+'Detailed Location'!G215+'Detailed Location'!G216+'Detailed Location'!G217+'Detailed Location'!G218+'Detailed Location'!G219+'Detailed Location'!G220+'Detailed Location'!G221+'Detailed Location'!G222+'Detailed Location'!G223+'Detailed Location'!G224+'Detailed Location'!G225+'Detailed Location'!G226+'Detailed Location'!G227+'Detailed Location'!G228+'Detailed Location'!G229","v":{"$error":"#DIV/0!"}}]

{"sheet":"Required Fields","index":4,"n_rows":29,"n_cols":14,"rows_kept":29,"cut":false,"hidden":false,"merged":[[13,0,13,11],[0,0,0,11],[1,0,11,0],[2,13,11,13],[14,0,27,0],[15,13,27,13]]}
["Fields listed are required for specific criterion to be considered.  In addition, Project Timeline information must be entered (Project Information C8-10). "]
["Freight","Field Name","Worksheet","Field/ Column","Congestion Cost","Environmental Improvement - (Shift from trucks to trains) ","Environmental Improvement - (Distance Reduction) ","Shipping Cost Reduction - (Distance Reduction)","Shipping Cost Reduction - (Mode Switch)","Savings in Pavement Maintenance","Reduced Accident Costs",null,null,"<<< Criterion title will turn Green if required information has been entered.  "]
[null,"Associated Highway","Project Information","C12",{"$f":"IF('Project Information'!C21<>0,\"Y\",\"\")","v":""},{"$f":"IF('Project Information'!C21<>0,\"Y\",\"\")","v":""},null,null,null,{"$f":"IF('Project Information'!C21<>0,\"Y\",\"\")","v":""},null,null,null,"Cells requiring information to be entered in order for a criterion to be met will appear yellow.  Those that are green have values entered into the required cell(s).  "]
[null,"Rail tons per railcar","Project Information","C27",null,{"$f":"IF('Project Information'!$C$28<>\"\",\"Y\",\"\")","v":"Y"},{"$f":"IF('Project Information'!$C$28<>\"\",\"Y\",\"\")","v":"Y"},{"$f":"IF('Project Information'!$C$28<>\"\",\"Y\",\"\")","v":"Y"},{"$f":"IF('Project Information'!$C$28<>\"\",\"Y\",\"\")","v":"Y"},null,{"$f":"IF('Project Information'!$C$28<>\"\",\"Y\",\"\")","v":"Y"}]
[null,"Railcars per train","Project Information","C28",null,{"$f":"IF('Project Information'!$C$29<>\"\",\"Y\",\"\")","v":""},null,null,{"$f":"IF('Project Information'!$C$29<>\"\",\"Y\",\"\")","v":""}]
[null,"Freight Rail Route length, after project completion","Project Information","C30",null,{"$f":"IF('Project Information'!$C$31<>\"\",\"Y\",\"\")","v":""},null,null,{"$f":"IF('Project Information'!$C$31<>\"\",\"Y\",\"\")","v":""},null,{"$f":"IF('Project Information'!$C$31<>\"\",\"Y\",\"\")","v":""}]
[null,"Reduced Freight Mileage","Project Information","C31",null,null,{"$f":"IF('Project Information'!$C$32<>\"\",\"Y\",\"\")","v":"Y"},{"$f":"IF('Project Information'!$C$32<>\"\",\"Y\",\"\")","v":"Y"}]
[null,"Number of Rail Crossings Removed","Project Information","C32",null,null,null,null,null,null,{"$f":"IF('Project Information'!$C$33<>\"\",\"Y\",\"\")","v":""}]
[null,"Truck Trip Length, Current (VA)","Project Information","C34",{"$f":"IF('Project Information'!$C$35<>\"\",\"Y\",\"\")","v":""},{"$f":"IF('Project Information'!$C$35<>\"\",\"Y\",\"\")","v":""},null,null,{"$f":"IF('Project Information'!$C$35<>\"\",\"Y\",\"\")","v":""},{"$f":"IF('Project Information'!$C$35<>\"\",\"Y\",\"\")","v":""},{"$f":"IF('Project Information'!$C$35<>\"\",\"Y\",\"\")","v":""}]
[null,"Trucks per railcar","Project Information","C35",{"$f":"IF('Project Information'!$C$36<>\"\",\"Y\",\"\")","v":"Y"},{"$f":"IF('Project Information'!$C$36<>\"\",\"Y\",\"\")","v":"Y"},null,null,{"$f":"IF('Project Information'!$C$36<>\"\",\"Y\",\"\")","v":"Y"},{"$f":"IF('Project Information'!$C$36<>\"\",\"Y\",\"\")","v":"Y"},{"$f":"IF('Project Information'!$C$36<>\"\",\"Y\",\"\")","v":"Y"}]
[null,"Tons per truck load","Project Information","C36",null,null,null,null,null,null,{"$f":"IF('Project Information'!$C$37<>\"\",\"Y\",\"\")","v":"Y"}]
[null,"Railcar demand","Railcar and Passenger Demand","B",{"$f":"IF('Railcar and Passenger Demand'!$B$29>0,\"Y\",\"\")","v":""},{"$f":"IF('Railcar and Passenger Demand'!$B$29>0,\"Y\",\"\")","v":""},{"$f":"IF('Railcar and Passenger Demand'!$B$29>0,\"Y\",\"\")","v":""},{"$f":"IF('Railcar and Passenger Demand'!$B$29>0,\"Y\",\"\")","v":""},{"$f":"IF('Railcar and Passenger Demand'!$B$29>0,\"Y\",\"\")","v":""},{"$f":"IF('Railcar and Passenger Demand'!$B$29>0,\"Y\",\"\")","v":""},{"$f":"IF('Railcar and Passenger Demand'!$B$29>0,\"Y\",\"\")","v":""}]
[null,null,null,null,{"$f":"COUNTIF(E3:E12,\"Y\")","v":1},2,2,2,2,1,{"$f":"COUNTIF(K3:K7,\"Y\")+COUNTIF(K9:K12,\"Y\")","v":3}]
["Fields listed are required for specific criterion to be considered.  In addition, Project Timeline information must be entered (Project Information C8-10). "]
["Passenger","Field Name","Worksheet","Field/ Column","Congestion Cost","Reduced Accident Costs","Reduced Passenger Transportation Cost","Travel Time Savings","Environmental Improvement - (Shift from cars to trains) ","Environmental Improvement - (Distance Reduction) ","Wider Economic Benefits","Savings in Pavement Maintenance",null,"<<< Criterion title will turn Green if required information has been entered.  Wider Economic Benefits will turn light green if one or two of the criteria are met, dark green if all three are met.  "]
[null,"Associated Highway","Project Information","C12",{"$f":"IF('Project Information'!$C$21<>0,\"Y\",\"\")","v":""},{"$f":"IF('Project Information'!$C$21<>0,\"Y\",\"\")","v":""},null,null,null,null,null,{"$f":"IF('Project Information'!$C$21<>0,\"Y\",\"\")","v":""},null,"Cells requiring information to be entered in order for a criterion to be met will appear yellow.  Those that are green have values entered into the required cell(s).  "]
[null,"Rail crossings removed","Project Information","C32",null,{"$f":"IF('Project Information'!$C$33<>\"\",\"Y\",\"\")","v":""}]
[null,"Passengers per year","Project Information","C39 or D39",null,null,null,{"$f":"IF(OR('Project Information'!$C$40<>\"\",'Project Information'!$D$40<>\"\"),\"Y\",\"\")","v":""}]
[null,"Passenger trains per year","Project Information","C41 or D41",null,null,null,null,null,{"$f":"IF(OR('Project Information'!$C$42<>\"\",'Project Information'!$D$42<>\"\"),\"Y\",\"\")","v":""}]
[null,"Passenger trip length","Project Information","C43 or D43",null,null,{"$f":"IF(OR('Project Information'!$C$44<>\"\",'Project Information'!$D$44<>\"\"),\"Y\",\"\")","v":""},null,{"$f":"IF(OR('Project Information'!$C$44<>\"\",'Project Information'!$D$44<>\"\"),\"Y\",\"\")","v":""}]
[null,"Reduced passenger mileage","Project Information","C44 or D44",null,null,null,null,null,{"$f":"IF(OR('Project Information'!$C$45<>\"\",'Project Information'!$D$45<>\"\"),\"Y\",\"\")","v":"Y"}]
[null,"Reduction in travel time","Project Information","C47 or D47",null,null,null,{"$f":"IF(OR('Project Information'!$C$48<>\"\",'Project Information'!$D$48<>\"\"),\"Y\",\"\")","v":"Y"}]
[null,"Passenger travel purpose","Project Information","C55",null,null,null,{"$f":"IF(OR('Project Information'!$C$56<>\"\",'Project Information'!$D$56<>\"\"),\"Y\",\"\")","v":"Y"}]
[null,"Automobile Trip Length","Project Information","C57 or D57",{"$f":"IF(OR('Project Information'!$C$58<>\"\",'Project Information'!$D$58<>\"\"),\"Y\",\"\")","v":""},{"$f":"IF(OR('Project Information'!$C$58<>\"\",'Project Information'!$D$58<>\"\"),\"Y\",\"\")","v":""},{"$f":"IF(OR('Project Information'!$C$58<>\"\",'Project Information'!$D$58<>\"\"),\"Y\",\"\")","v":""},null,{"$f":"IF(OR('Project Information'!$C$58<>\"\",'Project Information'!$D$58<>\"\"),\"Y\",\"\")","v":""},null,null,{"$f":"IF(OR('Project Information'!$C$58<>\"\",'Project Information'!$D$58<>\"\"),\"Y\",\"\")","v":""}]
[null,"Projected Number of Riders after Project, Amtrak","Railcar and Passenger Demand","F or H",{"$f":"IF(OR(SUM('Railcar and Passenger Demand'!$F$3:$F$27)>0,SUM('Railcar and Passenger Demand'!$H$3:$H$27)>0),\"Y\",\"\")","v":""},{"$f":"IF(OR(SUM('Railcar and Passenger Demand'!$F$3:$F$27)>0,SUM('Railcar and Passenger Demand'!$H$3:$H$27)>0),\"Y\",\"\")","v":""},{"$f":"IF(OR(SUM('Railcar and Passenger Demand'!$F$3:$F$27)>0,SUM('Railcar and Passenger Demand'!$H$3:$H$27)>0),\"Y\",\"\")","v":""},{"$f":"IF(OR(SUM('Railcar and Passenger Demand'!$F$3:$F$27)>0,SUM('Railcar and Passenger Demand'!$H$3:$H$27)>0),\"Y\",\"\")","v":""},{"$f":"IF(OR(SUM('Railcar and Passenger Demand'!$F$3:$F$27)>0,SUM('Railcar and Passenger Demand'!$H$3:$H$27)>0),\"Y\",\"\")","v":""},{"$f":"IF(OR(SUM('Railcar and Passenger Demand'!$F$3:$F$27)>0,SUM('Railcar and Passenger Demand'!$H$3:$H$27)>0),\"Y\",\"\")","v":""},null,{"$f":"IF(OR(SUM('Railcar and Passenger Demand'!$F$3:$F$27)>0,SUM('Railcar and Passenger Demand'!$H$3:$H$27)>0),\"Y\",\"\")","v":""}]
[null,"Reduced accident costs","Criterion",null,null,null,null,null,null,null,{"$f":"IF(F29=4,\"Y\",\"\")","v":""}]
[null,"Reduced passenger transportation cost","Criterion",null,null,null,null,null,null,null,{"$f":"IF(G29=3,\"Y\",\"\")","v":""}]
[null,"Time travel savings","Criterion",null,null,null,null,null,null,null,{"$f":"IF(H29=4,\"Y\",\"\")","v":""}]
[null,null,null,null,{"$f":"COUNTIF(E16:E28,\"Y\")","v":0},0,0,2,0,1,0,0]

{"sheet":"Summary","index":5,"n_rows":30,"n_cols":6,"rows_kept":30,"cut":false,"hidden":false,"merged":[[0,5,1,5],[1,2,1,3],[4,0,10,0],[13,0,20,0],[22,0,24,0],[0,2,0,3],[0,4,1,4]]}
[null,"Project Name",{"$f":"'Project Information'!C1","v":"Freight Test"},null,"Project Description and Notes",{"$f":"'Project Information'!F1","v":"Example for Freight"}]
[null,"Organization ",{"$f":"'Project Information'!C2","v":"DRPT"}]
[]
[null,null,"Total ","NPV 3%","NPV 7%"]
["Freight Benefits","Congestion Cost",{"$f":"IFERROR(SUMIF('Freight Calcs'!C4:C28,\">0\"),\"\")","v":0},{"$f":"SUM('Project Cost'!Z61:Z85)","v":0},{"$f":"SUM('Project Cost'!AK61:AK85)","v":0}]
[null,"Environmental Improvement - (Shift from trucks to trains) ",{"$f":"IFERROR(SUMIF('Freight Calcs'!E4:E28,\">0\"),\"\")","v":0},{"$f":"SUM('Project Cost'!AA61:AA85)","v":0},{"$f":"SUM('Project Cost'!AL61:AL85)","v":0}]
[null,"Environmental Improvement - (Distance Reduction) ",{"$f":"IFERROR(SUMIF('Freight Calcs'!G4:G28,\">0\"),\"\")","v":0},{"$f":"SUM('Project Cost'!AB61:AB85)","v":{"$error":"#N/A"}},{"$f":"SUM('Project Cost'!AM61:AM85)","v":{"$error":"#N/A"}}]
[null,"Shipping Cost Reduction - (Distance Reduction)",{"$f":"IFERROR(SUMIF('Freight Calcs'!I4:I28,\">0\"),\"\")","v":0},{"$f":"SUM('Project Cost'!AC61:AC85)","v":{"$error":"#N/A"}},{"$f":"SUM('Project Cost'!AN61:AN85)","v":{"$error":"#N/A"}}]
[null,"Shipping Cost Reduction - (Mode Switch)",{"$f":"IFERROR(SUMIF('Freight Calcs'!C34:C58,\">0\"),\"\")","v":0},{"$f":"SUM('Project Cost'!AD61:AD85)","v":0},{"$f":"SUM('Project Cost'!AO61:AO85)","v":0}]
[null,"Savings in Pavement Maintenance",{"$f":"IFERROR(SUMIF('Freight Calcs'!E34:E58,\">0\"),\"\")","v":0},{"$f":"SUM('Project Cost'!AE61:AE85)","v":0},{"$f":"SUM('Project Cost'!AP61:AP85)","v":0}]
[null,"Reduced Accident Costs",{"$f":"IFERROR(SUMIF('Freight Calcs'!G34:G58,\">0\"),\"\")","v":0},{"$f":"SUM('Project Cost'!AF61:AF85)","v":0},{"$f":"SUM('Project Cost'!AQ61:AQ85)","v":0}]
[]
[null,null,"Total ","NPV 3%","NPV 7%"]
["Passenger Benefits","Congestion Cost",{"$f":"IFERROR(SUMIF('Passenger Calcs'!$C$4:$C$28,\">0\"),\"\")","v":0},{"$f":"SUM('Project Cost'!Z$90:Z$114)","v":{"$error":"#VALUE!"}},{"$f":"SUM('Project Cost'!$AK$90:$AK$114)","v":{"$error":"#VALUE!"}}]
[null,"Reduced Accident Costs",{"$f":"IFERROR(SUMIF('Passenger Calcs'!$E$4:$E$28,\">0\"),\"\")","v":0},{"$f":"SUM('Project Cost'!AA$90:AA$114)","v":0},{"$f":"SUM('Project Cost'!$AL$90:$AL$114)","v":0}]
[null,"Reduced Passenger Transportation Cost",{"$f":"IFERROR(SUMIF('Passenger Calcs'!$G$4:$G$28,\">0\"),\"\")","v":0},{"$f":"SUM('Project Cost'!AB$90:AB$114)","v":0},{"$f":"SUM('Project Cost'!$AM$90:$AM$114)","v":0}]
[null,"Travel Time Savings",{"$f":"IFERROR(SUMIF('Passenger Calcs'!$I$4:$I$28,\">0\"),\"\")","v":0},{"$f":"SUM('Project Cost'!AC$90:AC$114)","v":{"$error":"#N/A"}},{"$f":"SUM('Project Cost'!$AN$90:$AN$114)","v":{"$error":"#N/A"}}]
[null,"Environmental Improvement - (Shift from trucks to trains) ",{"$f":"IFERROR(SUMIF('Passenger Calcs'!$C$34:$C$58,\">0\"),\"\")","v":0},{"$f":"SUM('Project Cost'!AD$90:AD$114)","v":0},{"$f":"SUM('Project Cost'!$AO$90:$AO$114)","v":0}]
[null,"Environmental Improvement - (Distance Reduction) ",{"$f":"IFERROR(SUMIF('Passenger Calcs'!$E$34:$E$58,\">0\"),\"\")","v":0},{"$f":"SUM('Project Cost'!AE$90:AE$114)","v":{"$error":"#N/A"}},{"$f":"SUM('Project Cost'!$AP$90:$AP$114)","v":{"$error":"#N/A"}}]
[null,"Wider Economic Benefits",{"$f":"IFERROR(SUMIF('Passenger Calcs'!$G$34:$G$58,\">0\"),\"\")","v":0},{"$f":"SUM('Project Cost'!AF$90:AF$114)","v":0},{"$f":"SUM('Project Cost'!$AQ$90:$AQ$114)","v":0}]
[null,"Savings in Pavement Maintenance",{"$f":"IFERROR(SUMIF('Passenger Calcs'!$I$34:$I$58,\">0\"),\"\")","v":0},{"$f":"SUM('Project Cost'!AG$90:AG$114)","v":0},{"$f":"SUM('Project Cost'!$AR$90:$AR$114)","v":0}]
[null,null,"Total ","NPV 3%","NPV 7%"]
["Cost","DRPT",{"$f":"'Project Cost'!N57","v":0},{"$f":"'Project Cost'!O57","v":0},{"$f":"'Project Cost'!P57","v":0}]
[null,"Other",{"$f":"'Project Cost'!D57","v":0},{"$f":"'Project Cost'!R57","v":0},{"$f":"'Project Cost'!S57","v":0}]
[null,"Total",{"$f":"'Project Cost'!B57","v":0},{"$f":"IFERROR(SUM(D23:D24),\"\")","v":0},{"$f":"IFERROR(SUM(E23:E24),\"\")","v":0}]
["Benefit","Benefit",{"$f":"IFERROR('Project Cost'!J57,\"\")","v":""},{"$f":"IFERROR('Project Cost'!K57,\"\")","v":""},{"$f":"IFERROR('Project Cost'!L57,\"\")","v":""}]
[]
[null,null,null,"BC Ratio (NPV 3%)","BC Ratio (NPV 7%)"]
[null,null,"DRPT Funds Only",{"$f":"D26/D23","v":{"$error":"#VALUE!"}},{"$f":"E26/E23","v":{"$error":"#VALUE!"}}]
[null,null,"Total (All Funds)",{"$f":"D26/D25","v":{"$error":"#VALUE!"}},{"$f":"E26/E25","v":{"$error":"#VALUE!"}}]

{"sheet":"Intermediate Freight Calcs","index":6,"n_rows":123,"n_cols":8,"rows_kept":123,"cut":false,"hidden":false,"merged":[[0,1,0,7],[94,1,94,2],[94,3,94,4],[93,1,93,5],[62,1,62,2],[30,1,30,5],[31,1,31,2],[31,3,31,5]]}
[null,"Congestion Cost"]
[null,"Total reduction in truck VMT ","Number of Trucks replaced by Rail","Round Down","Round Up","Min Congest Cost","Max Congestion Cost","Interpolated Truck Congestion Cost"]
[null,"Calculates the mileage that trucks that switch to rail freight service will no longer be driving. These miles are those traveled in Virginia only.   ","Calculates the Number of Trucks replaced by Railcar (annually)","Rounds the number of trucks down to the nearest 10","Rounds the number of trucks up to the nearest 10","Looks up the Congestion Cost based on rounded down truck reduction, highway and year","Looks up the Congestion Cost based on the rounded up  truck reduction, highway and year","Interpolates the Congestion cost per truck mile"]
["Year","(Additional Annual Railcar Demand, by year) * (Trucks per railcar) * (Truck trip length)","(Additional Railcar demand, by year) * (Number of Trucks per Railcar load)"]
[{"$f":"IF('Project Information'!C9>2040, \"No Values Available\",'Project Information'!$C$8)","v":0},{"$f":"IFERROR((IF(A5=\"No Values Available\",\"No Values\",'Railcar and Passenger Demand'!C2*'Project Information'!$C$36*'Project Information'!$C$35)),\"\")","v":0},{"$f":"IFERROR((IF(B5=\"\",\"\",IF(B5=\"No Values\",\"No Values\",'Railcar and Passenger Demand'!C2*'Project Information'!$C$36))),\"\")","v":0},{"$f":"IF(C5=\"\",\"\",IF(C5=\"No Values\",\"No Values\",IF(C5/250>130,130,(ROUNDDOWN(C5/250,-1)))))","v":0},{"$f":"IF(C5=\"\",\"\",IF(C5=\"No Values\",\"No Values\",IF(C5/250>130,130,((ROUNDUP(C5/250,-1))))))","v":0},{"$f":"VLOOKUP(D5,'BCA Values Freight Congestion'!B105:AC118,'Project Information'!$C$8-2012,FALSE)","v":{"$error":"#VALUE!"}},{"$f":"VLOOKUP(E5,'BCA Values Freight Congestion'!$B$105:$AC$118,'Project Information'!$C$8-2012,FALSE)","v":{"$error":"#VALUE!"}},{"$f":"IFERROR(IF(D5=E5,F5,(F5+(G5-F5)*((C5/250-D5)/(E5-D5)))),\"\")","v":""}]
[{"$f":"IFERROR((IF(A5+1>2040,\"No Values Available\",A5+1)),\"No Values Available\")","v":1},{"$f":"IFERROR((IF(A6=\"No Values Available\",\"No Values\",'Railcar and Passenger Demand'!C3*'Project Information'!$C$36*'Project Information'!$C$35)),\"\")","v":""},{"$f":"IFERROR((IF(B6=\"\",\"\",IF(B6=\"No Values\",\"No Values\",'Railcar and Passenger Demand'!C3*'Project Information'!$C$36))),\"\")","v":""},{"$f":"IF(C6=\"\",\"\",IF(C6=\"No Values\",\"No Values\",IF(C6/250>130,130,(ROUNDDOWN(C6/250,-1)))))","v":""},{"$f":"IF(C6=\"\",\"\",IF(C6=\"No Values\",\"No Values\",IF(C6/250>130,130,((ROUNDUP(C6/250,-1))))))","v":""},{"$f":"VLOOKUP(D6,'BCA Values Freight Congestion'!B105:AC118,'Project Information'!$C$8-2011,FALSE)","v":{"$error":"#N/A"}},{"$f":"VLOOKUP(E6,'BCA Values Freight Congestion'!$B$105:$AC$118,'Project Information'!$C$8-2011,FALSE)","v":{"$error":"#N/A"}},{"$f":"IFERROR(IF(D6=E6,F6,(F6+(G6-F6)*((C6/250-D6)/(E6-D6)))),\"\")","v":""}]
[{"$f":"IFERROR((IF(A6+1>2040,\"No Values Available\",A6+1)),\"No Values Available\")","v":2},{"$f":"IFERROR((IF(A7=\"No Values Available\",\"No Values\",'Railcar and Passenger Demand'!C4*'Project Information'!$C$36*'Project Information'!$C$35)),\"\")","v":""},{"$f":"IFERROR((IF(B7=\"\",\"\",IF(B7=\"No Values\",\"No Values\",'Railcar and Passenger Demand'!C4*'Project Information'!$C$36))),\"\")","v":""},"","",{"$f":"VLOOKUP(D7,'BCA Values Freight Congestion'!B105:AC118,'Project Information'!$C$8-2010,FALSE)","v":{"$error":"#N/A"}},{"$f":"VLOOKUP(E7,'BCA Values Freight Congestion'!$B$105:$AC$118,'Project Information'!$C$8-2010,FALSE)","v":{"$error":"#N/A"}},""]
[3,{"$f":"IFERROR((IF(A8=\"No Values Available\",\"No Values\",'Railcar and Passenger Demand'!C5*'Project Information'!$C$36*'Project Information'!$C$35)),\"\")","v":""},{"$f":"IFERROR((IF(B8=\"\",\"\",IF(B8=\"No Values\",\"No Values\",'Railcar and Passenger Demand'!C5*'Project Information'!$C$36))),\"\")","v":""},"","",{"$f":"VLOOKUP(D8,'BCA Values Freight Congestion'!B105:AC118,'Project Information'!$C$8-2009,FALSE)","v":{"$error":"#N/A"}},{"$f":"VLOOKUP(E8,'BCA Values Freight Congestion'!$B$105:$AC$118,'Project Information'!$C$8-2009,FALSE)","v":{"$error":"#N/A"}},""]
[4,{"$f":"IFERROR((IF(A9=\"No Values Available\",\"No Values\",'Railcar and Passenger Demand'!C6*'Project Information'!$C$36*'Project Information'!$C$35)),\"\")","v":""},{"$f":"IFERROR((IF(B9=\"\",\"\",IF(B9=\"No Values\",\"No Values\",'Railcar and Passenger Demand'!C6*'Project Information'!$C$36))),\"\")","v":""},"","",{"$f":"VLOOKUP(D9,'BCA Values Freight Congestion'!B105:AC118,'Project Information'!$C$8-2008,FALSE)","v":{"$error":"#N/A"}},{"$f":"VLOOKUP(E9,'BCA Values Freight Congestion'!$B$105:$AC$118,'Project Information'!$C$8-2008,FALSE)","v":{"$error":"#N/A"}},""]
[5,{"$f":"IFERROR((IF(A10=\"No Values Available\",\"No Values\",'Railcar and Passenger Demand'!C7*'Project Information'!$C$36*'Project Information'!$C$35)),\"\")","v":""},{"$f":"IFERROR((IF(B10=\"\",\"\",IF(B10=\"No Values\",\"No Values\",'Railcar and Passenger Demand'!C7*'Project Information'!$C$36))),\"\")","v":""},"","",{"$f":"VLOOKUP(D10,'BCA Values Freight Congestion'!B105:AC118,'Project Information'!$C$8-2007,FALSE)","v":{"$error":"#N/A"}},{"$f":"VLOOKUP(E10,'BCA Values Freight Congestion'!$B$105:$AC$118,'Project Information'!$C$8-2007,FALSE)","v":{"$error":"#N/A"}},""]
[6,{"$f":"IFERROR((IF(A11=\"No Values Available\",\"No Values\",'Railcar and Passenger Demand'!C8*'Project Information'!$C$36*'Project Information'!$C$35)),\"\")","v":""},{"$f":"IFERROR((IF(B11=\"\",\"\",IF(B11=\"No Values\",\"No Values\",'Railcar and Passenger Demand'!C8*'Project Information'!$C$36))),\"\")","v":""},"","",{"$f":"VLOOKUP(D11,'BCA Values Freight Congestion'!B105:AC118,'Project Information'!$C$8-2006,FALSE)","v":{"$error":"#N/A"}},{"$f":"VLOOKUP(E11,'BCA Values Freight Congestion'!$B$105:$AC$118,'Project Information'!$C$8-2006,FALSE)","v":{"$error":"#N/A"}},""]
[7,{"$f":"IFERROR((IF(A12=\"No Values Available\",\"No Values\",'Railcar and Passenger Demand'!C9*'Project Information'!$C$36*'Project Information'!$C$35)),\"\")","v":""},{"$f":"IFERROR((IF(B12=\"\",\"\",IF(B12=\"No Values\",\"No Values\",'Railcar and Passenger Demand'!C9*'Project Information'!$C$36))),\"\")","v":""},"","",{"$f":"VLOOKUP(D12,'BCA Values Freight Congestion'!B105:AC118,'Project Information'!$C$8-2005,FALSE)","v":{"$error":"#N/A"}},{"$f":"VLOOKUP(E12,'BCA Values Freight Congestion'!$B$105:$AC$118,'Project Information'!$C$8-2005,FALSE)","v":{"$error":"#N/A"}},""]
[8,{"$f":"IFERROR((IF(A13=\"No Values Available\",\"No Values\",'Railcar and Passenger Demand'!C10*'Project Information'!$C$36*'Project Information'!$C$35)),\"\")","v":""},{"$f":"IFERROR((IF(B13=\"\",\"\",IF(B13=\"No Values\",\"No Values\",'Railcar and Passenger Demand'!C10*'Project Information'!$C$36))),\"\")","v":""},"","",{"$f":"VLOOKUP(D13,'BCA Values Freight Congestion'!B105:AC118,'Project Information'!$C$8-2004,FALSE)","v":{"$error":"#N/A"}},{"$f":"VLOOKUP(E13,'BCA Values Freight Congestion'!$B$105:$AC$118,'Project Information'!$C$8-2004,FALSE)","v":{"$error":"#N/A"}},""]
[9,{"$f":"IFERROR((IF(A14=\"No Values Available\",\"No Values\",'Railcar and Passenger Demand'!C11*'Project Information'!$C$36*'Project Information'!$C$35)),\"\")","v":""},{"$f":"IFERROR((IF(B14=\"\",\"\",IF(B14=\"No Values\",\"No Values\",'Railcar and Passenger Demand'!C11*'Project Information'!$C$36))),\"\")","v":""},"","",{"$f":"VLOOKUP(D14,'BCA Values Freight Congestion'!B105:AC118,'Project Information'!$C$8-2003,FALSE)","v":{"$error":"#N/A"}},{"$f":"VLOOKUP(E14,'BCA Values Freight Congestion'!$B$105:$AC$118,'Project Information'!$C$8-2003,FALSE)","v":{"$error":"#N/A"}},""]
[10,{"$f":"IFERROR((IF(A15=\"No Values Available\",\"No Values\",'Railcar and Passenger Demand'!C12*'Project Information'!$C$36*'Project Information'!$C$35)),\"\")","v":""},{"$f":"IFERROR((IF(B15=\"\",\"\",IF(B15=\"No Values\",\"No Values\",'Railcar and Passenger Demand'!C12*'Project Information'!$C$36))),\"\")","v":""},"","",{"$f":"VLOOKUP(D15,'BCA Values Freight Congestion'!B105:AC118,'Project Information'!$C$8-2002,FALSE)","v":{"$error":"#N/A"}},{"$f":"VLOOKUP(E15,'BCA Values Freight Congestion'!$B$105:$AC$118,'Project Information'!$C$8-2002,FALSE)","v":{"$error":"#N/A"}},""]
[11,{"$f":"IFERROR((IF(A16=\"No Values Available\",\"No Values\",'Railcar and Passenger Demand'!C13*'Project Information'!$C$36*'Project Information'!$C$35)),\"\")","v":""},{"$f":"IFERROR((IF(B16=\"\",\"\",IF(B16=\"No Values\",\"No Values\",'Railcar and Passenger Demand'!C13*'Project Information'!$C$36))),\"\")","v":""},"","",{"$f":"VLOOKUP(D16,'BCA Values Freight Congestion'!B105:AC118,'Project Information'!$C$8-2001,FALSE)","v":{"$error":"#N/A"}},{"$f":"VLOOKUP(E16,'BCA Values Freight Congestion'!$B$105:$AC$118,'Project Information'!$C$8-2001,FALSE)","v":{"$error":"#N/A"}},""]
[12,{"$f":"IFERROR((IF(A17=\"No Values Available\",\"No Values\",'Railcar and Passenger Demand'!C14*'Project Information'!$C$36*'Project Information'!$C$35)),\"\")","v":""},{"$f":"IFERROR((IF(B17=\"\",\"\",IF(B17=\"No Values\",\"No Values\",'Railcar and Passenger Demand'!C14*'Project Information'!$C$36))),\"\")","v":""},"","",{"$f":"VLOOKUP(D17,'BCA Values Freight Congestion'!B105:AC118,'Project Information'!$C$8-2000,FALSE)","v":{"$error":"#N/A"}},{"$f":"VLOOKUP(E17,'BCA Values Freight Congestion'!$B$105:$AC$118,'Project Information'!$C$8-2000,FALSE)","v":{"$error":"#N/A"}},""]
[13,{"$f":"IFERROR((IF(A18=\"No Values Available\",\"No Values\",'Railcar and Passenger Demand'!C15*'Project Information'!$C$36*'Project Information'!$C$35)),\"\")","v":""},{"$f":"IFERROR((IF(B18=\"\",\"\",IF(B18=\"No Values\",\"No Values\",'Railcar and Passenger Demand'!C15*'Project Information'!$C$36))),\"\")","v":""},"","",{"$f":"VLOOKUP(D18,'BCA Values Freight Congestion'!B105:AC118,'Project Information'!$C$8-1999,FALSE)","v":{"$error":"#N/A"}},{"$f":"VLOOKUP(E18,'BCA Values Freight Congestion'!$B$105:$AC$118,'Project Information'!$C$8-1999,FALSE)","v":{"$error":"#N/A"}},""]
[14,{"$f":"IFERROR((IF(A19=\"No Values Available\",\"No Values\",'Railcar and Passenger Demand'!C16*'Project Information'!$C$36*'Project Information'!$C$35)),\"\")","v":""},{"$f":"IFERROR((IF(B19=\"\",\"\",IF(B19=\"No Values\",\"No Values\",'Railcar and Passenger Demand'!C16*'Project Information'!$C$36))),\"\")","v":""},"","",{"$f":"VLOOKUP(D19,'BCA Values Freight Congestion'!B105:AC118,'Project Information'!$C$8-1998,FALSE)","v":{"$error":"#N/A"}},{"$f":"VLOOKUP(E19,'BCA Values Freight Congestion'!$B$105:$AC$118,'Project Information'!$C$8-1998,FALSE)","v":{"$error":"#N/A"}},""]
[15,{"$f":"IFERROR((IF(A20=\"No Values Available\",\"No Values\",'Railcar and Passenger Demand'!C17*'Project Information'!$C$36*'Project Information'!$C$35)),\"\")","v":""},{"$f":"IFERROR((IF(B20=\"\",\"\",IF(B20=\"No Values\",\"No Values\",'Railcar and Passenger Demand'!C17*'Project Information'!$C$36))),\"\")","v":""},"","",{"$f":"VLOOKUP(D20,'BCA Values Freight Congestion'!B105:AC118,'Project Information'!$C$8-1997,FALSE)","v":{"$error":"#N/A"}},{"$f":"VLOOKUP(E20,'BCA Values Freight Congestion'!$B$105:$AC$118,'Project Information'!$C$8-1997,FALSE)","v":{"$error":"#N/A"}},""]
[16,{"$f":"IFERROR((IF(A21=\"No Values Available\",\"No Values\",'Railcar and Passenger Demand'!C18*'Project Information'!$C$36*'Project Information'!$C$35)),\"\")","v":""},{"$f":"IFERROR((IF(B21=\"\",\"\",IF(B21=\"No Values\",\"No Values\",'Railcar and Passenger Demand'!C18*'Project Information'!$C$36))),\"\")","v":""},"","",{"$f":"VLOOKUP(D21,'BCA Values Freight Congestion'!B105:AC118,'Project Information'!$C$8-1996,FALSE)","v":{"$error":"#N/A"}},{"$f":"VLOOKUP(E21,'BCA Values Freight Congestion'!$B$105:$AC$118,'Project Information'!$C$8-1996,FALSE)","v":{"$error":"#N/A"}},""]
[17,{"$f":"IFERROR((IF(A22=\"No Values Available\",\"No Values\",'Railcar and Passenger Demand'!C19*'Project Information'!$C$36*'Project Information'!$C$35)),\"\")","v":""},{"$f":"IFERROR((IF(B22=\"\",\"\",IF(B22=\"No Values\",\"No Values\",'Railcar and Passenger Demand'!C19*'Project Information'!$C$36))),\"\")","v":""},"","",{"$f":"VLOOKUP(D22,'BCA Values Freight Congestion'!B105:AC118,'Project Information'!$C$8-1995,FALSE)","v":{"$error":"#N/A"}},{"$f":"VLOOKUP(E22,'BCA Values Freight Congestion'!$B$105:$AC$118,'Project Information'!$C$8-1995,FALSE)","v":{"$error":"#N/A"}},""]
[18,{"$f":"IFERROR((IF(A23=\"No Values Available\",\"No Values\",'Railcar and Passenger Demand'!C20*'Project Information'!$C$36*'Project Information'!$C$35)),\"\")","v":""},{"$f":"IFERROR((IF(B23=\"\",\"\",IF(B23=\"No Values\",\"No Values\",'Railcar and Passenger Demand'!C20*'Project Information'!$C$36))),\"\")","v":""},"","",{"$f":"VLOOKUP(D23,'BCA Values Freight Congestion'!B105:AC118,'Project Information'!$C$8-1994,FALSE)","v":{"$error":"#N/A"}},{"$f":"VLOOKUP(E23,'BCA Values Freight Congestion'!$B$105:$AC$118,'Project Information'!$C$8-1994,FALSE)","v":{"$error":"#N/A"}},""]
[19,{"$f":"IFERROR((IF(A24=\"No Values Available\",\"No Values\",'Railcar and Passenger Demand'!C21*'Project Information'!$C$36*'Project Information'!$C$35)),\"\")","v":""},{"$f":"IFERROR((IF(B24=\"\",\"\",IF(B24=\"No Values\",\"No Values\",'Railcar and Passenger Demand'!C21*'Project Information'!$C$36))),\"\")","v":""},"","",{"$f":"VLOOKUP(D24,'BCA Values Freight Congestion'!B105:AC118,'Project Information'!$C$8-1993,FALSE)","v":{"$error":"#N/A"}},{"$f":"VLOOKUP(E24,'BCA Values Freight Congestion'!$B$105:$AC$118,'Project Information'!$C$8-1993,FALSE)","v":{"$error":"#N/A"}},""]
[20,{"$f":"IFERROR((IF(A25=\"No Values Available\",\"No Values\",'Railcar and Passenger Demand'!C22*'Project Information'!$C$36*'Project Information'!$C$35)),\"\")","v":""},{"$f":"IFERROR((IF(B25=\"\",\"\",IF(B25=\"No Values\",\"No Values\",'Railcar and Passenger Demand'!C22*'Project Information'!$C$36))),\"\")","v":""},"","",{"$f":"VLOOKUP(D25,'BCA Values Freight Congestion'!B105:AC118,'Project Information'!$C$8-1992,FALSE)","v":{"$error":"#N/A"}},{"$f":"VLOOKUP(E25,'BCA Values Freight Congestion'!$B$105:$AC$118,'Project Information'!$C$8-1992,FALSE)","v":{"$error":"#N/A"}},""]
[21,{"$f":"IFERROR((IF(A26=\"No Values Available\",\"No Values\",'Railcar and Passenger Demand'!C23*'Project Information'!$C$36*'Project Information'!$C$35)),\"\")","v":""},{"$f":"IFERROR((IF(B26=\"\",\"\",IF(B26=\"No Values\",\"No Values\",'Railcar and Passenger Demand'!C23*'Project Information'!$C$36))),\"\")","v":""},"","",{"$f":"VLOOKUP(D26,'BCA Values Freight Congestion'!B105:AC118,'Project Information'!$C$8-1991,FALSE)","v":{"$error":"#N/A"}},{"$f":"VLOOKUP(E26,'BCA Values Freight Congestion'!$B$105:$AC$118,'Project Information'!$C$8-1991,FALSE)","v":{"$error":"#N/A"}},""]
[22,{"$f":"IFERROR((IF(A27=\"No Values Available\",\"No Values\",'Railcar and Passenger Demand'!C24*'Project Information'!$C$36*'Project Information'!$C$35)),\"\")","v":""},{"$f":"IFERROR((IF(B27=\"\",\"\",IF(B27=\"No Values\",\"No Values\",'Railcar and Passenger Demand'!C24*'Project Information'!$C$36))),\"\")","v":""},"","",{"$f":"VLOOKUP(D27,'BCA Values Freight Congestion'!B105:AC118,'Project Information'!$C$8-1990,FALSE)","v":{"$error":"#N/A"}},{"$f":"VLOOKUP(E27,'BCA Values Freight Congestion'!$B$105:$AC$118,'Project Information'!$C$8-1990,FALSE)","v":{"$error":"#N/A"}},""]
[23,{"$f":"IFERROR((IF(A28=\"No Values Available\",\"No Values\",'Railcar and Passenger Demand'!C25*'Project Information'!$C$36*'Project Information'!$C$35)),\"\")","v":""},{"$f":"IFERROR((IF(B28=\"\",\"\",IF(B28=\"No Values\",\"No Values\",'Railcar and Passenger Demand'!C25*'Project Information'!$C$36))),\"\")","v":""},"","",{"$f":"VLOOKUP(D28,'BCA Values Freight Congestion'!B105:AC118,'Project Information'!$C$8-1989,FALSE)","v":{"$error":"#N/A"}},{"$f":"VLOOKUP(E28,'BCA Values Freight Congestion'!$B$105:$AC$118,'Project Information'!$C$8-1989,FALSE)","v":{"$error":"#N/A"}},""]
[{"$f":"IFERROR((IF(A28+1>2040,\"No Values Available\",A28+1)),\"No Values Available\")","v":24},{"$f":"IFERROR((IF(A29=\"No Values Available\",\"No Values\",'Railcar and Passenger Demand'!C26*'Project Information'!$C$36*'Project Information'!$C$35)),\"\")","v":""},{"$f":"IFERROR((IF(B29=\"\",\"\",IF(B29=\"No Values\",\"No Values\",'Railcar and Passenger Demand'!C26*'Project Information'!$C$36))),\"\")","v":""},"","",{"$f":"VLOOKUP(D29,'BCA Values Freight Congestion'!B105:AC118,'Project Information'!$C$8-1988,FALSE)","v":{"$error":"#N/A"}},{"$f":"VLOOKUP(E29,'BCA Values Freight Congestion'!$B$105:$AC$118,'Project Information'!$C$8-1988,FALSE)","v":{"$error":"#N/A"}},""]
[]
[null,"Environmental Improvement"]
[null,"Reduction in Truck Pollution",null,"Addition of Train Pollution due to switch in mode"]
[null,"Air pollution cost per truck VMT","Noise pollution cost per truck VMT","Train ton-miles","Air Pollution cost per train ton-mile","Noise pollution cost per train ton-mile"]
[null,"The air pollution cost for each mile a truck travels. ","The noise pollution cost for each mile a truck travels. ","The number of additional ton-miles of freight service added by year due to the construction of the project.  ","The cost in dollars per each ton-mile of each air pollutant. ","The cost in dollars per each ton-mile of noise pollution. "]
["Year","Emission rate in grams (by year and urban or rural)* Emission cost per gram (for each pollutant) (by year)","Value Lookup (By Year)","(Additional annual intermodal unit demand (by year)) / (Railcars per train) * (Freight mileage in Virginia after project) * (Railcars per train) * (Rail tons per railcar)","Emission rate in grams * Emission cost per gram (for each pollutant) (Each is calculated by year)","Value Lookup (By Year)"]
[{"$f":"A5","v":0},{"$f":"'Project Information'!$D$23*((HLOOKUP('Intermediate Freight Calcs'!A36,'BCA Values Freight'!$D$11:$AC$43,3,FALSE)*HLOOKUP('Intermediate Freight Calcs'!A36,'BCA Values Freight'!$D$11:$AC$43,28,FALSE))+(HLOOKUP('Intermediate Freight Calcs'!A36,'BCA Values Freight'!$D$11:$AC$43,5,FALSE)*HLOOKUP('Intermediate Freight Calcs'!A36,'BCA Values Freight'!$D$11:$AC$43,29,FALSE))+(HLOOKUP('Intermediate Freight Calcs'!A36,'BCA Values Freight'!$D$11:$AC$43,6,FALSE)*HLOOKUP('Intermediate Freight Calcs'!A36,'BCA Values Freight'!$D$11:$AC$43,30,FALSE))+(HLOOKUP('Intermediate Freight Calcs'!A36,'BCA Values Freight'!$D$11:$AC$43,7,FALSE)*HLOOKUP('Intermediate Freight Calcs'!A36,'BCA Values Freight'!$D$11:$AC$43,31,FALSE))+(HLOOKUP('Intermediate Freight Calcs'!A36,'BCA Values Freight'!$D$11:$AC$43,8,FALSE)*HLOOKUP('Intermediate Freight Calcs'!A36,'BCA Values Freight'!$D$11:$AC$43,32,FALSE))+(HLOOKUP('Intermediate Freight Calcs'!A36,'BCA Values Freight'!$D$11:$AC$43,9,FALSE)*HLOOKUP('Intermediate Freight Calcs'!A36,'BCA Values Freight'!$D$11:$AC$43,33,FALSE)))+'Project Information'!$C$23*((HLOOKUP('Intermediate Freight Calcs'!A36,'BCA Values Freight'!$D$11:$AC$43,12,FALSE)*HLOOKUP('Intermediate Freight Calcs'!A36,'BCA Values Freight'!$D$11:$AC$43,28,FALSE))+(HLOOKUP('Intermediate Freight Calcs'!A36,'BCA Values Freight'!$D$11:$AC$43,14,FALSE)*HLOOKUP('Intermediate Freight Calcs'!A36,'BCA Values Freight'!$D$11:$AC$43,29,FALSE))+(HLOOKUP('Intermediate Freight Calcs'!A36,'BCA Values Freight'!$D$11:$AC$43,15,FALSE)*HLOOKUP('Intermediate Freight Calcs'!A36,'BCA Values Freight'!$D$11:$AC$43,30,FALSE))+(HLOOKUP('Intermediate Freight Calcs'!A36,'BCA Values Freight'!$D$11:$AC$43,16,FALSE)*HLOOKUP('Intermediate Freight Calcs'!A36,'BCA Values Freight'!$D$11:$AC$43,31,FALSE))+(HLOOKUP('Intermediate Freight Calcs'!A36,'BCA Values Freight'!$D$11:$AC$43,17,FALSE)*HLOOKUP('Intermediate Freight Calcs'!A36,'BCA Values Freight'!$D$11:$AC$43,32,FALSE))+(HLOOKUP('Intermediate Freight Calcs'!A36,'BCA Values Freight'!$D$11:$AC$43,18,FALSE)*HLOOKUP('Intermediate Freight Calcs'!A36,'BCA Values Freight'!$D$11:$AC$43,33,FALSE)))","v":{"$error":"#VALUE!"}},{"$f":"'Project Information'!$D$23*HLOOKUP(A36,'BCA Values Freight'!$D$11:$AC$49,37,FALSE)+'Project Information'!$C$23*HLOOKUP(A36,'BCA Values Freight'!$D$11:$AC$49,38,FALSE)","v":{"$error":"#VALUE!"}},{"$f":"IFERROR((('Railcar and Passenger Demand'!C2/'Project Information'!$C$29)*'Project Information'!$C$31*'Project Information'!$C$29*'Project Information'!$C$28),\"\")","v":""},{"$f":"HLOOKUP('Intermediate Freight Calcs'!A36,'BCA Values Freight'!$D$11:$AC$43,21,FALSE)*HLOOKUP('Intermediate Freight Calcs'!A36,'BCA Values Freight'!$D$11:$AC$43,28,FALSE)+HLOOKUP('Intermediate Freight Calcs'!A36,'BCA Values Freight'!$D$11:$AC$43,22,FALSE)*HLOOKUP('Intermediate Freight Calcs'!A36,'BCA Values Freight'!$D$11:$AC$43,29,FALSE)+HLOOKUP('Intermediate Freight Calcs'!A36,'BCA Values Freight'!$D$11:$AC$43,23,FALSE)*0.97*HLOOKUP('Intermediate Freight Calcs'!A36,'BCA Values Freight'!$D$11:$AC$43,30,FALSE)+HLOOKUP('Intermediate Freight Calcs'!A36,'BCA Values Freight'!$D$11:$AC$43,23,FALSE)*0.03*HLOOKUP('Intermediate Freight Calcs'!A36,'BCA Values Freight'!$D$11:$AC$43,31,FALSE)+HLOOKUP('Intermediate Freight Calcs'!A36,'BCA Values Freight'!$D$11:$AC$43,24,FALSE)*HLOOKUP('Intermediate Freight Calcs'!A36,'BCA Values Freight'!$D$11:$AC$43,32,FALSE)+HLOOKUP('Intermediate Freight Calcs'!A36,'BCA Values Freight'!$D$11:$AC$43,25,FALSE)*HLOOKUP('Intermediate Freight Calcs'!A36,'BCA Values Freight'!$D$11:$AC$43,33,FALSE)","v":{"$error":"#N/A"}},{"$f":"HLOOKUP(A36,'BCA Values Freight'!$D$11:$AD$49,39,FALSE)","v":{"$error":"#N/A"}}]
[1,{"$f":"'Project Information'!$D$23*((HLOOKUP('Intermediate Freight Calcs'!A37,'BCA Values Freight'!$D$11:$AC$43,3,FALSE)*HLOOKUP('Intermediate Freight Calcs'!A37,'BCA Values Freight'!$D$11:$AC$43,28,FALSE))+(HLOOKUP('Intermediate Freight Calcs'!A37,'BCA Values Freight'!$D$11:$AC$43,5,FALSE)*HLOOKUP('Intermediate Freight Calcs'!A37,'BCA Values Freight'!$D$11:$AC$43,29,FALSE))+(HLOOKUP('Intermediate Freight Calcs'!A37,'BCA Values Freight'!$D$11:$AC$43,6,FALSE)*HLOOKUP('Intermediate Freight Calcs'!A37,'BCA Values Freight'!$D$11:$AC$43,30,FALSE))+(HLOOKUP('Intermediate Freight Calcs'!A37,'BCA Values Freight'!$D$11:$AC$43,7,FALSE)*HLOOKUP('Intermediate Freight Calcs'!A37,'BCA Values Freight'!$D$11:$AC$43,31,FALSE))+(HLOOKUP('Intermediate Freight Calcs'!A37,'BCA Values Freight'!$D$11:$AC$43,8,FALSE)*HLOOKUP('Intermediate Freight Calcs'!A37,'BCA Values Freight'!$D$11:$AC$43,32,FALSE))+(HLOOKUP('Intermediate Freight Calcs'!A37,'BCA Values Freight'!$D$11:$AC$43,9,FALSE)*HLOOKUP('Intermediate Freight Calcs'!A37,'BCA Values Freight'!$D$11:$AC$43,33,FALSE)))+'Project Information'!$C$23*((HLOOKUP('Intermediate Freight Calcs'!A37,'BCA Values Freight'!$D$11:$AC$43,12,FALSE)*HLOOKUP('Intermediate Freight Calcs'!A37,'BCA Values Freight'!$D$11:$AC$43,28,FALSE))+(HLOOKUP('Intermediate Freight Calcs'!A37,'BCA Values Freight'!$D$11:$AC$43,14,FALSE)*HLOOKUP('Intermediate Freight Calcs'!A37,'BCA Values Freight'!$D$11:$AC$43,29,FALSE))+(HLOOKUP('Intermediate Freight Calcs'!A37,'BCA Values Freight'!$D$11:$AC$43,15,FALSE)*HLOOKUP('Intermediate Freight Calcs'!A37,'BCA Values Freight'!$D$11:$AC$43,30,FALSE))+(HLOOKUP('Intermediate Freight Calcs'!A37,'BCA Values Freight'!$D$11:$AC$43,16,FALSE)*HLOOKUP('Intermediate Freight Calcs'!A37,'BCA Values Freight'!$D$11:$AC$43,31,FALSE))+(HLOOKUP('Intermediate Freight Calcs'!A37,'BCA Values Freight'!$D$11:$AC$43,17,FALSE)*HLOOKUP('Intermediate Freight Calcs'!A37,'BCA Values Freight'!$D$11:$AC$43,32,FALSE))+(HLOOKUP('Intermediate Freight Calcs'!A37,'BCA Values Freight'!$D$11:$AC$43,18,FALSE)*HLOOKUP('Intermediate Freight Calcs'!A37,'BCA Values Freight'!$D$11:$AC$43,33,FALSE)))","v":{"$error":"#VALUE!"}},{"$f":"'Project Information'!$D$23*HLOOKUP(A37,'BCA Values Freight'!$D$11:$AC$49,37,FALSE)+'Project Information'!$C$23*HLOOKUP(A37,'BCA Values Freight'!$D$11:$AC$49,38,FALSE)","v":{"$error":"#VALUE!"}},{"$f":"IFERROR((('Railcar and Passenger Demand'!C3/'Project Information'!$C$29)*'Project Information'!$C$31*'Project Information'!$C$29*'Project Information'!$C$28),\"\")","v":""},{"$f":"HLOOKUP('Intermediate Freight Calcs'!A37,'BCA Values Freight'!$D$11:$AC$43,21,FALSE)*HLOOKUP('Intermediate Freight Calcs'!A37,'BCA Values Freight'!$D$11:$AC$43,28,FALSE)+HLOOKUP('Intermediate Freight Calcs'!A37,'BCA Values Freight'!$D$11:$AC$43,22,FALSE)*HLOOKUP('Intermediate Freight Calcs'!A37,'BCA Values Freight'!$D$11:$AC$43,29,FALSE)+HLOOKUP('Intermediate Freight Calcs'!A37,'BCA Values Freight'!$D$11:$AC$43,23,FALSE)*0.97*HLOOKUP('Intermediate Freight Calcs'!A37,'BCA Values Freight'!$D$11:$AC$43,30,FALSE)+HLOOKUP('Intermediate Freight Calcs'!A37,'BCA Values Freight'!$D$11:$AC$43,23,FALSE)*0.03*HLOOKUP('Intermediate Freight Calcs'!A37,'BCA Values Freight'!$D$11:$AC$43,31,FALSE)+HLOOKUP('Intermediate Freight Calcs'!A37,'BCA Values Freight'!$D$11:$AC$43,24,FALSE)*HLOOKUP('Intermediate Freight Calcs'!A37,'BCA Values Freight'!$D$11:$AC$43,32,FALSE)+HLOOKUP('Intermediate Freight Calcs'!A37,'BCA Values Freight'!$D$11:$AC$43,25,FALSE)*HLOOKUP('Intermediate Freight Calcs'!A37,'BCA Values Freight'!$D$11:$AC$43,33,FALSE)","v":{"$error":"#N/A"}},{"$f":"HLOOKUP(A37,'BCA Values Freight'!$D$11:$AD$49,39,FALSE)","v":{"$error":"#N/A"}}]
[2,{"$f":"'Project Information'!$D$23*((HLOOKUP('Intermediate Freight Calcs'!A38,'BCA Values Freight'!$D$11:$AC$43,3,FALSE)*HLOOKUP('Intermediate Freight Calcs'!A38,'BCA Values Freight'!$D$11:$AC$43,28,FALSE))+(HLOOKUP('Intermediate Freight Calcs'!A38,'BCA Values Freight'!$D$11:$AC$43,5,FALSE)*HLOOKUP('Intermediate Freight Calcs'!A38,'BCA Values Freight'!$D$11:$AC$43,29,FALSE))+(HLOOKUP('Intermediate Freight Calcs'!A38,'BCA Values Freight'!$D$11:$AC$43,6,FALSE)*HLOOKUP('Intermediate Freight Calcs'!A38,'BCA Values Freight'!$D$11:$AC$43,30,FALSE))+(HLOOKUP('Intermediate Freight Calcs'!A38,'BCA Values Freight'!$D$11:$AC$43,7,FALSE)*HLOOKUP('Intermediate Freight Calcs'!A38,'BCA Values Freight'!$D$11:$AC$43,31,FALSE))+(HLOOKUP('Intermediate Freight Calcs'!A38,'BCA Values Freight'!$D$11:$AC$43,8,FALSE)*HLOOKUP('Intermediate Freight Calcs'!A38,'BCA Values Freight'!$D$11:$AC$43,32,FALSE))+(HLOOKUP('Intermediate Freight Calcs'!A38,'BCA Values Freight'!$D$11:$AC$43,9,FALSE)*HLOOKUP('Intermediate Freight Calcs'!A38,'BCA Values Freight'!$D$11:$AC$43,33,FALSE)))+'Project Information'!$C$23*((HLOOKUP('Intermediate Freight Calcs'!A38,'BCA Values Freight'!$D$11:$AC$43,12,FALSE)*HLOOKUP('Intermediate Freight Calcs'!A38,'BCA Values Freight'!$D$11:$AC$43,28,FALSE))+(HLOOKUP('Intermediate Freight Calcs'!A38,'BCA Values Freight'!$D$11:$AC$43,14,FALSE)*HLOOKUP('Intermediate Freight Calcs'!A38,'BCA Values Freight'!$D$11:$AC$43,29,FALSE))+(HLOOKUP('Intermediate Freight Calcs'!A38,'BCA Values Freight'!$D$11:$AC$43,15,FALSE)*HLOOKUP('Intermediate Freight Calcs'!A38,'BCA Values Freight'!$D$11:$AC$43,30,FALSE))+(HLOOKUP('Intermediate Freight Calcs'!A38,'BCA Values Freight'!$D$11:$AC$43,16,FALSE)*HLOOKUP('Intermediate Freight Calcs'!A38,'BCA Values Freight'!$D$11:$AC$43,31,FALSE))+(HLOOKUP('Intermediate Freight Calcs'!A38,'BCA Values Freight'!$D$11:$AC$43,17,FALSE)*HLOOKUP('Intermediate Freight Calcs'!A38,'BCA Values Freight'!$D$11:$AC$43,32,FALSE))+(HLOOKUP('Intermediate Freight Calcs'!A38,'BCA Values Freight'!$D$11:$AC$43,18,FALSE)*HLOOKUP('Intermediate Freight Calcs'!A38,'BCA Values Freight'!$D$11:$AC$43,33,FALSE)))","v":{"$error":"#VALUE!"}},{"$f":"'Project Information'!$D$23*HLOOKUP(A38,'BCA Values Freight'!$D$11:$AC$49,37,FALSE)+'Project Information'!$C$23*HLOOKUP(A38,'BCA Values Freight'!$D$11:$AC$49,38,FALSE)","v":{"$error":"#VALUE!"}},{"$f":"IFERROR((('Railcar and Passenger Demand'!C4/'Project Information'!$C$29)*'Project Information'!$C$31*'Project Information'!$C$29*'Project Information'!$C$28),\"\")","v":""},{"$f":"HLOOKUP('Intermediate Freight Calcs'!A38,'BCA Values Freight'!$D$11:$AC$43,21,FALSE)*HLOOKUP('Intermediate Freight Calcs'!A38,'BCA Values Freight'!$D$11:$AC$43,28,FALSE)+HLOOKUP('Intermediate Freight Calcs'!A38,'BCA Values Freight'!$D$11:$AC$43,22,FALSE)*HLOOKUP('Intermediate Freight Calcs'!A38,'BCA Values Freight'!$D$11:$AC$43,29,FALSE)+HLOOKUP('Intermediate Freight Calcs'!A38,'BCA Values Freight'!$D$11:$AC$43,23,FALSE)*0.97*HLOOKUP('Intermediate Freight Calcs'!A38,'BCA Values Freight'!$D$11:$AC$43,30,FALSE)+HLOOKUP('Intermediate Freight Calcs'!A38,'BCA Values Freight'!$D$11:$AC$43,23,FALSE)*0.03*HLOOKUP('Intermediate Freight Calcs'!A38,'BCA Values Freight'!$D$11:$AC$43,31,FALSE)+HLOOKUP('Intermediate Freight Calcs'!A38,'BCA Values Freight'!$D$11:$AC$43,24,FALSE)*HLOOKUP('Intermediate Freight Calcs'!A38,'BCA Values Freight'!$D$11:$AC$43,32,FALSE)+HLOOKUP('Intermediate Freight Calcs'!A38,'BCA Values Freight'!$D$11:$AC$43,25,FALSE)*HLOOKUP('Intermediate Freight Calcs'!A38,'BCA Values Freight'!$D$11:$AC$43,33,FALSE)","v":{"$error":"#N/A"}},{"$f":"HLOOKUP(A38,'BCA Values Freight'!$D$11:$AD$49,39,FALSE)","v":{"$error":"#N/A"}}]
[3,{"$f":"'Project Information'!$D$23*((HLOOKUP('Intermediate Freight Calcs'!A39,'BCA Values Freight'!$D$11:$AC$43,3,FALSE)*HLOOKUP('Intermediate Freight Calcs'!A39,'BCA Values Freight'!$D$11:$AC$43,28,FALSE))+(HLOOKUP('Intermediate Freight Calcs'!A39,'BCA Values Freight'!$D$11:$AC$43,5,FALSE)*HLOOKUP('Intermediate Freight Calcs'!A39,'BCA Values Freight'!$D$11:$AC$43,29,FALSE))+(HLOOKUP('Intermediate Freight Calcs'!A39,'BCA Values Freight'!$D$11:$AC$43,6,FALSE)*HLOOKUP('Intermediate Freight Calcs'!A39,'BCA Values Freight'!$D$11:$AC$43,30,FALSE))+(HLOOKUP('Intermediate Freight Calcs'!A39,'BCA Values Freight'!$D$11:$AC$43,7,FALSE)*HLOOKUP('Intermediate Freight Calcs'!A39,'BCA Values Freight'!$D$11:$AC$43,31,FALSE))+(HLOOKUP('Intermediate Freight Calcs'!A39,'BCA Values Freight'!$D$11:$AC$43,8,FALSE)*HLOOKUP('Intermediate Freight Calcs'!A39,'BCA Values Freight'!$D$11:$AC$43,32,FALSE))+(HLOOKUP('Intermediate Freight Calcs'!A39,'BCA Values Freight'!$D$11:$AC$43,9,FALSE)*HLOOKUP('Intermediate Freight Calcs'!A39,'BCA Values Freight'!$D$11:$AC$43,33,FALSE)))+'Project Information'!$C$23*((HLOOKUP('Intermediate Freight Calcs'!A39,'BCA Values Freight'!$D$11:$AC$43,12,FALSE)*HLOOKUP('Intermediate Freight Calcs'!A39,'BCA Values Freight'!$D$11:$AC$43,28,FALSE))+(HLOOKUP('Intermediate Freight Calcs'!A39,'BCA Values Freight'!$D$11:$AC$43,14,FALSE)*HLOOKUP('Intermediate Freight Calcs'!A39,'BCA Values Freight'!$D$11:$AC$43,29,FALSE))+(HLOOKUP('Intermediate Freight Calcs'!A39,'BCA Values Freight'!$D$11:$AC$43,15,FALSE)*HLOOKUP('Intermediate Freight Calcs'!A39,'BCA Values Freight'!$D$11:$AC$43,30,FALSE))+(HLOOKUP('Intermediate Freight Calcs'!A39,'BCA Values Freight'!$D$11:$AC$43,16,FALSE)*HLOOKUP('Intermediate Freight Calcs'!A39,'BCA Values Freight'!$D$11:$AC$43,31,FALSE))+(HLOOKUP('Intermediate Freight Calcs'!A39,'BCA Values Freight'!$D$11:$AC$43,17,FALSE)*HLOOKUP('Intermediate Freight Calcs'!A39,'BCA Values Freight'!$D$11:$AC$43,32,FALSE))+(HLOOKUP('Intermediate Freight Calcs'!A39,'BCA Values Freight'!$D$11:$AC$43,18,FALSE)*HLOOKUP('Intermediate Freight Calcs'!A39,'BCA Values Freight'!$D$11:$AC$43,33,FALSE)))","v":{"$error":"#VALUE!"}},{"$f":"'Project Information'!$D$23*HLOOKUP(A39,'BCA Values Freight'!$D$11:$AC$49,37,FALSE)+'Project Information'!$C$23*HLOOKUP(A39,'BCA Values Freight'!$D$11:$AC$49,38,FALSE)","v":{"$error":"#VALUE!"}},{"$f":"IFERROR((('Railcar and Passenger Demand'!C5/'Project Information'!$C$29)*'Project Information'!$C$31*'Project Information'!$C$29*'Project Information'!$C$28),\"\")","v":""},{"$f":"HLOOKUP('Intermediate Freight Calcs'!A39,'BCA Values Freight'!$D$11:$AC$43,21,FALSE)*HLOOKUP('Intermediate Freight Calcs'!A39,'BCA Values Freight'!$D$11:$AC$43,28,FALSE)+HLOOKUP('Intermediate Freight Calcs'!A39,'BCA Values Freight'!$D$11:$AC$43,22,FALSE)*HLOOKUP('Intermediate Freight Calcs'!A39,'BCA Values Freight'!$D$11:$AC$43,29,FALSE)+HLOOKUP('Intermediate Freight Calcs'!A39,'BCA Values Freight'!$D$11:$AC$43,23,FALSE)*0.97*HLOOKUP('Intermediate Freight Calcs'!A39,'BCA Values Freight'!$D$11:$AC$43,30,FALSE)+HLOOKUP('Intermediate Freight Calcs'!A39,'BCA Values Freight'!$D$11:$AC$43,23,FALSE)*0.03*HLOOKUP('Intermediate Freight Calcs'!A39,'BCA Values Freight'!$D$11:$AC$43,31,FALSE)+HLOOKUP('Intermediate Freight Calcs'!A39,'BCA Values Freight'!$D$11:$AC$43,24,FALSE)*HLOOKUP('Intermediate Freight Calcs'!A39,'BCA Values Freight'!$D$11:$AC$43,32,FALSE)+HLOOKUP('Intermediate Freight Calcs'!A39,'BCA Values Freight'!$D$11:$AC$43,25,FALSE)*HLOOKUP('Intermediate Freight Calcs'!A39,'BCA Values Freight'!$D$11:$AC$43,33,FALSE)","v":{"$error":"#N/A"}},{"$f":"HLOOKUP(A39,'BCA Values Freight'!$D$11:$AD$49,39,FALSE)","v":{"$error":"#N/A"}}]
[4,{"$f":"'Project Information'!$D$23*((HLOOKUP('Intermediate Freight Calcs'!A40,'BCA Values Freight'!$D$11:$AC$43,3,FALSE)*HLOOKUP('Intermediate Freight Calcs'!A40,'BCA Values Freight'!$D$11:$AC$43,28,FALSE))+(HLOOKUP('Intermediate Freight Calcs'!A40,'BCA Values Freight'!$D$11:$AC$43,5,FALSE)*HLOOKUP('Intermediate Freight Calcs'!A40,'BCA Values Freight'!$D$11:$AC$43,29,FALSE))+(HLOOKUP('Intermediate Freight Calcs'!A40,'BCA Values Freight'!$D$11:$AC$43,6,FALSE)*HLOOKUP('Intermediate Freight Calcs'!A40,'BCA Values Freight'!$D$11:$AC$43,30,FALSE))+(HLOOKUP('Intermediate Freight Calcs'!A40,'BCA Values Freight'!$D$11:$AC$43,7,FALSE)*HLOOKUP('Intermediate Freight Calcs'!A40,'BCA Values Freight'!$D$11:$AC$43,31,FALSE))+(HLOOKUP('Intermediate Freight Calcs'!A40,'BCA Values Freight'!$D$11:$AC$43,8,FALSE)*HLOOKUP('Intermediate Freight Calcs'!A40,'BCA Values Freight'!$D$11:$AC$43,32,FALSE))+(HLOOKUP('Intermediate Freight Calcs'!A40,'BCA Values Freight'!$D$11:$AC$43,9,FALSE)*HLOOKUP('Intermediate Freight Calcs'!A40,'BCA Values Freight'!$D$11:$AC$43,33,FALSE)))+'Project Information'!$C$23*((HLOOKUP('Intermediate Freight Calcs'!A40,'BCA Values Freight'!$D$11:$AC$43,12,FALSE)*HLOOKUP('Intermediate Freight Calcs'!A40,'BCA Values Freight'!$D$11:$AC$43,28,FALSE))+(HLOOKUP('Intermediate Freight Calcs'!A40,'BCA Values Freight'!$D$11:$AC$43,14,FALSE)*HLOOKUP('Intermediate Freight Calcs'!A40,'BCA Values Freight'!$D$11:$AC$43,29,FALSE))+(HLOOKUP('Intermediate Freight Calcs'!A40,'BCA Values Freight'!$D$11:$AC$43,15,FALSE)*HLOOKUP('Intermediate Freight Calcs'!A40,'BCA Values Freight'!$D$11:$AC$43,30,FALSE))+(HLOOKUP('Intermediate Freight Calcs'!A40,'BCA Values Freight'!$D$11:$AC$43,16,FALSE)*HLOOKUP('Intermediate Freight Calcs'!A40,'BCA Values Freight'!$D$11:$AC$43,31,FALSE))+(HLOOKUP('Intermediate Freight Calcs'!A40,'BCA Values Freight'!$D$11:$AC$43,17,FALSE)*HLOOKUP('Intermediate Freight Calcs'!A40,'BCA Values Freight'!$D$11:$AC$43,32,FALSE))+(HLOOKUP('Intermediate Freight Calcs'!A40,'BCA Values Freight'!$D$11:$AC$43,18,FALSE)*HLOOKUP('Intermediate Freight Calcs'!A40,'BCA Values Freight'!$D$11:$AC$43,33,FALSE)))","v":{"$error":"#VALUE!"}},{"$f":"'Project Information'!$D$23*HLOOKUP(A40,'BCA Values Freight'!$D$11:$AC$49,37,FALSE)+'Project Information'!$C$23*HLOOKUP(A40,'BCA Values Freight'!$D$11:$AC$49,38,FALSE)","v":{"$error":"#VALUE!"}},{"$f":"IFERROR((('Railcar and Passenger Demand'!C6/'Project Information'!$C$29)*'Project Information'!$C$31*'Project Information'!$C$29*'Project Information'!$C$28),\"\")","v":""},{"$f":"HLOOKUP('Intermediate Freight Calcs'!A40,'BCA Values Freight'!$D$11:$AC$43,21,FALSE)*HLOOKUP('Intermediate Freight Calcs'!A40,'BCA Values Freight'!$D$11:$AC$43,28,FALSE)+HLOOKUP('Intermediate Freight Calcs'!A40,'BCA Values Freight'!$D$11:$AC$43,22,FALSE)*HLOOKUP('Intermediate Freight Calcs'!A40,'BCA Values Freight'!$D$11:$AC$43,29,FALSE)+HLOOKUP('Intermediate Freight Calcs'!A40,'BCA Values Freight'!$D$11:$AC$43,23,FALSE)*0.97*HLOOKUP('Intermediate Freight Calcs'!A40,'BCA Values Freight'!$D$11:$AC$43,30,FALSE)+HLOOKUP('Intermediate Freight Calcs'!A40,'BCA Values Freight'!$D$11:$AC$43,23,FALSE)*0.03*HLOOKUP('Intermediate Freight Calcs'!A40,'BCA Values Freight'!$D$11:$AC$43,31,FALSE)+HLOOKUP('Intermediate Freight Calcs'!A40,'BCA Values Freight'!$D$11:$AC$43,24,FALSE)*HLOOKUP('Intermediate Freight Calcs'!A40,'BCA Values Freight'!$D$11:$AC$43,32,FALSE)+HLOOKUP('Intermediate Freight Calcs'!A40,'BCA Values Freight'!$D$11:$AC$43,25,FALSE)*HLOOKUP('Intermediate Freight Calcs'!A40,'BCA Values Freight'!$D$11:$AC$43,33,FALSE)","v":{"$error":"#N/A"}},{"$f":"HLOOKUP(A40,'BCA Values Freight'!$D$11:$AD$49,39,FALSE)","v":{"$error":"#N/A"}}]
[5,{"$f":"'Project Information'!$D$23*((HLOOKUP('Intermediate Freight Calcs'!A41,'BCA Values Freight'!$D$11:$AC$43,3,FALSE)*HLOOKUP('Intermediate Freight Calcs'!A41,'BCA Values Freight'!$D$11:$AC$43,28,FALSE))+(HLOOKUP('Intermediate Freight Calcs'!A41,'BCA Values Freight'!$D$11:$AC$43,5,FALSE)*HLOOKUP('Intermediate Freight Calcs'!A41,'BCA Values Freight'!$D$11:$AC$43,29,FALSE))+(HLOOKUP('Intermediate Freight Calcs'!A41,'BCA Values Freight'!$D$11:$AC$43,6,FALSE)*HLOOKUP('Intermediate Freight Calcs'!A41,'BCA Values Freight'!$D$11:$AC$43,30,FALSE))+(HLOOKUP('Intermediate Freight Calcs'!A41,'BCA Values Freight'!$D$11:$AC$43,7,FALSE)*HLOOKUP('Intermediate Freight Calcs'!A41,'BCA Values Freight'!$D$11:$AC$43,31,FALSE))+(HLOOKUP('Intermediate Freight Calcs'!A41,'BCA Values Freight'!$D$11:$AC$43,8,FALSE)*HLOOKUP('Intermediate Freight Calcs'!A41,'BCA Values Freight'!$D$11:$AC$43,32,FALSE))+(HLOOKUP('Intermediate Freight Calcs'!A41,'BCA Values Freight'!$D$11:$AC$43,9,FALSE)*HLOOKUP('Intermediate Freight Calcs'!A41,'BCA Values Freight'!$D$11:$AC$43,33,FALSE)))+'Project Information'!$C$23*((HLOOKUP('Intermediate Freight Calcs'!A41,'BCA Values Freight'!$D$11:$AC$43,12,FALSE)*HLOOKUP('Intermediate Freight Calcs'!A41,'BCA Values Freight'!$D$11:$AC$43,28,FALSE))+(HLOOKUP('Intermediate Freight Calcs'!A41,'BCA Values Freight'!$D$11:$AC$43,14,FALSE)*HLOOKUP('Intermediate Freight Calcs'!A41,'BCA Values Freight'!$D$11:$AC$43,29,FALSE))+(HLOOKUP('Intermediate Freight Calcs'!A41,'BCA Values Freight'!$D$11:$AC$43,15,FALSE)*HLOOKUP('Intermediate Freight Calcs'!A41,'BCA Values Freight'!$D$11:$AC$43,30,FALSE))+(HLOOKUP('Intermediate Freight Calcs'!A41,'BCA Values Freight'!$D$11:$AC$43,16,FALSE)*HLOOKUP('Intermediate Freight Calcs'!A41,'BCA Values Freight'!$D$11:$AC$43,31,FALSE))+(HLOOKUP('Intermediate Freight Calcs'!A41,'BCA Values Freight'!$D$11:$AC$43,17,FALSE)*HLOOKUP('Intermediate Freight Calcs'!A41,'BCA Values Freight'!$D$11:$AC$43,32,FALSE))+(HLOOKUP('Intermediate Freight Calcs'!A41,'BCA Values Freight'!$D$11:$AC$43,18,FALSE)*HLOOKUP('Intermediate Freight Calcs'!A41,'BCA Values Freight'!$D$11:$AC$43,33,FALSE)))","v":{"$error":"#VALUE!"}},{"$f":"'Project Information'!$D$23*HLOOKUP(A41,'BCA Values Freight'!$D$11:$AC$49,37,FALSE)+'Project Information'!$C$23*HLOOKUP(A41,'BCA Values Freight'!$D$11:$AC$49,38,FALSE)","v":{"$error":"#VALUE!"}},{"$f":"IFERROR((('Railcar and Passenger Demand'!C7/'Project Information'!$C$29)*'Project Information'!$C$31*'Project Information'!$C$29*'Project Information'!$C$28),\"\")","v":""},{"$f":"HLOOKUP('Intermediate Freight Calcs'!A41,'BCA Values Freight'!$D$11:$AC$43,21,FALSE)*HLOOKUP('Intermediate Freight Calcs'!A41,'BCA Values Freight'!$D$11:$AC$43,28,FALSE)+HLOOKUP('Intermediate Freight Calcs'!A41,'BCA Values Freight'!$D$11:$AC$43,22,FALSE)*HLOOKUP('Intermediate Freight Calcs'!A41,'BCA Values Freight'!$D$11:$AC$43,29,FALSE)+HLOOKUP('Intermediate Freight Calcs'!A41,'BCA Values Freight'!$D$11:$AC$43,23,FALSE)*0.97*HLOOKUP('Intermediate Freight Calcs'!A41,'BCA Values Freight'!$D$11:$AC$43,30,FALSE)+HLOOKUP('Intermediate Freight Calcs'!A41,'BCA Values Freight'!$D$11:$AC$43,23,FALSE)*0.03*HLOOKUP('Intermediate Freight Calcs'!A41,'BCA Values Freight'!$D$11:$AC$43,31,FALSE)+HLOOKUP('Intermediate Freight Calcs'!A41,'BCA Values Freight'!$D$11:$AC$43,24,FALSE)*HLOOKUP('Intermediate Freight Calcs'!A41,'BCA Values Freight'!$D$11:$AC$43,32,FALSE)+HLOOKUP('Intermediate Freight Calcs'!A41,'BCA Values Freight'!$D$11:$AC$43,25,FALSE)*HLOOKUP('Intermediate Freight Calcs'!A41,'BCA Values Freight'!$D$11:$AC$43,33,FALSE)","v":{"$error":"#N/A"}},{"$f":"HLOOKUP(A41,'BCA Values Freight'!$D$11:$AD$49,39,FALSE)","v":{"$error":"#N/A"}}]
[6,{"$f":"'Project Information'!$D$23*((HLOOKUP('Intermediate Freight Calcs'!A42,'BCA Values Freight'!$D$11:$AC$43,3,FALSE)*HLOOKUP('Intermediate Freight Calcs'!A42,'BCA Values Freight'!$D$11:$AC$43,28,FALSE))+(HLOOKUP('Intermediate Freight Calcs'!A42,'BCA Values Freight'!$D$11:$AC$43,5,FALSE)*HLOOKUP('Intermediate Freight Calcs'!A42,'BCA Values Freight'!$D$11:$AC$43,29,FALSE))+(HLOOKUP('Intermediate Freight Calcs'!A42,'BCA Values Freight'!$D$11:$AC$43,6,FALSE)*HLOOKUP('Intermediate Freight Calcs'!A42,'BCA Values Freight'!$D$11:$AC$43,30,FALSE))+(HLOOKUP('Intermediate Freight Calcs'!A42,'BCA Values Freight'!$D$11:$AC$43,7,FALSE)*HLOOKUP('Intermediate Freight Calcs'!A42,'BCA Values Freight'!$D$11:$AC$43,31,FALSE))+(HLOOKUP('Intermediate Freight Calcs'!A42,'BCA Values Freight'!$D$11:$AC$43,8,FALSE)*HLOOKUP('Intermediate Freight Calcs'!A42,'BCA Values Freight'!$D$11:$AC$43,32,FALSE))+(HLOOKUP('Intermediate Freight Calcs'!A42,'BCA Values Freight'!$D$11:$AC$43,9,FALSE)*HLOOKUP('Intermediate Freight Calcs'!A42,'BCA Values Freight'!$D$11:$AC$43,33,FALSE)))+'Project Information'!$C$23*((HLOOKUP('Intermediate Freight Calcs'!A42,'BCA Values Freight'!$D$11:$AC$43,12,FALSE)*HLOOKUP('Intermediate Freight Calcs'!A42,'BCA Values Freight'!$D$11:$AC$43,28,FALSE))+(HLOOKUP('Intermediate Freight Calcs'!A42,'BCA Values Freight'!$D$11:$AC$43,14,FALSE)*HLOOKUP('Intermediate Freight Calcs'!A42,'BCA Values Freight'!$D$11:$AC$43,29,FALSE))+(HLOOKUP('Intermediate Freight Calcs'!A42,'BCA Values Freight'!$D$11:$AC$43,15,FALSE)*HLOOKUP('Intermediate Freight Calcs'!A42,'BCA Values Freight'!$D$11:$AC$43,30,FALSE))+(HLOOKUP('Intermediate Freight Calcs'!A42,'BCA Values Freight'!$D$11:$AC$43,16,FALSE)*HLOOKUP('Intermediate Freight Calcs'!A42,'BCA Values Freight'!$D$11:$AC$43,31,FALSE))+(HLOOKUP('Intermediate Freight Calcs'!A42,'BCA Values Freight'!$D$11:$AC$43,17,FALSE)*HLOOKUP('Intermediate Freight Calcs'!A42,'BCA Values Freight'!$D$11:$AC$43,32,FALSE))+(HLOOKUP('Intermediate Freight Calcs'!A42,'BCA Values Freight'!$D$11:$AC$43,18,FALSE)*HLOOKUP('Intermediate Freight Calcs'!A42,'BCA Values Freight'!$D$11:$AC$43,33,FALSE)))","v":{"$error":"#VALUE!"}},{"$f":"'Project Information'!$D$23*HLOOKUP(A42,'BCA Values Freight'!$D$11:$AC$49,37,FALSE)+'Project Information'!$C$23*HLOOKUP(A42,'BCA Values Freight'!$D$11:$AC$49,38,FALSE)","v":{"$error":"#VALUE!"}},{"$f":"IFERROR((('Railcar and Passenger Demand'!C8/'Project Information'!$C$29)*'Project Information'!$C$31*'Project Information'!$C$29*'Project Information'!$C$28),\"\")","v":""},{"$f":"HLOOKUP('Intermediate Freight Calcs'!A42,'BCA Values Freight'!$D$11:$AC$43,21,FALSE)*HLOOKUP('Intermediate Freight Calcs'!A42,'BCA Values Freight'!$D$11:$AC$43,28,FALSE)+HLOOKUP('Intermediate Freight Calcs'!A42,'BCA Values Freight'!$D$11:$AC$43,22,FALSE)*HLOOKUP('Intermediate Freight Calcs'!A42,'BCA Values Freight'!$D$11:$AC$43,29,FALSE)+HLOOKUP('Intermediate Freight Calcs'!A42,'BCA Values Freight'!$D$11:$AC$43,23,FALSE)*0.97*HLOOKUP('Intermediate Freight Calcs'!A42,'BCA Values Freight'!$D$11:$AC$43,30,FALSE)+HLOOKUP('Intermediate Freight Calcs'!A42,'BCA Values Freight'!$D$11:$AC$43,23,FALSE)*0.03*HLOOKUP('Intermediate Freight Calcs'!A42,'BCA Values Freight'!$D$11:$AC$43,31,FALSE)+HLOOKUP('Intermediate Freight Calcs'!A42,'BCA Values Freight'!$D$11:$AC$43,24,FALSE)*HLOOKUP('Intermediate Freight Calcs'!A42,'BCA Values Freight'!$D$11:$AC$43,32,FALSE)+HLOOKUP('Intermediate Freight Calcs'!A42,'BCA Values Freight'!$D$11:$AC$43,25,FALSE)*HLOOKUP('Intermediate Freight Calcs'!A42,'BCA Values Freight'!$D$11:$AC$43,33,FALSE)","v":{"$error":"#N/A"}},{"$f":"HLOOKUP(A42,'BCA Values Freight'!$D$11:$AD$49,39,FALSE)","v":{"$error":"#N/A"}}]
[7,{"$f":"'Project Information'!$D$23*((HLOOKUP('Intermediate Freight Calcs'!A43,'BCA Values Freight'!$D$11:$AC$43,3,FALSE)*HLOOKUP('Intermediate Freight Calcs'!A43,'BCA Values Freight'!$D$11:$AC$43,28,FALSE))+(HLOOKUP('Intermediate Freight Calcs'!A43,'BCA Values Freight'!$D$11:$AC$43,5,FALSE)*HLOOKUP('Intermediate Freight Calcs'!A43,'BCA Values Freight'!$D$11:$AC$43,29,FALSE))+(HLOOKUP('Intermediate Freight Calcs'!A43,'BCA Values Freight'!$D$11:$AC$43,6,FALSE)*HLOOKUP('Intermediate Freight Calcs'!A43,'BCA Values Freight'!$D$11:$AC$43,30,FALSE))+(HLOOKUP('Intermediate Freight Calcs'!A43,'BCA Values Freight'!$D$11:$AC$43,7,FALSE)*HLOOKUP('Intermediate Freight Calcs'!A43,'BCA Values Freight'!$D$11:$AC$43,31,FALSE))+(HLOOKUP('Intermediate Freight Calcs'!A43,'BCA Values Freight'!$D$11:$AC$43,8,FALSE)*HLOOKUP('Intermediate Freight Calcs'!A43,'BCA Values Freight'!$D$11:$AC$43,32,FALSE))+(HLOOKUP('Intermediate Freight Calcs'!A43,'BCA Values Freight'!$D$11:$AC$43,9,FALSE)*HLOOKUP('Intermediate Freight Calcs'!A43,'BCA Values Freight'!$D$11:$AC$43,33,FALSE)))+'Project Information'!$C$23*((HLOOKUP('Intermediate Freight Calcs'!A43,'BCA Values Freight'!$D$11:$AC$43,12,FALSE)*HLOOKUP('Intermediate Freight Calcs'!A43,'BCA Values Freight'!$D$11:$AC$43,28,FALSE))+(HLOOKUP('Intermediate Freight Calcs'!A43,'BCA Values Freight'!$D$11:$AC$43,14,FALSE)*HLOOKUP('Intermediate Freight Calcs'!A43,'BCA Values Freight'!$D$11:$AC$43,29,FALSE))+(HLOOKUP('Intermediate Freight Calcs'!A43,'BCA Values Freight'!$D$11:$AC$43,15,FALSE)*HLOOKUP('Intermediate Freight Calcs'!A43,'BCA Values Freight'!$D$11:$AC$43,30,FALSE))+(HLOOKUP('Intermediate Freight Calcs'!A43,'BCA Values Freight'!$D$11:$AC$43,16,FALSE)*HLOOKUP('Intermediate Freight Calcs'!A43,'BCA Values Freight'!$D$11:$AC$43,31,FALSE))+(HLOOKUP('Intermediate Freight Calcs'!A43,'BCA Values Freight'!$D$11:$AC$43,17,FALSE)*HLOOKUP('Intermediate Freight Calcs'!A43,'BCA Values Freight'!$D$11:$AC$43,32,FALSE))+(HLOOKUP('Intermediate Freight Calcs'!A43,'BCA Values Freight'!$D$11:$AC$43,18,FALSE)*HLOOKUP('Intermediate Freight Calcs'!A43,'BCA Values Freight'!$D$11:$AC$43,33,FALSE)))","v":{"$error":"#VALUE!"}},{"$f":"'Project Information'!$D$23*HLOOKUP(A43,'BCA Values Freight'!$D$11:$AC$49,37,FALSE)+'Project Information'!$C$23*HLOOKUP(A43,'BCA Values Freight'!$D$11:$AC$49,38,FALSE)","v":{"$error":"#VALUE!"}},{"$f":"IFERROR((('Railcar and Passenger Demand'!C9/'Project Information'!$C$29)*'Project Information'!$C$31*'Project Information'!$C$29*'Project Information'!$C$28),\"\")","v":""},{"$f":"HLOOKUP('Intermediate Freight Calcs'!A43,'BCA Values Freight'!$D$11:$AC$43,21,FALSE)*HLOOKUP('Intermediate Freight Calcs'!A43,'BCA Values Freight'!$D$11:$AC$43,28,FALSE)+HLOOKUP('Intermediate Freight Calcs'!A43,'BCA Values Freight'!$D$11:$AC$43,22,FALSE)*HLOOKUP('Intermediate Freight Calcs'!A43,'BCA Values Freight'!$D$11:$AC$43,29,FALSE)+HLOOKUP('Intermediate Freight Calcs'!A43,'BCA Values Freight'!$D$11:$AC$43,23,FALSE)*0.97*HLOOKUP('Intermediate Freight Calcs'!A43,'BCA Values Freight'!$D$11:$AC$43,30,FALSE)+HLOOKUP('Intermediate Freight Calcs'!A43,'BCA Values Freight'!$D$11:$AC$43,23,FALSE)*0.03*HLOOKUP('Intermediate Freight Calcs'!A43,'BCA Values Freight'!$D$11:$AC$43,31,FALSE)+HLOOKUP('Intermediate Freight Calcs'!A43,'BCA Values Freight'!$D$11:$AC$43,24,FALSE)*HLOOKUP('Intermediate Freight Calcs'!A43,'BCA Values Freight'!$D$11:$AC$43,32,FALSE)+HLOOKUP('Intermediate Freight Calcs'!A43,'BCA Values Freight'!$D$11:$AC$43,25,FALSE)*HLOOKUP('Intermediate Freight Calcs'!A43,'BCA Values Freight'!$D$11:$AC$43,33,FALSE)","v":{"$error":"#N/A"}},{"$f":"HLOOKUP(A43,'BCA Values Freight'!$D$11:$AD$49,39,FALSE)","v":{"$error":"#N/A"}}]
[8,{"$f":"'Project Information'!$D$23*((HLOOKUP('Intermediate Freight Calcs'!A44,'BCA Values Freight'!$D$11:$AC$43,3,FALSE)*HLOOKUP('Intermediate Freight Calcs'!A44,'BCA Values Freight'!$D$11:$AC$43,28,FALSE))+(HLOOKUP('Intermediate Freight Calcs'!A44,'BCA Values Freight'!$D$11:$AC$43,5,FALSE)*HLOOKUP('Intermediate Freight Calcs'!A44,'BCA Values Freight'!$D$11:$AC$43,29,FALSE))+(HLOOKUP('Intermediate Freight Calcs'!A44,'BCA Values Freight'!$D$11:$AC$43,6,FALSE)*HLOOKUP('Intermediate Freight Calcs'!A44,'BCA Values Freight'!$D$11:$AC$43,30,FALSE))+(HLOOKUP('Intermediate Freight Calcs'!A44,'BCA Values Freight'!$D$11:$AC$43,7,FALSE)*HLOOKUP('Intermediate Freight Calcs'!A44,'BCA Values Freight'!$D$11:$AC$43,31,FALSE))+(HLOOKUP('Intermediate Freight Calcs'!A44,'BCA Values Freight'!$D$11:$AC$43,8,FALSE)*HLOOKUP('Intermediate Freight Calcs'!A44,'BCA Values Freight'!$D$11:$AC$43,32,FALSE))+(HLOOKUP('Intermediate Freight Calcs'!A44,'BCA Values Freight'!$D$11:$AC$43,9,FALSE)*HLOOKUP('Intermediate Freight Calcs'!A44,'BCA Values Freight'!$D$11:$AC$43,33,FALSE)))+'Project Information'!$C$23*((HLOOKUP('Intermediate Freight Calcs'!A44,'BCA Values Freight'!$D$11:$AC$43,12,FALSE)*HLOOKUP('Intermediate Freight Calcs'!A44,'BCA Values Freight'!$D$11:$AC$43,28,FALSE))+(HLOOKUP('Intermediate Freight Calcs'!A44,'BCA Values Freight'!$D$11:$AC$43,14,FALSE)*HLOOKUP('Intermediate Freight Calcs'!A44,'BCA Values Freight'!$D$11:$AC$43,29,FALSE))+(HLOOKUP('Intermediate Freight Calcs'!A44,'BCA Values Freight'!$D$11:$AC$43,15,FALSE)*HLOOKUP('Intermediate Freight Calcs'!A44,'BCA Values Freight'!$D$11:$AC$43,30,FALSE))+(HLOOKUP('Intermediate Freight Calcs'!A44,'BCA Values Freight'!$D$11:$AC$43,16,FALSE)*HLOOKUP('Intermediate Freight Calcs'!A44,'BCA Values Freight'!$D$11:$AC$43,31,FALSE))+(HLOOKUP('Intermediate Freight Calcs'!A44,'BCA Values Freight'!$D$11:$AC$43,17,FALSE)*HLOOKUP('Intermediate Freight Calcs'!A44,'BCA Values Freight'!$D$11:$AC$43,32,FALSE))+(HLOOKUP('Intermediate Freight Calcs'!A44,'BCA Values Freight'!$D$11:$AC$43,18,FALSE)*HLOOKUP('Intermediate Freight Calcs'!A44,'BCA Values Freight'!$D$11:$AC$43,33,FALSE)))","v":{"$error":"#VALUE!"}},{"$f":"'Project Information'!$D$23*HLOOKUP(A44,'BCA Values Freight'!$D$11:$AC$49,37,FALSE)+'Project Information'!$C$23*HLOOKUP(A44,'BCA Values Freight'!$D$11:$AC$49,38,FALSE)","v":{"$error":"#VALUE!"}},{"$f":"IFERROR((('Railcar and Passenger Demand'!C10/'Project Information'!$C$29)*'Project Information'!$C$31*'Project Information'!$C$29*'Project Information'!$C$28),\"\")","v":""},{"$f":"HLOOKUP('Intermediate Freight Calcs'!A44,'BCA Values Freight'!$D$11:$AC$43,21,FALSE)*HLOOKUP('Intermediate Freight Calcs'!A44,'BCA Values Freight'!$D$11:$AC$43,28,FALSE)+HLOOKUP('Intermediate Freight Calcs'!A44,'BCA Values Freight'!$D$11:$AC$43,22,FALSE)*HLOOKUP('Intermediate Freight Calcs'!A44,'BCA Values Freight'!$D$11:$AC$43,29,FALSE)+HLOOKUP('Intermediate Freight Calcs'!A44,'BCA Values Freight'!$D$11:$AC$43,23,FALSE)*0.97*HLOOKUP('Intermediate Freight Calcs'!A44,'BCA Values Freight'!$D$11:$AC$43,30,FALSE)+HLOOKUP('Intermediate Freight Calcs'!A44,'BCA Values Freight'!$D$11:$AC$43,23,FALSE)*0.03*HLOOKUP('Intermediate Freight Calcs'!A44,'BCA Values Freight'!$D$11:$AC$43,31,FALSE)+HLOOKUP('Intermediate Freight Calcs'!A44,'BCA Values Freight'!$D$11:$AC$43,24,FALSE)*HLOOKUP('Intermediate Freight Calcs'!A44,'BCA Values Freight'!$D$11:$AC$43,32,FALSE)+HLOOKUP('Intermediate Freight Calcs'!A44,'BCA Values Freight'!$D$11:$AC$43,25,FALSE)*HLOOKUP('Intermediate Freight Calcs'!A44,'BCA Values Freight'!$D$11:$AC$43,33,FALSE)","v":{"$error":"#N/A"}},{"$f":"HLOOKUP(A44,'BCA Values Freight'!$D$11:$AD$49,39,FALSE)","v":{"$error":"#N/A"}}]
[9,{"$f":"'Project Information'!$D$23*((HLOOKUP('Intermediate Freight Calcs'!A45,'BCA Values Freight'!$D$11:$AC$43,3,FALSE)*HLOOKUP('Intermediate Freight Calcs'!A45,'BCA Values Freight'!$D$11:$AC$43,28,FALSE))+(HLOOKUP('Intermediate Freight Calcs'!A45,'BCA Values Freight'!$D$11:$AC$43,5,FALSE)*HLOOKUP('Intermediate Freight Calcs'!A45,'BCA Values Freight'!$D$11:$AC$43,29,FALSE))+(HLOOKUP('Intermediate Freight Calcs'!A45,'BCA Values Freight'!$D$11:$AC$43,6,FALSE)*HLOOKUP('Intermediate Freight Calcs'!A45,'BCA Values Freight'!$D$11:$AC$43,30,FALSE))+(HLOOKUP('Intermediate Freight Calcs'!A45,'BCA Values Freight'!$D$11:$AC$43,7,FALSE)*HLOOKUP('Intermediate Freight Calcs'!A45,'BCA Values Freight'!$D$11:$AC$43,31,FALSE))+(HLOOKUP('Intermediate Freight Calcs'!A45,'BCA Values Freight'!$D$11:$AC$43,8,FALSE)*HLOOKUP('Intermediate Freight Calcs'!A45,'BCA Values Freight'!$D$11:$AC$43,32,FALSE))+(HLOOKUP('Intermediate Freight Calcs'!A45,'BCA Values Freight'!$D$11:$AC$43,9,FALSE)*HLOOKUP('Intermediate Freight Calcs'!A45,'BCA Values Freight'!$D$11:$AC$43,33,FALSE)))+'Project Information'!$C$23*((HLOOKUP('Intermediate Freight Calcs'!A45,'BCA Values Freight'!$D$11:$AC$43,12,FALSE)*HLOOKUP('Intermediate Freight Calcs'!A45,'BCA Values Freight'!$D$11:$AC$43,28,FALSE))+(HLOOKUP('Intermediate Freight Calcs'!A45,'BCA Values Freight'!$D$11:$AC$43,14,FALSE)*HLOOKUP('Intermediate Freight Calcs'!A45,'BCA Values Freight'!$D$11:$AC$43,29,FALSE))+(HLOOKUP('Intermediate Freight Calcs'!A45,'BCA Values Freight'!$D$11:$AC$43,15,FALSE)*HLOOKUP('Intermediate Freight Calcs'!A45,'BCA Values Freight'!$D$11:$AC$43,30,FALSE))+(HLOOKUP('Intermediate Freight Calcs'!A45,'BCA Values Freight'!$D$11:$AC$43,16,FALSE)*HLOOKUP('Intermediate Freight Calcs'!A45,'BCA Values Freight'!$D$11:$AC$43,31,FALSE))+(HLOOKUP('Intermediate Freight Calcs'!A45,'BCA Values Freight'!$D$11:$AC$43,17,FALSE)*HLOOKUP('Intermediate Freight Calcs'!A45,'BCA Values Freight'!$D$11:$AC$43,32,FALSE))+(HLOOKUP('Intermediate Freight Calcs'!A45,'BCA Values Freight'!$D$11:$AC$43,18,FALSE)*HLOOKUP('Intermediate Freight Calcs'!A45,'BCA Values Freight'!$D$11:$AC$43,33,FALSE)))","v":{"$error":"#VALUE!"}},{"$f":"'Project Information'!$D$23*HLOOKUP(A45,'BCA Values Freight'!$D$11:$AC$49,37,FALSE)+'Project Information'!$C$23*HLOOKUP(A45,'BCA Values Freight'!$D$11:$AC$49,38,FALSE)","v":{"$error":"#VALUE!"}},{"$f":"IFERROR((('Railcar and Passenger Demand'!C11/'Project Information'!$C$29)*'Project Information'!$C$31*'Project Information'!$C$29*'Project Information'!$C$28),\"\")","v":""},{"$f":"HLOOKUP('Intermediate Freight Calcs'!A45,'BCA Values Freight'!$D$11:$AC$43,21,FALSE)*HLOOKUP('Intermediate Freight Calcs'!A45,'BCA Values Freight'!$D$11:$AC$43,28,FALSE)+HLOOKUP('Intermediate Freight Calcs'!A45,'BCA Values Freight'!$D$11:$AC$43,22,FALSE)*HLOOKUP('Intermediate Freight Calcs'!A45,'BCA Values Freight'!$D$11:$AC$43,29,FALSE)+HLOOKUP('Intermediate Freight Calcs'!A45,'BCA Values Freight'!$D$11:$AC$43,23,FALSE)*0.97*HLOOKUP('Intermediate Freight Calcs'!A45,'BCA Values Freight'!$D$11:$AC$43,30,FALSE)+HLOOKUP('Intermediate Freight Calcs'!A45,'BCA Values Freight'!$D$11:$AC$43,23,FALSE)*0.03*HLOOKUP('Intermediate Freight Calcs'!A45,'BCA Values Freight'!$D$11:$AC$43,31,FALSE)+HLOOKUP('Intermediate Freight Calcs'!A45,'BCA Values Freight'!$D$11:$AC$43,24,FALSE)*HLOOKUP('Intermediate Freight Calcs'!A45,'BCA Values Freight'!$D$11:$AC$43,32,FALSE)+HLOOKUP('Intermediate Freight Calcs'!A45,'BCA Values Freight'!$D$11:$AC$43,25,FALSE)*HLOOKUP('Intermediate Freight Calcs'!A45,'BCA Values Freight'!$D$11:$AC$43,33,FALSE)","v":{"$error":"#N/A"}},{"$f":"HLOOKUP(A45,'BCA Values Freight'!$D$11:$AD$49,39,FALSE)","v":{"$error":"#N/A"}}]
[10,{"$f":"'Project Information'!$D$23*((HLOOKUP('Intermediate Freight Calcs'!A46,'BCA Values Freight'!$D$11:$AC$43,3,FALSE)*HLOOKUP('Intermediate Freight Calcs'!A46,'BCA Values Freight'!$D$11:$AC$43,28,FALSE))+(HLOOKUP('Intermediate Freight Calcs'!A46,'BCA Values Freight'!$D$11:$AC$43,5,FALSE)*HLOOKUP('Intermediate Freight Calcs'!A46,'BCA Values Freight'!$D$11:$AC$43,29,FALSE))+(HLOOKUP('Intermediate Freight Calcs'!A46,'BCA Values Freight'!$D$11:$AC$43,6,FALSE)*HLOOKUP('Intermediate Freight Calcs'!A46,'BCA Values Freight'!$D$11:$AC$43,30,FALSE))+(HLOOKUP('Intermediate Freight Calcs'!A46,'BCA Values Freight'!$D$11:$AC$43,7,FALSE)*HLOOKUP('Intermediate Freight Calcs'!A46,'BCA Values Freight'!$D$11:$AC$43,31,FALSE))+(HLOOKUP('Intermediate Freight Calcs'!A46,'BCA Values Freight'!$D$11:$AC$43,8,FALSE)*HLOOKUP('Intermediate Freight Calcs'!A46,'BCA Values Freight'!$D$11:$AC$43,32,FALSE))+(HLOOKUP('Intermediate Freight Calcs'!A46,'BCA Values Freight'!$D$11:$AC$43,9,FALSE)*HLOOKUP('Intermediate Freight Calcs'!A46,'BCA Values Freight'!$D$11:$AC$43,33,FALSE)))+'Project Information'!$C$23*((HLOOKUP('Intermediate Freight Calcs'!A46,'BCA Values Freight'!$D$11:$AC$43,12,FALSE)*HLOOKUP('Intermediate Freight Calcs'!A46,'BCA Values Freight'!$D$11:$AC$43,28,FALSE))+(HLOOKUP('Intermediate Freight Calcs'!A46,'BCA Values Freight'!$D$11:$AC$43,14,FALSE)*HLOOKUP('Intermediate Freight Calcs'!A46,'BCA Values Freight'!$D$11:$AC$43,29,FALSE))+(HLOOKUP('Intermediate Freight Calcs'!A46,'BCA Values Freight'!$D$11:$AC$43,15,FALSE)*HLOOKUP('Intermediate Freight Calcs'!A46,'BCA Values Freight'!$D$11:$AC$43,30,FALSE))+(HLOOKUP('Intermediate Freight Calcs'!A46,'BCA Values Freight'!$D$11:$AC$43,16,FALSE)*HLOOKUP('Intermediate Freight Calcs'!A46,'BCA Values Freight'!$D$11:$AC$43,31,FALSE))+(HLOOKUP('Intermediate Freight Calcs'!A46,'BCA Values Freight'!$D$11:$AC$43,17,FALSE)*HLOOKUP('Intermediate Freight Calcs'!A46,'BCA Values Freight'!$D$11:$AC$43,32,FALSE))+(HLOOKUP('Intermediate Freight Calcs'!A46,'BCA Values Freight'!$D$11:$AC$43,18,FALSE)*HLOOKUP('Intermediate Freight Calcs'!A46,'BCA Values Freight'!$D$11:$AC$43,33,FALSE)))","v":{"$error":"#VALUE!"}},{"$f":"'Project Information'!$D$23*HLOOKUP(A46,'BCA Values Freight'!$D$11:$AC$49,37,FALSE)+'Project Information'!$C$23*HLOOKUP(A46,'BCA Values Freight'!$D$11:$AC$49,38,FALSE)","v":{"$error":"#VALUE!"}},{"$f":"IFERROR((('Railcar and Passenger Demand'!C12/'Project Information'!$C$29)*'Project Information'!$C$31*'Project Information'!$C$29*'Project Information'!$C$28),\"\")","v":""},{"$f":"HLOOKUP('Intermediate Freight Calcs'!A46,'BCA Values Freight'!$D$11:$AC$43,21,FALSE)*HLOOKUP('Intermediate Freight Calcs'!A46,'BCA Values Freight'!$D$11:$AC$43,28,FALSE)+HLOOKUP('Intermediate Freight Calcs'!A46,'BCA Values Freight'!$D$11:$AC$43,22,FALSE)*HLOOKUP('Intermediate Freight Calcs'!A46,'BCA Values Freight'!$D$11:$AC$43,29,FALSE)+HLOOKUP('Intermediate Freight Calcs'!A46,'BCA Values Freight'!$D$11:$AC$43,23,FALSE)*0.97*HLOOKUP('Intermediate Freight Calcs'!A46,'BCA Values Freight'!$D$11:$AC$43,30,FALSE)+HLOOKUP('Intermediate Freight Calcs'!A46,'BCA Values Freight'!$D$11:$AC$43,23,FALSE)*0.03*HLOOKUP('Intermediate Freight Calcs'!A46,'BCA Values Freight'!$D$11:$AC$43,31,FALSE)+HLOOKUP('Intermediate Freight Calcs'!A46,'BCA Values Freight'!$D$11:$AC$43,24,FALSE)*HLOOKUP('Intermediate Freight Calcs'!A46,'BCA Values Freight'!$D$11:$AC$43,32,FALSE)+HLOOKUP('Intermediate Freight Calcs'!A46,'BCA Values Freight'!$D$11:$AC$43,25,FALSE)*HLOOKUP('Intermediate Freight Calcs'!A46,'BCA Values Freight'!$D$11:$AC$43,33,FALSE)","v":{"$error":"#N/A"}},{"$f":"HLOOKUP(A46,'BCA Values Freight'!$D$11:$AD$49,39,FALSE)","v":{"$error":"#N/A"}}]
[11,{"$f":"'Project Information'!$D$23*((HLOOKUP('Intermediate Freight Calcs'!A47,'BCA Values Freight'!$D$11:$AC$43,3,FALSE)*HLOOKUP('Intermediate Freight Calcs'!A47,'BCA Values Freight'!$D$11:$AC$43,28,FALSE))+(HLOOKUP('Intermediate Freight Calcs'!A47,'BCA Values Freight'!$D$11:$AC$43,5,FALSE)*HLOOKUP('Intermediate Freight Calcs'!A47,'BCA Values Freight'!$D$11:$AC$43,29,FALSE))+(HLOOKUP('Intermediate Freight Calcs'!A47,'BCA Values Freight'!$D$11:$AC$43,6,FALSE)*HLOOKUP('Intermediate Freight Calcs'!A47,'BCA Values Freight'!$D$11:$AC$43,30,FALSE))+(HLOOKUP('Intermediate Freight Calcs'!A47,'BCA Values Freight'!$D$11:$AC$43,7,FALSE)*HLOOKUP('Intermediate Freight Calcs'!A47,'BCA Values Freight'!$D$11:$AC$43,31,FALSE))+(HLOOKUP('Intermediate Freight Calcs'!A47,'BCA Values Freight'!$D$11:$AC$43,8,FALSE)*HLOOKUP('Intermediate Freight Calcs'!A47,'BCA Values Freight'!$D$11:$AC$43,32,FALSE))+(HLOOKUP('Intermediate Freight Calcs'!A47,'BCA Values Freight'!$D$11:$AC$43,9,FALSE)*HLOOKUP('Intermediate Freight Calcs'!A47,'BCA Values Freight'!$D$11:$AC$43,33,FALSE)))+'Project Information'!$C$23*((HLOOKUP('Intermediate Freight Calcs'!A47,'BCA Values Freight'!$D$11:$AC$43,12,FALSE)*HLOOKUP('Intermediate Freight Calcs'!A47,'BCA Values Freight'!$D$11:$AC$43,28,FALSE))+(HLOOKUP('Intermediate Freight Calcs'!A47,'BCA Values Freight'!$D$11:$AC$43,14,FALSE)*HLOOKUP('Intermediate Freight Calcs'!A47,'BCA Values Freight'!$D$11:$AC$43,29,FALSE))+(HLOOKUP('Intermediate Freight Calcs'!A47,'BCA Values Freight'!$D$11:$AC$43,15,FALSE)*HLOOKUP('Intermediate Freight Calcs'!A47,'BCA Values Freight'!$D$11:$AC$43,30,FALSE))+(HLOOKUP('Intermediate Freight Calcs'!A47,'BCA Values Freight'!$D$11:$AC$43,16,FALSE)*HLOOKUP('Intermediate Freight Calcs'!A47,'BCA Values Freight'!$D$11:$AC$43,31,FALSE))+(HLOOKUP('Intermediate Freight Calcs'!A47,'BCA Values Freight'!$D$11:$AC$43,17,FALSE)*HLOOKUP('Intermediate Freight Calcs'!A47,'BCA Values Freight'!$D$11:$AC$43,32,FALSE))+(HLOOKUP('Intermediate Freight Calcs'!A47,'BCA Values Freight'!$D$11:$AC$43,18,FALSE)*HLOOKUP('Intermediate Freight Calcs'!A47,'BCA Values Freight'!$D$11:$AC$43,33,FALSE)))","v":{"$error":"#VALUE!"}},{"$f":"'Project Information'!$D$23*HLOOKUP(A47,'BCA Values Freight'!$D$11:$AC$49,37,FALSE)+'Project Information'!$C$23*HLOOKUP(A47,'BCA Values Freight'!$D$11:$AC$49,38,FALSE)","v":{"$error":"#VALUE!"}},{"$f":"IFERROR((('Railcar and Passenger Demand'!C13/'Project Information'!$C$29)*'Project Information'!$C$31*'Project Information'!$C$29*'Project Information'!$C$28),\"\")","v":""},{"$f":"HLOOKUP('Intermediate Freight Calcs'!A47,'BCA Values Freight'!$D$11:$AC$43,21,FALSE)*HLOOKUP('Intermediate Freight Calcs'!A47,'BCA Values Freight'!$D$11:$AC$43,28,FALSE)+HLOOKUP('Intermediate Freight Calcs'!A47,'BCA Values Freight'!$D$11:$AC$43,22,FALSE)*HLOOKUP('Intermediate Freight Calcs'!A47,'BCA Values Freight'!$D$11:$AC$43,29,FALSE)+HLOOKUP('Intermediate Freight Calcs'!A47,'BCA Values Freight'!$D$11:$AC$43,23,FALSE)*0.97*HLOOKUP('Intermediate Freight Calcs'!A47,'BCA Values Freight'!$D$11:$AC$43,30,FALSE)+HLOOKUP('Intermediate Freight Calcs'!A47,'BCA Values Freight'!$D$11:$AC$43,23,FALSE)*0.03*HLOOKUP('Intermediate Freight Calcs'!A47,'BCA Values Freight'!$D$11:$AC$43,31,FALSE)+HLOOKUP('Intermediate Freight Calcs'!A47,'BCA Values Freight'!$D$11:$AC$43,24,FALSE)*HLOOKUP('Intermediate Freight Calcs'!A47,'BCA Values Freight'!$D$11:$AC$43,32,FALSE)+HLOOKUP('Intermediate Freight Calcs'!A47,'BCA Values Freight'!$D$11:$AC$43,25,FALSE)*HLOOKUP('Intermediate Freight Calcs'!A47,'BCA Values Freight'!$D$11:$AC$43,33,FALSE)","v":{"$error":"#N/A"}},{"$f":"HLOOKUP(A47,'BCA Values Freight'!$D$11:$AD$49,39,FALSE)","v":{"$error":"#N/A"}}]
[12,{"$f":"'Project Information'!$D$23*((HLOOKUP('Intermediate Freight Calcs'!A48,'BCA Values Freight'!$D$11:$AC$43,3,FALSE)*HLOOKUP('Intermediate Freight Calcs'!A48,'BCA Values Freight'!$D$11:$AC$43,28,FALSE))+(HLOOKUP('Intermediate Freight Calcs'!A48,'BCA Values Freight'!$D$11:$AC$43,5,FALSE)*HLOOKUP('Intermediate Freight Calcs'!A48,'BCA Values Freight'!$D$11:$AC$43,29,FALSE))+(HLOOKUP('Intermediate Freight Calcs'!A48,'BCA Values Freight'!$D$11:$AC$43,6,FALSE)*HLOOKUP('Intermediate Freight Calcs'!A48,'BCA Values Freight'!$D$11:$AC$43,30,FALSE))+(HLOOKUP('Intermediate Freight Calcs'!A48,'BCA Values Freight'!$D$11:$AC$43,7,FALSE)*HLOOKUP('Intermediate Freight Calcs'!A48,'BCA Values Freight'!$D$11:$AC$43,31,FALSE))+(HLOOKUP('Intermediate Freight Calcs'!A48,'BCA Values Freight'!$D$11:$AC$43,8,FALSE)*HLOOKUP('Intermediate Freight Calcs'!A48,'BCA Values Freight'!$D$11:$AC$43,32,FALSE))+(HLOOKUP('Intermediate Freight Calcs'!A48,'BCA Values Freight'!$D$11:$AC$43,9,FALSE)*HLOOKUP('Intermediate Freight Calcs'!A48,'BCA Values Freight'!$D$11:$AC$43,33,FALSE)))+'Project Information'!$C$23*((HLOOKUP('Intermediate Freight Calcs'!A48,'BCA Values Freight'!$D$11:$AC$43,12,FALSE)*HLOOKUP('Intermediate Freight Calcs'!A48,'BCA Values Freight'!$D$11:$AC$43,28,FALSE))+(HLOOKUP('Intermediate Freight Calcs'!A48,'BCA Values Freight'!$D$11:$AC$43,14,FALSE)*HLOOKUP('Intermediate Freight Calcs'!A48,'BCA Values Freight'!$D$11:$AC$43,29,FALSE))+(HLOOKUP('Intermediate Freight Calcs'!A48,'BCA Values Freight'!$D$11:$AC$43,15,FALSE)*HLOOKUP('Intermediate Freight Calcs'!A48,'BCA Values Freight'!$D$11:$AC$43,30,FALSE))+(HLOOKUP('Intermediate Freight Calcs'!A48,'BCA Values Freight'!$D$11:$AC$43,16,FALSE)*HLOOKUP('Intermediate Freight Calcs'!A48,'BCA Values Freight'!$D$11:$AC$43,31,FALSE))+(HLOOKUP('Intermediate Freight Calcs'!A48,'BCA Values Freight'!$D$11:$AC$43,17,FALSE)*HLOOKUP('Intermediate Freight Calcs'!A48,'BCA Values Freight'!$D$11:$AC$43,32,FALSE))+(HLOOKUP('Intermediate Freight Calcs'!A48,'BCA Values Freight'!$D$11:$AC$43,18,FALSE)*HLOOKUP('Intermediate Freight Calcs'!A48,'BCA Values Freight'!$D$11:$AC$43,33,FALSE)))","v":{"$error":"#VALUE!"}},{"$f":"'Project Information'!$D$23*HLOOKUP(A48,'BCA Values Freight'!$D$11:$AC$49,37,FALSE)+'Project Information'!$C$23*HLOOKUP(A48,'BCA Values Freight'!$D$11:$AC$49,38,FALSE)","v":{"$error":"#VALUE!"}},{"$f":"IFERROR((('Railcar and Passenger Demand'!C14/'Project Information'!$C$29)*'Project Information'!$C$31*'Project Information'!$C$29*'Project Information'!$C$28),\"\")","v":""},{"$f":"HLOOKUP('Intermediate Freight Calcs'!A48,'BCA Values Freight'!$D$11:$AC$43,21,FALSE)*HLOOKUP('Intermediate Freight Calcs'!A48,'BCA Values Freight'!$D$11:$AC$43,28,FALSE)+HLOOKUP('Intermediate Freight Calcs'!A48,'BCA Values Freight'!$D$11:$AC$43,22,FALSE)*HLOOKUP('Intermediate Freight Calcs'!A48,'BCA Values Freight'!$D$11:$AC$43,29,FALSE)+HLOOKUP('Intermediate Freight Calcs'!A48,'BCA Values Freight'!$D$11:$AC$43,23,FALSE)*0.97*HLOOKUP('Intermediate Freight Calcs'!A48,'BCA Values Freight'!$D$11:$AC$43,30,FALSE)+HLOOKUP('Intermediate Freight Calcs'!A48,'BCA Values Freight'!$D$11:$AC$43,23,FALSE)*0.03*HLOOKUP('Intermediate Freight Calcs'!A48,'BCA Values Freight'!$D$11:$AC$43,31,FALSE)+HLOOKUP('Intermediate Freight Calcs'!A48,'BCA Values Freight'!$D$11:$AC$43,24,FALSE)*HLOOKUP('Intermediate Freight Calcs'!A48,'BCA Values Freight'!$D$11:$AC$43,32,FALSE)+HLOOKUP('Intermediate Freight Calcs'!A48,'BCA Values Freight'!$D$11:$AC$43,25,FALSE)*HLOOKUP('Intermediate Freight Calcs'!A48,'BCA Values Freight'!$D$11:$AC$43,33,FALSE)","v":{"$error":"#N/A"}},{"$f":"HLOOKUP(A48,'BCA Values Freight'!$D$11:$AD$49,39,FALSE)","v":{"$error":"#N/A"}}]
[13,{"$f":"'Project Information'!$D$23*((HLOOKUP('Intermediate Freight Calcs'!A49,'BCA Values Freight'!$D$11:$AC$43,3,FALSE)*HLOOKUP('Intermediate Freight Calcs'!A49,'BCA Values Freight'!$D$11:$AC$43,28,FALSE))+(HLOOKUP('Intermediate Freight Calcs'!A49,'BCA Values Freight'!$D$11:$AC$43,5,FALSE)*HLOOKUP('Intermediate Freight Calcs'!A49,'BCA Values Freight'!$D$11:$AC$43,29,FALSE))+(HLOOKUP('Intermediate Freight Calcs'!A49,'BCA Values Freight'!$D$11:$AC$43,6,FALSE)*HLOOKUP('Intermediate Freight Calcs'!A49,'BCA Values Freight'!$D$11:$AC$43,30,FALSE))+(HLOOKUP('Intermediate Freight Calcs'!A49,'BCA Values Freight'!$D$11:$AC$43,7,FALSE)*HLOOKUP('Intermediate Freight Calcs'!A49,'BCA Values Freight'!$D$11:$AC$43,31,FALSE))+(HLOOKUP('Intermediate Freight Calcs'!A49,'BCA Values Freight'!$D$11:$AC$43,8,FALSE)*HLOOKUP('Intermediate Freight Calcs'!A49,'BCA Values Freight'!$D$11:$AC$43,32,FALSE))+(HLOOKUP('Intermediate Freight Calcs'!A49,'BCA Values Freight'!$D$11:$AC$43,9,FALSE)*HLOOKUP('Intermediate Freight Calcs'!A49,'BCA Values Freight'!$D$11:$AC$43,33,FALSE)))+'Project Information'!$C$23*((HLOOKUP('Intermediate Freight Calcs'!A49,'BCA Values Freight'!$D$11:$AC$43,12,FALSE)*HLOOKUP('Intermediate Freight Calcs'!A49,'BCA Values Freight'!$D$11:$AC$43,28,FALSE))+(HLOOKUP('Intermediate Freight Calcs'!A49,'BCA Values Freight'!$D$11:$AC$43,14,FALSE)*HLOOKUP('Intermediate Freight Calcs'!A49,'BCA Values Freight'!$D$11:$AC$43,29,FALSE))+(HLOOKUP('Intermediate Freight Calcs'!A49,'BCA Values Freight'!$D$11:$AC$43,15,FALSE)*HLOOKUP('Intermediate Freight Calcs'!A49,'BCA Values Freight'!$D$11:$AC$43,30,FALSE))+(HLOOKUP('Intermediate Freight Calcs'!A49,'BCA Values Freight'!$D$11:$AC$43,16,FALSE)*HLOOKUP('Intermediate Freight Calcs'!A49,'BCA Values Freight'!$D$11:$AC$43,31,FALSE))+(HLOOKUP('Intermediate Freight Calcs'!A49,'BCA Values Freight'!$D$11:$AC$43,17,FALSE)*HLOOKUP('Intermediate Freight Calcs'!A49,'BCA Values Freight'!$D$11:$AC$43,32,FALSE))+(HLOOKUP('Intermediate Freight Calcs'!A49,'BCA Values Freight'!$D$11:$AC$43,18,FALSE)*HLOOKUP('Intermediate Freight Calcs'!A49,'BCA Values Freight'!$D$11:$AC$43,33,FALSE)))","v":{"$error":"#VALUE!"}},{"$f":"'Project Information'!$D$23*HLOOKUP(A49,'BCA Values Freight'!$D$11:$AC$49,37,FALSE)+'Project Information'!$C$23*HLOOKUP(A49,'BCA Values Freight'!$D$11:$AC$49,38,FALSE)","v":{"$error":"#VALUE!"}},{"$f":"IFERROR((('Railcar and Passenger Demand'!C15/'Project Information'!$C$29)*'Project Information'!$C$31*'Project Information'!$C$29*'Project Information'!$C$28),\"\")","v":""},{"$f":"HLOOKUP('Intermediate Freight Calcs'!A49,'BCA Values Freight'!$D$11:$AC$43,21,FALSE)*HLOOKUP('Intermediate Freight Calcs'!A49,'BCA Values Freight'!$D$11:$AC$43,28,FALSE)+HLOOKUP('Intermediate Freight Calcs'!A49,'BCA Values Freight'!$D$11:$AC$43,22,FALSE)*HLOOKUP('Intermediate Freight Calcs'!A49,'BCA Values Freight'!$D$11:$AC$43,29,FALSE)+HLOOKUP('Intermediate Freight Calcs'!A49,'BCA Values Freight'!$D$11:$AC$43,23,FALSE)*0.97*HLOOKUP('Intermediate Freight Calcs'!A49,'BCA Values Freight'!$D$11:$AC$43,30,FALSE)+HLOOKUP('Intermediate Freight Calcs'!A49,'BCA Values Freight'!$D$11:$AC$43,23,FALSE)*0.03*HLOOKUP('Intermediate Freight Calcs'!A49,'BCA Values Freight'!$D$11:$AC$43,31,FALSE)+HLOOKUP('Intermediate Freight Calcs'!A49,'BCA Values Freight'!$D$11:$AC$43,24,FALSE)*HLOOKUP('Intermediate Freight Calcs'!A49,'BCA Values Freight'!$D$11:$AC$43,32,FALSE)+HLOOKUP('Intermediate Freight Calcs'!A49,'BCA Values Freight'!$D$11:$AC$43,25,FALSE)*HLOOKUP('Intermediate Freight Calcs'!A49,'BCA Values Freight'!$D$11:$AC$43,33,FALSE)","v":{"$error":"#N/A"}},{"$f":"HLOOKUP(A49,'BCA Values Freight'!$D$11:$AD$49,39,FALSE)","v":{"$error":"#N/A"}}]
[14,{"$f":"'Project Information'!$D$23*((HLOOKUP('Intermediate Freight Calcs'!A50,'BCA Values Freight'!$D$11:$AC$43,3,FALSE)*HLOOKUP('Intermediate Freight Calcs'!A50,'BCA Values Freight'!$D$11:$AC$43,28,FALSE))+(HLOOKUP('Intermediate Freight Calcs'!A50,'BCA Values Freight'!$D$11:$AC$43,5,FALSE)*HLOOKUP('Intermediate Freight Calcs'!A50,'BCA Values Freight'!$D$11:$AC$43,29,FALSE))+(HLOOKUP('Intermediate Freight Calcs'!A50,'BCA Values Freight'!$D$11:$AC$43,6,FALSE)*HLOOKUP('Intermediate Freight Calcs'!A50,'BCA Values Freight'!$D$11:$AC$43,30,FALSE))+(HLOOKUP('Intermediate Freight Calcs'!A50,'BCA Values Freight'!$D$11:$AC$43,7,FALSE)*HLOOKUP('Intermediate Freight Calcs'!A50,'BCA Values Freight'!$D$11:$AC$43,31,FALSE))+(HLOOKUP('Intermediate Freight Calcs'!A50,'BCA Values Freight'!$D$11:$AC$43,8,FALSE)*HLOOKUP('Intermediate Freight Calcs'!A50,'BCA Values Freight'!$D$11:$AC$43,32,FALSE))+(HLOOKUP('Intermediate Freight Calcs'!A50,'BCA Values Freight'!$D$11:$AC$43,9,FALSE)*HLOOKUP('Intermediate Freight Calcs'!A50,'BCA Values Freight'!$D$11:$AC$43,33,FALSE)))+'Project Information'!$C$23*((HLOOKUP('Intermediate Freight Calcs'!A50,'BCA Values Freight'!$D$11:$AC$43,12,FALSE)*HLOOKUP('Intermediate Freight Calcs'!A50,'BCA Values Freight'!$D$11:$AC$43,28,FALSE))+(HLOOKUP('Intermediate Freight Calcs'!A50,'BCA Values Freight'!$D$11:$AC$43,14,FALSE)*HLOOKUP('Intermediate Freight Calcs'!A50,'BCA Values Freight'!$D$11:$AC$43,29,FALSE))+(HLOOKUP('Intermediate Freight Calcs'!A50,'BCA Values Freight'!$D$11:$AC$43,15,FALSE)*HLOOKUP('Intermediate Freight Calcs'!A50,'BCA Values Freight'!$D$11:$AC$43,30,FALSE))+(HLOOKUP('Intermediate Freight Calcs'!A50,'BCA Values Freight'!$D$11:$AC$43,16,FALSE)*HLOOKUP('Intermediate Freight Calcs'!A50,'BCA Values Freight'!$D$11:$AC$43,31,FALSE))+(HLOOKUP('Intermediate Freight Calcs'!A50,'BCA Values Freight'!$D$11:$AC$43,17,FALSE)*HLOOKUP('Intermediate Freight Calcs'!A50,'BCA Values Freight'!$D$11:$AC$43,32,FALSE))+(HLOOKUP('Intermediate Freight Calcs'!A50,'BCA Values Freight'!$D$11:$AC$43,18,FALSE)*HLOOKUP('Intermediate Freight Calcs'!A50,'BCA Values Freight'!$D$11:$AC$43,33,FALSE)))","v":{"$error":"#VALUE!"}},{"$f":"'Project Information'!$D$23*HLOOKUP(A50,'BCA Values Freight'!$D$11:$AC$49,37,FALSE)+'Project Information'!$C$23*HLOOKUP(A50,'BCA Values Freight'!$D$11:$AC$49,38,FALSE)","v":{"$error":"#VALUE!"}},{"$f":"IFERROR((('Railcar and Passenger Demand'!C16/'Project Information'!$C$29)*'Project Information'!$C$31*'Project Information'!$C$29*'Project Information'!$C$28),\"\")","v":""},{"$f":"HLOOKUP('Intermediate Freight Calcs'!A50,'BCA Values Freight'!$D$11:$AC$43,21,FALSE)*HLOOKUP('Intermediate Freight Calcs'!A50,'BCA Values Freight'!$D$11:$AC$43,28,FALSE)+HLOOKUP('Intermediate Freight Calcs'!A50,'BCA Values Freight'!$D$11:$AC$43,22,FALSE)*HLOOKUP('Intermediate Freight Calcs'!A50,'BCA Values Freight'!$D$11:$AC$43,29,FALSE)+HLOOKUP('Intermediate Freight Calcs'!A50,'BCA Values Freight'!$D$11:$AC$43,23,FALSE)*0.97*HLOOKUP('Intermediate Freight Calcs'!A50,'BCA Values Freight'!$D$11:$AC$43,30,FALSE)+HLOOKUP('Intermediate Freight Calcs'!A50,'BCA Values Freight'!$D$11:$AC$43,23,FALSE)*0.03*HLOOKUP('Intermediate Freight Calcs'!A50,'BCA Values Freight'!$D$11:$AC$43,31,FALSE)+HLOOKUP('Intermediate Freight Calcs'!A50,'BCA Values Freight'!$D$11:$AC$43,24,FALSE)*HLOOKUP('Intermediate Freight Calcs'!A50,'BCA Values Freight'!$D$11:$AC$43,32,FALSE)+HLOOKUP('Intermediate Freight Calcs'!A50,'BCA Values Freight'!$D$11:$AC$43,25,FALSE)*HLOOKUP('Intermediate Freight Calcs'!A50,'BCA Values Freight'!$D$11:$AC$43,33,FALSE)","v":{"$error":"#N/A"}},{"$f":"HLOOKUP(A50,'BCA Values Freight'!$D$11:$AD$49,39,FALSE)","v":{"$error":"#N/A"}}]
[15,{"$f":"'Project Information'!$D$23*((HLOOKUP('Intermediate Freight Calcs'!A51,'BCA Values Freight'!$D$11:$AC$43,3,FALSE)*HLOOKUP('Intermediate Freight Calcs'!A51,'BCA Values Freight'!$D$11:$AC$43,28,FALSE))+(HLOOKUP('Intermediate Freight Calcs'!A51,'BCA Values Freight'!$D$11:$AC$43,5,FALSE)*HLOOKUP('Intermediate Freight Calcs'!A51,'BCA Values Freight'!$D$11:$AC$43,29,FALSE))+(HLOOKUP('Intermediate Freight Calcs'!A51,'BCA Values Freight'!$D$11:$AC$43,6,FALSE)*HLOOKUP('Intermediate Freight Calcs'!A51,'BCA Values Freight'!$D$11:$AC$43,30,FALSE))+(HLOOKUP('Intermediate Freight Calcs'!A51,'BCA Values Freight'!$D$11:$AC$43,7,FALSE)*HLOOKUP('Intermediate Freight Calcs'!A51,'BCA Values Freight'!$D$11:$AC$43,31,FALSE))+(HLOOKUP('Intermediate Freight Calcs'!A51,'BCA Values Freight'!$D$11:$AC$43,8,FALSE)*HLOOKUP('Intermediate Freight Calcs'!A51,'BCA Values Freight'!$D$11:$AC$43,32,FALSE))+(HLOOKUP('Intermediate Freight Calcs'!A51,'BCA Values Freight'!$D$11:$AC$43,9,FALSE)*HLOOKUP('Intermediate Freight Calcs'!A51,'BCA Values Freight'!$D$11:$AC$43,33,FALSE)))+'Project Information'!$C$23*((HLOOKUP('Intermediate Freight Calcs'!A51,'BCA Values Freight'!$D$11:$AC$43,12,FALSE)*HLOOKUP('Intermediate Freight Calcs'!A51,'BCA Values Freight'!$D$11:$AC$43,28,FALSE))+(HLOOKUP('Intermediate Freight Calcs'!A51,'BCA Values Freight'!$D$11:$AC$43,14,FALSE)*HLOOKUP('Intermediate Freight Calcs'!A51,'BCA Values Freight'!$D$11:$AC$43,29,FALSE))+(HLOOKUP('Intermediate Freight Calcs'!A51,'BCA Values Freight'!$D$11:$AC$43,15,FALSE)*HLOOKUP('Intermediate Freight Calcs'!A51,'BCA Values Freight'!$D$11:$AC$43,30,FALSE))+(HLOOKUP('Intermediate Freight Calcs'!A51,'BCA Values Freight'!$D$11:$AC$43,16,FALSE)*HLOOKUP('Intermediate Freight Calcs'!A51,'BCA Values Freight'!$D$11:$AC$43,31,FALSE))+(HLOOKUP('Intermediate Freight Calcs'!A51,'BCA Values Freight'!$D$11:$AC$43,17,FALSE)*HLOOKUP('Intermediate Freight Calcs'!A51,'BCA Values Freight'!$D$11:$AC$43,32,FALSE))+(HLOOKUP('Intermediate Freight Calcs'!A51,'BCA Values Freight'!$D$11:$AC$43,18,FALSE)*HLOOKUP('Intermediate Freight Calcs'!A51,'BCA Values Freight'!$D$11:$AC$43,33,FALSE)))","v":{"$error":"#VALUE!"}},{"$f":"'Project Information'!$D$23*HLOOKUP(A51,'BCA Values Freight'!$D$11:$AC$49,37,FALSE)+'Project Information'!$C$23*HLOOKUP(A51,'BCA Values Freight'!$D$11:$AC$49,38,FALSE)","v":{"$error":"#VALUE!"}},{"$f":"IFERROR((('Railcar and Passenger Demand'!C17/'Project Information'!$C$29)*'Project Information'!$C$31*'Project Information'!$C$29*'Project Information'!$C$28),\"\")","v":""},{"$f":"HLOOKUP('Intermediate Freight Calcs'!A51,'BCA Values Freight'!$D$11:$AC$43,21,FALSE)*HLOOKUP('Intermediate Freight Calcs'!A51,'BCA Values Freight'!$D$11:$AC$43,28,FALSE)+HLOOKUP('Intermediate Freight Calcs'!A51,'BCA Values Freight'!$D$11:$AC$43,22,FALSE)*HLOOKUP('Intermediate Freight Calcs'!A51,'BCA Values Freight'!$D$11:$AC$43,29,FALSE)+HLOOKUP('Intermediate Freight Calcs'!A51,'BCA Values Freight'!$D$11:$AC$43,23,FALSE)*0.97*HLOOKUP('Intermediate Freight Calcs'!A51,'BCA Values Freight'!$D$11:$AC$43,30,FALSE)+HLOOKUP('Intermediate Freight Calcs'!A51,'BCA Values Freight'!$D$11:$AC$43,23,FALSE)*0.03*HLOOKUP('Intermediate Freight Calcs'!A51,'BCA Values Freight'!$D$11:$AC$43,31,FALSE)+HLOOKUP('Intermediate Freight Calcs'!A51,'BCA Values Freight'!$D$11:$AC$43,24,FALSE)*HLOOKUP('Intermediate Freight Calcs'!A51,'BCA Values Freight'!$D$11:$AC$43,32,FALSE)+HLOOKUP('Intermediate Freight Calcs'!A51,'BCA Values Freight'!$D$11:$AC$43,25,FALSE)*HLOOKUP('Intermediate Freight Calcs'!A51,'BCA Values Freight'!$D$11:$AC$43,33,FALSE)","v":{"$error":"#N/A"}},{"$f":"HLOOKUP(A51,'BCA Values Freight'!$D$11:$AD$49,39,FALSE)","v":{"$error":"#N/A"}}]
[16,{"$f":"'Project Information'!$D$23*((HLOOKUP('Intermediate Freight Calcs'!A52,'BCA Values Freight'!$D$11:$AC$43,3,FALSE)*HLOOKUP('Intermediate Freight Calcs'!A52,'BCA Values Freight'!$D$11:$AC$43,28,FALSE))+(HLOOKUP('Intermediate Freight Calcs'!A52,'BCA Values Freight'!$D$11:$AC$43,5,FALSE)*HLOOKUP('Intermediate Freight Calcs'!A52,'BCA Values Freight'!$D$11:$AC$43,29,FALSE))+(HLOOKUP('Intermediate Freight Calcs'!A52,'BCA Values Freight'!$D$11:$AC$43,6,FALSE)*HLOOKUP('Intermediate Freight Calcs'!A52,'BCA Values Freight'!$D$11:$AC$43,30,FALSE))+(HLOOKUP('Intermediate Freight Calcs'!A52,'BCA Values Freight'!$D$11:$AC$43,7,FALSE)*HLOOKUP('Intermediate Freight Calcs'!A52,'BCA Values Freight'!$D$11:$AC$43,31,FALSE))+(HLOOKUP('Intermediate Freight Calcs'!A52,'BCA Values Freight'!$D$11:$AC$43,8,FALSE)*HLOOKUP('Intermediate Freight Calcs'!A52,'BCA Values Freight'!$D$11:$AC$43,32,FALSE))+(HLOOKUP('Intermediate Freight Calcs'!A52,'BCA Values Freight'!$D$11:$AC$43,9,FALSE)*HLOOKUP('Intermediate Freight Calcs'!A52,'BCA Values Freight'!$D$11:$AC$43,33,FALSE)))+'Project Information'!$C$23*((HLOOKUP('Intermediate Freight Calcs'!A52,'BCA Values Freight'!$D$11:$AC$43,12,FALSE)*HLOOKUP('Intermediate Freight Calcs'!A52,'BCA Values Freight'!$D$11:$AC$43,28,FALSE))+(HLOOKUP('Intermediate Freight Calcs'!A52,'BCA Values Freight'!$D$11:$AC$43,14,FALSE)*HLOOKUP('Intermediate Freight Calcs'!A52,'BCA Values Freight'!$D$11:$AC$43,29,FALSE))+(HLOOKUP('Intermediate Freight Calcs'!A52,'BCA Values Freight'!$D$11:$AC$43,15,FALSE)*HLOOKUP('Intermediate Freight Calcs'!A52,'BCA Values Freight'!$D$11:$AC$43,30,FALSE))+(HLOOKUP('Intermediate Freight Calcs'!A52,'BCA Values Freight'!$D$11:$AC$43,16,FALSE)*HLOOKUP('Intermediate Freight Calcs'!A52,'BCA Values Freight'!$D$11:$AC$43,31,FALSE))+(HLOOKUP('Intermediate Freight Calcs'!A52,'BCA Values Freight'!$D$11:$AC$43,17,FALSE)*HLOOKUP('Intermediate Freight Calcs'!A52,'BCA Values Freight'!$D$11:$AC$43,32,FALSE))+(HLOOKUP('Intermediate Freight Calcs'!A52,'BCA Values Freight'!$D$11:$AC$43,18,FALSE)*HLOOKUP('Intermediate Freight Calcs'!A52,'BCA Values Freight'!$D$11:$AC$43,33,FALSE)))","v":{"$error":"#VALUE!"}},{"$f":"'Project Information'!$D$23*HLOOKUP(A52,'BCA Values Freight'!$D$11:$AC$49,37,FALSE)+'Project Information'!$C$23*HLOOKUP(A52,'BCA Values Freight'!$D$11:$AC$49,38,FALSE)","v":{"$error":"#VALUE!"}},{"$f":"IFERROR((('Railcar and Passenger Demand'!C18/'Project Information'!$C$29)*'Project Information'!$C$31*'Project Information'!$C$29*'Project Information'!$C$28),\"\")","v":""},{"$f":"HLOOKUP('Intermediate Freight Calcs'!A52,'BCA Values Freight'!$D$11:$AC$43,21,FALSE)*HLOOKUP('Intermediate Freight Calcs'!A52,'BCA Values Freight'!$D$11:$AC$43,28,FALSE)+HLOOKUP('Intermediate Freight Calcs'!A52,'BCA Values Freight'!$D$11:$AC$43,22,FALSE)*HLOOKUP('Intermediate Freight Calcs'!A52,'BCA Values Freight'!$D$11:$AC$43,29,FALSE)+HLOOKUP('Intermediate Freight Calcs'!A52,'BCA Values Freight'!$D$11:$AC$43,23,FALSE)*0.97*HLOOKUP('Intermediate Freight Calcs'!A52,'BCA Values Freight'!$D$11:$AC$43,30,FALSE)+HLOOKUP('Intermediate Freight Calcs'!A52,'BCA Values Freight'!$D$11:$AC$43,23,FALSE)*0.03*HLOOKUP('Intermediate Freight Calcs'!A52,'BCA Values Freight'!$D$11:$AC$43,31,FALSE)+HLOOKUP('Intermediate Freight Calcs'!A52,'BCA Values Freight'!$D$11:$AC$43,24,FALSE)*HLOOKUP('Intermediate Freight Calcs'!A52,'BCA Values Freight'!$D$11:$AC$43,32,FALSE)+HLOOKUP('Intermediate Freight Calcs'!A52,'BCA Values Freight'!$D$11:$AC$43,25,FALSE)*HLOOKUP('Intermediate Freight Calcs'!A52,'BCA Values Freight'!$D$11:$AC$43,33,FALSE)","v":{"$error":"#N/A"}},{"$f":"HLOOKUP(A52,'BCA Values Freight'!$D$11:$AD$49,39,FALSE)","v":{"$error":"#N/A"}}]
[17,{"$f":"'Project Information'!$D$23*((HLOOKUP('Intermediate Freight Calcs'!A53,'BCA Values Freight'!$D$11:$AC$43,3,FALSE)*HLOOKUP('Intermediate Freight Calcs'!A53,'BCA Values Freight'!$D$11:$AC$43,28,FALSE))+(HLOOKUP('Intermediate Freight Calcs'!A53,'BCA Values Freight'!$D$11:$AC$43,5,FALSE)*HLOOKUP('Intermediate Freight Calcs'!A53,'BCA Values Freight'!$D$11:$AC$43,29,FALSE))+(HLOOKUP('Intermediate Freight Calcs'!A53,'BCA Values Freight'!$D$11:$AC$43,6,FALSE)*HLOOKUP('Intermediate Freight Calcs'!A53,'BCA Values Freight'!$D$11:$AC$43,30,FALSE))+(HLOOKUP('Intermediate Freight Calcs'!A53,'BCA Values Freight'!$D$11:$AC$43,7,FALSE)*HLOOKUP('Intermediate Freight Calcs'!A53,'BCA Values Freight'!$D$11:$AC$43,31,FALSE))+(HLOOKUP('Intermediate Freight Calcs'!A53,'BCA Values Freight'!$D$11:$AC$43,8,FALSE)*HLOOKUP('Intermediate Freight Calcs'!A53,'BCA Values Freight'!$D$11:$AC$43,32,FALSE))+(HLOOKUP('Intermediate Freight Calcs'!A53,'BCA Values Freight'!$D$11:$AC$43,9,FALSE)*HLOOKUP('Intermediate Freight Calcs'!A53,'BCA Values Freight'!$D$11:$AC$43,33,FALSE)))+'Project Information'!$C$23*((HLOOKUP('Intermediate Freight Calcs'!A53,'BCA Values Freight'!$D$11:$AC$43,12,FALSE)*HLOOKUP('Intermediate Freight Calcs'!A53,'BCA Values Freight'!$D$11:$AC$43,28,FALSE))+(HLOOKUP('Intermediate Freight Calcs'!A53,'BCA Values Freight'!$D$11:$AC$43,14,FALSE)*HLOOKUP('Intermediate Freight Calcs'!A53,'BCA Values Freight'!$D$11:$AC$43,29,FALSE))+(HLOOKUP('Intermediate Freight Calcs'!A53,'BCA Values Freight'!$D$11:$AC$43,15,FALSE)*HLOOKUP('Intermediate Freight Calcs'!A53,'BCA Values Freight'!$D$11:$AC$43,30,FALSE))+(HLOOKUP('Intermediate Freight Calcs'!A53,'BCA Values Freight'!$D$11:$AC$43,16,FALSE)*HLOOKUP('Intermediate Freight Calcs'!A53,'BCA Values Freight'!$D$11:$AC$43,31,FALSE))+(HLOOKUP('Intermediate Freight Calcs'!A53,'BCA Values Freight'!$D$11:$AC$43,17,FALSE)*HLOOKUP('Intermediate Freight Calcs'!A53,'BCA Values Freight'!$D$11:$AC$43,32,FALSE))+(HLOOKUP('Intermediate Freight Calcs'!A53,'BCA Values Freight'!$D$11:$AC$43,18,FALSE)*HLOOKUP('Intermediate Freight Calcs'!A53,'BCA Values Freight'!$D$11:$AC$43,33,FALSE)))","v":{"$error":"#VALUE!"}},{"$f":"'Project Information'!$D$23*HLOOKUP(A53,'BCA Values Freight'!$D$11:$AC$49,37,FALSE)+'Project Information'!$C$23*HLOOKUP(A53,'BCA Values Freight'!$D$11:$AC$49,38,FALSE)","v":{"$error":"#VALUE!"}},{"$f":"IFERROR((('Railcar and Passenger Demand'!C19/'Project Information'!$C$29)*'Project Information'!$C$31*'Project Information'!$C$29*'Project Information'!$C$28),\"\")","v":""},{"$f":"HLOOKUP('Intermediate Freight Calcs'!A53,'BCA Values Freight'!$D$11:$AC$43,21,FALSE)*HLOOKUP('Intermediate Freight Calcs'!A53,'BCA Values Freight'!$D$11:$AC$43,28,FALSE)+HLOOKUP('Intermediate Freight Calcs'!A53,'BCA Values Freight'!$D$11:$AC$43,22,FALSE)*HLOOKUP('Intermediate Freight Calcs'!A53,'BCA Values Freight'!$D$11:$AC$43,29,FALSE)+HLOOKUP('Intermediate Freight Calcs'!A53,'BCA Values Freight'!$D$11:$AC$43,23,FALSE)*0.97*HLOOKUP('Intermediate Freight Calcs'!A53,'BCA Values Freight'!$D$11:$AC$43,30,FALSE)+HLOOKUP('Intermediate Freight Calcs'!A53,'BCA Values Freight'!$D$11:$AC$43,23,FALSE)*0.03*HLOOKUP('Intermediate Freight Calcs'!A53,'BCA Values Freight'!$D$11:$AC$43,31,FALSE)+HLOOKUP('Intermediate Freight Calcs'!A53,'BCA Values Freight'!$D$11:$AC$43,24,FALSE)*HLOOKUP('Intermediate Freight Calcs'!A53,'BCA Values Freight'!$D$11:$AC$43,32,FALSE)+HLOOKUP('Intermediate Freight Calcs'!A53,'BCA Values Freight'!$D$11:$AC$43,25,FALSE)*HLOOKUP('Intermediate Freight Calcs'!A53,'BCA Values Freight'!$D$11:$AC$43,33,FALSE)","v":{"$error":"#N/A"}},{"$f":"HLOOKUP(A53,'BCA Values Freight'!$D$11:$AD$49,39,FALSE)","v":{"$error":"#N/A"}}]
[18,{"$f":"'Project Information'!$D$23*((HLOOKUP('Intermediate Freight Calcs'!A54,'BCA Values Freight'!$D$11:$AC$43,3,FALSE)*HLOOKUP('Intermediate Freight Calcs'!A54,'BCA Values Freight'!$D$11:$AC$43,28,FALSE))+(HLOOKUP('Intermediate Freight Calcs'!A54,'BCA Values Freight'!$D$11:$AC$43,5,FALSE)*HLOOKUP('Intermediate Freight Calcs'!A54,'BCA Values Freight'!$D$11:$AC$43,29,FALSE))+(HLOOKUP('Intermediate Freight Calcs'!A54,'BCA Values Freight'!$D$11:$AC$43,6,FALSE)*HLOOKUP('Intermediate Freight Calcs'!A54,'BCA Values Freight'!$D$11:$AC$43,30,FALSE))+(HLOOKUP('Intermediate Freight Calcs'!A54,'BCA Values Freight'!$D$11:$AC$43,7,FALSE)*HLOOKUP('Intermediate Freight Calcs'!A54,'BCA Values Freight'!$D$11:$AC$43,31,FALSE))+(HLOOKUP('Intermediate Freight Calcs'!A54,'BCA Values Freight'!$D$11:$AC$43,8,FALSE)*HLOOKUP('Intermediate Freight Calcs'!A54,'BCA Values Freight'!$D$11:$AC$43,32,FALSE))+(HLOOKUP('Intermediate Freight Calcs'!A54,'BCA Values Freight'!$D$11:$AC$43,9,FALSE)*HLOOKUP('Intermediate Freight Calcs'!A54,'BCA Values Freight'!$D$11:$AC$43,33,FALSE)))+'Project Information'!$C$23*((HLOOKUP('Intermediate Freight Calcs'!A54,'BCA Values Freight'!$D$11:$AC$43,12,FALSE)*HLOOKUP('Intermediate Freight Calcs'!A54,'BCA Values Freight'!$D$11:$AC$43,28,FALSE))+(HLOOKUP('Intermediate Freight Calcs'!A54,'BCA Values Freight'!$D$11:$AC$43,14,FALSE)*HLOOKUP('Intermediate Freight Calcs'!A54,'BCA Values Freight'!$D$11:$AC$43,29,FALSE))+(HLOOKUP('Intermediate Freight Calcs'!A54,'BCA Values Freight'!$D$11:$AC$43,15,FALSE)*HLOOKUP('Intermediate Freight Calcs'!A54,'BCA Values Freight'!$D$11:$AC$43,30,FALSE))+(HLOOKUP('Intermediate Freight Calcs'!A54,'BCA Values Freight'!$D$11:$AC$43,16,FALSE)*HLOOKUP('Intermediate Freight Calcs'!A54,'BCA Values Freight'!$D$11:$AC$43,31,FALSE))+(HLOOKUP('Intermediate Freight Calcs'!A54,'BCA Values Freight'!$D$11:$AC$43,17,FALSE)*HLOOKUP('Intermediate Freight Calcs'!A54,'BCA Values Freight'!$D$11:$AC$43,32,FALSE))+(HLOOKUP('Intermediate Freight Calcs'!A54,'BCA Values Freight'!$D$11:$AC$43,18,FALSE)*HLOOKUP('Intermediate Freight Calcs'!A54,'BCA Values Freight'!$D$11:$AC$43,33,FALSE)))","v":{"$error":"#VALUE!"}},{"$f":"'Project Information'!$D$23*HLOOKUP(A54,'BCA Values Freight'!$D$11:$AC$49,37,FALSE)+'Project Information'!$C$23*HLOOKUP(A54,'BCA Values Freight'!$D$11:$AC$49,38,FALSE)","v":{"$error":"#VALUE!"}},{"$f":"IFERROR((('Railcar and Passenger Demand'!C20/'Project Information'!$C$29)*'Project Information'!$C$31*'Project Information'!$C$29*'Project Information'!$C$28),\"\")","v":""},{"$f":"HLOOKUP('Intermediate Freight Calcs'!A54,'BCA Values Freight'!$D$11:$AC$43,21,FALSE)*HLOOKUP('Intermediate Freight Calcs'!A54,'BCA Values Freight'!$D$11:$AC$43,28,FALSE)+HLOOKUP('Intermediate Freight Calcs'!A54,'BCA Values Freight'!$D$11:$AC$43,22,FALSE)*HLOOKUP('Intermediate Freight Calcs'!A54,'BCA Values Freight'!$D$11:$AC$43,29,FALSE)+HLOOKUP('Intermediate Freight Calcs'!A54,'BCA Values Freight'!$D$11:$AC$43,23,FALSE)*0.97*HLOOKUP('Intermediate Freight Calcs'!A54,'BCA Values Freight'!$D$11:$AC$43,30,FALSE)+HLOOKUP('Intermediate Freight Calcs'!A54,'BCA Values Freight'!$D$11:$AC$43,23,FALSE)*0.03*HLOOKUP('Intermediate Freight Calcs'!A54,'BCA Values Freight'!$D$11:$AC$43,31,FALSE)+HLOOKUP('Intermediate Freight Calcs'!A54,'BCA Values Freight'!$D$11:$AC$43,24,FALSE)*HLOOKUP('Intermediate Freight Calcs'!A54,'BCA Values Freight'!$D$11:$AC$43,32,FALSE)+HLOOKUP('Intermediate Freight Calcs'!A54,'BCA Values Freight'!$D$11:$AC$43,25,FALSE)*HLOOKUP('Intermediate Freight Calcs'!A54,'BCA Values Freight'!$D$11:$AC$43,33,FALSE)","v":{"$error":"#N/A"}},{"$f":"HLOOKUP(A54,'BCA Values Freight'!$D$11:$AD$49,39,FALSE)","v":{"$error":"#N/A"}}]
[19,{"$f":"'Project Information'!$D$23*((HLOOKUP('Intermediate Freight Calcs'!A55,'BCA Values Freight'!$D$11:$AC$43,3,FALSE)*HLOOKUP('Intermediate Freight Calcs'!A55,'BCA Values Freight'!$D$11:$AC$43,28,FALSE))+(HLOOKUP('Intermediate Freight Calcs'!A55,'BCA Values Freight'!$D$11:$AC$43,5,FALSE)*HLOOKUP('Intermediate Freight Calcs'!A55,'BCA Values Freight'!$D$11:$AC$43,29,FALSE))+(HLOOKUP('Intermediate Freight Calcs'!A55,'BCA Values Freight'!$D$11:$AC$43,6,FALSE)*HLOOKUP('Intermediate Freight Calcs'!A55,'BCA Values Freight'!$D$11:$AC$43,30,FALSE))+(HLOOKUP('Intermediate Freight Calcs'!A55,'BCA Values Freight'!$D$11:$AC$43,7,FALSE)*HLOOKUP('Intermediate Freight Calcs'!A55,'BCA Values Freight'!$D$11:$AC$43,31,FALSE))+(HLOOKUP('Intermediate Freight Calcs'!A55,'BCA Values Freight'!$D$11:$AC$43,8,FALSE)*HLOOKUP('Intermediate Freight Calcs'!A55,'BCA Values Freight'!$D$11:$AC$43,32,FALSE))+(HLOOKUP('Intermediate Freight Calcs'!A55,'BCA Values Freight'!$D$11:$AC$43,9,FALSE)*HLOOKUP('Intermediate Freight Calcs'!A55,'BCA Values Freight'!$D$11:$AC$43,33,FALSE)))+'Project Information'!$C$23*((HLOOKUP('Intermediate Freight Calcs'!A55,'BCA Values Freight'!$D$11:$AC$43,12,FALSE)*HLOOKUP('Intermediate Freight Calcs'!A55,'BCA Values Freight'!$D$11:$AC$43,28,FALSE))+(HLOOKUP('Intermediate Freight Calcs'!A55,'BCA Values Freight'!$D$11:$AC$43,14,FALSE)*HLOOKUP('Intermediate Freight Calcs'!A55,'BCA Values Freight'!$D$11:$AC$43,29,FALSE))+(HLOOKUP('Intermediate Freight Calcs'!A55,'BCA Values Freight'!$D$11:$AC$43,15,FALSE)*HLOOKUP('Intermediate Freight Calcs'!A55,'BCA Values Freight'!$D$11:$AC$43,30,FALSE))+(HLOOKUP('Intermediate Freight Calcs'!A55,'BCA Values Freight'!$D$11:$AC$43,16,FALSE)*HLOOKUP('Intermediate Freight Calcs'!A55,'BCA Values Freight'!$D$11:$AC$43,31,FALSE))+(HLOOKUP('Intermediate Freight Calcs'!A55,'BCA Values Freight'!$D$11:$AC$43,17,FALSE)*HLOOKUP('Intermediate Freight Calcs'!A55,'BCA Values Freight'!$D$11:$AC$43,32,FALSE))+(HLOOKUP('Intermediate Freight Calcs'!A55,'BCA Values Freight'!$D$11:$AC$43,18,FALSE)*HLOOKUP('Intermediate Freight Calcs'!A55,'BCA Values Freight'!$D$11:$AC$43,33,FALSE)))","v":{"$error":"#VALUE!"}},{"$f":"'Project Information'!$D$23*HLOOKUP(A55,'BCA Values Freight'!$D$11:$AC$49,37,FALSE)+'Project Information'!$C$23*HLOOKUP(A55,'BCA Values Freight'!$D$11:$AC$49,38,FALSE)","v":{"$error":"#VALUE!"}},{"$f":"IFERROR((('Railcar and Passenger Demand'!C21/'Project Information'!$C$29)*'Project Information'!$C$31*'Project Information'!$C$29*'Project Information'!$C$28),\"\")","v":""},{"$f":"HLOOKUP('Intermediate Freight Calcs'!A55,'BCA Values Freight'!$D$11:$AC$43,21,FALSE)*HLOOKUP('Intermediate Freight Calcs'!A55,'BCA Values Freight'!$D$11:$AC$43,28,FALSE)+HLOOKUP('Intermediate Freight Calcs'!A55,'BCA Values Freight'!$D$11:$AC$43,22,FALSE)*HLOOKUP('Intermediate Freight Calcs'!A55,'BCA Values Freight'!$D$11:$AC$43,29,FALSE)+HLOOKUP('Intermediate Freight Calcs'!A55,'BCA Values Freight'!$D$11:$AC$43,23,FALSE)*0.97*HLOOKUP('Intermediate Freight Calcs'!A55,'BCA Values Freight'!$D$11:$AC$43,30,FALSE)+HLOOKUP('Intermediate Freight Calcs'!A55,'BCA Values Freight'!$D$11:$AC$43,23,FALSE)*0.03*HLOOKUP('Intermediate Freight Calcs'!A55,'BCA Values Freight'!$D$11:$AC$43,31,FALSE)+HLOOKUP('Intermediate Freight Calcs'!A55,'BCA Values Freight'!$D$11:$AC$43,24,FALSE)*HLOOKUP('Intermediate Freight Calcs'!A55,'BCA Values Freight'!$D$11:$AC$43,32,FALSE)+HLOOKUP('Intermediate Freight Calcs'!A55,'BCA Values Freight'!$D$11:$AC$43,25,FALSE)*HLOOKUP('Intermediate Freight Calcs'!A55,'BCA Values Freight'!$D$11:$AC$43,33,FALSE)","v":{"$error":"#N/A"}},{"$f":"HLOOKUP(A55,'BCA Values Freight'!$D$11:$AD$49,39,FALSE)","v":{"$error":"#N/A"}}]
[20,{"$f":"'Project Information'!$D$23*((HLOOKUP('Intermediate Freight Calcs'!A56,'BCA Values Freight'!$D$11:$AC$43,3,FALSE)*HLOOKUP('Intermediate Freight Calcs'!A56,'BCA Values Freight'!$D$11:$AC$43,28,FALSE))+(HLOOKUP('Intermediate Freight Calcs'!A56,'BCA Values Freight'!$D$11:$AC$43,5,FALSE)*HLOOKUP('Intermediate Freight Calcs'!A56,'BCA Values Freight'!$D$11:$AC$43,29,FALSE))+(HLOOKUP('Intermediate Freight Calcs'!A56,'BCA Values Freight'!$D$11:$AC$43,6,FALSE)*HLOOKUP('Intermediate Freight Calcs'!A56,'BCA Values Freight'!$D$11:$AC$43,30,FALSE))+(HLOOKUP('Intermediate Freight Calcs'!A56,'BCA Values Freight'!$D$11:$AC$43,7,FALSE)*HLOOKUP('Intermediate Freight Calcs'!A56,'BCA Values Freight'!$D$11:$AC$43,31,FALSE))+(HLOOKUP('Intermediate Freight Calcs'!A56,'BCA Values Freight'!$D$11:$AC$43,8,FALSE)*HLOOKUP('Intermediate Freight Calcs'!A56,'BCA Values Freight'!$D$11:$AC$43,32,FALSE))+(HLOOKUP('Intermediate Freight Calcs'!A56,'BCA Values Freight'!$D$11:$AC$43,9,FALSE)*HLOOKUP('Intermediate Freight Calcs'!A56,'BCA Values Freight'!$D$11:$AC$43,33,FALSE)))+'Project Information'!$C$23*((HLOOKUP('Intermediate Freight Calcs'!A56,'BCA Values Freight'!$D$11:$AC$43,12,FALSE)*HLOOKUP('Intermediate Freight Calcs'!A56,'BCA Values Freight'!$D$11:$AC$43,28,FALSE))+(HLOOKUP('Intermediate Freight Calcs'!A56,'BCA Values Freight'!$D$11:$AC$43,14,FALSE)*HLOOKUP('Intermediate Freight Calcs'!A56,'BCA Values Freight'!$D$11:$AC$43,29,FALSE))+(HLOOKUP('Intermediate Freight Calcs'!A56,'BCA Values Freight'!$D$11:$AC$43,15,FALSE)*HLOOKUP('Intermediate Freight Calcs'!A56,'BCA Values Freight'!$D$11:$AC$43,30,FALSE))+(HLOOKUP('Intermediate Freight Calcs'!A56,'BCA Values Freight'!$D$11:$AC$43,16,FALSE)*HLOOKUP('Intermediate Freight Calcs'!A56,'BCA Values Freight'!$D$11:$AC$43,31,FALSE))+(HLOOKUP('Intermediate Freight Calcs'!A56,'BCA Values Freight'!$D$11:$AC$43,17,FALSE)*HLOOKUP('Intermediate Freight Calcs'!A56,'BCA Values Freight'!$D$11:$AC$43,32,FALSE))+(HLOOKUP('Intermediate Freight Calcs'!A56,'BCA Values Freight'!$D$11:$AC$43,18,FALSE)*HLOOKUP('Intermediate Freight Calcs'!A56,'BCA Values Freight'!$D$11:$AC$43,33,FALSE)))","v":{"$error":"#VALUE!"}},{"$f":"'Project Information'!$D$23*HLOOKUP(A56,'BCA Values Freight'!$D$11:$AC$49,37,FALSE)+'Project Information'!$C$23*HLOOKUP(A56,'BCA Values Freight'!$D$11:$AC$49,38,FALSE)","v":{"$error":"#VALUE!"}},{"$f":"IFERROR((('Railcar and Passenger Demand'!C22/'Project Information'!$C$29)*'Project Information'!$C$31*'Project Information'!$C$29*'Project Information'!$C$28),\"\")","v":""},{"$f":"HLOOKUP('Intermediate Freight Calcs'!A56,'BCA Values Freight'!$D$11:$AC$43,21,FALSE)*HLOOKUP('Intermediate Freight Calcs'!A56,'BCA Values Freight'!$D$11:$AC$43,28,FALSE)+HLOOKUP('Intermediate Freight Calcs'!A56,'BCA Values Freight'!$D$11:$AC$43,22,FALSE)*HLOOKUP('Intermediate Freight Calcs'!A56,'BCA Values Freight'!$D$11:$AC$43,29,FALSE)+HLOOKUP('Intermediate Freight Calcs'!A56,'BCA Values Freight'!$D$11:$AC$43,23,FALSE)*0.97*HLOOKUP('Intermediate Freight Calcs'!A56,'BCA Values Freight'!$D$11:$AC$43,30,FALSE)+HLOOKUP('Intermediate Freight Calcs'!A56,'BCA Values Freight'!$D$11:$AC$43,23,FALSE)*0.03*HLOOKUP('Intermediate Freight Calcs'!A56,'BCA Values Freight'!$D$11:$AC$43,31,FALSE)+HLOOKUP('Intermediate Freight Calcs'!A56,'BCA Values Freight'!$D$11:$AC$43,24,FALSE)*HLOOKUP('Intermediate Freight Calcs'!A56,'BCA Values Freight'!$D$11:$AC$43,32,FALSE)+HLOOKUP('Intermediate Freight Calcs'!A56,'BCA Values Freight'!$D$11:$AC$43,25,FALSE)*HLOOKUP('Intermediate Freight Calcs'!A56,'BCA Values Freight'!$D$11:$AC$43,33,FALSE)","v":{"$error":"#N/A"}},{"$f":"HLOOKUP(A56,'BCA Values Freight'!$D$11:$AD$49,39,FALSE)","v":{"$error":"#N/A"}}]
[21,{"$f":"'Project Information'!$D$23*((HLOOKUP('Intermediate Freight Calcs'!A57,'BCA Values Freight'!$D$11:$AC$43,3,FALSE)*HLOOKUP('Intermediate Freight Calcs'!A57,'BCA Values Freight'!$D$11:$AC$43,28,FALSE))+(HLOOKUP('Intermediate Freight Calcs'!A57,'BCA Values Freight'!$D$11:$AC$43,5,FALSE)*HLOOKUP('Intermediate Freight Calcs'!A57,'BCA Values Freight'!$D$11:$AC$43,29,FALSE))+(HLOOKUP('Intermediate Freight Calcs'!A57,'BCA Values Freight'!$D$11:$AC$43,6,FALSE)*HLOOKUP('Intermediate Freight Calcs'!A57,'BCA Values Freight'!$D$11:$AC$43,30,FALSE))+(HLOOKUP('Intermediate Freight Calcs'!A57,'BCA Values Freight'!$D$11:$AC$43,7,FALSE)*HLOOKUP('Intermediate Freight Calcs'!A57,'BCA Values Freight'!$D$11:$AC$43,31,FALSE))+(HLOOKUP('Intermediate Freight Calcs'!A57,'BCA Values Freight'!$D$11:$AC$43,8,FALSE)*HLOOKUP('Intermediate Freight Calcs'!A57,'BCA Values Freight'!$D$11:$AC$43,32,FALSE))+(HLOOKUP('Intermediate Freight Calcs'!A57,'BCA Values Freight'!$D$11:$AC$43,9,FALSE)*HLOOKUP('Intermediate Freight Calcs'!A57,'BCA Values Freight'!$D$11:$AC$43,33,FALSE)))+'Project Information'!$C$23*((HLOOKUP('Intermediate Freight Calcs'!A57,'BCA Values Freight'!$D$11:$AC$43,12,FALSE)*HLOOKUP('Intermediate Freight Calcs'!A57,'BCA Values Freight'!$D$11:$AC$43,28,FALSE))+(HLOOKUP('Intermediate Freight Calcs'!A57,'BCA Values Freight'!$D$11:$AC$43,14,FALSE)*HLOOKUP('Intermediate Freight Calcs'!A57,'BCA Values Freight'!$D$11:$AC$43,29,FALSE))+(HLOOKUP('Intermediate Freight Calcs'!A57,'BCA Values Freight'!$D$11:$AC$43,15,FALSE)*HLOOKUP('Intermediate Freight Calcs'!A57,'BCA Values Freight'!$D$11:$AC$43,30,FALSE))+(HLOOKUP('Intermediate Freight Calcs'!A57,'BCA Values Freight'!$D$11:$AC$43,16,FALSE)*HLOOKUP('Intermediate Freight Calcs'!A57,'BCA Values Freight'!$D$11:$AC$43,31,FALSE))+(HLOOKUP('Intermediate Freight Calcs'!A57,'BCA Values Freight'!$D$11:$AC$43,17,FALSE)*HLOOKUP('Intermediate Freight Calcs'!A57,'BCA Values Freight'!$D$11:$AC$43,32,FALSE))+(HLOOKUP('Intermediate Freight Calcs'!A57,'BCA Values Freight'!$D$11:$AC$43,18,FALSE)*HLOOKUP('Intermediate Freight Calcs'!A57,'BCA Values Freight'!$D$11:$AC$43,33,FALSE)))","v":{"$error":"#VALUE!"}},{"$f":"'Project Information'!$D$23*HLOOKUP(A57,'BCA Values Freight'!$D$11:$AC$49,37,FALSE)+'Project Information'!$C$23*HLOOKUP(A57,'BCA Values Freight'!$D$11:$AC$49,38,FALSE)","v":{"$error":"#VALUE!"}},{"$f":"IFERROR((('Railcar and Passenger Demand'!C23/'Project Information'!$C$29)*'Project Information'!$C$31*'Project Information'!$C$29*'Project Information'!$C$28),\"\")","v":""},{"$f":"HLOOKUP('Intermediate Freight Calcs'!A57,'BCA Values Freight'!$D$11:$AC$43,21,FALSE)*HLOOKUP('Intermediate Freight Calcs'!A57,'BCA Values Freight'!$D$11:$AC$43,28,FALSE)+HLOOKUP('Intermediate Freight Calcs'!A57,'BCA Values Freight'!$D$11:$AC$43,22,FALSE)*HLOOKUP('Intermediate Freight Calcs'!A57,'BCA Values Freight'!$D$11:$AC$43,29,FALSE)+HLOOKUP('Intermediate Freight Calcs'!A57,'BCA Values Freight'!$D$11:$AC$43,23,FALSE)*0.97*HLOOKUP('Intermediate Freight Calcs'!A57,'BCA Values Freight'!$D$11:$AC$43,30,FALSE)+HLOOKUP('Intermediate Freight Calcs'!A57,'BCA Values Freight'!$D$11:$AC$43,23,FALSE)*0.03*HLOOKUP('Intermediate Freight Calcs'!A57,'BCA Values Freight'!$D$11:$AC$43,31,FALSE)+HLOOKUP('Intermediate Freight Calcs'!A57,'BCA Values Freight'!$D$11:$AC$43,24,FALSE)*HLOOKUP('Intermediate Freight Calcs'!A57,'BCA Values Freight'!$D$11:$AC$43,32,FALSE)+HLOOKUP('Intermediate Freight Calcs'!A57,'BCA Values Freight'!$D$11:$AC$43,25,FALSE)*HLOOKUP('Intermediate Freight Calcs'!A57,'BCA Values Freight'!$D$11:$AC$43,33,FALSE)","v":{"$error":"#N/A"}},{"$f":"HLOOKUP(A57,'BCA Values Freight'!$D$11:$AD$49,39,FALSE)","v":{"$error":"#N/A"}}]
[22,{"$f":"'Project Information'!$D$23*((HLOOKUP('Intermediate Freight Calcs'!A58,'BCA Values Freight'!$D$11:$AC$43,3,FALSE)*HLOOKUP('Intermediate Freight Calcs'!A58,'BCA Values Freight'!$D$11:$AC$43,28,FALSE))+(HLOOKUP('Intermediate Freight Calcs'!A58,'BCA Values Freight'!$D$11:$AC$43,5,FALSE)*HLOOKUP('Intermediate Freight Calcs'!A58,'BCA Values Freight'!$D$11:$AC$43,29,FALSE))+(HLOOKUP('Intermediate Freight Calcs'!A58,'BCA Values Freight'!$D$11:$AC$43,6,FALSE)*HLOOKUP('Intermediate Freight Calcs'!A58,'BCA Values Freight'!$D$11:$AC$43,30,FALSE))+(HLOOKUP('Intermediate Freight Calcs'!A58,'BCA Values Freight'!$D$11:$AC$43,7,FALSE)*HLOOKUP('Intermediate Freight Calcs'!A58,'BCA Values Freight'!$D$11:$AC$43,31,FALSE))+(HLOOKUP('Intermediate Freight Calcs'!A58,'BCA Values Freight'!$D$11:$AC$43,8,FALSE)*HLOOKUP('Intermediate Freight Calcs'!A58,'BCA Values Freight'!$D$11:$AC$43,32,FALSE))+(HLOOKUP('Intermediate Freight Calcs'!A58,'BCA Values Freight'!$D$11:$AC$43,9,FALSE)*HLOOKUP('Intermediate Freight Calcs'!A58,'BCA Values Freight'!$D$11:$AC$43,33,FALSE)))+'Project Information'!$C$23*((HLOOKUP('Intermediate Freight Calcs'!A58,'BCA Values Freight'!$D$11:$AC$43,12,FALSE)*HLOOKUP('Intermediate Freight Calcs'!A58,'BCA Values Freight'!$D$11:$AC$43,28,FALSE))+(HLOOKUP('Intermediate Freight Calcs'!A58,'BCA Values Freight'!$D$11:$AC$43,14,FALSE)*HLOOKUP('Intermediate Freight Calcs'!A58,'BCA Values Freight'!$D$11:$AC$43,29,FALSE))+(HLOOKUP('Intermediate Freight Calcs'!A58,'BCA Values Freight'!$D$11:$AC$43,15,FALSE)*HLOOKUP('Intermediate Freight Calcs'!A58,'BCA Values Freight'!$D$11:$AC$43,30,FALSE))+(HLOOKUP('Intermediate Freight Calcs'!A58,'BCA Values Freight'!$D$11:$AC$43,16,FALSE)*HLOOKUP('Intermediate Freight Calcs'!A58,'BCA Values Freight'!$D$11:$AC$43,31,FALSE))+(HLOOKUP('Intermediate Freight Calcs'!A58,'BCA Values Freight'!$D$11:$AC$43,17,FALSE)*HLOOKUP('Intermediate Freight Calcs'!A58,'BCA Values Freight'!$D$11:$AC$43,32,FALSE))+(HLOOKUP('Intermediate Freight Calcs'!A58,'BCA Values Freight'!$D$11:$AC$43,18,FALSE)*HLOOKUP('Intermediate Freight Calcs'!A58,'BCA Values Freight'!$D$11:$AC$43,33,FALSE)))","v":{"$error":"#VALUE!"}},{"$f":"'Project Information'!$D$23*HLOOKUP(A58,'BCA Values Freight'!$D$11:$AC$49,37,FALSE)+'Project Information'!$C$23*HLOOKUP(A58,'BCA Values Freight'!$D$11:$AC$49,38,FALSE)","v":{"$error":"#VALUE!"}},{"$f":"IFERROR((('Railcar and Passenger Demand'!C24/'Project Information'!$C$29)*'Project Information'!$C$31*'Project Information'!$C$29*'Project Information'!$C$28),\"\")","v":""},{"$f":"HLOOKUP('Intermediate Freight Calcs'!A58,'BCA Values Freight'!$D$11:$AC$43,21,FALSE)*HLOOKUP('Intermediate Freight Calcs'!A58,'BCA Values Freight'!$D$11:$AC$43,28,FALSE)+HLOOKUP('Intermediate Freight Calcs'!A58,'BCA Values Freight'!$D$11:$AC$43,22,FALSE)*HLOOKUP('Intermediate Freight Calcs'!A58,'BCA Values Freight'!$D$11:$AC$43,29,FALSE)+HLOOKUP('Intermediate Freight Calcs'!A58,'BCA Values Freight'!$D$11:$AC$43,23,FALSE)*0.97*HLOOKUP('Intermediate Freight Calcs'!A58,'BCA Values Freight'!$D$11:$AC$43,30,FALSE)+HLOOKUP('Intermediate Freight Calcs'!A58,'BCA Values Freight'!$D$11:$AC$43,23,FALSE)*0.03*HLOOKUP('Intermediate Freight Calcs'!A58,'BCA Values Freight'!$D$11:$AC$43,31,FALSE)+HLOOKUP('Intermediate Freight Calcs'!A58,'BCA Values Freight'!$D$11:$AC$43,24,FALSE)*HLOOKUP('Intermediate Freight Calcs'!A58,'BCA Values Freight'!$D$11:$AC$43,32,FALSE)+HLOOKUP('Intermediate Freight Calcs'!A58,'BCA Values Freight'!$D$11:$AC$43,25,FALSE)*HLOOKUP('Intermediate Freight Calcs'!A58,'BCA Values Freight'!$D$11:$AC$43,33,FALSE)","v":{"$error":"#N/A"}},{"$f":"HLOOKUP(A58,'BCA Values Freight'!$D$11:$AD$49,39,FALSE)","v":{"$error":"#N/A"}}]
[23,{"$f":"'Project Information'!$D$23*((HLOOKUP('Intermediate Freight Calcs'!A59,'BCA Values Freight'!$D$11:$AC$43,3,FALSE)*HLOOKUP('Intermediate Freight Calcs'!A59,'BCA Values Freight'!$D$11:$AC$43,28,FALSE))+(HLOOKUP('Intermediate Freight Calcs'!A59,'BCA Values Freight'!$D$11:$AC$43,5,FALSE)*HLOOKUP('Intermediate Freight Calcs'!A59,'BCA Values Freight'!$D$11:$AC$43,29,FALSE))+(HLOOKUP('Intermediate Freight Calcs'!A59,'BCA Values Freight'!$D$11:$AC$43,6,FALSE)*HLOOKUP('Intermediate Freight Calcs'!A59,'BCA Values Freight'!$D$11:$AC$43,30,FALSE))+(HLOOKUP('Intermediate Freight Calcs'!A59,'BCA Values Freight'!$D$11:$AC$43,7,FALSE)*HLOOKUP('Intermediate Freight Calcs'!A59,'BCA Values Freight'!$D$11:$AC$43,31,FALSE))+(HLOOKUP('Intermediate Freight Calcs'!A59,'BCA Values Freight'!$D$11:$AC$43,8,FALSE)*HLOOKUP('Intermediate Freight Calcs'!A59,'BCA Values Freight'!$D$11:$AC$43,32,FALSE))+(HLOOKUP('Intermediate Freight Calcs'!A59,'BCA Values Freight'!$D$11:$AC$43,9,FALSE)*HLOOKUP('Intermediate Freight Calcs'!A59,'BCA Values Freight'!$D$11:$AC$43,33,FALSE)))+'Project Information'!$C$23*((HLOOKUP('Intermediate Freight Calcs'!A59,'BCA Values Freight'!$D$11:$AC$43,12,FALSE)*HLOOKUP('Intermediate Freight Calcs'!A59,'BCA Values Freight'!$D$11:$AC$43,28,FALSE))+(HLOOKUP('Intermediate Freight Calcs'!A59,'BCA Values Freight'!$D$11:$AC$43,14,FALSE)*HLOOKUP('Intermediate Freight Calcs'!A59,'BCA Values Freight'!$D$11:$AC$43,29,FALSE))+(HLOOKUP('Intermediate Freight Calcs'!A59,'BCA Values Freight'!$D$11:$AC$43,15,FALSE)*HLOOKUP('Intermediate Freight Calcs'!A59,'BCA Values Freight'!$D$11:$AC$43,30,FALSE))+(HLOOKUP('Intermediate Freight Calcs'!A59,'BCA Values Freight'!$D$11:$AC$43,16,FALSE)*HLOOKUP('Intermediate Freight Calcs'!A59,'BCA Values Freight'!$D$11:$AC$43,31,FALSE))+(HLOOKUP('Intermediate Freight Calcs'!A59,'BCA Values Freight'!$D$11:$AC$43,17,FALSE)*HLOOKUP('Intermediate Freight Calcs'!A59,'BCA Values Freight'!$D$11:$AC$43,32,FALSE))+(HLOOKUP('Intermediate Freight Calcs'!A59,'BCA Values Freight'!$D$11:$AC$43,18,FALSE)*HLOOKUP('Intermediate Freight Calcs'!A59,'BCA Values Freight'!$D$11:$AC$43,33,FALSE)))","v":{"$error":"#VALUE!"}},{"$f":"'Project Information'!$D$23*HLOOKUP(A59,'BCA Values Freight'!$D$11:$AC$49,37,FALSE)+'Project Information'!$C$23*HLOOKUP(A59,'BCA Values Freight'!$D$11:$AC$49,38,FALSE)","v":{"$error":"#VALUE!"}},{"$f":"IFERROR((('Railcar and Passenger Demand'!C25/'Project Information'!$C$29)*'Project Information'!$C$31*'Project Information'!$C$29*'Project Information'!$C$28),\"\")","v":""},{"$f":"HLOOKUP('Intermediate Freight Calcs'!A59,'BCA Values Freight'!$D$11:$AC$43,21,FALSE)*HLOOKUP('Intermediate Freight Calcs'!A59,'BCA Values Freight'!$D$11:$AC$43,28,FALSE)+HLOOKUP('Intermediate Freight Calcs'!A59,'BCA Values Freight'!$D$11:$AC$43,22,FALSE)*HLOOKUP('Intermediate Freight Calcs'!A59,'BCA Values Freight'!$D$11:$AC$43,29,FALSE)+HLOOKUP('Intermediate Freight Calcs'!A59,'BCA Values Freight'!$D$11:$AC$43,23,FALSE)*0.97*HLOOKUP('Intermediate Freight Calcs'!A59,'BCA Values Freight'!$D$11:$AC$43,30,FALSE)+HLOOKUP('Intermediate Freight Calcs'!A59,'BCA Values Freight'!$D$11:$AC$43,23,FALSE)*0.03*HLOOKUP('Intermediate Freight Calcs'!A59,'BCA Values Freight'!$D$11:$AC$43,31,FALSE)+HLOOKUP('Intermediate Freight Calcs'!A59,'BCA Values Freight'!$D$11:$AC$43,24,FALSE)*HLOOKUP('Intermediate Freight Calcs'!A59,'BCA Values Freight'!$D$11:$AC$43,32,FALSE)+HLOOKUP('Intermediate Freight Calcs'!A59,'BCA Values Freight'!$D$11:$AC$43,25,FALSE)*HLOOKUP('Intermediate Freight Calcs'!A59,'BCA Values Freight'!$D$11:$AC$43,33,FALSE)","v":{"$error":"#N/A"}},{"$f":"HLOOKUP(A59,'BCA Values Freight'!$D$11:$AD$49,39,FALSE)","v":{"$error":"#N/A"}}]
[24,{"$f":"'Project Information'!$D$23*((HLOOKUP('Intermediate Freight Calcs'!A60,'BCA Values Freight'!$D$11:$AC$43,3,FALSE)*HLOOKUP('Intermediate Freight Calcs'!A60,'BCA Values Freight'!$D$11:$AC$43,28,FALSE))+(HLOOKUP('Intermediate Freight Calcs'!A60,'BCA Values Freight'!$D$11:$AC$43,5,FALSE)*HLOOKUP('Intermediate Freight Calcs'!A60,'BCA Values Freight'!$D$11:$AC$43,29,FALSE))+(HLOOKUP('Intermediate Freight Calcs'!A60,'BCA Values Freight'!$D$11:$AC$43,6,FALSE)*HLOOKUP('Intermediate Freight Calcs'!A60,'BCA Values Freight'!$D$11:$AC$43,30,FALSE))+(HLOOKUP('Intermediate Freight Calcs'!A60,'BCA Values Freight'!$D$11:$AC$43,7,FALSE)*HLOOKUP('Intermediate Freight Calcs'!A60,'BCA Values Freight'!$D$11:$AC$43,31,FALSE))+(HLOOKUP('Intermediate Freight Calcs'!A60,'BCA Values Freight'!$D$11:$AC$43,8,FALSE)*HLOOKUP('Intermediate Freight Calcs'!A60,'BCA Values Freight'!$D$11:$AC$43,32,FALSE))+(HLOOKUP('Intermediate Freight Calcs'!A60,'BCA Values Freight'!$D$11:$AC$43,9,FALSE)*HLOOKUP('Intermediate Freight Calcs'!A60,'BCA Values Freight'!$D$11:$AC$43,33,FALSE)))+'Project Information'!$C$23*((HLOOKUP('Intermediate Freight Calcs'!A60,'BCA Values Freight'!$D$11:$AC$43,12,FALSE)*HLOOKUP('Intermediate Freight Calcs'!A60,'BCA Values Freight'!$D$11:$AC$43,28,FALSE))+(HLOOKUP('Intermediate Freight Calcs'!A60,'BCA Values Freight'!$D$11:$AC$43,14,FALSE)*HLOOKUP('Intermediate Freight Calcs'!A60,'BCA Values Freight'!$D$11:$AC$43,29,FALSE))+(HLOOKUP('Intermediate Freight Calcs'!A60,'BCA Values Freight'!$D$11:$AC$43,15,FALSE)*HLOOKUP('Intermediate Freight Calcs'!A60,'BCA Values Freight'!$D$11:$AC$43,30,FALSE))+(HLOOKUP('Intermediate Freight Calcs'!A60,'BCA Values Freight'!$D$11:$AC$43,16,FALSE)*HLOOKUP('Intermediate Freight Calcs'!A60,'BCA Values Freight'!$D$11:$AC$43,31,FALSE))+(HLOOKUP('Intermediate Freight Calcs'!A60,'BCA Values Freight'!$D$11:$AC$43,17,FALSE)*HLOOKUP('Intermediate Freight Calcs'!A60,'BCA Values Freight'!$D$11:$AC$43,32,FALSE))+(HLOOKUP('Intermediate Freight Calcs'!A60,'BCA Values Freight'!$D$11:$AC$43,18,FALSE)*HLOOKUP('Intermediate Freight Calcs'!A60,'BCA Values Freight'!$D$11:$AC$43,33,FALSE)))","v":{"$error":"#VALUE!"}},{"$f":"'Project Information'!$D$23*HLOOKUP(A60,'BCA Values Freight'!$D$11:$AC$49,37,FALSE)+'Project Information'!$C$23*HLOOKUP(A60,'BCA Values Freight'!$D$11:$AC$49,38,FALSE)","v":{"$error":"#VALUE!"}},{"$f":"IFERROR((('Railcar and Passenger Demand'!C26/'Project Information'!$C$29)*'Project Information'!$C$31*'Project Information'!$C$29*'Project Information'!$C$28),\"\")","v":""},{"$f":"HLOOKUP('Intermediate Freight Calcs'!A60,'BCA Values Freight'!$D$11:$AC$43,21,FALSE)*HLOOKUP('Intermediate Freight Calcs'!A60,'BCA Values Freight'!$D$11:$AC$43,28,FALSE)+HLOOKUP('Intermediate Freight Calcs'!A60,'BCA Values Freight'!$D$11:$AC$43,22,FALSE)*HLOOKUP('Intermediate Freight Calcs'!A60,'BCA Values Freight'!$D$11:$AC$43,29,FALSE)+HLOOKUP('Intermediate Freight Calcs'!A60,'BCA Values Freight'!$D$11:$AC$43,23,FALSE)*0.97*HLOOKUP('Intermediate Freight Calcs'!A60,'BCA Values Freight'!$D$11:$AC$43,30,FALSE)+HLOOKUP('Intermediate Freight Calcs'!A60,'BCA Values Freight'!$D$11:$AC$43,23,FALSE)*0.03*HLOOKUP('Intermediate Freight Calcs'!A60,'BCA Values Freight'!$D$11:$AC$43,31,FALSE)+HLOOKUP('Intermediate Freight Calcs'!A60,'BCA Values Freight'!$D$11:$AC$43,24,FALSE)*HLOOKUP('Intermediate Freight Calcs'!A60,'BCA Values Freight'!$D$11:$AC$43,32,FALSE)+HLOOKUP('Intermediate Freight Calcs'!A60,'BCA Values Freight'!$D$11:$AC$43,25,FALSE)*HLOOKUP('Intermediate Freight Calcs'!A60,'BCA Values Freight'!$D$11:$AC$43,33,FALSE)","v":{"$error":"#N/A"}},{"$f":"HLOOKUP(A60,'BCA Values Freight'!$D$11:$AD$49,39,FALSE)","v":{"$error":"#N/A"}}]
[]
[]
[null,"Shipping Cost",null,null,"Pavement Maintenance"]
[null,"Truck Shipping","Train Shipping",null,"Pavement Maintenance"]
[null,"Truck Shipping Rate per VMT","Shipping Cost per train-ton mile",null,"Pavement Maintenance Cost per truck mile"]
[null,"Rate to ship one freight truck one mile.","Rate to ship one ton one mile by freight train. ",null,"Cost realized per mile driven by a truck for pavement maintenance. "]
["Year","Value Lookup (by year)","Value Lookup (by year)",null,"Value Lookup (by year)"]
[{"$f":"A36","v":0},{"$f":"IF(A68=\"No Values Available\",\"No Values\",HLOOKUP(A68,'BCA Values Freight'!$D$54:$AC$59,5,FALSE))","v":{"$error":"#N/A"}},{"$f":"IF(A68=\"No Values Available\",\"No Values\",HLOOKUP(A68,'BCA Values Freight'!$D$54:$AC$59,6,FALSE))","v":{"$error":"#N/A"}},null,{"$f":"IF(A68=\"No Values Available\",\"No Values\",'Project Information'!$D$23*HLOOKUP(A68,'BCA Values Freight'!$D$64:$AC$68,4,FALSE)+'Project Information'!$C$23*HLOOKUP(A68,'BCA Values Freight'!$D$64:$AC$68,5,FALSE))","v":{"$error":"#VALUE!"}}]
[1,{"$f":"IF(A69=\"No Values Available\",\"No Values\",HLOOKUP(A69,'BCA Values Freight'!$D$54:$AC$59,5,FALSE))","v":{"$error":"#N/A"}},{"$f":"IF(A69=\"No Values Available\",\"No Values\",HLOOKUP(A69,'BCA Values Freight'!$D$54:$AC$59,6,FALSE))","v":{"$error":"#N/A"}},null,{"$f":"IF(A69=\"No Values Available\",\"No Values\",'Project Information'!$D$23*HLOOKUP(A69,'BCA Values Freight'!$D$64:$AC$68,4,FALSE)+'Project Information'!$C$23*HLOOKUP(A69,'BCA Values Freight'!$D$64:$AC$68,5,FALSE))","v":{"$error":"#VALUE!"}}]
[2,{"$f":"IF(A70=\"No Values Available\",\"No Values\",HLOOKUP(A70,'BCA Values Freight'!$D$54:$AC$59,5,FALSE))","v":{"$error":"#N/A"}},{"$f":"IF(A70=\"No Values Available\",\"No Values\",HLOOKUP(A70,'BCA Values Freight'!$D$54:$AC$59,6,FALSE))","v":{"$error":"#N/A"}},null,{"$f":"IF(A70=\"No Values Available\",\"No Values\",'Project Information'!$D$23*HLOOKUP(A70,'BCA Values Freight'!$D$64:$AC$68,4,FALSE)+'Project Information'!$C$23*HLOOKUP(A70,'BCA Values Freight'!$D$64:$AC$68,5,FALSE))","v":{"$error":"#VALUE!"}}]
[3,{"$f":"IF(A71=\"No Values Available\",\"No Values\",HLOOKUP(A71,'BCA Values Freight'!$D$54:$AC$59,5,FALSE))","v":{"$error":"#N/A"}},{"$f":"IF(A71=\"No Values Available\",\"No Values\",HLOOKUP(A71,'BCA Values Freight'!$D$54:$AC$59,6,FALSE))","v":{"$error":"#N/A"}},null,{"$f":"IF(A71=\"No Values Available\",\"No Values\",'Project Information'!$D$23*HLOOKUP(A71,'BCA Values Freight'!$D$64:$AC$68,4,FALSE)+'Project Information'!$C$23*HLOOKUP(A71,'BCA Values Freight'!$D$64:$AC$68,5,FALSE))","v":{"$error":"#VALUE!"}}]
[4,{"$f":"IF(A72=\"No Values Available\",\"No Values\",HLOOKUP(A72,'BCA Values Freight'!$D$54:$AC$59,5,FALSE))","v":{"$error":"#N/A"}},{"$f":"IF(A72=\"No Values Available\",\"No Values\",HLOOKUP(A72,'BCA Values Freight'!$D$54:$AC$59,6,FALSE))","v":{"$error":"#N/A"}},null,{"$f":"IF(A72=\"No Values Available\",\"No Values\",'Project Information'!$D$23*HLOOKUP(A72,'BCA Values Freight'!$D$64:$AC$68,4,FALSE)+'Project Information'!$C$23*HLOOKUP(A72,'BCA Values Freight'!$D$64:$AC$68,5,FALSE))","v":{"$error":"#VALUE!"}}]
[5,{"$f":"IF(A73=\"No Values Available\",\"No Values\",HLOOKUP(A73,'BCA Values Freight'!$D$54:$AC$59,5,FALSE))","v":{"$error":"#N/A"}},{"$f":"IF(A73=\"No Values Available\",\"No Values\",HLOOKUP(A73,'BCA Values Freight'!$D$54:$AC$59,6,FALSE))","v":{"$error":"#N/A"}},null,{"$f":"IF(A73=\"No Values Available\",\"No Values\",'Project Information'!$D$23*HLOOKUP(A73,'BCA Values Freight'!$D$64:$AC$68,4,FALSE)+'Project Information'!$C$23*HLOOKUP(A73,'BCA Values Freight'!$D$64:$AC$68,5,FALSE))","v":{"$error":"#VALUE!"}}]
[6,{"$f":"IF(A74=\"No Values Available\",\"No Values\",HLOOKUP(A74,'BCA Values Freight'!$D$54:$AC$59,5,FALSE))","v":{"$error":"#N/A"}},{"$f":"IF(A74=\"No Values Available\",\"No Values\",HLOOKUP(A74,'BCA Values Freight'!$D$54:$AC$59,6,FALSE))","v":{"$error":"#N/A"}},null,{"$f":"IF(A74=\"No Values Available\",\"No Values\",'Project Information'!$D$23*HLOOKUP(A74,'BCA Values Freight'!$D$64:$AC$68,4,FALSE)+'Project Information'!$C$23*HLOOKUP(A74,'BCA Values Freight'!$D$64:$AC$68,5,FALSE))","v":{"$error":"#VALUE!"}}]
[7,{"$f":"IF(A75=\"No Values Available\",\"No Values\",HLOOKUP(A75,'BCA Values Freight'!$D$54:$AC$59,5,FALSE))","v":{"$error":"#N/A"}},{"$f":"IF(A75=\"No Values Available\",\"No Values\",HLOOKUP(A75,'BCA Values Freight'!$D$54:$AC$59,6,FALSE))","v":{"$error":"#N/A"}},null,{"$f":"IF(A75=\"No Values Available\",\"No Values\",'Project Information'!$D$23*HLOOKUP(A75,'BCA Values Freight'!$D$64:$AC$68,4,FALSE)+'Project Information'!$C$23*HLOOKUP(A75,'BCA Values Freight'!$D$64:$AC$68,5,FALSE))","v":{"$error":"#VALUE!"}}]
[8,{"$f":"IF(A76=\"No Values Available\",\"No Values\",HLOOKUP(A76,'BCA Values Freight'!$D$54:$AC$59,5,FALSE))","v":{"$error":"#N/A"}},{"$f":"IF(A76=\"No Values Available\",\"No Values\",HLOOKUP(A76,'BCA Values Freight'!$D$54:$AC$59,6,FALSE))","v":{"$error":"#N/A"}},null,{"$f":"IF(A76=\"No Values Available\",\"No Values\",'Project Information'!$D$23*HLOOKUP(A76,'BCA Values Freight'!$D$64:$AC$68,4,FALSE)+'Project Information'!$C$23*HLOOKUP(A76,'BCA Values Freight'!$D$64:$AC$68,5,FALSE))","v":{"$error":"#VALUE!"}}]
[9,{"$f":"IF(A77=\"No Values Available\",\"No Values\",HLOOKUP(A77,'BCA Values Freight'!$D$54:$AC$59,5,FALSE))","v":{"$error":"#N/A"}},{"$f":"IF(A77=\"No Values Available\",\"No Values\",HLOOKUP(A77,'BCA Values Freight'!$D$54:$AC$59,6,FALSE))","v":{"$error":"#N/A"}},null,{"$f":"IF(A77=\"No Values Available\",\"No Values\",'Project Information'!$D$23*HLOOKUP(A77,'BCA Values Freight'!$D$64:$AC$68,4,FALSE)+'Project Information'!$C$23*HLOOKUP(A77,'BCA Values Freight'!$D$64:$AC$68,5,FALSE))","v":{"$error":"#VALUE!"}}]
[10,{"$f":"IF(A78=\"No Values Available\",\"No Values\",HLOOKUP(A78,'BCA Values Freight'!$D$54:$AC$59,5,FALSE))","v":{"$error":"#N/A"}},{"$f":"IF(A78=\"No Values Available\",\"No Values\",HLOOKUP(A78,'BCA Values Freight'!$D$54:$AC$59,6,FALSE))","v":{"$error":"#N/A"}},null,{"$f":"IF(A78=\"No Values Available\",\"No Values\",'Project Information'!$D$23*HLOOKUP(A78,'BCA Values Freight'!$D$64:$AC$68,4,FALSE)+'Project Information'!$C$23*HLOOKUP(A78,'BCA Values Freight'!$D$64:$AC$68,5,FALSE))","v":{"$error":"#VALUE!"}}]
[11,{"$f":"IF(A79=\"No Values Available\",\"No Values\",HLOOKUP(A79,'BCA Values Freight'!$D$54:$AC$59,5,FALSE))","v":{"$error":"#N/A"}},{"$f":"IF(A79=\"No Values Available\",\"No Values\",HLOOKUP(A79,'BCA Values Freight'!$D$54:$AC$59,6,FALSE))","v":{"$error":"#N/A"}},null,{"$f":"IF(A79=\"No Values Available\",\"No Values\",'Project Information'!$D$23*HLOOKUP(A79,'BCA Values Freight'!$D$64:$AC$68,4,FALSE)+'Project Information'!$C$23*HLOOKUP(A79,'BCA Values Freight'!$D$64:$AC$68,5,FALSE))","v":{"$error":"#VALUE!"}}]
[12,{"$f":"IF(A80=\"No Values Available\",\"No Values\",HLOOKUP(A80,'BCA Values Freight'!$D$54:$AC$59,5,FALSE))","v":{"$error":"#N/A"}},{"$f":"IF(A80=\"No Values Available\",\"No Values\",HLOOKUP(A80,'BCA Values Freight'!$D$54:$AC$59,6,FALSE))","v":{"$error":"#N/A"}},null,{"$f":"IF(A80=\"No Values Available\",\"No Values\",'Project Information'!$D$23*HLOOKUP(A80,'BCA Values Freight'!$D$64:$AC$68,4,FALSE)+'Project Information'!$C$23*HLOOKUP(A80,'BCA Values Freight'!$D$64:$AC$68,5,FALSE))","v":{"$error":"#VALUE!"}}]
[13,{"$f":"IF(A81=\"No Values Available\",\"No Values\",HLOOKUP(A81,'BCA Values Freight'!$D$54:$AC$59,5,FALSE))","v":{"$error":"#N/A"}},{"$f":"IF(A81=\"No Values Available\",\"No Values\",HLOOKUP(A81,'BCA Values Freight'!$D$54:$AC$59,6,FALSE))","v":{"$error":"#N/A"}},null,{"$f":"IF(A81=\"No Values Available\",\"No Values\",'Project Information'!$D$23*HLOOKUP(A81,'BCA Values Freight'!$D$64:$AC$68,4,FALSE)+'Project Information'!$C$23*HLOOKUP(A81,'BCA Values Freight'!$D$64:$AC$68,5,FALSE))","v":{"$error":"#VALUE!"}}]
[14,{"$f":"IF(A82=\"No Values Available\",\"No Values\",HLOOKUP(A82,'BCA Values Freight'!$D$54:$AC$59,5,FALSE))","v":{"$error":"#N/A"}},{"$f":"IF(A82=\"No Values Available\",\"No Values\",HLOOKUP(A82,'BCA Values Freight'!$D$54:$AC$59,6,FALSE))","v":{"$error":"#N/A"}},null,{"$f":"IF(A82=\"No Values Available\",\"No Values\",'Project Information'!$D$23*HLOOKUP(A82,'BCA Values Freight'!$D$64:$AC$68,4,FALSE)+'Project Information'!$C$23*HLOOKUP(A82,'BCA Values Freight'!$D$64:$AC$68,5,FALSE))","v":{"$error":"#VALUE!"}}]
[15,{"$f":"IF(A83=\"No Values Available\",\"No Values\",HLOOKUP(A83,'BCA Values Freight'!$D$54:$AC$59,5,FALSE))","v":{"$error":"#N/A"}},{"$f":"IF(A83=\"No Values Available\",\"No Values\",HLOOKUP(A83,'BCA Values Freight'!$D$54:$AC$59,6,FALSE))","v":{"$error":"#N/A"}},null,{"$f":"IF(A83=\"No Values Available\",\"No Values\",'Project Information'!$D$23*HLOOKUP(A83,'BCA Values Freight'!$D$64:$AC$68,4,FALSE)+'Project Information'!$C$23*HLOOKUP(A83,'BCA Values Freight'!$D$64:$AC$68,5,FALSE))","v":{"$error":"#VALUE!"}}]
[16,{"$f":"IF(A84=\"No Values Available\",\"No Values\",HLOOKUP(A84,'BCA Values Freight'!$D$54:$AC$59,5,FALSE))","v":{"$error":"#N/A"}},{"$f":"IF(A84=\"No Values Available\",\"No Values\",HLOOKUP(A84,'BCA Values Freight'!$D$54:$AC$59,6,FALSE))","v":{"$error":"#N/A"}},null,{"$f":"IF(A84=\"No Values Available\",\"No Values\",'Project Information'!$D$23*HLOOKUP(A84,'BCA Values Freight'!$D$64:$AC$68,4,FALSE)+'Project Information'!$C$23*HLOOKUP(A84,'BCA Values Freight'!$D$64:$AC$68,5,FALSE))","v":{"$error":"#VALUE!"}}]
[17,{"$f":"IF(A85=\"No Values Available\",\"No Values\",HLOOKUP(A85,'BCA Values Freight'!$D$54:$AC$59,5,FALSE))","v":{"$error":"#N/A"}},{"$f":"IF(A85=\"No Values Available\",\"No Values\",HLOOKUP(A85,'BCA Values Freight'!$D$54:$AC$59,6,FALSE))","v":{"$error":"#N/A"}},null,{"$f":"IF(A85=\"No Values Available\",\"No Values\",'Project Information'!$D$23*HLOOKUP(A85,'BCA Values Freight'!$D$64:$AC$68,4,FALSE)+'Project Information'!$C$23*HLOOKUP(A85,'BCA Values Freight'!$D$64:$AC$68,5,FALSE))","v":{"$error":"#VALUE!"}}]
[18,{"$f":"IF(A86=\"No Values Available\",\"No Values\",HLOOKUP(A86,'BCA Values Freight'!$D$54:$AC$59,5,FALSE))","v":{"$error":"#N/A"}},{"$f":"IF(A86=\"No Values Available\",\"No Values\",HLOOKUP(A86,'BCA Values Freight'!$D$54:$AC$59,6,FALSE))","v":{"$error":"#N/A"}},null,{"$f":"IF(A86=\"No Values Available\",\"No Values\",'Project Information'!$D$23*HLOOKUP(A86,'BCA Values Freight'!$D$64:$AC$68,4,FALSE)+'Project Information'!$C$23*HLOOKUP(A86,'BCA Values Freight'!$D$64:$AC$68,5,FALSE))","v":{"$error":"#VALUE!"}}]
[19,{"$f":"IF(A87=\"No Values Available\",\"No Values\",HLOOKUP(A87,'BCA Values Freight'!$D$54:$AC$59,5,FALSE))","v":{"$error":"#N/A"}},{"$f":"IF(A87=\"No Values Available\",\"No Values\",HLOOKUP(A87,'BCA Values Freight'!$D$54:$AC$59,6,FALSE))","v":{"$error":"#N/A"}},null,{"$f":"IF(A87=\"No Values Available\",\"No Values\",'Project Information'!$D$23*HLOOKUP(A87,'BCA Values Freight'!$D$64:$AC$68,4,FALSE)+'Project Information'!$C$23*HLOOKUP(A87,'BCA Values Freight'!$D$64:$AC$68,5,FALSE))","v":{"$error":"#VALUE!"}}]
[20,{"$f":"IF(A88=\"No Values Available\",\"No Values\",HLOOKUP(A88,'BCA Values Freight'!$D$54:$AC$59,5,FALSE))","v":{"$error":"#N/A"}},{"$f":"IF(A88=\"No Values Available\",\"No Values\",HLOOKUP(A88,'BCA Values Freight'!$D$54:$AC$59,6,FALSE))","v":{"$error":"#N/A"}},null,{"$f":"IF(A88=\"No Values Available\",\"No Values\",'Project Information'!$D$23*HLOOKUP(A88,'BCA Values Freight'!$D$64:$AC$68,4,FALSE)+'Project Information'!$C$23*HLOOKUP(A88,'BCA Values Freight'!$D$64:$AC$68,5,FALSE))","v":{"$error":"#VALUE!"}}]
[21,{"$f":"IF(A89=\"No Values Available\",\"No Values\",HLOOKUP(A89,'BCA Values Freight'!$D$54:$AC$59,5,FALSE))","v":{"$error":"#N/A"}},{"$f":"IF(A89=\"No Values Available\",\"No Values\",HLOOKUP(A89,'BCA Values Freight'!$D$54:$AC$59,6,FALSE))","v":{"$error":"#N/A"}},null,{"$f":"IF(A89=\"No Values Available\",\"No Values\",'Project Information'!$D$23*HLOOKUP(A89,'BCA Values Freight'!$D$64:$AC$68,4,FALSE)+'Project Information'!$C$23*HLOOKUP(A89,'BCA Values Freight'!$D$64:$AC$68,5,FALSE))","v":{"$error":"#VALUE!"}}]
[22,{"$f":"IF(A90=\"No Values Available\",\"No Values\",HLOOKUP(A90,'BCA Values Freight'!$D$54:$AC$59,5,FALSE))","v":{"$error":"#N/A"}},{"$f":"IF(A90=\"No Values Available\",\"No Values\",HLOOKUP(A90,'BCA Values Freight'!$D$54:$AC$59,6,FALSE))","v":{"$error":"#N/A"}},null,{"$f":"IF(A90=\"No Values Available\",\"No Values\",'Project Information'!$D$23*HLOOKUP(A90,'BCA Values Freight'!$D$64:$AC$68,4,FALSE)+'Project Information'!$C$23*HLOOKUP(A90,'BCA Values Freight'!$D$64:$AC$68,5,FALSE))","v":{"$error":"#VALUE!"}}]
[23,{"$f":"IF(A91=\"No Values Available\",\"No Values\",HLOOKUP(A91,'BCA Values Freight'!$D$54:$AC$59,5,FALSE))","v":{"$error":"#N/A"}},{"$f":"IF(A91=\"No Values Available\",\"No Values\",HLOOKUP(A91,'BCA Values Freight'!$D$54:$AC$59,6,FALSE))","v":{"$error":"#N/A"}},null,{"$f":"IF(A91=\"No Values Available\",\"No Values\",'Project Information'!$D$23*HLOOKUP(A91,'BCA Values Freight'!$D$64:$AC$68,4,FALSE)+'Project Information'!$C$23*HLOOKUP(A91,'BCA Values Freight'!$D$64:$AC$68,5,FALSE))","v":{"$error":"#VALUE!"}}]
[24,{"$f":"IF(A92=\"No Values Available\",\"No Values\",HLOOKUP(A92,'BCA Values Freight'!$D$54:$AC$59,5,FALSE))","v":{"$error":"#N/A"}},{"$f":"IF(A92=\"No Values Available\",\"No Values\",HLOOKUP(A92,'BCA Values Freight'!$D$54:$AC$59,6,FALSE))","v":{"$error":"#N/A"}},null,{"$f":"IF(A92=\"No Values Available\",\"No Values\",'Project Information'!$D$23*HLOOKUP(A92,'BCA Values Freight'!$D$64:$AC$68,4,FALSE)+'Project Information'!$C$23*HLOOKUP(A92,'BCA Values Freight'!$D$64:$AC$68,5,FALSE))","v":{"$error":"#VALUE!"}}]
[]
[null,"Reduced Accident Costs"]
[null,"Truck Accident Cost",null,"Train  Accident Cost",null,"Crossing Savings"]
[null,"Truck Ton-Miles","Accident Cost per Truck Ton-Mile","Train Ton Miles","Accident Cost per Train Ton-Mile","Accident cost per rail crossing"]
[null,"The number of truck ton-miles ","The cost per truck mile traveled of having an accident.  ","The number of additional ton-miles of freight service added due to the construction of the project.  ","The cost per train mile traveled of having an accident.  ","The cost per rail crossing of having an accident. This value can be realized for each rail crossing removed by completion of project.   "]
["Year","Truck VMT * Tons per truck, by year","Lookup Value, by year","(Additional annual intermodal unit demand) / (Railcars per train) * (Freight mileage in Virginia after project) * (Railcars per train) * (Rail tons per railcar)","Lookup Value, by year","Lookup Value, by year"]
[{"$f":"A68","v":0},{"$f":"IFERROR((IF(A99=\"No Values Available\",\"No Values\",B5*'Project Information'!$C$37)),0)","v":0},{"$f":"IF(A99=\"No Values Available\", \"No Values\",HLOOKUP(A99,'BCA Values Freight'!$D$72:$AC$77,5,FALSE))","v":{"$error":"#N/A"}},{"$f":"IFERROR((IF(A99=\"No Values Available\", \"No Values\",'Railcar and Passenger Demand'!C2*'Project Information'!$C$31*'Project Information'!$C$28)),\"\")","v":0},{"$f":"IF(A99=\"No Values Available\",\"No Values\",HLOOKUP(A99,'BCA Values Freight'!$D$72:$AC$77,6,FALSE))","v":{"$error":"#N/A"}},{"$f":"IF(A99=\"No Values Available\",\"No Values\",HLOOKUP(A99,'BCA Values Freight'!$D$72:$AC$77,4,FALSE))","v":{"$error":"#N/A"}}]
[1,{"$f":"IFERROR((IF(A100=\"No Values Available\",\"No Values\",B6*'Project Information'!$C$37)),0)","v":0},{"$f":"IF(A100=\"No Values Available\", \"No Values\",HLOOKUP(A100,'BCA Values Freight'!$D$72:$AC$77,5,FALSE))","v":{"$error":"#N/A"}},{"$f":"IFERROR((IF(A100=\"No Values Available\", \"No Values\",'Railcar and Passenger Demand'!C3*'Project Information'!$C$31*'Project Information'!$C$28)),\"\")","v":""},{"$f":"IF(A100=\"No Values Available\",\"No Values\",HLOOKUP(A100,'BCA Values Freight'!$D$72:$AC$77,6,FALSE))","v":{"$error":"#N/A"}},{"$f":"IF(A100=\"No Values Available\",\"No Values\",HLOOKUP(A100,'BCA Values Freight'!$D$72:$AC$77,4,FALSE))","v":{"$error":"#N/A"}}]
[2,{"$f":"IFERROR((IF(A101=\"No Values Available\",\"No Values\",B7*'Project Information'!$C$37)),0)","v":0},{"$f":"IF(A101=\"No Values Available\", \"No Values\",HLOOKUP(A101,'BCA Values Freight'!$D$72:$AC$77,5,FALSE))","v":{"$error":"#N/A"}},{"$f":"IFERROR((IF(A101=\"No Values Available\", \"No Values\",'Railcar and Passenger Demand'!C4*'Project Information'!$C$31*'Project Information'!$C$28)),\"\")","v":""},{"$f":"IF(A101=\"No Values Available\",\"No Values\",HLOOKUP(A101,'BCA Values Freight'!$D$72:$AC$77,6,FALSE))","v":{"$error":"#N/A"}},{"$f":"IF(A101=\"No Values Available\",\"No Values\",HLOOKUP(A101,'BCA Values Freight'!$D$72:$AC$77,4,FALSE))","v":{"$error":"#N/A"}}]
[3,{"$f":"IFERROR((IF(A102=\"No Values Available\",\"No Values\",B8*'Project Information'!$C$37)),0)","v":0},{"$f":"IF(A102=\"No Values Available\", \"No Values\",HLOOKUP(A102,'BCA Values Freight'!$D$72:$AC$77,5,FALSE))","v":{"$error":"#N/A"}},{"$f":"IFERROR((IF(A102=\"No Values Available\", \"No Values\",'Railcar and Passenger Demand'!C5*'Project Information'!$C$31*'Project Information'!$C$28)),\"\")","v":""},{"$f":"IF(A102=\"No Values Available\",\"No Values\",HLOOKUP(A102,'BCA Values Freight'!$D$72:$AC$77,6,FALSE))","v":{"$error":"#N/A"}},{"$f":"IF(A102=\"No Values Available\",\"No Values\",HLOOKUP(A102,'BCA Values Freight'!$D$72:$AC$77,4,FALSE))","v":{"$error":"#N/A"}}]
[4,{"$f":"IFERROR((IF(A103=\"No Values Available\",\"No Values\",B9*'Project Information'!$C$37)),0)","v":0},{"$f":"IF(A103=\"No Values Available\", \"No Values\",HLOOKUP(A103,'BCA Values Freight'!$D$72:$AC$77,5,FALSE))","v":{"$error":"#N/A"}},{"$f":"IFERROR((IF(A103=\"No Values Available\", \"No Values\",'Railcar and Passenger Demand'!C6*'Project Information'!$C$31*'Project Information'!$C$28)),\"\")","v":""},{"$f":"IF(A103=\"No Values Available\",\"No Values\",HLOOKUP(A103,'BCA Values Freight'!$D$72:$AC$77,6,FALSE))","v":{"$error":"#N/A"}},{"$f":"IF(A103=\"No Values Available\",\"No Values\",HLOOKUP(A103,'BCA Values Freight'!$D$72:$AC$77,4,FALSE))","v":{"$error":"#N/A"}}]
[5,{"$f":"IFERROR((IF(A104=\"No Values Available\",\"No Values\",B10*'Project Information'!$C$37)),0)","v":0},{"$f":"IF(A104=\"No Values Available\", \"No Values\",HLOOKUP(A104,'BCA Values Freight'!$D$72:$AC$77,5,FALSE))","v":{"$error":"#N/A"}},{"$f":"IFERROR((IF(A104=\"No Values Available\", \"No Values\",'Railcar and Passenger Demand'!C7*'Project Information'!$C$31*'Project Information'!$C$28)),\"\")","v":""},{"$f":"IF(A104=\"No Values Available\",\"No Values\",HLOOKUP(A104,'BCA Values Freight'!$D$72:$AC$77,6,FALSE))","v":{"$error":"#N/A"}},{"$f":"IF(A104=\"No Values Available\",\"No Values\",HLOOKUP(A104,'BCA Values Freight'!$D$72:$AC$77,4,FALSE))","v":{"$error":"#N/A"}}]
[6,{"$f":"IFERROR((IF(A105=\"No Values Available\",\"No Values\",B11*'Project Information'!$C$37)),0)","v":0},{"$f":"IF(A105=\"No Values Available\", \"No Values\",HLOOKUP(A105,'BCA Values Freight'!$D$72:$AC$77,5,FALSE))","v":{"$error":"#N/A"}},{"$f":"IFERROR((IF(A105=\"No Values Available\", \"No Values\",'Railcar and Passenger Demand'!C8*'Project Information'!$C$31*'Project Information'!$C$28)),\"\")","v":""},{"$f":"IF(A105=\"No Values Available\",\"No Values\",HLOOKUP(A105,'BCA Values Freight'!$D$72:$AC$77,6,FALSE))","v":{"$error":"#N/A"}},{"$f":"IF(A105=\"No Values Available\",\"No Values\",HLOOKUP(A105,'BCA Values Freight'!$D$72:$AC$77,4,FALSE))","v":{"$error":"#N/A"}}]
[7,{"$f":"IFERROR((IF(A106=\"No Values Available\",\"No Values\",B12*'Project Information'!$C$37)),0)","v":0},{"$f":"IF(A106=\"No Values Available\", \"No Values\",HLOOKUP(A106,'BCA Values Freight'!$D$72:$AC$77,5,FALSE))","v":{"$error":"#N/A"}},{"$f":"IFERROR((IF(A106=\"No Values Available\", \"No Values\",'Railcar and Passenger Demand'!C9*'Project Information'!$C$31*'Project Information'!$C$28)),\"\")","v":""},{"$f":"IF(A106=\"No Values Available\",\"No Values\",HLOOKUP(A106,'BCA Values Freight'!$D$72:$AC$77,6,FALSE))","v":{"$error":"#N/A"}},{"$f":"IF(A106=\"No Values Available\",\"No Values\",HLOOKUP(A106,'BCA Values Freight'!$D$72:$AC$77,4,FALSE))","v":{"$error":"#N/A"}}]
[8,{"$f":"IFERROR((IF(A107=\"No Values Available\",\"No Values\",B13*'Project Information'!$C$37)),0)","v":0},{"$f":"IF(A107=\"No Values Available\", \"No Values\",HLOOKUP(A107,'BCA Values Freight'!$D$72:$AC$77,5,FALSE))","v":{"$error":"#N/A"}},{"$f":"IFERROR((IF(A107=\"No Values Available\", \"No Values\",'Railcar and Passenger Demand'!C10*'Project Information'!$C$31*'Project Information'!$C$28)),\"\")","v":""},{"$f":"IF(A107=\"No Values Available\",\"No Values\",HLOOKUP(A107,'BCA Values Freight'!$D$72:$AC$77,6,FALSE))","v":{"$error":"#N/A"}},{"$f":"IF(A107=\"No Values Available\",\"No Values\",HLOOKUP(A107,'BCA Values Freight'!$D$72:$AC$77,4,FALSE))","v":{"$error":"#N/A"}}]
[9,{"$f":"IFERROR((IF(A108=\"No Values Available\",\"No Values\",B14*'Project Information'!$C$37)),0)","v":0},{"$f":"IF(A108=\"No Values Available\", \"No Values\",HLOOKUP(A108,'BCA Values Freight'!$D$72:$AC$77,5,FALSE))","v":{"$error":"#N/A"}},{"$f":"IFERROR((IF(A108=\"No Values Available\", \"No Values\",'Railcar and Passenger Demand'!C11*'Project Information'!$C$31*'Project Information'!$C$28)),\"\")","v":""},{"$f":"IF(A108=\"No Values Available\",\"No Values\",HLOOKUP(A108,'BCA Values Freight'!$D$72:$AC$77,6,FALSE))","v":{"$error":"#N/A"}},{"$f":"IF(A108=\"No Values Available\",\"No Values\",HLOOKUP(A108,'BCA Values Freight'!$D$72:$AC$77,4,FALSE))","v":{"$error":"#N/A"}}]
[10,{"$f":"IFERROR((IF(A109=\"No Values Available\",\"No Values\",B15*'Project Information'!$C$37)),0)","v":0},{"$f":"IF(A109=\"No Values Available\", \"No Values\",HLOOKUP(A109,'BCA Values Freight'!$D$72:$AC$77,5,FALSE))","v":{"$error":"#N/A"}},{"$f":"IFERROR((IF(A109=\"No Values Available\", \"No Values\",'Railcar and Passenger Demand'!C12*'Project Information'!$C$31*'Project Information'!$C$28)),\"\")","v":""},{"$f":"IF(A109=\"No Values Available\",\"No Values\",HLOOKUP(A109,'BCA Values Freight'!$D$72:$AC$77,6,FALSE))","v":{"$error":"#N/A"}},{"$f":"IF(A109=\"No Values Available\",\"No Values\",HLOOKUP(A109,'BCA Values Freight'!$D$72:$AC$77,4,FALSE))","v":{"$error":"#N/A"}}]
[11,{"$f":"IFERROR((IF(A110=\"No Values Available\",\"No Values\",B16*'Project Information'!$C$37)),0)","v":0},{"$f":"IF(A110=\"No Values Available\", \"No Values\",HLOOKUP(A110,'BCA Values Freight'!$D$72:$AC$77,5,FALSE))","v":{"$error":"#N/A"}},{"$f":"IFERROR((IF(A110=\"No Values Available\", \"No Values\",'Railcar and Passenger Demand'!C13*'Project Information'!$C$31*'Project Information'!$C$28)),\"\")","v":""},{"$f":"IF(A110=\"No Values Available\",\"No Values\",HLOOKUP(A110,'BCA Values Freight'!$D$72:$AC$77,6,FALSE))","v":{"$error":"#N/A"}},{"$f":"IF(A110=\"No Values Available\",\"No Values\",HLOOKUP(A110,'BCA Values Freight'!$D$72:$AC$77,4,FALSE))","v":{"$error":"#N/A"}}]
[12,{"$f":"IFERROR((IF(A111=\"No Values Available\",\"No Values\",B17*'Project Information'!$C$37)),0)","v":0},{"$f":"IF(A111=\"No Values Available\", \"No Values\",HLOOKUP(A111,'BCA Values Freight'!$D$72:$AC$77,5,FALSE))","v":{"$error":"#N/A"}},{"$f":"IFERROR((IF(A111=\"No Values Available\", \"No Values\",'Railcar and Passenger Demand'!C14*'Project Information'!$C$31*'Project Information'!$C$28)),\"\")","v":""},{"$f":"IF(A111=\"No Values Available\",\"No Values\",HLOOKUP(A111,'BCA Values Freight'!$D$72:$AC$77,6,FALSE))","v":{"$error":"#N/A"}},{"$f":"IF(A111=\"No Values Available\",\"No Values\",HLOOKUP(A111,'BCA Values Freight'!$D$72:$AC$77,4,FALSE))","v":{"$error":"#N/A"}}]
[13,{"$f":"IFERROR((IF(A112=\"No Values Available\",\"No Values\",B18*'Project Information'!$C$37)),0)","v":0},{"$f":"IF(A112=\"No Values Available\", \"No Values\",HLOOKUP(A112,'BCA Values Freight'!$D$72:$AC$77,5,FALSE))","v":{"$error":"#N/A"}},{"$f":"IFERROR((IF(A112=\"No Values Available\", \"No Values\",'Railcar and Passenger Demand'!C15*'Project Information'!$C$31*'Project Information'!$C$28)),\"\")","v":""},{"$f":"IF(A112=\"No Values Available\",\"No Values\",HLOOKUP(A112,'BCA Values Freight'!$D$72:$AC$77,6,FALSE))","v":{"$error":"#N/A"}},{"$f":"IF(A112=\"No Values Available\",\"No Values\",HLOOKUP(A112,'BCA Values Freight'!$D$72:$AC$77,4,FALSE))","v":{"$error":"#N/A"}}]
[14,{"$f":"IFERROR((IF(A113=\"No Values Available\",\"No Values\",B19*'Project Information'!$C$37)),0)","v":0},{"$f":"IF(A113=\"No Values Available\", \"No Values\",HLOOKUP(A113,'BCA Values Freight'!$D$72:$AC$77,5,FALSE))","v":{"$error":"#N/A"}},{"$f":"IFERROR((IF(A113=\"No Values Available\", \"No Values\",'Railcar and Passenger Demand'!C16*'Project Information'!$C$31*'Project Information'!$C$28)),\"\")","v":""},{"$f":"IF(A113=\"No Values Available\",\"No Values\",HLOOKUP(A113,'BCA Values Freight'!$D$72:$AC$77,6,FALSE))","v":{"$error":"#N/A"}},{"$f":"IF(A113=\"No Values Available\",\"No Values\",HLOOKUP(A113,'BCA Values Freight'!$D$72:$AC$77,4,FALSE))","v":{"$error":"#N/A"}}]
[15,{"$f":"IFERROR((IF(A114=\"No Values Available\",\"No Values\",B20*'Project Information'!$C$37)),0)","v":0},{"$f":"IF(A114=\"No Values Available\", \"No Values\",HLOOKUP(A114,'BCA Values Freight'!$D$72:$AC$77,5,FALSE))","v":{"$error":"#N/A"}},{"$f":"IFERROR((IF(A114=\"No Values Available\", \"No Values\",'Railcar and Passenger Demand'!C17*'Project Information'!$C$31*'Project Information'!$C$28)),\"\")","v":""},{"$f":"IF(A114=\"No Values Available\",\"No Values\",HLOOKUP(A114,'BCA Values Freight'!$D$72:$AC$77,6,FALSE))","v":{"$error":"#N/A"}},{"$f":"IF(A114=\"No Values Available\",\"No Values\",HLOOKUP(A114,'BCA Values Freight'!$D$72:$AC$77,4,FALSE))","v":{"$error":"#N/A"}}]
[16,{"$f":"IFERROR((IF(A115=\"No Values Available\",\"No Values\",B21*'Project Information'!$C$37)),0)","v":0},{"$f":"IF(A115=\"No Values Available\", \"No Values\",HLOOKUP(A115,'BCA Values Freight'!$D$72:$AC$77,5,FALSE))","v":{"$error":"#N/A"}},{"$f":"IFERROR((IF(A115=\"No Values Available\", \"No Values\",'Railcar and Passenger Demand'!C18*'Project Information'!$C$31*'Project Information'!$C$28)),\"\")","v":""},{"$f":"IF(A115=\"No Values Available\",\"No Values\",HLOOKUP(A115,'BCA Values Freight'!$D$72:$AC$77,6,FALSE))","v":{"$error":"#N/A"}},{"$f":"IF(A115=\"No Values Available\",\"No Values\",HLOOKUP(A115,'BCA Values Freight'!$D$72:$AC$77,4,FALSE))","v":{"$error":"#N/A"}}]
[17,{"$f":"IFERROR((IF(A116=\"No Values Available\",\"No Values\",B22*'Project Information'!$C$37)),0)","v":0},{"$f":"IF(A116=\"No Values Available\", \"No Values\",HLOOKUP(A116,'BCA Values Freight'!$D$72:$AC$77,5,FALSE))","v":{"$error":"#N/A"}},{"$f":"IFERROR((IF(A116=\"No Values Available\", \"No Values\",'Railcar and Passenger Demand'!C19*'Project Information'!$C$31*'Project Information'!$C$28)),\"\")","v":""},{"$f":"IF(A116=\"No Values Available\",\"No Values\",HLOOKUP(A116,'BCA Values Freight'!$D$72:$AC$77,6,FALSE))","v":{"$error":"#N/A"}},{"$f":"IF(A116=\"No Values Available\",\"No Values\",HLOOKUP(A116,'BCA Values Freight'!$D$72:$AC$77,4,FALSE))","v":{"$error":"#N/A"}}]
[18,{"$f":"IFERROR((IF(A117=\"No Values Available\",\"No Values\",B23*'Project Information'!$C$37)),0)","v":0},{"$f":"IF(A117=\"No Values Available\", \"No Values\",HLOOKUP(A117,'BCA Values Freight'!$D$72:$AC$77,5,FALSE))","v":{"$error":"#N/A"}},{"$f":"IFERROR((IF(A117=\"No Values Available\", \"No Values\",'Railcar and Passenger Demand'!C20*'Project Information'!$C$31*'Project Information'!$C$28)),\"\")","v":""},{"$f":"IF(A117=\"No Values Available\",\"No Values\",HLOOKUP(A117,'BCA Values Freight'!$D$72:$AC$77,6,FALSE))","v":{"$error":"#N/A"}},{"$f":"IF(A117=\"No Values Available\",\"No Values\",HLOOKUP(A117,'BCA Values Freight'!$D$72:$AC$77,4,FALSE))","v":{"$error":"#N/A"}}]
[19,{"$f":"IFERROR((IF(A118=\"No Values Available\",\"No Values\",B24*'Project Information'!$C$37)),0)","v":0},{"$f":"IF(A118=\"No Values Available\", \"No Values\",HLOOKUP(A118,'BCA Values Freight'!$D$72:$AC$77,5,FALSE))","v":{"$error":"#N/A"}},{"$f":"IFERROR((IF(A118=\"No Values Available\", \"No Values\",'Railcar and Passenger Demand'!C21*'Project Information'!$C$31*'Project Information'!$C$28)),\"\")","v":""},{"$f":"IF(A118=\"No Values Available\",\"No Values\",HLOOKUP(A118,'BCA Values Freight'!$D$72:$AC$77,6,FALSE))","v":{"$error":"#N/A"}},{"$f":"IF(A118=\"No Values Available\",\"No Values\",HLOOKUP(A118,'BCA Values Freight'!$D$72:$AC$77,4,FALSE))","v":{"$error":"#N/A"}}]
[20,{"$f":"IFERROR((IF(A119=\"No Values Available\",\"No Values\",B25*'Project Information'!$C$37)),0)","v":0},{"$f":"IF(A119=\"No Values Available\", \"No Values\",HLOOKUP(A119,'BCA Values Freight'!$D$72:$AC$77,5,FALSE))","v":{"$error":"#N/A"}},{"$f":"IFERROR((IF(A119=\"No Values Available\", \"No Values\",'Railcar and Passenger Demand'!C22*'Project Information'!$C$31*'Project Information'!$C$28)),\"\")","v":""},{"$f":"IF(A119=\"No Values Available\",\"No Values\",HLOOKUP(A119,'BCA Values Freight'!$D$72:$AC$77,6,FALSE))","v":{"$error":"#N/A"}},{"$f":"IF(A119=\"No Values Available\",\"No Values\",HLOOKUP(A119,'BCA Values Freight'!$D$72:$AC$77,4,FALSE))","v":{"$error":"#N/A"}}]
[21,{"$f":"IFERROR((IF(A120=\"No Values Available\",\"No Values\",B26*'Project Information'!$C$37)),0)","v":0},{"$f":"IF(A120=\"No Values Available\", \"No Values\",HLOOKUP(A120,'BCA Values Freight'!$D$72:$AC$77,5,FALSE))","v":{"$error":"#N/A"}},{"$f":"IFERROR((IF(A120=\"No Values Available\", \"No Values\",'Railcar and Passenger Demand'!C23*'Project Information'!$C$31*'Project Information'!$C$28)),\"\")","v":""},{"$f":"IF(A120=\"No Values Available\",\"No Values\",HLOOKUP(A120,'BCA Values Freight'!$D$72:$AC$77,6,FALSE))","v":{"$error":"#N/A"}},{"$f":"IF(A120=\"No Values Available\",\"No Values\",HLOOKUP(A120,'BCA Values Freight'!$D$72:$AC$77,4,FALSE))","v":{"$error":"#N/A"}}]
[22,{"$f":"IFERROR((IF(A121=\"No Values Available\",\"No Values\",B27*'Project Information'!$C$37)),0)","v":0},{"$f":"IF(A121=\"No Values Available\", \"No Values\",HLOOKUP(A121,'BCA Values Freight'!$D$72:$AC$77,5,FALSE))","v":{"$error":"#N/A"}},{"$f":"IFERROR((IF(A121=\"No Values Available\", \"No Values\",'Railcar and Passenger Demand'!C24*'Project Information'!$C$31*'Project Information'!$C$28)),\"\")","v":""},{"$f":"IF(A121=\"No Values Available\",\"No Values\",HLOOKUP(A121,'BCA Values Freight'!$D$72:$AC$77,6,FALSE))","v":{"$error":"#N/A"}},{"$f":"IF(A121=\"No Values Available\",\"No Values\",HLOOKUP(A121,'BCA Values Freight'!$D$72:$AC$77,4,FALSE))","v":{"$error":"#N/A"}}]
[23,{"$f":"IFERROR((IF(A122=\"No Values Available\",\"No Values\",B28*'Project Information'!$C$37)),0)","v":0},{"$f":"IF(A122=\"No Values Available\", \"No Values\",HLOOKUP(A122,'BCA Values Freight'!$D$72:$AC$77,5,FALSE))","v":{"$error":"#N/A"}},{"$f":"IFERROR((IF(A122=\"No Values Available\", \"No Values\",'Railcar and Passenger Demand'!C25*'Project Information'!$C$31*'Project Information'!$C$28)),\"\")","v":""},{"$f":"IF(A122=\"No Values Available\",\"No Values\",HLOOKUP(A122,'BCA Values Freight'!$D$72:$AC$77,6,FALSE))","v":{"$error":"#N/A"}},{"$f":"IF(A122=\"No Values Available\",\"No Values\",HLOOKUP(A122,'BCA Values Freight'!$D$72:$AC$77,4,FALSE))","v":{"$error":"#N/A"}}]
[24,{"$f":"IFERROR((IF(A123=\"No Values Available\",\"No Values\",B29*'Project Information'!$C$37)),0)","v":0},{"$f":"IF(A123=\"No Values Available\", \"No Values\",HLOOKUP(A123,'BCA Values Freight'!$D$72:$AC$77,5,FALSE))","v":{"$error":"#N/A"}},{"$f":"IFERROR((IF(A123=\"No Values Available\", \"No Values\",'Railcar and Passenger Demand'!C26*'Project Information'!$C$31*'Project Information'!$C$28)),\"\")","v":""},{"$f":"IF(A123=\"No Values Available\",\"No Values\",HLOOKUP(A123,'BCA Values Freight'!$D$72:$AC$77,6,FALSE))","v":{"$error":"#N/A"}},{"$f":"IF(A123=\"No Values Available\",\"No Values\",HLOOKUP(A123,'BCA Values Freight'!$D$72:$AC$77,4,FALSE))","v":{"$error":"#N/A"}}]

{"sheet":"Freight Calcs","index":7,"n_rows":58,"n_cols":9,"rows_kept":58,"cut":false,"hidden":false,"merged":[]}
[null,null,"Congestion Cost",null,"Environmental Improvement - (Shift from trucks to trains) ",null,"Environmental Improvement - (Distance Reduction) ",null,"Shipping Cost Reduction - (Distance Reduction)"]
[null,null,"Improvement in the levels of highway congestion realized by shifting freight from truck to rail, reducing the number of trucks on major highways (I-64, I-66, I-81, I-95, US29, US58 or US460)",null,"Benefit associated with the reduction in the level of Carbon Dioxide, Volatile Organic Compounds, Nitrogen Oxides and Particulate Matter due do truck traffic moving to rail.  The amount of pollution by the same critical pollutants caused by the increase in rail traffic is deducted from the benefit.  ",null,"Benefit associated with the reduction in the level of Carbon Dioxide, Volatile Organic Compounds, Nitrogen Oxides and Particulate Matter due the rail to freight network being reduced in length.   ",null,"When an existing route is reduced in length, the cost to ship freight will be reduced resulting in a shipping cost reduction.    "]
["Year",null,"Total reduction in truck VMT * Congestion cost per truck mile ",null,"Truck VMT * (Air pollution cost per truck VMT  + Noise pollution cost per truck VMT) - Train ton miles * (Air pollution cost per freight train ton mile + Noise pollution cost per train ton mile)",null,"Annual tons of rail shipments (existing) * Reduced freight mileage (after project) * (Air pollution cost per freight train ton mile + Noise pollution cost per train ton mile)",null,"Reduced freight mileage (after project) * Annual tons of rail shipments (existing) * Shipping rate per train ton mile"]
[{"$f":"'Intermediate Freight Calcs'!A5","v":0},null,{"$f":"IF(OR((ISBLANK('Project Information'!$C$21)),(ISBLANK('Project Information'!$C$35)),(ISBLANK('Project Information'!$C$36))),0,IF(AND((A4>='Project Information'!$C$10),(A4<('Project Information'!$C$8+'Project Cost'!$H$61))),('Intermediate Freight Calcs'!H5*'Intermediate Freight Calcs'!B5),0))","v":0},null,{"$f":"IF(OR((ISBLANK('Project Information'!$C$23)),(ISBLANK('Project Information'!$D$23)),(ISBLANK('Project Information'!$C$28)),(ISBLANK('Project Information'!$C$29)),(ISBLANK('Project Information'!$C$31)),(ISBLANK('Project Information'!$C$35)),(ISBLANK('Project Information'!$C$36))),0,IF(AND((A4>='Project Information'!$C$10),(A4<('Project Information'!$C$8+'Project Cost'!$H$61))),('Intermediate Freight Calcs'!B5*('Intermediate Freight Calcs'!B36+'Intermediate Freight Calcs'!C36))-('Intermediate Freight Calcs'!D36*('Intermediate Freight Calcs'!E36+'Intermediate Freight Calcs'!F36)),0))","v":0},null,{"$f":"IF(OR((ISBLANK('Project Information'!$C$28)),(ISBLANK('Project Information'!$C$32))),0,IF(AND((A4>='Project Information'!$C$10),(A4<('Project Information'!$C$8+'Project Cost'!$H$61))),'Railcar and Passenger Demand'!B2*'Project Information'!$C$28*'Project Information'!$C$32*('Intermediate Freight Calcs'!E36+'Intermediate Freight Calcs'!F36),0))","v":{"$error":"#N/A"}},null,{"$f":"IF(OR((ISBLANK('Project Information'!$C$28)),(ISBLANK('Project Information'!$C$32))),0,IF(AND((A4>='Project Information'!$C$10),(A4<('Project Information'!$C$8+'Project Cost'!$H$61))),'Project Information'!$C$32*'Railcar and Passenger Demand'!B2*'Project Information'!$C$28*'Intermediate Freight Calcs'!C68,0))","v":{"$error":"#N/A"}}]
[{"$f":"'Intermediate Freight Calcs'!A6","v":1},null,{"$f":"IF(OR((ISBLANK('Project Information'!$C$21)),(ISBLANK('Project Information'!$C$35)),(ISBLANK('Project Information'!$C$36))),0,IF(AND((A5>='Project Information'!$C$10),(A5<('Project Information'!$C$8+'Project Cost'!$H$61))),('Intermediate Freight Calcs'!H6*'Intermediate Freight Calcs'!B6),0))","v":0},null,{"$f":"IF(OR((ISBLANK('Project Information'!$C$23)),(ISBLANK('Project Information'!$D$23)),(ISBLANK('Project Information'!$C$28)),(ISBLANK('Project Information'!$C$29)),(ISBLANK('Project Information'!$C$31)),(ISBLANK('Project Information'!$C$35)),(ISBLANK('Project Information'!$C$36))),0,IF(AND((A5>='Project Information'!$C$10),(A5<('Project Information'!$C$8+'Project Cost'!$H$61))),('Intermediate Freight Calcs'!B6*('Intermediate Freight Calcs'!B37+'Intermediate Freight Calcs'!C37))-('Intermediate Freight Calcs'!D37*('Intermediate Freight Calcs'!E37+'Intermediate Freight Calcs'!F37)),0))","v":0},null,{"$f":"IF(OR((ISBLANK('Project Information'!$C$28)),(ISBLANK('Project Information'!$C$32))),0,IF(AND((A5>='Project Information'!$C$10),(A5<('Project Information'!$C$8+'Project Cost'!$H$61))),'Railcar and Passenger Demand'!B3*'Project Information'!$C$28*'Project Information'!$C$32*('Intermediate Freight Calcs'!E37+'Intermediate Freight Calcs'!F37),0))","v":{"$error":"#N/A"}},null,{"$f":"IF(OR((ISBLANK('Project Information'!$C$28)),(ISBLANK('Project Information'!$C$32))),0,IF(AND((A5>='Project Information'!$C$10),(A5<('Project Information'!$C$8+'Project Cost'!$H$61))),'Project Information'!$C$32*'Railcar and Passenger Demand'!B3*'Project Information'!$C$28*'Intermediate Freight Calcs'!C69,0))","v":{"$error":"#N/A"}}]
[{"$f":"'Intermediate Freight Calcs'!A7","v":2},null,{"$f":"IF(OR((ISBLANK('Project Information'!$C$21)),(ISBLANK('Project Information'!$C$35)),(ISBLANK('Project Information'!$C$36))),0,IF(AND((A6>='Project Information'!$C$10),(A6<('Project Information'!$C$8+'Project Cost'!$H$61))),('Intermediate Freight Calcs'!H7*'Intermediate Freight Calcs'!B7),0))","v":0},null,{"$f":"IF(OR((ISBLANK('Project Information'!$C$23)),(ISBLANK('Project Information'!$D$23)),(ISBLANK('Project Information'!$C$28)),(ISBLANK('Project Information'!$C$29)),(ISBLANK('Project Information'!$C$31)),(ISBLANK('Project Information'!$C$35)),(ISBLANK('Project Information'!$C$36))),0,IF(AND((A6>='Project Information'!$C$10),(A6<('Project Information'!$C$8+'Project Cost'!$H$61))),('Intermediate Freight Calcs'!B7*('Intermediate Freight Calcs'!B38+'Intermediate Freight Calcs'!C38))-('Intermediate Freight Calcs'!D38*('Intermediate Freight Calcs'!E38+'Intermediate Freight Calcs'!F38)),0))","v":0},null,{"$f":"IF(OR((ISBLANK('Project Information'!$C$28)),(ISBLANK('Project Information'!$C$32))),0,IF(AND((A6>='Project Information'!$C$10),(A6<('Project Information'!$C$8+'Project Cost'!$H$61))),'Railcar and Passenger Demand'!B4*'Project Information'!$C$28*'Project Information'!$C$32*('Intermediate Freight Calcs'!E38+'Intermediate Freight Calcs'!F38),0))","v":{"$error":"#N/A"}},null,{"$f":"IF(OR((ISBLANK('Project Information'!$C$28)),(ISBLANK('Project Information'!$C$32))),0,IF(AND((A6>='Project Information'!$C$10),(A6<('Project Information'!$C$8+'Project Cost'!$H$61))),'Project Information'!$C$32*'Railcar and Passenger Demand'!B4*'Project Information'!$C$28*'Intermediate Freight Calcs'!C70,0))","v":{"$error":"#N/A"}}]
[{"$f":"'Intermediate Freight Calcs'!A8","v":3},null,{"$f":"IF(OR((ISBLANK('Project Information'!$C$21)),(ISBLANK('Project Information'!$C$35)),(ISBLANK('Project Information'!$C$36))),0,IF(AND((A7>='Project Information'!$C$10),(A7<('Project Information'!$C$8+'Project Cost'!$H$61))),('Intermediate Freight Calcs'!H8*'Intermediate Freight Calcs'!B8),0))","v":0},null,{"$f":"IF(OR((ISBLANK('Project Information'!$C$23)),(ISBLANK('Project Information'!$D$23)),(ISBLANK('Project Information'!$C$28)),(ISBLANK('Project Information'!$C$29)),(ISBLANK('Project Information'!$C$31)),(ISBLANK('Project Information'!$C$35)),(ISBLANK('Project Information'!$C$36))),0,IF(AND((A7>='Project Information'!$C$10),(A7<('Project Information'!$C$8+'Project Cost'!$H$61))),('Intermediate Freight Calcs'!B8*('Intermediate Freight Calcs'!B39+'Intermediate Freight Calcs'!C39))-('Intermediate Freight Calcs'!D39*('Intermediate Freight Calcs'!E39+'Intermediate Freight Calcs'!F39)),0))","v":0},null,{"$f":"IF(OR((ISBLANK('Project Information'!$C$28)),(ISBLANK('Project Information'!$C$32))),0,IF(AND((A7>='Project Information'!$C$10),(A7<('Project Information'!$C$8+'Project Cost'!$H$61))),'Railcar and Passenger Demand'!B5*'Project Information'!$C$28*'Project Information'!$C$32*('Intermediate Freight Calcs'!E39+'Intermediate Freight Calcs'!F39),0))","v":{"$error":"#N/A"}},null,{"$f":"IF(OR((ISBLANK('Project Information'!$C$28)),(ISBLANK('Project Information'!$C$32))),0,IF(AND((A7>='Project Information'!$C$10),(A7<('Project Information'!$C$8+'Project Cost'!$H$61))),'Project Information'!$C$32*'Railcar and Passenger Demand'!B5*'Project Information'!$C$28*'Intermediate Freight Calcs'!C71,0))","v":{"$error":"#N/A"}}]
[{"$f":"'Intermediate Freight Calcs'!A9","v":4},null,{"$f":"IF(OR((ISBLANK('Project Information'!$C$21)),(ISBLANK('Project Information'!$C$35)),(ISBLANK('Project Information'!$C$36))),0,IF(AND((A8>='Project Information'!$C$10),(A8<('Project Information'!$C$8+'Project Cost'!$H$61))),('Intermediate Freight Calcs'!H9*'Intermediate Freight Calcs'!B9),0))","v":0},null,{"$f":"IF(OR((ISBLANK('Project Information'!$C$23)),(ISBLANK('Project Information'!$D$23)),(ISBLANK('Project Information'!$C$28)),(ISBLANK('Project Information'!$C$29)),(ISBLANK('Project Information'!$C$31)),(ISBLANK('Project Information'!$C$35)),(ISBLANK('Project Information'!$C$36))),0,IF(AND((A8>='Project Information'!$C$10),(A8<('Project Information'!$C$8+'Project Cost'!$H$61))),('Intermediate Freight Calcs'!B9*('Intermediate Freight Calcs'!B40+'Intermediate Freight Calcs'!C40))-('Intermediate Freight Calcs'!D40*('Intermediate Freight Calcs'!E40+'Intermediate Freight Calcs'!F40)),0))","v":0},null,{"$f":"IF(OR((ISBLANK('Project Information'!$C$28)),(ISBLANK('Project Information'!$C$32))),0,IF(AND((A8>='Project Information'!$C$10),(A8<('Project Information'!$C$8+'Project Cost'!$H$61))),'Railcar and Passenger Demand'!B6*'Project Information'!$C$28*'Project Information'!$C$32*('Intermediate Freight Calcs'!E40+'Intermediate Freight Calcs'!F40),0))","v":{"$error":"#N/A"}},null,{"$f":"IF(OR((ISBLANK('Project Information'!$C$28)),(ISBLANK('Project Information'!$C$32))),0,IF(AND((A8>='Project Information'!$C$10),(A8<('Project Information'!$C$8+'Project Cost'!$H$61))),'Project Information'!$C$32*'Railcar and Passenger Demand'!B6*'Project Information'!$C$28*'Intermediate Freight Calcs'!C72,0))","v":{"$error":"#N/A"}}]
[{"$f":"'Intermediate Freight Calcs'!A10","v":5},null,{"$f":"IF(OR((ISBLANK('Project Information'!$C$21)),(ISBLANK('Project Information'!$C$35)),(ISBLANK('Project Information'!$C$36))),0,IF(AND((A9>='Project Information'!$C$10),(A9<('Project Information'!$C$8+'Project Cost'!$H$61))),('Intermediate Freight Calcs'!H10*'Intermediate Freight Calcs'!B10),0))","v":0},null,{"$f":"IF(OR((ISBLANK('Project Information'!$C$23)),(ISBLANK('Project Information'!$D$23)),(ISBLANK('Project Information'!$C$28)),(ISBLANK('Project Information'!$C$29)),(ISBLANK('Project Information'!$C$31)),(ISBLANK('Project Information'!$C$35)),(ISBLANK('Project Information'!$C$36))),0,IF(AND((A9>='Project Information'!$C$10),(A9<('Project Information'!$C$8+'Project Cost'!$H$61))),('Intermediate Freight Calcs'!B10*('Intermediate Freight Calcs'!B41+'Intermediate Freight Calcs'!C41))-('Intermediate Freight Calcs'!D41*('Intermediate Freight Calcs'!E41+'Intermediate Freight Calcs'!F41)),0))","v":0},null,{"$f":"IF(OR((ISBLANK('Project Information'!$C$28)),(ISBLANK('Project Information'!$C$32))),0,IF(AND((A9>='Project Information'!$C$10),(A9<('Project Information'!$C$8+'Project Cost'!$H$61))),'Railcar and Passenger Demand'!B7*'Project Information'!$C$28*'Project Information'!$C$32*('Intermediate Freight Calcs'!E41+'Intermediate Freight Calcs'!F41),0))","v":{"$error":"#N/A"}},null,{"$f":"IF(OR((ISBLANK('Project Information'!$C$28)),(ISBLANK('Project Information'!$C$32))),0,IF(AND((A9>='Project Information'!$C$10),(A9<('Project Information'!$C$8+'Project Cost'!$H$61))),'Project Information'!$C$32*'Railcar and Passenger Demand'!B7*'Project Information'!$C$28*'Intermediate Freight Calcs'!C73,0))","v":{"$error":"#N/A"}}]
[{"$f":"'Intermediate Freight Calcs'!A11","v":6},null,{"$f":"IF(OR((ISBLANK('Project Information'!$C$21)),(ISBLANK('Project Information'!$C$35)),(ISBLANK('Project Information'!$C$36))),0,IF(AND((A10>='Project Information'!$C$10),(A10<('Project Information'!$C$8+'Project Cost'!$H$61))),('Intermediate Freight Calcs'!H11*'Intermediate Freight Calcs'!B11),0))","v":0},null,{"$f":"IF(OR((ISBLANK('Project Information'!$C$23)),(ISBLANK('Project Information'!$D$23)),(ISBLANK('Project Information'!$C$28)),(ISBLANK('Project Information'!$C$29)),(ISBLANK('Project Information'!$C$31)),(ISBLANK('Project Information'!$C$35)),(ISBLANK('Project Information'!$C$36))),0,IF(AND((A10>='Project Information'!$C$10),(A10<('Project Information'!$C$8+'Project Cost'!$H$61))),('Intermediate Freight Calcs'!B11*('Intermediate Freight Calcs'!B42+'Intermediate Freight Calcs'!C42))-('Intermediate Freight Calcs'!D42*('Intermediate Freight Calcs'!E42+'Intermediate Freight Calcs'!F42)),0))","v":0},null,{"$f":"IF(OR((ISBLANK('Project Information'!$C$28)),(ISBLANK('Project Information'!$C$32))),0,IF(AND((A10>='Project Information'!$C$10),(A10<('Project Information'!$C$8+'Project Cost'!$H$61))),'Railcar and Passenger Demand'!B8*'Project Information'!$C$28*'Project Information'!$C$32*('Intermediate Freight Calcs'!E42+'Intermediate Freight Calcs'!F42),0))","v":{"$error":"#N/A"}},null,{"$f":"IF(OR((ISBLANK('Project Information'!$C$28)),(ISBLANK('Project Information'!$C$32))),0,IF(AND((A10>='Project Information'!$C$10),(A10<('Project Information'!$C$8+'Project Cost'!$H$61))),'Project Information'!$C$32*'Railcar and Passenger Demand'!B8*'Project Information'!$C$28*'Intermediate Freight Calcs'!C74,0))","v":{"$error":"#N/A"}}]
[{"$f":"'Intermediate Freight Calcs'!A12","v":7},null,{"$f":"IF(OR((ISBLANK('Project Information'!$C$21)),(ISBLANK('Project Information'!$C$35)),(ISBLANK('Project Information'!$C$36))),0,IF(AND((A11>='Project Information'!$C$10),(A11<('Project Information'!$C$8+'Project Cost'!$H$61))),('Intermediate Freight Calcs'!H12*'Intermediate Freight Calcs'!B12),0))","v":0},null,{"$f":"IF(OR((ISBLANK('Project Information'!$C$23)),(ISBLANK('Project Information'!$D$23)),(ISBLANK('Project Information'!$C$28)),(ISBLANK('Project Information'!$C$29)),(ISBLANK('Project Information'!$C$31)),(ISBLANK('Project Information'!$C$35)),(ISBLANK('Project Information'!$C$36))),0,IF(AND((A11>='Project Information'!$C$10),(A11<('Project Information'!$C$8+'Project Cost'!$H$61))),('Intermediate Freight Calcs'!B12*('Intermediate Freight Calcs'!B43+'Intermediate Freight Calcs'!C43))-('Intermediate Freight Calcs'!D43*('Intermediate Freight Calcs'!E43+'Intermediate Freight Calcs'!F43)),0))","v":0},null,{"$f":"IF(OR((ISBLANK('Project Information'!$C$28)),(ISBLANK('Project Information'!$C$32))),0,IF(AND((A11>='Project Information'!$C$10),(A11<('Project Information'!$C$8+'Project Cost'!$H$61))),'Railcar and Passenger Demand'!B9*'Project Information'!$C$28*'Project Information'!$C$32*('Intermediate Freight Calcs'!E43+'Intermediate Freight Calcs'!F43),0))","v":{"$error":"#N/A"}},null,{"$f":"IF(OR((ISBLANK('Project Information'!$C$28)),(ISBLANK('Project Information'!$C$32))),0,IF(AND((A11>='Project Information'!$C$10),(A11<('Project Information'!$C$8+'Project Cost'!$H$61))),'Project Information'!$C$32*'Railcar and Passenger Demand'!B9*'Project Information'!$C$28*'Intermediate Freight Calcs'!C75,0))","v":{"$error":"#N/A"}}]
[{"$f":"'Intermediate Freight Calcs'!A13","v":8},null,{"$f":"IF(OR((ISBLANK('Project Information'!$C$21)),(ISBLANK('Project Information'!$C$35)),(ISBLANK('Project Information'!$C$36))),0,IF(AND((A12>='Project Information'!$C$10),(A12<('Project Information'!$C$8+'Project Cost'!$H$61))),('Intermediate Freight Calcs'!H13*'Intermediate Freight Calcs'!B13),0))","v":0},null,{"$f":"IF(OR((ISBLANK('Project Information'!$C$23)),(ISBLANK('Project Information'!$D$23)),(ISBLANK('Project Information'!$C$28)),(ISBLANK('Project Information'!$C$29)),(ISBLANK('Project Information'!$C$31)),(ISBLANK('Project Information'!$C$35)),(ISBLANK('Project Information'!$C$36))),0,IF(AND((A12>='Project Information'!$C$10),(A12<('Project Information'!$C$8+'Project Cost'!$H$61))),('Intermediate Freight Calcs'!B13*('Intermediate Freight Calcs'!B44+'Intermediate Freight Calcs'!C44))-('Intermediate Freight Calcs'!D44*('Intermediate Freight Calcs'!E44+'Intermediate Freight Calcs'!F44)),0))","v":0},null,{"$f":"IF(OR((ISBLANK('Project Information'!$C$28)),(ISBLANK('Project Information'!$C$32))),0,IF(AND((A12>='Project Information'!$C$10),(A12<('Project Information'!$C$8+'Project Cost'!$H$61))),'Railcar and Passenger Demand'!B10*'Project Information'!$C$28*'Project Information'!$C$32*('Intermediate Freight Calcs'!E44+'Intermediate Freight Calcs'!F44),0))","v":{"$error":"#N/A"}},null,{"$f":"IF(OR((ISBLANK('Project Information'!$C$28)),(ISBLANK('Project Information'!$C$32))),0,IF(AND((A12>='Project Information'!$C$10),(A12<('Project Information'!$C$8+'Project Cost'!$H$61))),'Project Information'!$C$32*'Railcar and Passenger Demand'!B10*'Project Information'!$C$28*'Intermediate Freight Calcs'!C76,0))","v":{"$error":"#N/A"}}]
[{"$f":"'Intermediate Freight Calcs'!A14","v":9},null,{"$f":"IF(OR((ISBLANK('Project Information'!$C$21)),(ISBLANK('Project Information'!$C$35)),(ISBLANK('Project Information'!$C$36))),0,IF(AND((A13>='Project Information'!$C$10),(A13<('Project Information'!$C$8+'Project Cost'!$H$61))),('Intermediate Freight Calcs'!H14*'Intermediate Freight Calcs'!B14),0))","v":0},null,{"$f":"IF(OR((ISBLANK('Project Information'!$C$23)),(ISBLANK('Project Information'!$D$23)),(ISBLANK('Project Information'!$C$28)),(ISBLANK('Project Information'!$C$29)),(ISBLANK('Project Information'!$C$31)),(ISBLANK('Project Information'!$C$35)),(ISBLANK('Project Information'!$C$36))),0,IF(AND((A13>='Project Information'!$C$10),(A13<('Project Information'!$C$8+'Project Cost'!$H$61))),('Intermediate Freight Calcs'!B14*('Intermediate Freight Calcs'!B45+'Intermediate Freight Calcs'!C45))-('Intermediate Freight Calcs'!D45*('Intermediate Freight Calcs'!E45+'Intermediate Freight Calcs'!F45)),0))","v":0},null,{"$f":"IF(OR((ISBLANK('Project Information'!$C$28)),(ISBLANK('Project Information'!$C$32))),0,IF(AND((A13>='Project Information'!$C$10),(A13<('Project Information'!$C$8+'Project Cost'!$H$61))),'Railcar and Passenger Demand'!B11*'Project Information'!$C$28*'Project Information'!$C$32*('Intermediate Freight Calcs'!E45+'Intermediate Freight Calcs'!F45),0))","v":{"$error":"#N/A"}},null,{"$f":"IF(OR((ISBLANK('Project Information'!$C$28)),(ISBLANK('Project Information'!$C$32))),0,IF(AND((A13>='Project Information'!$C$10),(A13<('Project Information'!$C$8+'Project Cost'!$H$61))),'Project Information'!$C$32*'Railcar and Passenger Demand'!B11*'Project Information'!$C$28*'Intermediate Freight Calcs'!C77,0))","v":{"$error":"#N/A"}}]
[{"$f":"'Intermediate Freight Calcs'!A15","v":10},null,{"$f":"IF(OR((ISBLANK('Project Information'!$C$21)),(ISBLANK('Project Information'!$C$35)),(ISBLANK('Project Information'!$C$36))),0,IF(AND((A14>='Project Information'!$C$10),(A14<('Project Information'!$C$8+'Project Cost'!$H$61))),('Intermediate Freight Calcs'!H15*'Intermediate Freight Calcs'!B15),0))","v":0},null,{"$f":"IF(OR((ISBLANK('Project Information'!$C$23)),(ISBLANK('Project Information'!$D$23)),(ISBLANK('Project Information'!$C$28)),(ISBLANK('Project Information'!$C$29)),(ISBLANK('Project Information'!$C$31)),(ISBLANK('Project Information'!$C$35)),(ISBLANK('Project Information'!$C$36))),0,IF(AND((A14>='Project Information'!$C$10),(A14<('Project Information'!$C$8+'Project Cost'!$H$61))),('Intermediate Freight Calcs'!B15*('Intermediate Freight Calcs'!B46+'Intermediate Freight Calcs'!C46))-('Intermediate Freight Calcs'!D46*('Intermediate Freight Calcs'!E46+'Intermediate Freight Calcs'!F46)),0))","v":0},null,{"$f":"IF(OR((ISBLANK('Project Information'!$C$28)),(ISBLANK('Project Information'!$C$32))),0,IF(AND((A14>='Project Information'!$C$10),(A14<('Project Information'!$C$8+'Project Cost'!$H$61))),'Railcar and Passenger Demand'!B12*'Project Information'!$C$28*'Project Information'!$C$32*('Intermediate Freight Calcs'!E46+'Intermediate Freight Calcs'!F46),0))","v":{"$error":"#N/A"}},null,{"$f":"IF(OR((ISBLANK('Project Information'!$C$28)),(ISBLANK('Project Information'!$C$32))),0,IF(AND((A14>='Project Information'!$C$10),(A14<('Project Information'!$C$8+'Project Cost'!$H$61))),'Project Information'!$C$32*'Railcar and Passenger Demand'!B12*'Project Information'!$C$28*'Intermediate Freight Calcs'!C78,0))","v":{"$error":"#N/A"}}]
[{"$f":"'Intermediate Freight Calcs'!A16","v":11},null,{"$f":"IF(OR((ISBLANK('Project Information'!$C$21)),(ISBLANK('Project Information'!$C$35)),(ISBLANK('Project Information'!$C$36))),0,IF(AND((A15>='Project Information'!$C$10),(A15<('Project Information'!$C$8+'Project Cost'!$H$61))),('Intermediate Freight Calcs'!H16*'Intermediate Freight Calcs'!B16),0))","v":0},null,{"$f":"IF(OR((ISBLANK('Project Information'!$C$23)),(ISBLANK('Project Information'!$D$23)),(ISBLANK('Project Information'!$C$28)),(ISBLANK('Project Information'!$C$29)),(ISBLANK('Project Information'!$C$31)),(ISBLANK('Project Information'!$C$35)),(ISBLANK('Project Information'!$C$36))),0,IF(AND((A15>='Project Information'!$C$10),(A15<('Project Information'!$C$8+'Project Cost'!$H$61))),('Intermediate Freight Calcs'!B16*('Intermediate Freight Calcs'!B47+'Intermediate Freight Calcs'!C47))-('Intermediate Freight Calcs'!D47*('Intermediate Freight Calcs'!E47+'Intermediate Freight Calcs'!F47)),0))","v":0},null,{"$f":"IF(OR((ISBLANK('Project Information'!$C$28)),(ISBLANK('Project Information'!$C$32))),0,IF(AND((A15>='Project Information'!$C$10),(A15<('Project Information'!$C$8+'Project Cost'!$H$61))),'Railcar and Passenger Demand'!B13*'Project Information'!$C$28*'Project Information'!$C$32*('Intermediate Freight Calcs'!E47+'Intermediate Freight Calcs'!F47),0))","v":{"$error":"#N/A"}},null,{"$f":"IF(OR((ISBLANK('Project Information'!$C$28)),(ISBLANK('Project Information'!$C$32))),0,IF(AND((A15>='Project Information'!$C$10),(A15<('Project Information'!$C$8+'Project Cost'!$H$61))),'Project Information'!$C$32*'Railcar and Passenger Demand'!B13*'Project Information'!$C$28*'Intermediate Freight Calcs'!C79,0))","v":{"$error":"#N/A"}}]
[{"$f":"'Intermediate Freight Calcs'!A17","v":12},null,{"$f":"IF(OR((ISBLANK('Project Information'!$C$21)),(ISBLANK('Project Information'!$C$35)),(ISBLANK('Project Information'!$C$36))),0,IF(AND((A16>='Project Information'!$C$10),(A16<('Project Information'!$C$8+'Project Cost'!$H$61))),('Intermediate Freight Calcs'!H17*'Intermediate Freight Calcs'!B17),0))","v":0},null,{"$f":"IF(OR((ISBLANK('Project Information'!$C$23)),(ISBLANK('Project Information'!$D$23)),(ISBLANK('Project Information'!$C$28)),(ISBLANK('Project Information'!$C$29)),(ISBLANK('Project Information'!$C$31)),(ISBLANK('Project Information'!$C$35)),(ISBLANK('Project Information'!$C$36))),0,IF(AND((A16>='Project Information'!$C$10),(A16<('Project Information'!$C$8+'Project Cost'!$H$61))),('Intermediate Freight Calcs'!B17*('Intermediate Freight Calcs'!B48+'Intermediate Freight Calcs'!C48))-('Intermediate Freight Calcs'!D48*('Intermediate Freight Calcs'!E48+'Intermediate Freight Calcs'!F48)),0))","v":0},null,{"$f":"IF(OR((ISBLANK('Project Information'!$C$28)),(ISBLANK('Project Information'!$C$32))),0,IF(AND((A16>='Project Information'!$C$10),(A16<('Project Information'!$C$8+'Project Cost'!$H$61))),'Railcar and Passenger Demand'!B14*'Project Information'!$C$28*'Project Information'!$C$32*('Intermediate Freight Calcs'!E48+'Intermediate Freight Calcs'!F48),0))","v":{"$error":"#N/A"}},null,{"$f":"IF(OR((ISBLANK('Project Information'!$C$28)),(ISBLANK('Project Information'!$C$32))),0,IF(AND((A16>='Project Information'!$C$10),(A16<('Project Information'!$C$8+'Project Cost'!$H$61))),'Project Information'!$C$32*'Railcar and Passenger Demand'!B14*'Project Information'!$C$28*'Intermediate Freight Calcs'!C80,0))","v":{"$error":"#N/A"}}]
[{"$f":"'Intermediate Freight Calcs'!A18","v":13},null,{"$f":"IF(OR((ISBLANK('Project Information'!$C$21)),(ISBLANK('Project Information'!$C$35)),(ISBLANK('Project Information'!$C$36))),0,IF(AND((A17>='Project Information'!$C$10),(A17<('Project Information'!$C$8+'Project Cost'!$H$61))),('Intermediate Freight Calcs'!H18*'Intermediate Freight Calcs'!B18),0))","v":0},null,{"$f":"IF(OR((ISBLANK('Project Information'!$C$23)),(ISBLANK('Project Information'!$D$23)),(ISBLANK('Project Information'!$C$28)),(ISBLANK('Project Information'!$C$29)),(ISBLANK('Project Information'!$C$31)),(ISBLANK('Project Information'!$C$35)),(ISBLANK('Project Information'!$C$36))),0,IF(AND((A17>='Project Information'!$C$10),(A17<('Project Information'!$C$8+'Project Cost'!$H$61))),('Intermediate Freight Calcs'!B18*('Intermediate Freight Calcs'!B49+'Intermediate Freight Calcs'!C49))-('Intermediate Freight Calcs'!D49*('Intermediate Freight Calcs'!E49+'Intermediate Freight Calcs'!F49)),0))","v":0},null,{"$f":"IF(OR((ISBLANK('Project Information'!$C$28)),(ISBLANK('Project Information'!$C$32))),0,IF(AND((A17>='Project Information'!$C$10),(A17<('Project Information'!$C$8+'Project Cost'!$H$61))),'Railcar and Passenger Demand'!B15*'Project Information'!$C$28*'Project Information'!$C$32*('Intermediate Freight Calcs'!E49+'Intermediate Freight Calcs'!F49),0))","v":{"$error":"#N/A"}},null,{"$f":"IF(OR((ISBLANK('Project Information'!$C$28)),(ISBLANK('Project Information'!$C$32))),0,IF(AND((A17>='Project Information'!$C$10),(A17<('Project Information'!$C$8+'Project Cost'!$H$61))),'Project Information'!$C$32*'Railcar and Passenger Demand'!B15*'Project Information'!$C$28*'Intermediate Freight Calcs'!C81,0))","v":{"$error":"#N/A"}}]
[{"$f":"'Intermediate Freight Calcs'!A19","v":14},null,{"$f":"IF(OR((ISBLANK('Project Information'!$C$21)),(ISBLANK('Project Information'!$C$35)),(ISBLANK('Project Information'!$C$36))),0,IF(AND((A18>='Project Information'!$C$10),(A18<('Project Information'!$C$8+'Project Cost'!$H$61))),('Intermediate Freight Calcs'!H19*'Intermediate Freight Calcs'!B19),0))","v":0},null,{"$f":"IF(OR((ISBLANK('Project Information'!$C$23)),(ISBLANK('Project Information'!$D$23)),(ISBLANK('Project Information'!$C$28)),(ISBLANK('Project Information'!$C$29)),(ISBLANK('Project Information'!$C$31)),(ISBLANK('Project Information'!$C$35)),(ISBLANK('Project Information'!$C$36))),0,IF(AND((A18>='Project Information'!$C$10),(A18<('Project Information'!$C$8+'Project Cost'!$H$61))),('Intermediate Freight Calcs'!B19*('Intermediate Freight Calcs'!B50+'Intermediate Freight Calcs'!C50))-('Intermediate Freight Calcs'!D50*('Intermediate Freight Calcs'!E50+'Intermediate Freight Calcs'!F50)),0))","v":0},null,{"$f":"IF(OR((ISBLANK('Project Information'!$C$28)),(ISBLANK('Project Information'!$C$32))),0,IF(AND((A18>='Project Information'!$C$10),(A18<('Project Information'!$C$8+'Project Cost'!$H$61))),'Railcar and Passenger Demand'!B16*'Project Information'!$C$28*'Project Information'!$C$32*('Intermediate Freight Calcs'!E50+'Intermediate Freight Calcs'!F50),0))","v":{"$error":"#N/A"}},null,{"$f":"IF(OR((ISBLANK('Project Information'!$C$28)),(ISBLANK('Project Information'!$C$32))),0,IF(AND((A18>='Project Information'!$C$10),(A18<('Project Information'!$C$8+'Project Cost'!$H$61))),'Project Information'!$C$32*'Railcar and Passenger Demand'!B16*'Project Information'!$C$28*'Intermediate Freight Calcs'!C82,0))","v":{"$error":"#N/A"}}]
[{"$f":"'Intermediate Freight Calcs'!A20","v":15},null,{"$f":"IF(OR((ISBLANK('Project Information'!$C$21)),(ISBLANK('Project Information'!$C$35)),(ISBLANK('Project Information'!$C$36))),0,IF(AND((A19>='Project Information'!$C$10),(A19<('Project Information'!$C$8+'Project Cost'!$H$61))),('Intermediate Freight Calcs'!H20*'Intermediate Freight Calcs'!B20),0))","v":0},null,{"$f":"IF(OR((ISBLANK('Project Information'!$C$23)),(ISBLANK('Project Information'!$D$23)),(ISBLANK('Project Information'!$C$28)),(ISBLANK('Project Information'!$C$29)),(ISBLANK('Project Information'!$C$31)),(ISBLANK('Project Information'!$C$35)),(ISBLANK('Project Information'!$C$36))),0,IF(AND((A19>='Project Information'!$C$10),(A19<('Project Information'!$C$8+'Project Cost'!$H$61))),('Intermediate Freight Calcs'!B20*('Intermediate Freight Calcs'!B51+'Intermediate Freight Calcs'!C51))-('Intermediate Freight Calcs'!D51*('Intermediate Freight Calcs'!E51+'Intermediate Freight Calcs'!F51)),0))","v":0},null,{"$f":"IF(OR((ISBLANK('Project Information'!$C$28)),(ISBLANK('Project Information'!$C$32))),0,IF(AND((A19>='Project Information'!$C$10),(A19<('Project Information'!$C$8+'Project Cost'!$H$61))),'Railcar and Passenger Demand'!B17*'Project Information'!$C$28*'Project Information'!$C$32*('Intermediate Freight Calcs'!E51+'Intermediate Freight Calcs'!F51),0))","v":0},null,{"$f":"IF(OR((ISBLANK('Project Information'!$C$28)),(ISBLANK('Project Information'!$C$32))),0,IF(AND((A19>='Project Information'!$C$10),(A19<('Project Information'!$C$8+'Project Cost'!$H$61))),'Project Information'!$C$32*'Railcar and Passenger Demand'!B17*'Project Information'!$C$28*'Intermediate Freight Calcs'!C83,0))","v":0}]
[{"$f":"'Intermediate Freight Calcs'!A21","v":16},null,{"$f":"IF(OR((ISBLANK('Project Information'!$C$21)),(ISBLANK('Project Information'!$C$35)),(ISBLANK('Project Information'!$C$36))),0,IF(AND((A20>='Project Information'!$C$10),(A20<('Project Information'!$C$8+'Project Cost'!$H$61))),('Intermediate Freight Calcs'!H21*'Intermediate Freight Calcs'!B21),0))","v":0},null,{"$f":"IF(OR((ISBLANK('Project Information'!$C$23)),(ISBLANK('Project Information'!$D$23)),(ISBLANK('Project Information'!$C$28)),(ISBLANK('Project Information'!$C$29)),(ISBLANK('Project Information'!$C$31)),(ISBLANK('Project Information'!$C$35)),(ISBLANK('Project Information'!$C$36))),0,IF(AND((A20>='Project Information'!$C$10),(A20<('Project Information'!$C$8+'Project Cost'!$H$61))),('Intermediate Freight Calcs'!B21*('Intermediate Freight Calcs'!B52+'Intermediate Freight Calcs'!C52))-('Intermediate Freight Calcs'!D52*('Intermediate Freight Calcs'!E52+'Intermediate Freight Calcs'!F52)),0))","v":0},null,{"$f":"IF(OR((ISBLANK('Project Information'!$C$28)),(ISBLANK('Project Information'!$C$32))),0,IF(AND((A20>='Project Information'!$C$10),(A20<('Project Information'!$C$8+'Project Cost'!$H$61))),'Railcar and Passenger Demand'!B18*'Project Information'!$C$28*'Project Information'!$C$32*('Intermediate Freight Calcs'!E52+'Intermediate Freight Calcs'!F52),0))","v":0},null,{"$f":"IF(OR((ISBLANK('Project Information'!$C$28)),(ISBLANK('Project Information'!$C$32))),0,IF(AND((A20>='Project Information'!$C$10),(A20<('Project Information'!$C$8+'Project Cost'!$H$61))),'Project Information'!$C$32*'Railcar and Passenger Demand'!B18*'Project Information'!$C$28*'Intermediate Freight Calcs'!C84,0))","v":0}]
[{"$f":"'Intermediate Freight Calcs'!A22","v":17},null,{"$f":"IF(OR((ISBLANK('Project Information'!$C$21)),(ISBLANK('Project Information'!$C$35)),(ISBLANK('Project Information'!$C$36))),0,IF(AND((A21>='Project Information'!$C$10),(A21<('Project Information'!$C$8+'Project Cost'!$H$61))),('Intermediate Freight Calcs'!H22*'Intermediate Freight Calcs'!B22),0))","v":0},null,{"$f":"IF(OR((ISBLANK('Project Information'!$C$23)),(ISBLANK('Project Information'!$D$23)),(ISBLANK('Project Information'!$C$28)),(ISBLANK('Project Information'!$C$29)),(ISBLANK('Project Information'!$C$31)),(ISBLANK('Project Information'!$C$35)),(ISBLANK('Project Information'!$C$36))),0,IF(AND((A21>='Project Information'!$C$10),(A21<('Project Information'!$C$8+'Project Cost'!$H$61))),('Intermediate Freight Calcs'!B22*('Intermediate Freight Calcs'!B53+'Intermediate Freight Calcs'!C53))-('Intermediate Freight Calcs'!D53*('Intermediate Freight Calcs'!E53+'Intermediate Freight Calcs'!F53)),0))","v":0},null,{"$f":"IF(OR((ISBLANK('Project Information'!$C$28)),(ISBLANK('Project Information'!$C$32))),0,IF(AND((A21>='Project Information'!$C$10),(A21<('Project Information'!$C$8+'Project Cost'!$H$61))),'Railcar and Passenger Demand'!B19*'Project Information'!$C$28*'Project Information'!$C$32*('Intermediate Freight Calcs'!E53+'Intermediate Freight Calcs'!F53),0))","v":0},null,{"$f":"IF(OR((ISBLANK('Project Information'!$C$28)),(ISBLANK('Project Information'!$C$32))),0,IF(AND((A21>='Project Information'!$C$10),(A21<('Project Information'!$C$8+'Project Cost'!$H$61))),'Project Information'!$C$32*'Railcar and Passenger Demand'!B19*'Project Information'!$C$28*'Intermediate Freight Calcs'!C85,0))","v":0}]
[{"$f":"'Intermediate Freight Calcs'!A23","v":18},null,{"$f":"IF(OR((ISBLANK('Project Information'!$C$21)),(ISBLANK('Project Information'!$C$35)),(ISBLANK('Project Information'!$C$36))),0,IF(AND((A22>='Project Information'!$C$10),(A22<('Project Information'!$C$8+'Project Cost'!$H$61))),('Intermediate Freight Calcs'!H23*'Intermediate Freight Calcs'!B23),0))","v":0},null,{"$f":"IF(OR((ISBLANK('Project Information'!$C$23)),(ISBLANK('Project Information'!$D$23)),(ISBLANK('Project Information'!$C$28)),(ISBLANK('Project Information'!$C$29)),(ISBLANK('Project Information'!$C$31)),(ISBLANK('Project Information'!$C$35)),(ISBLANK('Project Information'!$C$36))),0,IF(AND((A22>='Project Information'!$C$10),(A22<('Project Information'!$C$8+'Project Cost'!$H$61))),('Intermediate Freight Calcs'!B23*('Intermediate Freight Calcs'!B54+'Intermediate Freight Calcs'!C54))-('Intermediate Freight Calcs'!D54*('Intermediate Freight Calcs'!E54+'Intermediate Freight Calcs'!F54)),0))","v":0},null,{"$f":"IF(OR((ISBLANK('Project Information'!$C$28)),(ISBLANK('Project Information'!$C$32))),0,IF(AND((A22>='Project Information'!$C$10),(A22<('Project Information'!$C$8+'Project Cost'!$H$61))),'Railcar and Passenger Demand'!B20*'Project Information'!$C$28*'Project Information'!$C$32*('Intermediate Freight Calcs'!E54+'Intermediate Freight Calcs'!F54),0))","v":0},null,{"$f":"IF(OR((ISBLANK('Project Information'!$C$28)),(ISBLANK('Project Information'!$C$32))),0,IF(AND((A22>='Project Information'!$C$10),(A22<('Project Information'!$C$8+'Project Cost'!$H$61))),'Project Information'!$C$32*'Railcar and Passenger Demand'!B20*'Project Information'!$C$28*'Intermediate Freight Calcs'!C86,0))","v":0}]
[{"$f":"'Intermediate Freight Calcs'!A24","v":19},null,{"$f":"IF(OR((ISBLANK('Project Information'!$C$21)),(ISBLANK('Project Information'!$C$35)),(ISBLANK('Project Information'!$C$36))),0,IF(AND((A23>='Project Information'!$C$10),(A23<('Project Information'!$C$8+'Project Cost'!$H$61))),('Intermediate Freight Calcs'!H24*'Intermediate Freight Calcs'!B24),0))","v":0},null,{"$f":"IF(OR((ISBLANK('Project Information'!$C$23)),(ISBLANK('Project Information'!$D$23)),(ISBLANK('Project Information'!$C$28)),(ISBLANK('Project Information'!$C$29)),(ISBLANK('Project Information'!$C$31)),(ISBLANK('Project Information'!$C$35)),(ISBLANK('Project Information'!$C$36))),0,IF(AND((A23>='Project Information'!$C$10),(A23<('Project Information'!$C$8+'Project Cost'!$H$61))),('Intermediate Freight Calcs'!B24*('Intermediate Freight Calcs'!B55+'Intermediate Freight Calcs'!C55))-('Intermediate Freight Calcs'!D55*('Intermediate Freight Calcs'!E55+'Intermediate Freight Calcs'!F55)),0))","v":0},null,{"$f":"IF(OR((ISBLANK('Project Information'!$C$28)),(ISBLANK('Project Information'!$C$32))),0,IF(AND((A23>='Project Information'!$C$10),(A23<('Project Information'!$C$8+'Project Cost'!$H$61))),'Railcar and Passenger Demand'!B21*'Project Information'!$C$28*'Project Information'!$C$32*('Intermediate Freight Calcs'!E55+'Intermediate Freight Calcs'!F55),0))","v":0},null,{"$f":"IF(OR((ISBLANK('Project Information'!$C$28)),(ISBLANK('Project Information'!$C$32))),0,IF(AND((A23>='Project Information'!$C$10),(A23<('Project Information'!$C$8+'Project Cost'!$H$61))),'Project Information'!$C$32*'Railcar and Passenger Demand'!B21*'Project Information'!$C$28*'Intermediate Freight Calcs'!C87,0))","v":0}]
[{"$f":"'Intermediate Freight Calcs'!A25","v":20},null,{"$f":"IF(OR((ISBLANK('Project Information'!$C$21)),(ISBLANK('Project Information'!$C$35)),(ISBLANK('Project Information'!$C$36))),0,IF(AND((A24>='Project Information'!$C$10),(A24<('Project Information'!$C$8+'Project Cost'!$H$61))),('Intermediate Freight Calcs'!H25*'Intermediate Freight Calcs'!B25),0))","v":0},null,{"$f":"IF(OR((ISBLANK('Project Information'!$C$23)),(ISBLANK('Project Information'!$D$23)),(ISBLANK('Project Information'!$C$28)),(ISBLANK('Project Information'!$C$29)),(ISBLANK('Project Information'!$C$31)),(ISBLANK('Project Information'!$C$35)),(ISBLANK('Project Information'!$C$36))),0,IF(AND((A24>='Project Information'!$C$10),(A24<('Project Information'!$C$8+'Project Cost'!$H$61))),('Intermediate Freight Calcs'!B25*('Intermediate Freight Calcs'!B56+'Intermediate Freight Calcs'!C56))-('Intermediate Freight Calcs'!D56*('Intermediate Freight Calcs'!E56+'Intermediate Freight Calcs'!F56)),0))","v":0},null,{"$f":"IF(OR((ISBLANK('Project Information'!$C$28)),(ISBLANK('Project Information'!$C$32))),0,IF(AND((A24>='Project Information'!$C$10),(A24<('Project Information'!$C$8+'Project Cost'!$H$61))),'Railcar and Passenger Demand'!B22*'Project Information'!$C$28*'Project Information'!$C$32*('Intermediate Freight Calcs'!E56+'Intermediate Freight Calcs'!F56),0))","v":0},null,{"$f":"IF(OR((ISBLANK('Project Information'!$C$28)),(ISBLANK('Project Information'!$C$32))),0,IF(AND((A24>='Project Information'!$C$10),(A24<('Project Information'!$C$8+'Project Cost'!$H$61))),'Project Information'!$C$32*'Railcar and Passenger Demand'!B22*'Project Information'!$C$28*'Intermediate Freight Calcs'!C88,0))","v":0}]
[{"$f":"'Intermediate Freight Calcs'!A26","v":21},null,{"$f":"IF(OR((ISBLANK('Project Information'!$C$21)),(ISBLANK('Project Information'!$C$35)),(ISBLANK('Project Information'!$C$36))),0,IF(AND((A25>='Project Information'!$C$10),(A25<('Project Information'!$C$8+'Project Cost'!$H$61))),('Intermediate Freight Calcs'!H26*'Intermediate Freight Calcs'!B26),0))","v":0},null,{"$f":"IF(OR((ISBLANK('Project Information'!$C$23)),(ISBLANK('Project Information'!$D$23)),(ISBLANK('Project Information'!$C$28)),(ISBLANK('Project Information'!$C$29)),(ISBLANK('Project Information'!$C$31)),(ISBLANK('Project Information'!$C$35)),(ISBLANK('Project Information'!$C$36))),0,IF(AND((A25>='Project Information'!$C$10),(A25<('Project Information'!$C$8+'Project Cost'!$H$61))),('Intermediate Freight Calcs'!B26*('Intermediate Freight Calcs'!B57+'Intermediate Freight Calcs'!C57))-('Intermediate Freight Calcs'!D57*('Intermediate Freight Calcs'!E57+'Intermediate Freight Calcs'!F57)),0))","v":0},null,{"$f":"IF(OR((ISBLANK('Project Information'!$C$28)),(ISBLANK('Project Information'!$C$32))),0,IF(AND((A25>='Project Information'!$C$10),(A25<('Project Information'!$C$8+'Project Cost'!$H$61))),'Railcar and Passenger Demand'!B23*'Project Information'!$C$28*'Project Information'!$C$32*('Intermediate Freight Calcs'!E57+'Intermediate Freight Calcs'!F57),0))","v":0},null,{"$f":"IF(OR((ISBLANK('Project Information'!$C$28)),(ISBLANK('Project Information'!$C$32))),0,IF(AND((A25>='Project Information'!$C$10),(A25<('Project Information'!$C$8+'Project Cost'!$H$61))),'Project Information'!$C$32*'Railcar and Passenger Demand'!B23*'Project Information'!$C$28*'Intermediate Freight Calcs'!C89,0))","v":0}]
[{"$f":"'Intermediate Freight Calcs'!A27","v":22},null,{"$f":"IF(OR((ISBLANK('Project Information'!$C$21)),(ISBLANK('Project Information'!$C$35)),(ISBLANK('Project Information'!$C$36))),0,IF(AND((A26>='Project Information'!$C$10),(A26<('Project Information'!$C$8+'Project Cost'!$H$61))),('Intermediate Freight Calcs'!H27*'Intermediate Freight Calcs'!B27),0))","v":0},null,{"$f":"IF(OR((ISBLANK('Project Information'!$C$23)),(ISBLANK('Project Information'!$D$23)),(ISBLANK('Project Information'!$C$28)),(ISBLANK('Project Information'!$C$29)),(ISBLANK('Project Information'!$C$31)),(ISBLANK('Project Information'!$C$35)),(ISBLANK('Project Information'!$C$36))),0,IF(AND((A26>='Project Information'!$C$10),(A26<('Project Information'!$C$8+'Project Cost'!$H$61))),('Intermediate Freight Calcs'!B27*('Intermediate Freight Calcs'!B58+'Intermediate Freight Calcs'!C58))-('Intermediate Freight Calcs'!D58*('Intermediate Freight Calcs'!E58+'Intermediate Freight Calcs'!F58)),0))","v":0},null,{"$f":"IF(OR((ISBLANK('Project Information'!$C$28)),(ISBLANK('Project Information'!$C$32))),0,IF(AND((A26>='Project Information'!$C$10),(A26<('Project Information'!$C$8+'Project Cost'!$H$61))),'Railcar and Passenger Demand'!B24*'Project Information'!$C$28*'Project Information'!$C$32*('Intermediate Freight Calcs'!E58+'Intermediate Freight Calcs'!F58),0))","v":0},null,{"$f":"IF(OR((ISBLANK('Project Information'!$C$28)),(ISBLANK('Project Information'!$C$32))),0,IF(AND((A26>='Project Information'!$C$10),(A26<('Project Information'!$C$8+'Project Cost'!$H$61))),'Project Information'!$C$32*'Railcar and Passenger Demand'!B24*'Project Information'!$C$28*'Intermediate Freight Calcs'!C90,0))","v":0}]
[{"$f":"'Intermediate Freight Calcs'!A28","v":23},null,{"$f":"IF(OR((ISBLANK('Project Information'!$C$21)),(ISBLANK('Project Information'!$C$35)),(ISBLANK('Project Information'!$C$36))),0,IF(AND((A27>='Project Information'!$C$10),(A27<('Project Information'!$C$8+'Project Cost'!$H$61))),('Intermediate Freight Calcs'!H28*'Intermediate Freight Calcs'!B28),0))","v":0},null,{"$f":"IF(OR((ISBLANK('Project Information'!$C$23)),(ISBLANK('Project Information'!$D$23)),(ISBLANK('Project Information'!$C$28)),(ISBLANK('Project Information'!$C$29)),(ISBLANK('Project Information'!$C$31)),(ISBLANK('Project Information'!$C$35)),(ISBLANK('Project Information'!$C$36))),0,IF(AND((A27>='Project Information'!$C$10),(A27<('Project Information'!$C$8+'Project Cost'!$H$61))),('Intermediate Freight Calcs'!B28*('Intermediate Freight Calcs'!B59+'Intermediate Freight Calcs'!C59))-('Intermediate Freight Calcs'!D59*('Intermediate Freight Calcs'!E59+'Intermediate Freight Calcs'!F59)),0))","v":0},null,{"$f":"IF(OR((ISBLANK('Project Information'!$C$28)),(ISBLANK('Project Information'!$C$32))),0,IF(AND((A27>='Project Information'!$C$10),(A27<('Project Information'!$C$8+'Project Cost'!$H$61))),'Railcar and Passenger Demand'!B25*'Project Information'!$C$28*'Project Information'!$C$32*('Intermediate Freight Calcs'!E59+'Intermediate Freight Calcs'!F59),0))","v":0},null,{"$f":"IF(OR((ISBLANK('Project Information'!$C$28)),(ISBLANK('Project Information'!$C$32))),0,IF(AND((A27>='Project Information'!$C$10),(A27<('Project Information'!$C$8+'Project Cost'!$H$61))),'Project Information'!$C$32*'Railcar and Passenger Demand'!B25*'Project Information'!$C$28*'Intermediate Freight Calcs'!C91,0))","v":0}]
[{"$f":"'Intermediate Freight Calcs'!A29","v":24},null,{"$f":"IF(OR((ISBLANK('Project Information'!$C$21)),(ISBLANK('Project Information'!$C$35)),(ISBLANK('Project Information'!$C$36))),0,IF(AND((A28>='Project Information'!$C$10),(A28<('Project Information'!$C$8+'Project Cost'!$H$61))),('Intermediate Freight Calcs'!H29*'Intermediate Freight Calcs'!B29),0))","v":0},null,{"$f":"IF(OR((ISBLANK('Project Information'!$C$23)),(ISBLANK('Project Information'!$D$23)),(ISBLANK('Project Information'!$C$28)),(ISBLANK('Project Information'!$C$29)),(ISBLANK('Project Information'!$C$31)),(ISBLANK('Project Information'!$C$35)),(ISBLANK('Project Information'!$C$36))),0,IF(AND((A28>='Project Information'!$C$10),(A28<('Project Information'!$C$8+'Project Cost'!$H$61))),('Intermediate Freight Calcs'!B29*('Intermediate Freight Calcs'!B60+'Intermediate Freight Calcs'!C60))-('Intermediate Freight Calcs'!D60*('Intermediate Freight Calcs'!E60+'Intermediate Freight Calcs'!F60)),0))","v":0},null,{"$f":"IF(OR((ISBLANK('Project Information'!$C$28)),(ISBLANK('Project Information'!$C$32))),0,IF(AND((A28>='Project Information'!$C$10),(A28<('Project Information'!$C$8+'Project Cost'!$H$61))),'Railcar and Passenger Demand'!B26*'Project Information'!$C$28*'Project Information'!$C$32*('Intermediate Freight Calcs'!E60+'Intermediate Freight Calcs'!F60),0))","v":0},null,{"$f":"IF(OR((ISBLANK('Project Information'!$C$28)),(ISBLANK('Project Information'!$C$32))),0,IF(AND((A28>='Project Information'!$C$10),(A28<('Project Information'!$C$8+'Project Cost'!$H$61))),'Project Information'!$C$32*'Railcar and Passenger Demand'!B26*'Project Information'!$C$28*'Intermediate Freight Calcs'!C92,0))","v":0}]
[]
[]
[null,null,"Shipping Cost Reduction - (Mode Switch)",null,"Savings in Pavement Maintenance",null,"Reduced Accident Costs",null,"Total Benefits"]
[null,null,"As the shipping costs per mile vary between truck and trains, a shift to rail from truck will result in a lower shipping cost per ton mile for long haul shippers.  This is the benefit realized by reducing switching shipping modes.    ",null,"When trucks shift from truck freight to rail, the maintenance cost for the highway routes will decrease.  This calculates the reduction in road pavement maintenance costs due to the shift. ",null,"Reduction in the probability of having an accident on the highway due to reduction of truck mileage.    "]
[{"$f":"'Intermediate Freight Calcs'!A35","v":"Year"},null,"(Truck VMT * Truck shipping rate per VMT) - (Train ton miles * Rail shipping rate per ton mile)",null,"Total reduction in truck VMT * Pavement maintenance cost per truck mile",null,"Truck ton miles * Accident costs per truck ton miles - Train ton miles * Accident cost per freight train ton mile + Accident cost per rail crossing * Number of rail crossings removed",null,"Addition of All Freight Benefits"]
[{"$f":"'Intermediate Freight Calcs'!A36","v":0},null,{"$f":"IF(OR((ISBLANK('Project Information'!$C$28)),(ISBLANK('Project Information'!$C$29)),(ISBLANK('Project Information'!$C$31)),(ISBLANK('Project Information'!$C$35)),(ISBLANK('Project Information'!$C$36))),0,IF(AND((A34>='Project Information'!$C$10),(A34<('Project Information'!$C$8+'Project Cost'!$H$61))),('Intermediate Freight Calcs'!B5*'Intermediate Freight Calcs'!B68)-('Intermediate Freight Calcs'!C68*'Intermediate Freight Calcs'!D36),0))","v":0},null,{"$f":"IF(OR((ISBLANK('Project Information'!$C$35)),(ISBLANK('Project Information'!$C$36))),0,IF(AND((A34>='Project Information'!$C$10),(A34<('Project Information'!$C$8+'Project Cost'!$H$61))),('Intermediate Freight Calcs'!B5*'Intermediate Freight Calcs'!E68),0))","v":0},null,{"$f":"IF(OR((ISBLANK('Project Information'!$C$28)),(ISBLANK('Project Information'!$C$31)),(ISBLANK('Project Information'!$C$33)),(ISBLANK('Project Information'!$C$35)),(ISBLANK('Project Information'!$C$36)),(ISBLANK('Project Information'!$C$37))),0,IF(AND((A34>='Project Information'!$C$10),(A34<('Project Information'!$C$8+'Project Cost'!$H$61))),('Intermediate Freight Calcs'!B99*'Intermediate Freight Calcs'!C99)-('Intermediate Freight Calcs'!D99*'Intermediate Freight Calcs'!E99)+('Project Information'!$C$33*'Intermediate Freight Calcs'!F99),0))","v":0},null,{"$f":"IFERROR(((SUMIF(C34:G34,\">0\"))+(SUMIF(C4:I4,\">0\"))),0)","v":0}]
[{"$f":"'Intermediate Freight Calcs'!A37","v":1},null,{"$f":"IF(OR((ISBLANK('Project Information'!$C$28)),(ISBLANK('Project Information'!$C$29)),(ISBLANK('Project Information'!$C$31)),(ISBLANK('Project Information'!$C$35)),(ISBLANK('Project Information'!$C$36))),0,IF(AND((A35>='Project Information'!$C$10),(A35<('Project Information'!$C$8+'Project Cost'!$H$61))),('Intermediate Freight Calcs'!B6*'Intermediate Freight Calcs'!B69)-('Intermediate Freight Calcs'!C69*'Intermediate Freight Calcs'!D37),0))","v":0},null,{"$f":"IF(OR((ISBLANK('Project Information'!$C$35)),(ISBLANK('Project Information'!$C$36))),0,IF(AND((A35>='Project Information'!$C$10),(A35<('Project Information'!$C$8+'Project Cost'!$H$61))),('Intermediate Freight Calcs'!B6*'Intermediate Freight Calcs'!E69),0))","v":0},null,{"$f":"IF(OR((ISBLANK('Project Information'!$C$28)),(ISBLANK('Project Information'!$C$31)),(ISBLANK('Project Information'!$C$33)),(ISBLANK('Project Information'!$C$35)),(ISBLANK('Project Information'!$C$36)),(ISBLANK('Project Information'!$C$37))),0,IF(AND((A35>='Project Information'!$C$10),(A35<('Project Information'!$C$8+'Project Cost'!$H$61))),('Intermediate Freight Calcs'!B100*'Intermediate Freight Calcs'!C100)-('Intermediate Freight Calcs'!D100*'Intermediate Freight Calcs'!E100)+('Project Information'!$C$33*'Intermediate Freight Calcs'!F100),0))","v":0},null,{"$f":"IFERROR(((SUMIF(C35:G35,\">0\"))+(SUMIF(C5:I5,\">0\"))),0)","v":0}]
[{"$f":"'Intermediate Freight Calcs'!A38","v":2},null,{"$f":"IF(OR((ISBLANK('Project Information'!$C$28)),(ISBLANK('Project Information'!$C$29)),(ISBLANK('Project Information'!$C$31)),(ISBLANK('Project Information'!$C$35)),(ISBLANK('Project Information'!$C$36))),0,IF(AND((A36>='Project Information'!$C$10),(A36<('Project Information'!$C$8+'Project Cost'!$H$61))),('Intermediate Freight Calcs'!B7*'Intermediate Freight Calcs'!B70)-('Intermediate Freight Calcs'!C70*'Intermediate Freight Calcs'!D38),0))","v":0},null,{"$f":"IF(OR((ISBLANK('Project Information'!$C$35)),(ISBLANK('Project Information'!$C$36))),0,IF(AND((A36>='Project Information'!$C$10),(A36<('Project Information'!$C$8+'Project Cost'!$H$61))),('Intermediate Freight Calcs'!B7*'Intermediate Freight Calcs'!E70),0))","v":0},null,{"$f":"IF(OR((ISBLANK('Project Information'!$C$28)),(ISBLANK('Project Information'!$C$31)),(ISBLANK('Project Information'!$C$33)),(ISBLANK('Project Information'!$C$35)),(ISBLANK('Project Information'!$C$36)),(ISBLANK('Project Information'!$C$37))),0,IF(AND((A36>='Project Information'!$C$10),(A36<('Project Information'!$C$8+'Project Cost'!$H$61))),('Intermediate Freight Calcs'!B101*'Intermediate Freight Calcs'!C101)-('Intermediate Freight Calcs'!D101*'Intermediate Freight Calcs'!E101)+('Project Information'!$C$33*'Intermediate Freight Calcs'!F101),0))","v":0},null,0]
[{"$f":"'Intermediate Freight Calcs'!A39","v":3},null,{"$f":"IF(OR((ISBLANK('Project Information'!$C$28)),(ISBLANK('Project Information'!$C$29)),(ISBLANK('Project Information'!$C$31)),(ISBLANK('Project Information'!$C$35)),(ISBLANK('Project Information'!$C$36))),0,IF(AND((A37>='Project Information'!$C$10),(A37<('Project Information'!$C$8+'Project Cost'!$H$61))),('Intermediate Freight Calcs'!B8*'Intermediate Freight Calcs'!B71)-('Intermediate Freight Calcs'!C71*'Intermediate Freight Calcs'!D39),0))","v":0},null,{"$f":"IF(OR((ISBLANK('Project Information'!$C$35)),(ISBLANK('Project Information'!$C$36))),0,IF(AND((A37>='Project Information'!$C$10),(A37<('Project Information'!$C$8+'Project Cost'!$H$61))),('Intermediate Freight Calcs'!B8*'Intermediate Freight Calcs'!E71),0))","v":0},null,{"$f":"IF(OR((ISBLANK('Project Information'!$C$28)),(ISBLANK('Project Information'!$C$31)),(ISBLANK('Project Information'!$C$33)),(ISBLANK('Project Information'!$C$35)),(ISBLANK('Project Information'!$C$36)),(ISBLANK('Project Information'!$C$37))),0,IF(AND((A37>='Project Information'!$C$10),(A37<('Project Information'!$C$8+'Project Cost'!$H$61))),('Intermediate Freight Calcs'!B102*'Intermediate Freight Calcs'!C102)-('Intermediate Freight Calcs'!D102*'Intermediate Freight Calcs'!E102)+('Project Information'!$C$33*'Intermediate Freight Calcs'!F102),0))","v":0},null,0]
[{"$f":"'Intermediate Freight Calcs'!A40","v":4},null,{"$f":"IF(OR((ISBLANK('Project Information'!$C$28)),(ISBLANK('Project Information'!$C$29)),(ISBLANK('Project Information'!$C$31)),(ISBLANK('Project Information'!$C$35)),(ISBLANK('Project Information'!$C$36))),0,IF(AND((A38>='Project Information'!$C$10),(A38<('Project Information'!$C$8+'Project Cost'!$H$61))),('Intermediate Freight Calcs'!B9*'Intermediate Freight Calcs'!B72)-('Intermediate Freight Calcs'!C72*'Intermediate Freight Calcs'!D40),0))","v":0},null,{"$f":"IF(OR((ISBLANK('Project Information'!$C$35)),(ISBLANK('Project Information'!$C$36))),0,IF(AND((A38>='Project Information'!$C$10),(A38<('Project Information'!$C$8+'Project Cost'!$H$61))),('Intermediate Freight Calcs'!B9*'Intermediate Freight Calcs'!E72),0))","v":0},null,{"$f":"IF(OR((ISBLANK('Project Information'!$C$28)),(ISBLANK('Project Information'!$C$31)),(ISBLANK('Project Information'!$C$33)),(ISBLANK('Project Information'!$C$35)),(ISBLANK('Project Information'!$C$36)),(ISBLANK('Project Information'!$C$37))),0,IF(AND((A38>='Project Information'!$C$10),(A38<('Project Information'!$C$8+'Project Cost'!$H$61))),('Intermediate Freight Calcs'!B103*'Intermediate Freight Calcs'!C103)-('Intermediate Freight Calcs'!D103*'Intermediate Freight Calcs'!E103)+('Project Information'!$C$33*'Intermediate Freight Calcs'!F103),0))","v":0},null,0]
[{"$f":"'Intermediate Freight Calcs'!A41","v":5},null,{"$f":"IF(OR((ISBLANK('Project Information'!$C$28)),(ISBLANK('Project Information'!$C$29)),(ISBLANK('Project Information'!$C$31)),(ISBLANK('Project Information'!$C$35)),(ISBLANK('Project Information'!$C$36))),0,IF(AND((A39>='Project Information'!$C$10),(A39<('Project Information'!$C$8+'Project Cost'!$H$61))),('Intermediate Freight Calcs'!B10*'Intermediate Freight Calcs'!B73)-('Intermediate Freight Calcs'!C73*'Intermediate Freight Calcs'!D41),0))","v":0},null,{"$f":"IF(OR((ISBLANK('Project Information'!$C$35)),(ISBLANK('Project Information'!$C$36))),0,IF(AND((A39>='Project Information'!$C$10),(A39<('Project Information'!$C$8+'Project Cost'!$H$61))),('Intermediate Freight Calcs'!B10*'Intermediate Freight Calcs'!E73),0))","v":0},null,{"$f":"IF(OR((ISBLANK('Project Information'!$C$28)),(ISBLANK('Project Information'!$C$31)),(ISBLANK('Project Information'!$C$33)),(ISBLANK('Project Information'!$C$35)),(ISBLANK('Project Information'!$C$36)),(ISBLANK('Project Information'!$C$37))),0,IF(AND((A39>='Project Information'!$C$10),(A39<('Project Information'!$C$8+'Project Cost'!$H$61))),('Intermediate Freight Calcs'!B104*'Intermediate Freight Calcs'!C104)-('Intermediate Freight Calcs'!D104*'Intermediate Freight Calcs'!E104)+('Project Information'!$C$33*'Intermediate Freight Calcs'!F104),0))","v":0},null,0]
[{"$f":"'Intermediate Freight Calcs'!A42","v":6},null,{"$f":"IF(OR((ISBLANK('Project Information'!$C$28)),(ISBLANK('Project Information'!$C$29)),(ISBLANK('Project Information'!$C$31)),(ISBLANK('Project Information'!$C$35)),(ISBLANK('Project Information'!$C$36))),0,IF(AND((A40>='Project Information'!$C$10),(A40<('Project Information'!$C$8+'Project Cost'!$H$61))),('Intermediate Freight Calcs'!B11*'Intermediate Freight Calcs'!B74)-('Intermediate Freight Calcs'!C74*'Intermediate Freight Calcs'!D42),0))","v":0},null,{"$f":"IF(OR((ISBLANK('Project Information'!$C$35)),(ISBLANK('Project Information'!$C$36))),0,IF(AND((A40>='Project Information'!$C$10),(A40<('Project Information'!$C$8+'Project Cost'!$H$61))),('Intermediate Freight Calcs'!B11*'Intermediate Freight Calcs'!E74),0))","v":0},null,{"$f":"IF(OR((ISBLANK('Project Information'!$C$28)),(ISBLANK('Project Information'!$C$31)),(ISBLANK('Project Information'!$C$33)),(ISBLANK('Project Information'!$C$35)),(ISBLANK('Project Information'!$C$36)),(ISBLANK('Project Information'!$C$37))),0,IF(AND((A40>='Project Information'!$C$10),(A40<('Project Information'!$C$8+'Project Cost'!$H$61))),('Intermediate Freight Calcs'!B105*'Intermediate Freight Calcs'!C105)-('Intermediate Freight Calcs'!D105*'Intermediate Freight Calcs'!E105)+('Project Information'!$C$33*'Intermediate Freight Calcs'!F105),0))","v":0},null,0]
[{"$f":"'Intermediate Freight Calcs'!A43","v":7},null,{"$f":"IF(OR((ISBLANK('Project Information'!$C$28)),(ISBLANK('Project Information'!$C$29)),(ISBLANK('Project Information'!$C$31)),(ISBLANK('Project Information'!$C$35)),(ISBLANK('Project Information'!$C$36))),0,IF(AND((A41>='Project Information'!$C$10),(A41<('Project Information'!$C$8+'Project Cost'!$H$61))),('Intermediate Freight Calcs'!B12*'Intermediate Freight Calcs'!B75)-('Intermediate Freight Calcs'!C75*'Intermediate Freight Calcs'!D43),0))","v":0},null,{"$f":"IF(OR((ISBLANK('Project Information'!$C$35)),(ISBLANK('Project Information'!$C$36))),0,IF(AND((A41>='Project Information'!$C$10),(A41<('Project Information'!$C$8+'Project Cost'!$H$61))),('Intermediate Freight Calcs'!B12*'Intermediate Freight Calcs'!E75),0))","v":0},null,{"$f":"IF(OR((ISBLANK('Project Information'!$C$28)),(ISBLANK('Project Information'!$C$31)),(ISBLANK('Project Information'!$C$33)),(ISBLANK('Project Information'!$C$35)),(ISBLANK('Project Information'!$C$36)),(ISBLANK('Project Information'!$C$37))),0,IF(AND((A41>='Project Information'!$C$10),(A41<('Project Information'!$C$8+'Project Cost'!$H$61))),('Intermediate Freight Calcs'!B106*'Intermediate Freight Calcs'!C106)-('Intermediate Freight Calcs'!D106*'Intermediate Freight Calcs'!E106)+('Project Information'!$C$33*'Intermediate Freight Calcs'!F106),0))","v":0},null,0]
[{"$f":"'Intermediate Freight Calcs'!A44","v":8},null,{"$f":"IF(OR((ISBLANK('Project Information'!$C$28)),(ISBLANK('Project Information'!$C$29)),(ISBLANK('Project Information'!$C$31)),(ISBLANK('Project Information'!$C$35)),(ISBLANK('Project Information'!$C$36))),0,IF(AND((A42>='Project Information'!$C$10),(A42<('Project Information'!$C$8+'Project Cost'!$H$61))),('Intermediate Freight Calcs'!B13*'Intermediate Freight Calcs'!B76)-('Intermediate Freight Calcs'!C76*'Intermediate Freight Calcs'!D44),0))","v":0},null,{"$f":"IF(OR((ISBLANK('Project Information'!$C$35)),(ISBLANK('Project Information'!$C$36))),0,IF(AND((A42>='Project Information'!$C$10),(A42<('Project Information'!$C$8+'Project Cost'!$H$61))),('Intermediate Freight Calcs'!B13*'Intermediate Freight Calcs'!E76),0))","v":0},null,{"$f":"IF(OR((ISBLANK('Project Information'!$C$28)),(ISBLANK('Project Information'!$C$31)),(ISBLANK('Project Information'!$C$33)),(ISBLANK('Project Information'!$C$35)),(ISBLANK('Project Information'!$C$36)),(ISBLANK('Project Information'!$C$37))),0,IF(AND((A42>='Project Information'!$C$10),(A42<('Project Information'!$C$8+'Project Cost'!$H$61))),('Intermediate Freight Calcs'!B107*'Intermediate Freight Calcs'!C107)-('Intermediate Freight Calcs'!D107*'Intermediate Freight Calcs'!E107)+('Project Information'!$C$33*'Intermediate Freight Calcs'!F107),0))","v":0},null,0]
[{"$f":"'Intermediate Freight Calcs'!A45","v":9},null,{"$f":"IF(OR((ISBLANK('Project Information'!$C$28)),(ISBLANK('Project Information'!$C$29)),(ISBLANK('Project Information'!$C$31)),(ISBLANK('Project Information'!$C$35)),(ISBLANK('Project Information'!$C$36))),0,IF(AND((A43>='Project Information'!$C$10),(A43<('Project Information'!$C$8+'Project Cost'!$H$61))),('Intermediate Freight Calcs'!B14*'Intermediate Freight Calcs'!B77)-('Intermediate Freight Calcs'!C77*'Intermediate Freight Calcs'!D45),0))","v":0},null,{"$f":"IF(OR((ISBLANK('Project Information'!$C$35)),(ISBLANK('Project Information'!$C$36))),0,IF(AND((A43>='Project Information'!$C$10),(A43<('Project Information'!$C$8+'Project Cost'!$H$61))),('Intermediate Freight Calcs'!B14*'Intermediate Freight Calcs'!E77),0))","v":0},null,{"$f":"IF(OR((ISBLANK('Project Information'!$C$28)),(ISBLANK('Project Information'!$C$31)),(ISBLANK('Project Information'!$C$33)),(ISBLANK('Project Information'!$C$35)),(ISBLANK('Project Information'!$C$36)),(ISBLANK('Project Information'!$C$37))),0,IF(AND((A43>='Project Information'!$C$10),(A43<('Project Information'!$C$8+'Project Cost'!$H$61))),('Intermediate Freight Calcs'!B108*'Intermediate Freight Calcs'!C108)-('Intermediate Freight Calcs'!D108*'Intermediate Freight Calcs'!E108)+('Project Information'!$C$33*'Intermediate Freight Calcs'!F108),0))","v":0},null,0]
[{"$f":"'Intermediate Freight Calcs'!A46","v":10},null,{"$f":"IF(OR((ISBLANK('Project Information'!$C$28)),(ISBLANK('Project Information'!$C$29)),(ISBLANK('Project Information'!$C$31)),(ISBLANK('Project Information'!$C$35)),(ISBLANK('Project Information'!$C$36))),0,IF(AND((A44>='Project Information'!$C$10),(A44<('Project Information'!$C$8+'Project Cost'!$H$61))),('Intermediate Freight Calcs'!B15*'Intermediate Freight Calcs'!B78)-('Intermediate Freight Calcs'!C78*'Intermediate Freight Calcs'!D46),0))","v":0},null,{"$f":"IF(OR((ISBLANK('Project Information'!$C$35)),(ISBLANK('Project Information'!$C$36))),0,IF(AND((A44>='Project Information'!$C$10),(A44<('Project Information'!$C$8+'Project Cost'!$H$61))),('Intermediate Freight Calcs'!B15*'Intermediate Freight Calcs'!E78),0))","v":0},null,{"$f":"IF(OR((ISBLANK('Project Information'!$C$28)),(ISBLANK('Project Information'!$C$31)),(ISBLANK('Project Information'!$C$33)),(ISBLANK('Project Information'!$C$35)),(ISBLANK('Project Information'!$C$36)),(ISBLANK('Project Information'!$C$37))),0,IF(AND((A44>='Project Information'!$C$10),(A44<('Project Information'!$C$8+'Project Cost'!$H$61))),('Intermediate Freight Calcs'!B109*'Intermediate Freight Calcs'!C109)-('Intermediate Freight Calcs'!D109*'Intermediate Freight Calcs'!E109)+('Project Information'!$C$33*'Intermediate Freight Calcs'!F109),0))","v":0},null,0]
[{"$f":"'Intermediate Freight Calcs'!A47","v":11},null,{"$f":"IF(OR((ISBLANK('Project Information'!$C$28)),(ISBLANK('Project Information'!$C$29)),(ISBLANK('Project Information'!$C$31)),(ISBLANK('Project Information'!$C$35)),(ISBLANK('Project Information'!$C$36))),0,IF(AND((A45>='Project Information'!$C$10),(A45<('Project Information'!$C$8+'Project Cost'!$H$61))),('Intermediate Freight Calcs'!B16*'Intermediate Freight Calcs'!B79)-('Intermediate Freight Calcs'!C79*'Intermediate Freight Calcs'!D47),0))","v":0},null,{"$f":"IF(OR((ISBLANK('Project Information'!$C$35)),(ISBLANK('Project Information'!$C$36))),0,IF(AND((A45>='Project Information'!$C$10),(A45<('Project Information'!$C$8+'Project Cost'!$H$61))),('Intermediate Freight Calcs'!B16*'Intermediate Freight Calcs'!E79),0))","v":0},null,{"$f":"IF(OR((ISBLANK('Project Information'!$C$28)),(ISBLANK('Project Information'!$C$31)),(ISBLANK('Project Information'!$C$33)),(ISBLANK('Project Information'!$C$35)),(ISBLANK('Project Information'!$C$36)),(ISBLANK('Project Information'!$C$37))),0,IF(AND((A45>='Project Information'!$C$10),(A45<('Project Information'!$C$8+'Project Cost'!$H$61))),('Intermediate Freight Calcs'!B110*'Intermediate Freight Calcs'!C110)-('Intermediate Freight Calcs'!D110*'Intermediate Freight Calcs'!E110)+('Project Information'!$C$33*'Intermediate Freight Calcs'!F110),0))","v":0},null,0]
[{"$f":"'Intermediate Freight Calcs'!A48","v":12},null,{"$f":"IF(OR((ISBLANK('Project Information'!$C$28)),(ISBLANK('Project Information'!$C$29)),(ISBLANK('Project Information'!$C$31)),(ISBLANK('Project Information'!$C$35)),(ISBLANK('Project Information'!$C$36))),0,IF(AND((A46>='Project Information'!$C$10),(A46<('Project Information'!$C$8+'Project Cost'!$H$61))),('Intermediate Freight Calcs'!B17*'Intermediate Freight Calcs'!B80)-('Intermediate Freight Calcs'!C80*'Intermediate Freight Calcs'!D48),0))","v":0},null,{"$f":"IF(OR((ISBLANK('Project Information'!$C$35)),(ISBLANK('Project Information'!$C$36))),0,IF(AND((A46>='Project Information'!$C$10),(A46<('Project Information'!$C$8+'Project Cost'!$H$61))),('Intermediate Freight Calcs'!B17*'Intermediate Freight Calcs'!E80),0))","v":0},null,{"$f":"IF(OR((ISBLANK('Project Information'!$C$28)),(ISBLANK('Project Information'!$C$31)),(ISBLANK('Project Information'!$C$33)),(ISBLANK('Project Information'!$C$35)),(ISBLANK('Project Information'!$C$36)),(ISBLANK('Project Information'!$C$37))),0,IF(AND((A46>='Project Information'!$C$10),(A46<('Project Information'!$C$8+'Project Cost'!$H$61))),('Intermediate Freight Calcs'!B111*'Intermediate Freight Calcs'!C111)-('Intermediate Freight Calcs'!D111*'Intermediate Freight Calcs'!E111)+('Project Information'!$C$33*'Intermediate Freight Calcs'!F111),0))","v":0},null,0]
[{"$f":"'Intermediate Freight Calcs'!A49","v":13},null,{"$f":"IF(OR((ISBLANK('Project Information'!$C$28)),(ISBLANK('Project Information'!$C$29)),(ISBLANK('Project Information'!$C$31)),(ISBLANK('Project Information'!$C$35)),(ISBLANK('Project Information'!$C$36))),0,IF(AND((A47>='Project Information'!$C$10),(A47<('Project Information'!$C$8+'Project Cost'!$H$61))),('Intermediate Freight Calcs'!B18*'Intermediate Freight Calcs'!B81)-('Intermediate Freight Calcs'!C81*'Intermediate Freight Calcs'!D49),0))","v":0},null,{"$f":"IF(OR((ISBLANK('Project Information'!$C$35)),(ISBLANK('Project Information'!$C$36))),0,IF(AND((A47>='Project Information'!$C$10),(A47<('Project Information'!$C$8+'Project Cost'!$H$61))),('Intermediate Freight Calcs'!B18*'Intermediate Freight Calcs'!E81),0))","v":0},null,{"$f":"IF(OR((ISBLANK('Project Information'!$C$28)),(ISBLANK('Project Information'!$C$31)),(ISBLANK('Project Information'!$C$33)),(ISBLANK('Project Information'!$C$35)),(ISBLANK('Project Information'!$C$36)),(ISBLANK('Project Information'!$C$37))),0,IF(AND((A47>='Project Information'!$C$10),(A47<('Project Information'!$C$8+'Project Cost'!$H$61))),('Intermediate Freight Calcs'!B112*'Intermediate Freight Calcs'!C112)-('Intermediate Freight Calcs'!D112*'Intermediate Freight Calcs'!E112)+('Project Information'!$C$33*'Intermediate Freight Calcs'!F112),0))","v":0},null,0]
[{"$f":"'Intermediate Freight Calcs'!A50","v":14},null,{"$f":"IF(OR((ISBLANK('Project Information'!$C$28)),(ISBLANK('Project Information'!$C$29)),(ISBLANK('Project Information'!$C$31)),(ISBLANK('Project Information'!$C$35)),(ISBLANK('Project Information'!$C$36))),0,IF(AND((A48>='Project Information'!$C$10),(A48<('Project Information'!$C$8+'Project Cost'!$H$61))),('Intermediate Freight Calcs'!B19*'Intermediate Freight Calcs'!B82)-('Intermediate Freight Calcs'!C82*'Intermediate Freight Calcs'!D50),0))","v":0},null,{"$f":"IF(OR((ISBLANK('Project Information'!$C$35)),(ISBLANK('Project Information'!$C$36))),0,IF(AND((A48>='Project Information'!$C$10),(A48<('Project Information'!$C$8+'Project Cost'!$H$61))),('Intermediate Freight Calcs'!B19*'Intermediate Freight Calcs'!E82),0))","v":0},null,{"$f":"IF(OR((ISBLANK('Project Information'!$C$28)),(ISBLANK('Project Information'!$C$31)),(ISBLANK('Project Information'!$C$33)),(ISBLANK('Project Information'!$C$35)),(ISBLANK('Project Information'!$C$36)),(ISBLANK('Project Information'!$C$37))),0,IF(AND((A48>='Project Information'!$C$10),(A48<('Project Information'!$C$8+'Project Cost'!$H$61))),('Intermediate Freight Calcs'!B113*'Intermediate Freight Calcs'!C113)-('Intermediate Freight Calcs'!D113*'Intermediate Freight Calcs'!E113)+('Project Information'!$C$33*'Intermediate Freight Calcs'!F113),0))","v":0},null,0]
[{"$f":"'Intermediate Freight Calcs'!A51","v":15},null,{"$f":"IF(OR((ISBLANK('Project Information'!$C$28)),(ISBLANK('Project Information'!$C$29)),(ISBLANK('Project Information'!$C$31)),(ISBLANK('Project Information'!$C$35)),(ISBLANK('Project Information'!$C$36))),0,IF(AND((A49>='Project Information'!$C$10),(A49<('Project Information'!$C$8+'Project Cost'!$H$61))),('Intermediate Freight Calcs'!B20*'Intermediate Freight Calcs'!B83)-('Intermediate Freight Calcs'!C83*'Intermediate Freight Calcs'!D51),0))","v":0},null,{"$f":"IF(OR((ISBLANK('Project Information'!$C$35)),(ISBLANK('Project Information'!$C$36))),0,IF(AND((A49>='Project Information'!$C$10),(A49<('Project Information'!$C$8+'Project Cost'!$H$61))),('Intermediate Freight Calcs'!B20*'Intermediate Freight Calcs'!E83),0))","v":0},null,{"$f":"IF(OR((ISBLANK('Project Information'!$C$28)),(ISBLANK('Project Information'!$C$31)),(ISBLANK('Project Information'!$C$33)),(ISBLANK('Project Information'!$C$35)),(ISBLANK('Project Information'!$C$36)),(ISBLANK('Project Information'!$C$37))),0,IF(AND((A49>='Project Information'!$C$10),(A49<('Project Information'!$C$8+'Project Cost'!$H$61))),('Intermediate Freight Calcs'!B114*'Intermediate Freight Calcs'!C114)-('Intermediate Freight Calcs'!D114*'Intermediate Freight Calcs'!E114)+('Project Information'!$C$33*'Intermediate Freight Calcs'!F114),0))","v":0},null,0]
[{"$f":"'Intermediate Freight Calcs'!A52","v":16},null,{"$f":"IF(OR((ISBLANK('Project Information'!$C$28)),(ISBLANK('Project Information'!$C$29)),(ISBLANK('Project Information'!$C$31)),(ISBLANK('Project Information'!$C$35)),(ISBLANK('Project Information'!$C$36))),0,IF(AND((A50>='Project Information'!$C$10),(A50<('Project Information'!$C$8+'Project Cost'!$H$61))),('Intermediate Freight Calcs'!B21*'Intermediate Freight Calcs'!B84)-('Intermediate Freight Calcs'!C84*'Intermediate Freight Calcs'!D52),0))","v":0},null,{"$f":"IF(OR((ISBLANK('Project Information'!$C$35)),(ISBLANK('Project Information'!$C$36))),0,IF(AND((A50>='Project Information'!$C$10),(A50<('Project Information'!$C$8+'Project Cost'!$H$61))),('Intermediate Freight Calcs'!B21*'Intermediate Freight Calcs'!E84),0))","v":0},null,{"$f":"IF(OR((ISBLANK('Project Information'!$C$28)),(ISBLANK('Project Information'!$C$31)),(ISBLANK('Project Information'!$C$33)),(ISBLANK('Project Information'!$C$35)),(ISBLANK('Project Information'!$C$36)),(ISBLANK('Project Information'!$C$37))),0,IF(AND((A50>='Project Information'!$C$10),(A50<('Project Information'!$C$8+'Project Cost'!$H$61))),('Intermediate Freight Calcs'!B115*'Intermediate Freight Calcs'!C115)-('Intermediate Freight Calcs'!D115*'Intermediate Freight Calcs'!E115)+('Project Information'!$C$33*'Intermediate Freight Calcs'!F115),0))","v":0},null,0]
[{"$f":"'Intermediate Freight Calcs'!A53","v":17},null,{"$f":"IF(OR((ISBLANK('Project Information'!$C$28)),(ISBLANK('Project Information'!$C$29)),(ISBLANK('Project Information'!$C$31)),(ISBLANK('Project Information'!$C$35)),(ISBLANK('Project Information'!$C$36))),0,IF(AND((A51>='Project Information'!$C$10),(A51<('Project Information'!$C$8+'Project Cost'!$H$61))),('Intermediate Freight Calcs'!B22*'Intermediate Freight Calcs'!B85)-('Intermediate Freight Calcs'!C85*'Intermediate Freight Calcs'!D53),0))","v":0},null,{"$f":"IF(OR((ISBLANK('Project Information'!$C$35)),(ISBLANK('Project Information'!$C$36))),0,IF(AND((A51>='Project Information'!$C$10),(A51<('Project Information'!$C$8+'Project Cost'!$H$61))),('Intermediate Freight Calcs'!B22*'Intermediate Freight Calcs'!E85),0))","v":0},null,{"$f":"IF(OR((ISBLANK('Project Information'!$C$28)),(ISBLANK('Project Information'!$C$31)),(ISBLANK('Project Information'!$C$33)),(ISBLANK('Project Information'!$C$35)),(ISBLANK('Project Information'!$C$36)),(ISBLANK('Project Information'!$C$37))),0,IF(AND((A51>='Project Information'!$C$10),(A51<('Project Information'!$C$8+'Project Cost'!$H$61))),('Intermediate Freight Calcs'!B116*'Intermediate Freight Calcs'!C116)-('Intermediate Freight Calcs'!D116*'Intermediate Freight Calcs'!E116)+('Project Information'!$C$33*'Intermediate Freight Calcs'!F116),0))","v":0},null,0]
[{"$f":"'Intermediate Freight Calcs'!A54","v":18},null,{"$f":"IF(OR((ISBLANK('Project Information'!$C$28)),(ISBLANK('Project Information'!$C$29)),(ISBLANK('Project Information'!$C$31)),(ISBLANK('Project Information'!$C$35)),(ISBLANK('Project Information'!$C$36))),0,IF(AND((A52>='Project Information'!$C$10),(A52<('Project Information'!$C$8+'Project Cost'!$H$61))),('Intermediate Freight Calcs'!B23*'Intermediate Freight Calcs'!B86)-('Intermediate Freight Calcs'!C86*'Intermediate Freight Calcs'!D54),0))","v":0},null,{"$f":"IF(OR((ISBLANK('Project Information'!$C$35)),(ISBLANK('Project Information'!$C$36))),0,IF(AND((A52>='Project Information'!$C$10),(A52<('Project Information'!$C$8+'Project Cost'!$H$61))),('Intermediate Freight Calcs'!B23*'Intermediate Freight Calcs'!E86),0))","v":0},null,{"$f":"IF(OR((ISBLANK('Project Information'!$C$28)),(ISBLANK('Project Information'!$C$31)),(ISBLANK('Project Information'!$C$33)),(ISBLANK('Project Information'!$C$35)),(ISBLANK('Project Information'!$C$36)),(ISBLANK('Project Information'!$C$37))),0,IF(AND((A52>='Project Information'!$C$10),(A52<('Project Information'!$C$8+'Project Cost'!$H$61))),('Intermediate Freight Calcs'!B117*'Intermediate Freight Calcs'!C117)-('Intermediate Freight Calcs'!D117*'Intermediate Freight Calcs'!E117)+('Project Information'!$C$33*'Intermediate Freight Calcs'!F117),0))","v":0},null,0]
[{"$f":"'Intermediate Freight Calcs'!A55","v":19},null,{"$f":"IF(OR((ISBLANK('Project Information'!$C$28)),(ISBLANK('Project Information'!$C$29)),(ISBLANK('Project Information'!$C$31)),(ISBLANK('Project Information'!$C$35)),(ISBLANK('Project Information'!$C$36))),0,IF(AND((A53>='Project Information'!$C$10),(A53<('Project Information'!$C$8+'Project Cost'!$H$61))),('Intermediate Freight Calcs'!B24*'Intermediate Freight Calcs'!B87)-('Intermediate Freight Calcs'!C87*'Intermediate Freight Calcs'!D55),0))","v":0},null,{"$f":"IF(OR((ISBLANK('Project Information'!$C$35)),(ISBLANK('Project Information'!$C$36))),0,IF(AND((A53>='Project Information'!$C$10),(A53<('Project Information'!$C$8+'Project Cost'!$H$61))),('Intermediate Freight Calcs'!B24*'Intermediate Freight Calcs'!E87),0))","v":0},null,{"$f":"IF(OR((ISBLANK('Project Information'!$C$28)),(ISBLANK('Project Information'!$C$31)),(ISBLANK('Project Information'!$C$33)),(ISBLANK('Project Information'!$C$35)),(ISBLANK('Project Information'!$C$36)),(ISBLANK('Project Information'!$C$37))),0,IF(AND((A53>='Project Information'!$C$10),(A53<('Project Information'!$C$8+'Project Cost'!$H$61))),('Intermediate Freight Calcs'!B118*'Intermediate Freight Calcs'!C118)-('Intermediate Freight Calcs'!D118*'Intermediate Freight Calcs'!E118)+('Project Information'!$C$33*'Intermediate Freight Calcs'!F118),0))","v":0},null,0]
[{"$f":"'Intermediate Freight Calcs'!A56","v":20},null,{"$f":"IF(OR((ISBLANK('Project Information'!$C$28)),(ISBLANK('Project Information'!$C$29)),(ISBLANK('Project Information'!$C$31)),(ISBLANK('Project Information'!$C$35)),(ISBLANK('Project Information'!$C$36))),0,IF(AND((A54>='Project Information'!$C$10),(A54<('Project Information'!$C$8+'Project Cost'!$H$61))),('Intermediate Freight Calcs'!B25*'Intermediate Freight Calcs'!B88)-('Intermediate Freight Calcs'!C88*'Intermediate Freight Calcs'!D56),0))","v":0},null,{"$f":"IF(OR((ISBLANK('Project Information'!$C$35)),(ISBLANK('Project Information'!$C$36))),0,IF(AND((A54>='Project Information'!$C$10),(A54<('Project Information'!$C$8+'Project Cost'!$H$61))),('Intermediate Freight Calcs'!B25*'Intermediate Freight Calcs'!E88),0))","v":0},null,{"$f":"IF(OR((ISBLANK('Project Information'!$C$28)),(ISBLANK('Project Information'!$C$31)),(ISBLANK('Project Information'!$C$33)),(ISBLANK('Project Information'!$C$35)),(ISBLANK('Project Information'!$C$36)),(ISBLANK('Project Information'!$C$37))),0,IF(AND((A54>='Project Information'!$C$10),(A54<('Project Information'!$C$8+'Project Cost'!$H$61))),('Intermediate Freight Calcs'!B119*'Intermediate Freight Calcs'!C119)-('Intermediate Freight Calcs'!D119*'Intermediate Freight Calcs'!E119)+('Project Information'!$C$33*'Intermediate Freight Calcs'!F119),0))","v":0},null,0]
[{"$f":"'Intermediate Freight Calcs'!A57","v":21},null,{"$f":"IF(OR((ISBLANK('Project Information'!$C$28)),(ISBLANK('Project Information'!$C$29)),(ISBLANK('Project Information'!$C$31)),(ISBLANK('Project Information'!$C$35)),(ISBLANK('Project Information'!$C$36))),0,IF(AND((A55>='Project Information'!$C$10),(A55<('Project Information'!$C$8+'Project Cost'!$H$61))),('Intermediate Freight Calcs'!B26*'Intermediate Freight Calcs'!B89)-('Intermediate Freight Calcs'!C89*'Intermediate Freight Calcs'!D57),0))","v":0},null,{"$f":"IF(OR((ISBLANK('Project Information'!$C$35)),(ISBLANK('Project Information'!$C$36))),0,IF(AND((A55>='Project Information'!$C$10),(A55<('Project Information'!$C$8+'Project Cost'!$H$61))),('Intermediate Freight Calcs'!B26*'Intermediate Freight Calcs'!E89),0))","v":0},null,{"$f":"IF(OR((ISBLANK('Project Information'!$C$28)),(ISBLANK('Project Information'!$C$31)),(ISBLANK('Project Information'!$C$33)),(ISBLANK('Project Information'!$C$35)),(ISBLANK('Project Information'!$C$36)),(ISBLANK('Project Information'!$C$37))),0,IF(AND((A55>='Project Information'!$C$10),(A55<('Project Information'!$C$8+'Project Cost'!$H$61))),('Intermediate Freight Calcs'!B120*'Intermediate Freight Calcs'!C120)-('Intermediate Freight Calcs'!D120*'Intermediate Freight Calcs'!E120)+('Project Information'!$C$33*'Intermediate Freight Calcs'!F120),0))","v":0},null,0]
[{"$f":"'Intermediate Freight Calcs'!A58","v":22},null,{"$f":"IF(OR((ISBLANK('Project Information'!$C$28)),(ISBLANK('Project Information'!$C$29)),(ISBLANK('Project Information'!$C$31)),(ISBLANK('Project Information'!$C$35)),(ISBLANK('Project Information'!$C$36))),0,IF(AND((A56>='Project Information'!$C$10),(A56<('Project Information'!$C$8+'Project Cost'!$H$61))),('Intermediate Freight Calcs'!B27*'Intermediate Freight Calcs'!B90)-('Intermediate Freight Calcs'!C90*'Intermediate Freight Calcs'!D58),0))","v":0},null,{"$f":"IF(OR((ISBLANK('Project Information'!$C$35)),(ISBLANK('Project Information'!$C$36))),0,IF(AND((A56>='Project Information'!$C$10),(A56<('Project Information'!$C$8+'Project Cost'!$H$61))),('Intermediate Freight Calcs'!B27*'Intermediate Freight Calcs'!E90),0))","v":0},null,{"$f":"IF(OR((ISBLANK('Project Information'!$C$28)),(ISBLANK('Project Information'!$C$31)),(ISBLANK('Project Information'!$C$33)),(ISBLANK('Project Information'!$C$35)),(ISBLANK('Project Information'!$C$36)),(ISBLANK('Project Information'!$C$37))),0,IF(AND((A56>='Project Information'!$C$10),(A56<('Project Information'!$C$8+'Project Cost'!$H$61))),('Intermediate Freight Calcs'!B121*'Intermediate Freight Calcs'!C121)-('Intermediate Freight Calcs'!D121*'Intermediate Freight Calcs'!E121)+('Project Information'!$C$33*'Intermediate Freight Calcs'!F121),0))","v":0},null,0]
[{"$f":"'Intermediate Freight Calcs'!A59","v":23},null,{"$f":"IF(OR((ISBLANK('Project Information'!$C$28)),(ISBLANK('Project Information'!$C$29)),(ISBLANK('Project Information'!$C$31)),(ISBLANK('Project Information'!$C$35)),(ISBLANK('Project Information'!$C$36))),0,IF(AND((A57>='Project Information'!$C$10),(A57<('Project Information'!$C$8+'Project Cost'!$H$61))),('Intermediate Freight Calcs'!B28*'Intermediate Freight Calcs'!B91)-('Intermediate Freight Calcs'!C91*'Intermediate Freight Calcs'!D59),0))","v":0},null,{"$f":"IF(OR((ISBLANK('Project Information'!$C$35)),(ISBLANK('Project Information'!$C$36))),0,IF(AND((A57>='Project Information'!$C$10),(A57<('Project Information'!$C$8+'Project Cost'!$H$61))),('Intermediate Freight Calcs'!B28*'Intermediate Freight Calcs'!E91),0))","v":0},null,{"$f":"IF(OR((ISBLANK('Project Information'!$C$28)),(ISBLANK('Project Information'!$C$31)),(ISBLANK('Project Information'!$C$33)),(ISBLANK('Project Information'!$C$35)),(ISBLANK('Project Information'!$C$36)),(ISBLANK('Project Information'!$C$37))),0,IF(AND((A57>='Project Information'!$C$10),(A57<('Project Information'!$C$8+'Project Cost'!$H$61))),('Intermediate Freight Calcs'!B122*'Intermediate Freight Calcs'!C122)-('Intermediate Freight Calcs'!D122*'Intermediate Freight Calcs'!E122)+('Project Information'!$C$33*'Intermediate Freight Calcs'!F122),0))","v":0},null,0]
[{"$f":"'Intermediate Freight Calcs'!A60","v":24},null,{"$f":"IF(OR((ISBLANK('Project Information'!$C$28)),(ISBLANK('Project Information'!$C$29)),(ISBLANK('Project Information'!$C$31)),(ISBLANK('Project Information'!$C$35)),(ISBLANK('Project Information'!$C$36))),0,IF(AND((A58>='Project Information'!$C$10),(A58<('Project Information'!$C$8+'Project Cost'!$H$61))),('Intermediate Freight Calcs'!B29*'Intermediate Freight Calcs'!B92)-('Intermediate Freight Calcs'!C92*'Intermediate Freight Calcs'!D60),0))","v":0},null,{"$f":"IF(OR((ISBLANK('Project Information'!$C$35)),(ISBLANK('Project Information'!$C$36))),0,IF(AND((A58>='Project Information'!$C$10),(A58<('Project Information'!$C$8+'Project Cost'!$H$61))),('Intermediate Freight Calcs'!B29*'Intermediate Freight Calcs'!E92),0))","v":0},null,{"$f":"IF(OR((ISBLANK('Project Information'!$C$28)),(ISBLANK('Project Information'!$C$31)),(ISBLANK('Project Information'!$C$33)),(ISBLANK('Project Information'!$C$35)),(ISBLANK('Project Information'!$C$36)),(ISBLANK('Project Information'!$C$37))),0,IF(AND((A58>='Project Information'!$C$10),(A58<('Project Information'!$C$8+'Project Cost'!$H$61))),('Intermediate Freight Calcs'!B123*'Intermediate Freight Calcs'!C123)-('Intermediate Freight Calcs'!D123*'Intermediate Freight Calcs'!E123)+('Project Information'!$C$33*'Intermediate Freight Calcs'!F123),0))","v":0},null,0]

{"sheet":"BCA Values Freight","index":8,"n_rows":77,"n_cols":29,"rows_kept":77,"cut":false,"hidden":false,"merged":[[2,0,2,3],[8,0,8,3],[51,0,51,3],[61,0,61,3],[69,0,69,3]]}
["Freight BCA Values"]
[]
["Number of Truck Loads per Railcar"]
["Override Value",{"$f":"B6/B5","v":3.4094220495386112}]
["Tons Per Truck Load",{"$f":"'Project Information'!C37","v":20.59}]
["Tons Per Railcar",{"$f":"'Project Information'!C28","v":70.2}]
[]
[]
["Pollution"]
[]
[null,null,"Year",2015,2016,2017,2018,2019,2020,2021,2022,2023,2024,2025,2026,2027,2028,2029,2030,2031,2032,2033,2034,2035,2036,2037,2038,2039,2040]
["Emission Rate - Truck, Urban (Gram/Mile)"]
["NOx",null,null,3.4206340709279099,{"$f":"AVERAGE(D13,F13)","v":3.1332479783365299},2.8458618857451499,{"$f":"F13*(POWER((I13/F13),1/(I$11-F$11)))","v":2.5632887006048799},{"$f":"G13*(POWER((I13/F13),1/(I$11-F$11)))","v":2.3087729575211875},2.07952875855274,{"$f":"AVERAGE(I13,K13)","v":1.8772467712396899},1.6749647839266399,{"$f":"K13*(POWER((N13/K13),1/(N$11-K$11)))","v":1.5055758157903592},{"$f":"L13*(POWER((N13/K13),1/(N$11-K$11)))","v":1.353317131706385},1.21645634830323,{"$f":"AVERAGE(N13,P13)","v":1.1024662770431251},0.98847620578301998,{"$f":"P13*(POWER((S13/P13),1/(S$11-P$11)))","v":0.89945022753931092},{"$f":"Q13*(POWER((S13/P13),1/(S$11-P$11)))","v":0.81844227214317378},0.744730205542813,{"$f":"S13*(POWER(($X13/$S13),1/($X$11-$S$11)))","v":0.70615772092703766},0.66958305586841294,0.63490273549300502,0.60201864429454521,0.57083774855185698,{"$f":"X13*(POWER(($AC13/$X13),1/($AC$11-$X$11)))","v":0.56351807750838134},0.55629226428058209,0.54915910535951584,0.54211741266845193,0.53516601336499003]
["THC",null,null,7.8455118980248997E-2,{"$f":"AVERAGE(D14,F14)","v":7.2546268152715698E-2},6.6637417325182399E-2,{"$f":"F14*(POWER((I14/F14),1/(I$11-F$11)))","v":6.0977999614505993E-2},{"$f":"G14*(POWER((I14/F14),1/(I$11-F$11)))","v":5.5799227914878007E-2},5.1060281668469501E-2,{"$f":"AVERAGE(I14,K14)","v":4.7019887347839004E-2},4.29794930272085E-2,{"$f":"K14*(POWER((N14/K14),1/(N$11-K$11)))","v":3.9698804473580984E-2},{"$f":"L14*(POWER((N14/K14),1/(N$11-K$11)))","v":3.6668535751082913E-2},3.38695719419774E-2,{"$f":"AVERAGE(N14,P14)","v":3.1525335297374051E-2},2.9181098652770701E-2,{"$f":"P14*(POWER((S14/P14),1/(S$11-P$11)))","v":2.7390344261449734E-2},{"$f":"Q14*(POWER((S14/P14),1/(S$11-P$11)))","v":2.5709482966622271E-2},2.41317709665054E-2,2.3350374068421682E-2,2.2594279130694804E-2,2.186266686520183E-2,2.1154744512713985E-2,2.0469744983879899E-2,2.0352576261540779E-2,2.0236078212407669E-2,2.0120246997550349E-2,2.0005078800012614E-2,1.98905698246865E-2]
["CO",null,null,0.83270916220499203,0.7614314978418405,0.69015383347868897,0.62193288314467177,0.56045549901098657,0.50505508694671597,0.45681342957141147,0.40857177219610702,0.36810258274722957,0.33164188190696564,0.29879262735388001,0.27086801089474899,0.24294339443561799,0.22138044480181124,0.20173135990999608,0.18382627068785901,0.1750095383772442,0.16661567690193582,0.15862440440046263,0.15101641177625086,0.14377331604157401,0.1426626226979108,0.14156050980392784,0.14046691107299694,0.13938176073057459,0.138304993510246]
["PM 2.5",null,null,0.12782879392034299,0.1159212650236435,0.10401373612694401,9.2140700217796648E-2,8.1622956282084949E-2,7.2305799461901105E-2,6.4267687630490344E-2,5.6229575799079598E-2,4.9497587166025453E-2,4.3571574219458918E-2,3.8355042915403197E-2,3.3747715388017199E-2,2.9140387860631198E-2,2.5368187387839934E-2,2.2084295323124142E-2,1.9225500524043999E-2,1.7436350664358689E-2,1.5813701396759843E-2,1.4342057961535148E-2,1.3007367561283258E-2,1.1796885170042499E-2,1.1547791640244682E-2,1.1303957768881509E-2,1.1065272497239926E-2,1.0831627111633255E-2,1.0602915193885501E-2]
["PM 10",null,null,0.13894465737393999,0.12600172865495499,0.11305879993597,0.1001533266195905,8.8720991542906719E-2,7.8593638434540397E-2,6.9856469839578453E-2,6.1119301244616502E-2,5.3801883327071073E-2,4.7360532443828186E-2,4.1690362765317901E-2,3.6682407198289455E-2,3.1674451631261001E-2,2.7574213935235278E-2,2.4004749411216671E-2,2.08973498083651E-2,1.895260447278041E-2,1.7188840670976837E-2,1.5589215932647119E-2,1.413845517836706E-2,1.28227048553526E-2,1.255196662958003E-2,1.2286944763009464E-2,1.2027518560595224E-2,1.1773569875643396E-2,1.1524983056005999E-2]
["VOC(HC)",null,null,8.1358266756675804E-2,7.4481232108761702E-2,6.7604197460847601E-2,6.0937142627519522E-2,5.4927585728048962E-2,4.9510685007892997E-2,4.4831974280593004E-2,4.0153263553293003E-2,3.6278256036390566E-2,3.2777207742905198E-2,2.96140295813529E-2,2.6897878352201549E-2,2.4181727123050199E-2,2.2052097101953209E-2,2.0110018780686398E-2,1.8338974905191201E-2,1.7403615856798484E-2,1.6515963757890845E-2,1.5673585368491529E-2,1.4874171553326519E-2,1.4115530952001999E-2,1.3985182933411527E-2,1.385603859649681E-2,1.3728086826017337E-2,1.3601316609374829E-2,1.3475717035665399E-2]
["CO2",null,null,1638.2938677469799,1626.6442362467401,1614.9946047465,1601.8297327178814,1588.7721761285964,1575.82106018066,1564.6048018137549,1553.38854344685,1544.3892541110972,1535.4421006101877,1526.5467809041299,1519.5316664377801,1512.5165519714301,1507.2520040915899,1502.0057802851909,1496.77781677246,1493.8740866531834,1490.9759897337785,1488.0835150859086,1485.1966518024378,1482.3153889973901,1481.2886201479917,1480.262562519888,1479.237215620431,1478.2125789573138,1477.1886520385699]
[]
["Emission Rate - Truck, Rural (Gram/Mile)"]
["NOx",null,null,3.4023799368054202,{"$f":"AVERAGE(D22,F22)","v":3.11691241305622},2.8314448893070199,{"$f":"F22*(POWER((I22/F22),1/(I$11-F$11)))","v":2.5505224085342166},{"$f":"G22*(POWER((I22/F22),1/(I$11-F$11)))","v":2.2974717187687461},2.0695275136107099,{"$f":"AVERAGE(I22,K22)","v":1.8682673768732099},1.6670072401357099,{"$f":"K22*(POWER((N22/K22),1/(N$11-K$11)))","v":1.4983922121008255},{"$f":"L22*(POWER((N22/K22),1/(N$11-K$11)))","v":1.3468323155582858},1.2106024521369001,{"$f":"AVERAGE(N22,P22)","v":1.0971029997185691},0.98360354730023802,{"$f":"P22*(POWER((S22/P22),1/(S$11-P$11)))","v":0.89494325839377364},{"$f":"Q22*(POWER((S22/P22),1/(S$11-P$11)))","v":0.81427465155327305},0.74087737065277304,{"$f":"S22*(POWER(($X22/$S22),1/($X$11-$S$11)))","v":0.7024567036525653},0.66602846847874775,0.63148934093388287,0.59874135504139392,0.56769162517715199,{"$f":"X22*(POWER(($AC22/$X22),1/($AC$11-$X$11)))","v":0.56039870874782338},0.55319948161685029,0.54609274019377463,0.53907729635020296,0.53215197722117102]
["THC",null,null,8.5050256076404596E-2,{"$f":"AVERAGE(D23,F23)","v":7.9100915835927738E-2},7.3151575595450893E-2,6.7477115035584206E-2,6.2242829583134957E-2,5.7414574296368898E-2,{"$f":"AVERAGE(I23,K23)","v":5.3324468346545445E-2},4.9234362396721999E-2,4.5940960889949756E-2,4.2867862702989201E-2,4.0000331232173801E-2,{"$f":"AVERAGE(N23,P23)","v":3.7623081765256403E-2},3.5245832298338997E-2,3.3447649821051931E-2,3.1741207558444791E-2,3.0121825080641401E-2,2.9336049149068684E-2,2.8570771438071445E-2,2.7825457218816848E-2,2.7099585711727974E-2,2.63926497225952E-2,2.6271254833467674E-2,2.6150418308856831E-2,2.6030137580524946E-2,2.591041009204709E-2,2.5791233298756801E-2]
["CO",null,null,0.83356507588177897,0.76232272060587947,0.69108036532997996,0.62281955273830014,0.5613011376584518,0.50585914612262595,0.45754482516591999,0.40923050420921397,0.36867628957354071,0.33214094525129711,0.29922620638293002,0.27123706197986952,0.243247917576809,0.22162908768111625,0.20193164650979489,0.18398482928751,0.17514361092464872,0.16672724901567282,0.15871532748227724,0.15108841132164622,0.14382799946179101,0.14271422553975507,0.14160907644983842,0.14051248540314643,0.13942438612798372,0.13834471286584901]
["PM 2.5",null,null,0.12796599604189299,0.1160670472308985,0.104168098419904,9.2291754241791465E-2,8.1769447942612095E-2,7.2446803853381397E-2,6.4396552188554751E-2,5.6346300523728098E-2,4.9600594881515463E-2,4.366247632467353E-2,3.8435261580161702E-2,3.3817179821198751E-2,2.91990980622358E-2,2.5416919114173826E-2,2.2124648366860841E-2,1.9258827679247199E-2,1.7464435622388814E-2,1.5837231460211376E-2,1.4361637887843847E-2,1.3023528975991806E-2,1.18100949427268E-2,1.1560278520638888E-2,1.1315746412102007E-2,1.1076386839157477E-2,1.0842090388261963E-2,1.0612749960273501E-2]
["PM 10",null,null,0.139093894336838,0.126160223881015,0.113226553425192,0.10031736681244216,8.8879982475409403E-2,7.8746597282588399E-2,6.9996456926067596E-2,6.1246316569546801E-2,5.3913930005755575E-2,4.7459374072967533E-2,4.1777555209894901E-2,3.6757902077321505E-2,3.1738248944748103E-2,2.7627162784051366E-2,2.4048589600050182E-2,2.0933552470523802E-2,1.8983132059681895E-2,1.7214436169051512E-2,1.561053316632275E-2,1.4156068972794561E-2,1.28371200795906E-2,1.2565577682978436E-2,1.2299779197204585E-2,1.2039603121861999E-2,1.1784930526630346E-2,1.1535644996911201E-2]
["VOC(HC)",null,null,8.7961303795358006E-2,8.1045026733287756E-2,7.4128749671217506E-2,6.7462532897261382E-2,6.139579265939242E-2,5.5874619501992101E-2,5.1145486701291952E-2,4.6416353900591803E-2,4.2547613521990865E-2,3.9001327426401292E-2,3.5750619485042899E-2,3.3000648042919453E-2,3.0250676600796E-2,2.8132767701948318E-2,2.6163137737916269E-2,2.43314054111275E-2,2.3405126278551895E-2,2.2514109927428801E-2,2.1657013928989138E-2,2.083254695976312E-2,2.0039466856038201E-2,1.9905226110772795E-2,1.9771884619854768E-2,1.9639436359342729E-2,1.950787534564858E-2,1.93771956352672E-2]
["CO2",null,null,1641.90854899088,1630.31261189778,1618.71667480468,1605.5711763230966,1592.5324316255562,1579.5995737711501,1568.384258270255,1557.16894276936,1548.1528806220997,1539.1890217871523,1530.2770640055301,1523.2331110636351,1516.1891581217401,1510.8973011054175,1505.6239139155878,1500.3689320882099,1497.4427557073659,1494.5222862616822,1491.6075126208971,1488.6984236764561,1485.7950083414701,1484.7512506333517,1483.7082261556905,1482.6659343933986,1481.6243748317499,1480.5835469563799]
[]
["Emission Rate - Train (Gram/Mile)"]
["NOx",null,null,0.2458676131355759,0.22716070908188848,0.21080889275045667,0.19671798255082087,0.18479650851568083,0.17495564590200599,0.16362770963703771,0.15260024643969056,0.14186679090359544,0.13142100397813428,0.12125667063248362,0.11136769756130743,0.10333792516467692,9.5523988207994043E-2,8.7921218326849598E-2,8.0525038644792685E-2,8.0525038644792685E-2,8.0525038644792685E-2,8.0525038644792685E-2,8.0525038644792685E-2,8.0525038644792685E-2,8.0525038644792685E-2,8.0525038644792685E-2,8.0525038644792685E-2,8.0525038644792685E-2,8.0525038644792685E-2]
["CO",null,null,6.054237288135593E-2,5.9898305084745758E-2,5.9254237288135593E-2,5.8610169491525421E-2,5.7966101694915256E-2,5.7322033898305084E-2,5.6677966101694913E-2,5.6033898305084741E-2,5.5389830508474576E-2,5.4745762711864404E-2,5.4101694915254232E-2,5.345762711864406E-2,5.2813559322033903E-2,5.2169491525423731E-2,5.1525423728813559E-2,5.0881355932203387E-2,5.0881355932203387E-2,5.0881355932203387E-2,5.0881355932203387E-2,5.0881355932203387E-2,5.0881355932203387E-2,5.0881355932203387E-2,5.0881355932203387E-2,5.0881355932203387E-2,5.0881355932203387E-2,5.0881355932203387E-2]
["PM",null,null,6.480231664038434E-3,5.8198198194533415E-3,5.3626823594414407E-3,4.917949563770522E-3,4.4853521484388556E-3,4.06462611691529E-3,3.8295846936327979E-3,3.4292190211166413E-3,3.208891699009897E-3,2.8280469210484591E-3,2.6217658515131593E-3,2.4210369035066832E-3,2.2257399266238103E-3,2.0357571257441352E-3,1.6967252659567467E-3,1.5193403517885413E-3,1.5193403517885413E-3,1.5193403517885413E-3,1.5193403517885413E-3,1.5193403517885413E-3,1.5193403517885413E-3,1.5193403517885413E-3,1.5193403517885413E-3,1.5193403517885413E-3,1.5193403517885413E-3,1.5193403517885413E-3]
["VOC(HC)",null,null,1.0863917789711493E-2,9.5745422836167864E-3,8.5063237425622856E-3,7.6501437658652565E-3,6.9971493515646136E-3,6.3620234873456721E-3,5.9184490719779593E-3,5.4867504337866259E-3,5.0666711036998378E-3,4.6579596346680496E-3,4.260369508708884E-3,4.0350615058444717E-3,3.65657273659626E-3,3.2885307415866805E-3,3.0849550290122664E-3,2.8867466683982282E-3,2.8867466683982282E-3,2.8867466683982282E-3,2.8867466683982282E-3,2.8867466683982282E-3,2.8867466683982282E-3,2.8867466683982282E-3,2.8867466683982282E-3,2.8867466683982282E-3,2.8867466683982282E-3,2.8867466683982282E-3]
["CO2",null,null,19.278689200514339,18.989508862506629,18.704666229569025,18.424096236125489,18.147734792583609,17.875518770694853,17.607385989134432,17.343275199297413,17.083126071307952,16.826879180238333,16.574475992534754,16.325858852646736,16.080970969857031,15.839756405309176,15.602160059229536,15.368127658341095,15.368127658341095,15.368127658341095,15.368127658341095,15.368127658341095,15.368127658341095,15.368127658341095,15.368127658341095,15.368127658341095,15.368127658341095,15.368127658341095]
[]
["Emission Cost ($/Gram)"]
["NOx",null,null,4.0816893415009641E-3,{"$f":"D38*$E$43/$D$43","v":4.0697890389605777E-3},{"$f":"E38*$F$43/$E$43","v":4.1644352956805913E-3},{"$f":"F38*$G$43/$F$43","v":4.2590815524006049E-3},{"$f":"G38*$H$43/$G$43","v":4.3537278091206185E-3},{"$f":"H38*$I$43/$H$43","v":4.4483740658406322E-3},{"$f":"I38*$J$43/$I$43","v":4.5430203225606458E-3},{"$f":"J38*$K$43/$J$43","v":4.6376665792806594E-3},{"$f":"K38*$L$43/$K$43","v":4.732312836000673E-3},{"$f":"L38*$M$43/$L$43","v":4.8269590927206866E-3},{"$f":"M38*$N$43/$M$43","v":5.016251606160713E-3},{"$f":"N38*$O$43/$N$43","v":5.016251606160713E-3},{"$f":"O38*$P$43/$O$43","v":5.1108978628807266E-3},{"$f":"P38*$Q$43/$P$43","v":5.2055441196007411E-3},{"$f":"Q38*$R$43/$Q$43","v":5.3001903763207547E-3},{"$f":"R38*$S$43/$R$43","v":5.3948366330407683E-3},{"$f":"S38*$T$43/$S$43","v":5.4894828897607811E-3},{"$f":"T38*$U$43/$T$43","v":5.5841291464807956E-3},{"$f":"U38*$V$43/$U$43","v":5.6787754032008083E-3},{"$f":"V38*$W$43/$V$43","v":5.7734216599208219E-3},{"$f":"W38*$X$43/$W$43","v":5.8680679166408347E-3},{"$f":"X38*$Y$43/$X$43","v":5.9627141733608491E-3},{"$f":"Y38*$Z$43/$Y$43","v":6.1520066868008738E-3},{"$f":"Z38*$AA$43/$Z$43","v":6.2466529435208883E-3},{"$f":"AA38*$AB$43/$AA$43","v":6.3412992002409019E-3},{"$f":"AB38*$AC$43/$AB$43","v":6.4359454569609164E-3}]
["CO",null,null,3.3309055978895908E-4,{"$f":"D39*$E$43/$D$43","v":3.321194230602198E-4},{"$f":"E39*$F$43/$E$43","v":3.3984313057324822E-4},{"$f":"F39*$G$43/$F$43","v":3.4756683808627654E-4},{"$f":"G39*$H$43/$G$43","v":3.5529054559930491E-4},{"$f":"H39*$I$43/$H$43","v":3.6301425311233322E-4},{"$f":"I39*$J$43/$I$43","v":3.7073796062536164E-4},{"$f":"J39*$K$43/$J$43","v":3.7846166813839001E-4},{"$f":"K39*$L$43/$K$43","v":3.8618537565141838E-4},{"$f":"L39*$M$43/$L$43","v":3.939090831644467E-4},{"$f":"M39*$N$43/$M$43","v":4.0935649819050343E-4},{"$f":"N39*$O$43/$N$43","v":4.0935649819050343E-4},{"$f":"O39*$P$43/$O$43","v":4.1708020570353186E-4},{"$f":"P39*$Q$43/$P$43","v":4.2480391321656028E-4},{"$f":"Q39*$R$43/$Q$43","v":4.3252762072958865E-4},{"$f":"R39*$S$43/$R$43","v":4.4025132824261696E-4},{"$f":"S39*$T$43/$S$43","v":4.4797503575564528E-4},{"$f":"T39*$U$43/$T$43","v":4.5569874326867375E-4},{"$f":"U39*$V$43/$U$43","v":4.6342245078170207E-4},{"$f":"V39*$W$43/$V$43","v":4.7114615829473044E-4},{"$f":"W39*$X$43/$W$43","v":4.7886986580775881E-4},{"$f":"X39*$Y$43/$X$43","v":4.8659357332078728E-4},{"$f":"Y39*$Z$43/$Y$43","v":5.0204098834684397E-4},{"$f":"Z39*$AA$43/$Z$43","v":5.0976469585987234E-4},{"$f":"AA39*$AB$43/$AA$43","v":5.174884033729007E-4},{"$f":"AB39*$AC$43/$AB$43","v":5.2521211088592918E-4}]
["PM 2.5",null,null,7.5651478769310707E-2,{"$f":"D40*$E$43/$D$43","v":7.5430914338836114E-2},{"$f":"E40*$F$43/$E$43","v":7.7185121649041608E-2},{"$f":"F40*$G$43/$F$43","v":7.8939328959247101E-2},{"$f":"G40*$H$43/$G$43","v":8.0693536269452595E-2},{"$f":"H40*$I$43/$H$43","v":8.2447743579658089E-2},{"$f":"I40*$J$43/$I$43","v":8.4201950889863583E-2},{"$f":"J40*$K$43/$J$43","v":8.5956158200069077E-2},{"$f":"K40*$L$43/$K$43","v":8.7710365510274571E-2},{"$f":"L40*$M$43/$L$43","v":8.9464572820480051E-2},{"$f":"M40*$N$43/$M$43","v":9.2972987440891039E-2},{"$f":"N40*$O$43/$N$43","v":9.2972987440891039E-2},{"$f":"O40*$P$43/$O$43","v":9.4727194751096533E-2},{"$f":"P40*$Q$43/$P$43","v":9.6481402061302041E-2},{"$f":"Q40*$R$43/$Q$43","v":9.8235609371507521E-2},{"$f":"R40*$S$43/$R$43","v":9.9989816681713015E-2},{"$f":"S40*$T$43/$S$43","v":0.10174402399191849},{"$f":"T40*$U$43/$T$43","v":0.103498231302124},{"$f":"U40*$V$43/$U$43","v":0.10525243861232948},{"$f":"V40*$W$43/$V$43","v":0.10700664592253498},{"$f":"W40*$X$43/$W$43","v":0.10876085323274046},{"$f":"X40*$Y$43/$X$43","v":0.11051506054294596},{"$f":"Y40*$Z$43/$Y$43","v":0.11402347516335692},{"$f":"Z40*$AA$43/$Z$43","v":0.11577768247356243},{"$f":"AA40*$AB$43/$AA$43","v":0.11753188978376793},{"$f":"AB40*$AC$43/$AB$43","v":0.11928609709397343}]
["PM 10",null,null,2.3659401905858284E-2,{"$f":"D41*$E$43/$D$43","v":2.3590422123947505E-2},{"$f":"E41*$F$43/$E$43","v":2.413903659194629E-2},{"$f":"F41*$G$43/$F$43","v":2.4687651059945068E-2},{"$f":"G41*$H$43/$G$43","v":2.5236265527943846E-2},{"$f":"H41*$I$43/$H$43","v":2.5784879995942624E-2},{"$f":"I41*$J$43/$I$43","v":2.6333494463941405E-2},{"$f":"J41*$K$43/$J$43","v":2.6882108931940183E-2},{"$f":"K41*$L$43/$K$43","v":2.7430723399938961E-2},{"$f":"L41*$M$43/$L$43","v":2.7979337867937739E-2},{"$f":"M41*$N$43/$M$43","v":2.9076566803935295E-2},{"$f":"N41*$O$43/$N$43","v":2.9076566803935295E-2},{"$f":"O41*$P$43/$O$43","v":2.9625181271934076E-2},{"$f":"P41*$Q$43/$P$43","v":3.0173795739932858E-2},{"$f":"Q41*$R$43/$Q$43","v":3.0722410207931639E-2},{"$f":"R41*$S$43/$R$43","v":3.1271024675930417E-2},{"$f":"S41*$T$43/$S$43","v":3.1819639143929192E-2},{"$f":"T41*$U$43/$T$43","v":3.236825361192798E-2},{"$f":"U41*$V$43/$U$43","v":3.2916868079926755E-2},{"$f":"V41*$W$43/$V$43","v":3.3465482547925529E-2},{"$f":"W41*$X$43/$W$43","v":3.4014097015924311E-2},{"$f":"X41*$Y$43/$X$43","v":3.4562711483923099E-2},{"$f":"Y41*$Z$43/$Y$43","v":3.5659940419920648E-2},{"$f":"Z41*$AA$43/$Z$43","v":3.6208554887919436E-2},{"$f":"AA41*$AB$43/$AA$43","v":3.6757169355918218E-2},{"$f":"AB41*$AC$43/$AB$43","v":3.7305783823916999E-2}]
["VOC(HC)",null,null,5.1864896761897369E-3,{"$f":"D42*$E$43/$D$43","v":5.1713682911196639E-3},{"$f":"E42*$F$43/$E$43","v":5.2916326699829121E-3},{"$f":"F42*$G$43/$F$43","v":5.4118970488461595E-3},{"$f":"G42*$H$43/$G$43","v":5.5321614277094068E-3},{"$f":"H42*$I$43/$H$43","v":5.652425806572655E-3},{"$f":"I42*$J$43/$I$43","v":5.7726901854359032E-3},{"$f":"J42*$K$43/$J$43","v":5.8929545642991505E-3},{"$f":"K42*$L$43/$K$43","v":6.0132189431623987E-3},{"$f":"L42*$M$43/$L$43","v":6.1334833220256461E-3},{"$f":"M42*$N$43/$M$43","v":6.3740120797521416E-3},{"$f":"N42*$O$43/$N$43","v":6.3740120797521416E-3},{"$f":"O42*$P$43/$O$43","v":6.4942764586153907E-3},{"$f":"P42*$Q$43/$P$43","v":6.6145408374786397E-3},{"$f":"Q42*$R$43/$Q$43","v":6.7348052163418871E-3},{"$f":"R42*$S$43/$R$43","v":6.8550695952051344E-3},{"$f":"S42*$T$43/$S$43","v":6.9753339740683809E-3},{"$f":"T42*$U$43/$T$43","v":7.0955983529316299E-3},{"$f":"U42*$V$43/$U$43","v":7.2158627317948773E-3},{"$f":"V42*$W$43/$V$43","v":7.3361271106581255E-3},{"$f":"W42*$X$43/$W$43","v":7.4563914895213728E-3},{"$f":"X42*$Y$43/$X$43","v":7.5766558683846227E-3},{"$f":"Y42*$Z$43/$Y$43","v":7.8171846261111174E-3},{"$f":"Z42*$AA$43/$Z$43","v":7.9374490049743673E-3},{"$f":"AA42*$AB$43/$AA$43","v":8.0577133838376155E-3},{"$f":"AB42*$AC$43/$AB$43","v":8.1779777627008655E-3}]
["CO2",null,null,4.2657127868852451E-5,4.2532759578012215E-5,4.3521893521686923E-5,4.4511027465361624E-5,4.5500161409036325E-5,4.6489295352711026E-5,4.7478429296385734E-5,4.8467563240060435E-5,4.9456697183735136E-5,5.0445831127409838E-5,5.242409901475924E-5,5.242409901475924E-5,5.3413232958433948E-5,5.4402366902108656E-5,5.5391500845783357E-5,5.6380634789458058E-5,5.7369768733132752E-5,5.8358902676807467E-5,5.9348036620482161E-5,6.0337170564156862E-5,6.1326304507831563E-5,6.2315438451506278E-5,6.4293706338855667E-5,6.5282840282530381E-5,6.6271974226205082E-5,6.7261108169879797E-5]
[]
["Noise Pollution"]
["Annual Real Growth",2.2000000000000001E-3]
["Truck ($/VMT) Urban",null,null,{"$f":"0.020589115","v":2.0589115000000002E-2},{"$f":"+D47*(1+$B$46)","v":2.0634411053000002E-2},{"$f":"+E47*(1+$B$46)","v":2.06798067573166E-2},2.0725302332182696E-2,2.0770897997313496E-2,2.0816593972907586E-2,2.0862390479647983E-2,2.0908287738703207E-2,2.0954285971728354E-2,2.1000385400866156E-2,2.1046586248748063E-2,2.1092888738495307E-2,2.1139293093719997E-2,2.118579953852618E-2,2.1232408297510937E-2,2.127911959576546E-2,2.1325933658876143E-2,2.1372850712925669E-2,2.1419870984494105E-2,2.1466994700659991E-2,2.1514222089001445E-2,2.1561553377597246E-2,2.1608988795027959E-2,2.1656528570377021E-2,2.170417293323185E-2,2.1751922113684961E-2]
["Truck ($/VMT) Rural",null,null,1.2353469999999999E-3,{"$f":"+D48*(1+$B$46)","v":1.2380647634E-3},{"$f":"+E48*(1+$B$46)","v":1.2407885058794801E-3},1.2435182405924148E-3,1.2462539807217181E-3,1.2489957394793058E-3,1.2517435301061602E-3,1.2544973658723936E-3,1.2572572600773129E-3,1.260023226049483E-3,1.2627952771467918E-3,1.2655734267565148E-3,1.2683576882953791E-3,1.271148075209629E-3,1.2739446009750902E-3,1.2767472790972353E-3,1.2795561231112491E-3,1.2823711465820939E-3,1.2851923631045745E-3,1.2880197863034046E-3,1.2908534298332721E-3,1.2936933073789052E-3,1.2965394326551387E-3,1.29939181940698E-3,1.3022504814096754E-3,1.3051154324687766E-3]
["Rail ($/ton-mile)",null,null,{"$f":"0.000617000691085003","v":6.1700069108500295E-4},{"$f":"+D49*(1+$B$46)","v":6.1835809260538999E-4},{"$f":"+E49*(1+$B$46)","v":6.1971848040912189E-4},6.2108186106602198E-4,6.2244824116036723E-4,6.2381762729091998E-4,6.2519002607096003E-4,6.2656544412831609E-4,6.2794388810539841E-4,6.2932536465923024E-4,6.3070988046148055E-4,6.3209744219849579E-4,6.3348805657133245E-4,6.3488173029578935E-4,6.3627847010244004E-4,6.3767828273666538E-4,6.39081174958686E-4,6.4048715354359507E-4,6.4189622528139096E-4,6.4330839697701006E-4,6.4472367545035942E-4,6.4614206753635015E-4,6.4756358008493016E-4,6.48988219961117E-4,6.504159940450314E-4,6.518469092319305E-4]
[]
[]
["Shipping Rates"]
[]
[null,null,"Year",2015,2016,2017,2018,2019,2020,2021,2022,2023,2024,2025,2026,2027,2028,2029,2030,2031,2032,2033,2034,2035,2036,2037,2038,2039,2040]
[]
["Virginia Truck ($/hr)",null,null,108,{"$f":"D56*(POWER(($I$56/$D$56),1/($I$54-$D$54)))","v":109.17418905183789},{"$f":"E56*(POWER(($I$56/$D$56),1/($I$54-$D$54)))","v":110.36114402894852},{"$f":"F56*(POWER(($I$56/$D$56),1/($I$54-$D$54)))","v":111.56100372401421},{"$f":"G56*(POWER(($I$56/$D$56),1/($I$54-$D$54)))","v":112.77390843868814},114,{"$f":"I56*(POWER(($N$56/$I$56),1/($N$54-$I$54)))","v":114.98290410294875},{"$f":"J56*(POWER(($N$56/$I$56),1/($N$54-$I$54)))","v":115.97428277147289},{"$f":"K56*(POWER(($N$56/$I$56),1/($N$54-$I$54)))","v":116.97420907298709},{"$f":"L56*(POWER(($N$56/$I$56),1/($N$54-$I$54)))","v":117.98275670489082},119,{"$f":"N56*(POWER(($S$56/$N$56),1/($S$54-$N$54)))","v":119.78945565397058},{"$f":"O56*(POWER(($S$56/$N$56),1/($S$54-$N$54)))","v":120.58414862079482},{"$f":"P56*(POWER(($S$56/$N$56),1/($S$54-$N$54)))","v":121.38411364523108},{"$f":"Q56*(POWER(($S$56/$N$56),1/($S$54-$N$54)))","v":122.18938570253727},123,{"$f":"S56*(POWER(($X$56/$S$56),1/($X$54-$S$54)))","v":123.59423056880708},{"$f":"T56*(POWER(($X$56/$S$56),1/($X$54-$S$54)))","v":124.19133195036947},{"$f":"U56*(POWER(($X$56/$S$56),1/($X$54-$S$54)))","v":124.79131801399367},{"$f":"V56*(POWER(($X$56/$S$56),1/($X$54-$S$54)))","v":125.39420269599074},126,{"$f":"X56*(POWER(($AC$56/$X$56),1/($AC$54-$X$54)))","v":126.79003057065023},{"$f":"Y56*(POWER(($AC$56/$X$56),1/($AC$54-$X$54)))","v":127.5850146992573},{"$f":"Z56*(POWER(($AC$56/$X$56),1/($AC$54-$X$54)))","v":128.38498344504518},{"$f":"AA56*(POWER(($AC$56/$X$56),1/($AC$54-$X$54)))","v":129.18996806198177},130]
["Annual Real Growth",null,null,null,{"$f":"POWER(E56/D56,1/(E54-D54))-1","v":1.087212085035083E-2},{"$f":"POWER(F56/E56,1/(F54-E54))-1","v":1.087212085035083E-2},1.087212085035083E-2,1.087212085035083E-2,1.0872120850351275E-2,8.6219658153399159E-3,8.6219658153399159E-3,8.6219658153399159E-3,8.6219658153399159E-3,8.62196581534036E-3,6.6340811258032151E-3,6.6340811258032151E-3,6.6340811258032151E-3,6.6340811258032151E-3,6.6340811258036592E-3,4.8311428358298603E-3,4.8311428358298603E-3,4.8311428358298603E-3,4.8311428358298603E-3,4.8311428358291941E-3,6.270083894049483E-3,6.270083894049483E-3,6.270083894049483E-3,6.270083894049483E-3,6.270083894049705E-3]
["Truck ($/VMT)",null,null,2.15,{"$f":"D58*(1+E57)","v":2.1733750598282544},{"$f":"E58*(1+F57)","v":2.1970042561318457},2.2208903519132464,2.2450361402146255,2.2694444444444453,2.2890115168642584,2.3087472959135815,2.328653236175207,2.3487308047732904,2.3689814814814825,2.3846974968151562,2.4005177734695278,2.4164430031226569,2.4324738820412524,2.4486111111111124,2.4604407011382903,2.4723274416045786,2.4842716086119121,2.496273479596113,2.5083333333333342,2.5240607937675752,2.5398868666981791,2.5558121704337711,2.5718373271598236,2.5879629629629641]
["Rail ($/ton-mi)",null,null,4.055021046581464E-2,{"$f":"D59*(1+E57)","v":4.0991077254506139E-2},{"$f":"E59*(1+F57)","v":4.1436737200203196E-2},4.1887242414688032E-2,4.2342645576308464E-2,4.2802999936137683E-2,4.317204593838106E-2,4.3544273842640063E-2,4.3919711083165107E-2,4.4298385330743761E-2,4.4680324494740208E-2,4.4976737392165525E-2,4.5275116716799096E-2,4.5575475514078548E-2,4.5877826915986006E-2,4.6182184141622236E-2,4.6405296869681006E-2,4.6629487487197523E-2,4.6854761201609717E-2,4.708112324551339E-2,4.730857887678374E-2,4.7605207635249433E-2,4.7903696280916092E-2,4.8204056475432501E-2,4.8506299953566964E-2,4.8810438523665768E-2]
[]
[]
["Pavement Maintenance"]
[]
[null,null,"Year",2015,2016,2017,2018,2019,2020,2021,2022,2023,2024,2025,2026,2027,2028,2029,2030,2031,2032,2033,2034,2035,2036,2037,2038,2039,2040]
[]
["Annual Real Growth",{"$f":"B46","v":2.2000000000000001E-3}]
["Truck ($/mi) Urban",null,null,0.107830935,{"$f":"+D67*(1+$B66)","v":0.108068163057},{"$f":"+E67*(1+$B66)","v":0.1083059130157254},0.10854418602435999,0.10878298323361357,0.10902230579672752,0.10926215486948032,0.10950253161019317,0.1097434371797356,0.10998487274153101,0.11022683946156238,0.11046933850837781,0.11071237105309624,0.11095593826941305,0.11120004133360575,0.11144468142453968,0.11168985972367367,0.11193557741506574,0.11218183568537889,0.11242863572388671,0.11267597872247927,0.11292386587566872,0.11317229838059518,0.11342127743703249,0.11367080424739397,0.11392088001673824]
["Truck ($/mi) Rural",null,null,3.4784173000000002E-2,{"$f":"+D68*(1+$B66)","v":3.4860698180600003E-2},{"$f":"+E68*(1+$B66)","v":3.4937391716597321E-2},3.5014253978373835E-2,3.5091285337126257E-2,3.5168486164867938E-2,3.5245856834430649E-2,3.5323397719466396E-2,3.5401109194449221E-2,3.5478991634677007E-2,3.5557045416273296E-2,3.5635270916189093E-2,3.5713668512204706E-2,3.5792238582931554E-2,3.5870981507814002E-2,3.5949897667131192E-2,3.602898744199888E-2,3.6108251214371279E-2,3.6187689367042898E-2,3.6267302283650389E-2,3.6347090348674421E-2,3.6427053947441501E-2,3.6507193466125874E-2,3.6587509291751349E-2,3.66680018121932E-2,3.6748671416180025E-2]
[]
["Safety"]
[]
[null,null,"Year",2015,2016,2017,2018,2019,2020,2021,2022,2023,2024,2025,2026,2027,2028,2029,2030,2031,2032,2033,2034,2035,2036,2037,2038,2039,2040]
[]
["Annual Real Growth",{"$f":"B46","v":2.2000000000000001E-3}]
["Rail Crossing ($)",null,null,1480.395740908659,{"$f":"+D75*(1+$B$74)","v":1483.652611538658},{"$f":"+E75*(1+$B$74)","v":1486.9166472840429},1490.1878639080678,1493.4662772086656,1496.7519030185247,1500.0447572051653,1503.3448556710166,1506.6522143534928,1509.9668492250705,1513.2887762933656,1516.618011601211,1519.9545712267336,1523.2984712834325,1526.6497279202561,1530.0083573216805,1533.3743757077882,1536.7477993343452,1540.1286444928808,1543.5169275107651,1546.9126647512887,1550.3158726137415,1553.7265675334918,1557.1447659820653,1560.5704844672259,1564.0037395330537]
["Accident, Truck ($/VMT)",null,null,8.1913988601471296E-2,{"$f":"+D76*(1+$B$74)","v":8.2094199376394533E-2},{"$f":"+E76*(1+$B$74)","v":8.2274806615022594E-2},8.2455811189575637E-2,8.26372139741927E-2,8.2819015844935923E-2,8.3001217679794778E-2,8.3183820358690319E-2,8.3366824763479438E-2,8.3550231777959089E-2,8.3734042287870597E-2,8.3918257180903913E-2,8.4102877346701896E-2,8.4287903676864645E-2,8.4473337064953746E-2,8.4659178406496643E-2,8.4845428598990941E-2,8.5032088541908718E-2,8.5219159136700917E-2,8.5406641286801657E-2,8.559453589763262E-2,8.5782843876607409E-2,8.5971566133135946E-2,8.6160703578628844E-2,8.6350257126501823E-2,8.654022769218013E-2]
["Accident, Train ($/ton-mi)",null,null,2.7876344655870444E-3,{"$f":"+D77*(1+$B$74)","v":2.7937672614113357E-3},{"$f":"+E77*(1+$B$74)","v":2.7999135493864406E-3},2.8060733591950908E-3,2.8122467205853202E-3,2.818433663370608E-3,2.8246342174300231E-3,2.8308484127083692E-3,2.8370762792163276E-3,2.8433178470306034E-3,2.8495731462940708E-3,2.8558422072159175E-3,2.8621250600717927E-3,2.8684217352039506E-3,2.874732263021399E-3,2.8810566740000462E-3,2.8873949986828462E-3,2.8937472676799484E-3,2.9001135116688442E-3,2.9064937613945156E-3,2.9128880476695833E-3,2.9192964013744563E-3,2.9257188534574799E-3,2.9321554349350863E-3,2.9386061768919432E-3,2.9450711104811052E-3]

{"sheet":"BCA Values Freight Congestion","index":9,"n_rows":152,"n_cols":29,"rows_kept":152,"cut":false,"hidden":false,"merged":[[2,0,2,3],[4,2,4,28],[0,0,0,1]]}
["Freight BCA Values (continued)"]
[]
["Truck Congestion Cost"]
[]
[null,null,"Congestion ($/mi)"]
["Highway","Number of Trucks Reduced","Year",2015,2016,2017,2018,2019,2020,2021,2022,2023,2024,2025,2026,2027,2028,2029,2030,2031,2032,2033,2034,2035,2036,2037,2038,2039,2040]
["I-64",0,null,0,{"$f":"($I7-$D7)/($I$6-$D$6)*(E$6-$D$6)+$D7","v":0},{"$f":"($I7-$D7)/($I$6-$D$6)*(F$6-$D$6)+$D7","v":0},{"$f":"($I7-$D7)/($I$6-$D$6)*(G$6-$D$6)+$D7","v":0},{"$f":"($I7-$D7)/($I$6-$D$6)*(H$6-$D$6)+$D7","v":0},0,{"$f":"($N7-$I7)/($N$6-$I$6)*(J$6-$I$6)+$I7","v":0},{"$f":"($N7-$I7)/($N$6-$I$6)*(K$6-$I$6)+$I7","v":0},{"$f":"($N7-$I7)/($N$6-$I$6)*(L$6-$I$6)+$I7","v":0},{"$f":"($N7-$I7)/($N$6-$I$6)*(M$6-$I$6)+$I7","v":0},0,{"$f":"($S7-$N7)/($S$6-$N$6)*(O$6-$N$6)+$N7","v":0},{"$f":"($S7-$N7)/($S$6-$N$6)*(P$6-$N$6)+$N7","v":0},{"$f":"($S7-$N7)/($S$6-$N$6)*(Q$6-$N$6)+$N7","v":0},{"$f":"($S7-$N7)/($S$6-$N$6)*(R$6-$N$6)+$N7","v":0},0,{"$f":"($X7-$S7)/($X$6-$S$6)*(T$6-$S$6)+$S7","v":0},{"$f":"($X7-$S7)/($X$6-$S$6)*(U$6-$S$6)+$S7","v":0},{"$f":"($X7-$S7)/($X$6-$S$6)*(V$6-$S$6)+$S7","v":0},{"$f":"($X7-$S7)/($X$6-$S$6)*(W$6-$S$6)+$S7","v":0},0,{"$f":"($AC7-$X7)/($AC$6-$X$6)*(Y$6-$X$6)+$X7","v":0},{"$f":"($AC7-$X7)/($AC$6-$X$6)*(Z$6-$X$6)+$X7","v":0},{"$f":"($AC7-$X7)/($AC$6-$X$6)*(AA$6-$X$6)+$X7","v":0},{"$f":"($AC7-$X7)/($AC$6-$X$6)*(AB$6-$X$6)+$X7","v":0},0]
["I-64",10,null,0.1664411029023535,{"$f":"($I8-$D8)/($I$6-$D$6)*(E$6-$D$6)+$D8","v":0.16756277623214855},0.16868444956194362,0.16980612289173866,0.17092779622153373,0.17204946955132877,{"$f":"($N8-$I8)/($N$6-$I$6)*(J$6-$I$6)+$I8","v":0.17300319843927814},0.17395692732722751,0.17491065621517687,0.17586438510312624,0.17681811399107561,{"$f":"($S8-$N8)/($S$6-$N$6)*(O$6-$N$6)+$N8","v":0.17762923325467281},0.17844035251827001,0.17925147178186723,0.18006259104546443,0.18087371030906163,{"$f":"($X8-$S8)/($X$6-$S$6)*(T$6-$S$6)+$S8","v":0.18152955253955994},0.18218539477005824,0.18284123700055654,0.18349707923105485,0.18415292146155315,{"$f":"($AC8-$X8)/($AC$6-$X$6)*(Y$6-$X$6)+$X8","v":0.18496404072515035},0.18577515998874758,0.18658627925234478,0.187397398515942,0.1882085177795392]
["I-64",20,null,0.26986938243598285,0.27196494931576232,0.27406051619554178,0.27615608307532119,0.27825164995510066,0.28034721683488012,0.28211710139682733,0.28388698595877448,0.2856568705207217,0.28742675508266885,0.28919663964461606,0.29067228032712777,0.29214792100963954,0.29362356169215126,0.29509920237466303,0.29657484305717474,0.29774052064105261,0.29890619822493053,0.3000718758088084,0.30123755339268632,0.30240323097656419,0.3038788716590759,0.30535451234158761,0.30683015302409938,0.3083057937066111,0.30978143438912281]
["I-64",30,null,0.3729032011672625,0.37596894774549489,0.37903469432372722,0.3821004409019596,0.38516618748019193,0.38823193405842432,0.3908148619478326,0.39339778983724083,0.39598071772664911,0.39856364561605734,0.40114657350546562,0.40328420147166921,0.40542182943787286,0.40755945740407645,0.4096970853702801,0.41183471333648369,0.41350828199667294,0.41518185065686214,0.41685541931705139,0.41852898797724059,0.42020255663742984,0.42234018460363343,0.42447781256983702,0.42661544053604067,0.42875306850224426,0.43089069646844785]
["I-64",40,null,0.47554329982759813,0.47957551922667008,0.48360773862574202,0.48763995802481397,0.49167217742388591,0.49570439682295786,0.49909726153769707,0.50249012625243628,0.50588299096717548,0.50927585568191469,0.5126687203966539,0.51546580626996596,0.51826289214327814,0.52105997801659021,0.52385706388990239,0.52665414976321445,0.52883366887364669,0.53101318798407893,0.53319270709451105,0.53537222620494329,0.53755174531537553,0.54034883118868759,0.54314591706199966,0.54594300293531184,0.5487400888086239,0.55153717468193597]
["I-64",50,null,0.57779041796616348,0.58278541027124919,0.5877804025763349,0.5927753948814205,0.59777038718650621,0.60276537949159192,0.60696508036461072,0.61116478123762941,0.6153644821106482,0.61956418298366689,0.62376388385668569,0.62721790301156721,0.63067192216644874,0.63412594132133027,0.63757996047621179,0.64103397963109332,0.64371751221087281,0.6464010447906523,0.64908457737043168,0.65176810995021117,0.65445164252999066,0.65790566168487219,0.66135968083975372,0.66481369999463524,0.66826771914951677,0.6717217383043983]
["I-64",60,null,0.67964529395159834,0.68559936619954487,0.6915534384474914,0.69750751069543804,0.70346158294338457,0.7094156551913311,0.71441909738134235,0.71942253957135349,0.72442598176136475,0.72942942395137589,0.73443286614138714,0.73854129869575935,0.74264973125013156,0.74675816380450388,0.75086659635887609,0.7549750289132483,0.75816064162083341,0.76134625432841851,0.76453186703600362,0.76771747974358873,0.77090309245117383,0.77501152500554615,0.77911995755991836,0.78322839011429068,0.78733682266866289,0.79144525522303522]
["I-64",70,null,0.78110866497358211,0.78801813114180985,0.79492759731003748,0.80183706347826522,0.80874652964649285,0.81565599581472059,0.82146009029689926,0.82726418477907804,0.83306827926125671,0.83887237374343548,0.84467646822561415,0.84943679903328473,0.8541971298409553,0.85895746064862599,0.86371779145629657,0.86847812226396714,0.87216388539135925,0.87584964851875136,0.87953541164614335,0.88322117477353546,0.88690693790092756,0.89166726870859814,0.89642759951626871,0.90118793032393929,0.90594826113160987,0.91070859193928044]
["I-64",80,null,0.88218126704415556,0.89004244803957067,0.89790362903498577,0.90576481003040077,0.91362599102581588,0.92148717202123098,0.92808883557792321,0.93469049913461533,0.94129216269130755,0.94789382624799967,0.9544954898046919,0.95990520844778948,0.96531492709088706,0.97072464573398465,0.97613436437708223,0.98154408302017981,0.98572807048711863,0.98991205795405746,0.99409604542099639,0.99828003288793521,1.002464020354874,1.0078737389979717,1.0132834576410692,1.0186931762841669,1.0241028949272644,1.0295126135703621]
["I-64",90,null,0.98286383499985042,0.99167305864777755,1.0004822822957047,1.009291505943632,1.0181007295915592,1.0269099532394863,1.0343061084509335,1.0417022636623809,1.0490984188738282,1.0564945740852756,1.0638907292967228,1.0699473300781452,1.0760039308595677,1.0820605316409901,1.0881171324224126,1.094173733203835,1.0988540225520051,1.1035343119001755,1.1082146012483456,1.1128948905965159,1.117575179944686,1.1236317807261085,1.1296883815075309,1.1357449822889536,1.141801583070376,1.1478581838517985]
["I-64",100,null,1.0831571025026188,1.0929107035357428,1.1026643045688669,1.1124179056019912,1.1221715066351152,1.1319251076682393,1.1401126829033119,1.1483002581383845,1.156487833373457,1.1646754086085296,1.1728629838436022,1.179563965779471,1.1862649477153397,1.1929659296512085,1.1996669115870773,1.206367893522946,1.2115425659101873,1.2167172382974283,1.2218919106846695,1.2270665830719105,1.2322412554591518,1.2389422373950205,1.2456432193308893,1.2523442012667583,1.259045183202627,1.2657461651384958]
["I-64",110,null,1.1830618020426273,1.1937561220899608,1.2044504421372946,1.2151447621846281,1.2258390822319618,1.2365334022792953,1.2455093316862462,1.2544852610931971,1.2634611905001483,1.2724371199070992,1.2814130493140501,1.2887559161261821,1.2960987829383142,1.3034416497504464,1.3107845165625784,1.3181273833747105,1.3237945235692419,1.3294616637637731,1.3351288039583045,1.3407959441528357,1.3464630843473671,1.3538059511594991,1.3611488179716311,1.3684916847837634,1.3758345515958954,1.3831774184080274]
["I-64",120,null,1.2825786649381541,1.2942100525140043,1.3058414400898548,1.3174728276657051,1.3291042152415555,1.3407356028174058,1.3504968263146249,1.360258049811844,1.3700192733090633,1.3797804968062823,1.3895417203035014,1.3975239804118809,1.4055062405202605,1.41348850062864,1.4214707607370196,1.429453020845399,1.4356107172200432,1.4417684135946875,1.4479261099693317,1.454083806343976,1.4602415027186202,1.4682237628269998,1.4762060229353795,1.4841882830437589,1.4921705431521386,1.5001528032605183]
["I-64",130,null,1.2825786649381541,1.2942100525140043,1.3058414400898548,1.3174728276657051,1.3291042152415555,1.3407356028174058,1.3504968263146249,1.360258049811844,1.3700192733090633,1.3797804968062823,1.3895417203035014,1.3975239804118809,1.4055062405202605,1.41348850062864,1.4214707607370196,1.429453020845399,1.4356107172200432,1.4417684135946875,1.4479261099693317,1.454083806343976,1.4602415027186202,1.4682237628269998,1.4762060229353795,1.4841882830437589,1.4921705431521386,1.5001528032605183]
["I-66",0,null,0,{"$f":"($I21-$D21)/($I$6-$D$6)*(E$6-$D$6)+$D21","v":0},0,0,0,0,{"$f":"($N21-$I21)/($N$6-$I$6)*(J$6-$I$6)+$I21","v":0},0,0,0,0,{"$f":"($S21-$N21)/($S$6-$N$6)*(O$6-$N$6)+$N21","v":0},0,0,0,0,{"$f":"($X21-$S21)/($X$6-$S$6)*(T$6-$S$6)+$S21","v":0},0,0,0,0,{"$f":"($AC21-$X21)/($AC$6-$X$6)*(Y$6-$X$6)+$X21","v":0},0,0,0,0]
["I-66",10,null,4.9596490097479844E-2,4.9763306833388678E-2,4.9930123569297512E-2,5.0096940305206339E-2,5.0263757041115173E-2,5.0430573777024007E-2,5.0586905771608209E-2,5.0743237766192412E-2,5.0899569760776614E-2,5.1055901755360816E-2,5.1212233749945019E-2,5.1363581952068776E-2,5.1514930154192541E-2,5.1666278356316299E-2,5.1817626558440064E-2,5.1968974760563821E-2,5.211315207648818E-2,5.2257329392412538E-2,5.240150670833689E-2,5.2545684024261248E-2,5.2689861340185606E-2,5.2829784146446269E-2,5.2969706952706939E-2,5.3109629758967603E-2,5.3249552565228273E-2,5.3389475371488936E-2]
["I-66",20,null,5.8064650135092502E-2,5.8303504358854341E-2,5.8542358582616173E-2,5.8781212806378012E-2,5.9020067030139844E-2,5.9258921253901684E-2,5.948312269381259E-2,5.9707324133723504E-2,5.993152557363441E-2,6.0155727013545324E-2,6.037992845345623E-2,6.0587892224668843E-2,6.079585599588145E-2,6.1003819767094063E-2,6.1211783538306669E-2,6.1419747309519282E-2,6.1613390918074183E-2,6.1807034526629077E-2,6.2000678135183979E-2,6.2194321743738873E-2,6.2387965352293774E-2,6.2573112762649624E-2,6.2758260173005481E-2,6.2943407583361338E-2,6.3128554993717195E-2,6.3313702404073052E-2]
["I-66",30,null,6.6507225924964858E-2,6.6817900139627795E-2,6.7128574354290732E-2,6.7439248568953683E-2,6.774992278361662E-2,6.8060596998279557E-2,6.8352462971271094E-2,6.8644328944262645E-2,6.8936194917254182E-2,6.9228060890245732E-2,6.9519926863237269E-2,6.978433525724817E-2,7.0048743651259057E-2,7.0313152045269958E-2,7.0577560439280845E-2,7.0841968833291746E-2,7.1084929368091965E-2,7.1327889902892183E-2,7.1570850437692388E-2,7.1813810972492606E-2,7.2056771507292824E-2,7.2287006958785358E-2,7.2517242410277891E-2,7.2747477861770438E-2,7.2977713313262971E-2,7.3207948764755504E-2]
["I-66",40,null,7.4924252796741794E-2,7.5306529805682101E-2,7.5688806814622409E-2,7.607108382356273E-2,7.6453360832503037E-2,7.6835637841443344E-2,7.7194963718220128E-2,7.7554289594996911E-2,7.7913615471773695E-2,7.8272941348550479E-2,7.8632267225327263E-2,7.8952949531896396E-2,7.927363183846553E-2,7.9594314145034664E-2,7.9914996451603798E-2,8.0235678758172932E-2,8.0527807059086021E-2,8.0819935359999109E-2,8.1112063660912184E-2,8.1404191961825273E-2,8.1696320262738362E-2,8.1971507380982717E-2,8.2246694499227072E-2,8.2521881617471413E-2,8.2797068735715768E-2,8.3072255853960122E-2]
["I-66",50,null,8.3315766035238742E-2,8.3769428941779453E-2,8.4223091848320164E-2,8.4676754754860875E-2,8.5130417661401586E-2,8.5584080567942297E-2,8.6010662001800242E-2,8.6437243435658187E-2,8.6863824869516132E-2,8.7290406303374077E-2,8.7716987737232022E-2,8.8093773481870127E-2,8.8470559226508247E-2,8.8847344971146353E-2,8.9224130715784472E-2,8.9600916460422578E-2,8.9942063573306932E-2,9.0283210686191301E-2,9.0624357799075655E-2,9.0965504911960024E-2,9.1306652024844379E-2,9.162665462378991E-2,9.1946657222735428E-2,9.226665982168096E-2,9.2586662420626478E-2,9.290666501957201E-2]
["I-66",60,null,9.1681800880249034E-2,9.2206633087277515E-2,9.2731465294306009E-2,9.325629750133449E-2,9.3781129708362984E-2,9.4305961915391465E-2,9.4799594841857529E-2,9.5293227768323593E-2,9.5786860694789644E-2,9.6280493621255708E-2,9.6774126547721773E-2,9.7206845491389776E-2,9.7639564435057766E-2,9.8072283378725769E-2,9.8505002322393759E-2,9.8937721266061762E-2,9.9327738442504018E-2,9.9717755618946274E-2,0.10010777279538853,0.10049778997183079,0.10088780714827304,0.10125248922996316,0.10161717131165328,0.10198185339334341,0.10234653547503353,0.10271121755672365]
["I-66",70,null,0.10002239252666648,0.10061817773625281,0.10121396294583915,0.10180974815542547,0.10240553336501181,0.10300131857459814,0.10356179921107078,0.10412227984754341,0.10468276048401605,0.10524324112048868,0.10580372175696132,0.10629220389577032,0.10678068603457934,0.10726916817338834,0.10775765031219736,0.10824613245100637,0.10868487114805925,0.10912360984511213,0.109562348542165,0.11000108723921788,0.11043982593627076,0.11084905169060333,0.11125827744493588,0.11166750319926845,0.112076728953601,0.11248595470793357]
["I-66",80,null,0.10833757612470789,0.10900409833772483,0.10967062055074177,0.11033714276375869,0.11100366497677563,0.11167018718979257,0.11229731203518367,0.11292443688057476,0.11355156172596585,0.11417868657135694,0.11480581141674803,0.11534988698166074,0.11589396254657344,0.11643803811148613,0.11698211367639884,0.11752618924131154,0.11801350112123291,0.11850081300115425,0.11898812488107562,0.11947543676099696,0.11996274864091833,0.12041638244540703,0.12087001624989574,0.12132365005438446,0.12177728385887317,0.12223091766336187]
["I-66",90,null,0.11662738677969071,0.11736443029543224,0.11810147381117378,0.11883851732691531,0.11957556084265684,0.12031260435839837,0.12100617019277389,0.12169973602714941,0.12239330186152493,0.12308686769590045,0.12378043353027597,0.12437993298680676,0.12497943244333755,0.12557893189986832,0.12617843135639911,0.1267779308129299,0.12731366774292077,0.12784940467291164,0.12838514160290254,0.12892087853289341,0.12945661546288428,0.12995452188241913,0.13045242830195397,0.13095033472148884,0.13144824114102369,0.13194614756055853]
["I-66",100,null,0.12489185955230087,0.12569920896810269,0.12650655838390451,0.12731390779970636,0.12812125721550818,0.12892860663131001,0.12968841051553243,0.13044821439975485,0.13120801828397724,0.13196782216819966,0.13272762605242208,0.13338238010033879,0.13403713414825549,0.13469188819617217,0.13534664224408888,0.13600139629200558,0.13658541034394955,0.1371694243958935,0.13775343844783747,0.13833745249978141,0.13892146655172538,0.1394635103383344,0.14000555412494342,0.14054759791155247,0.14108964169816149,0.14163168548477051]
["I-66",110,null,0.13313102945847147,0.13400846966933069,0.13488590988018992,0.13576335009104912,0.13664079030190834,0.13751823051276757,0.13834406978813757,0.13916990906350757,0.13999574833887754,0.14082158761424754,0.14164742688961754,0.14235726646264249,0.14306710603566744,0.14377694560869242,0.14448678518171737,0.14519662475474232,0.14582876820494428,0.14646091165514621,0.14709305510534817,0.14772519855555011,0.14835734200575207,0.14894338809836249,0.14952943419097295,0.15011548028358337,0.15070152637619383,0.15128757246880425]
["I-66",120,null,0.14134493146965033,0.14229224766784712,0.14323956386604395,0.14418688006424074,0.14513419626243756,0.14608151246063436,0.14697318474853441,0.14786485703643445,0.1487565293243345,0.14964820161223455,0.1505398739001346,0.15130463016564732,0.15206938643116008,0.15283414269667281,0.15359889896218556,0.15436365522769829,0.15504378055662468,0.15572390588555107,0.15640403121447743,0.15708415654340382,0.15776428187233021,0.15839419539653102,0.15902410892073182,0.15965402244493263,0.16028393596913343,0.16091384949333423]
["I-66",130,null,0.14953360051259093,0.15055057818730885,0.15156755586202678,0.1525845335367447,0.15360151121146262,0.15461848888618054,0.15557579208771707,0.1565330952892536,0.15749039849079016,0.15844770169232669,0.15940500489386322,0.16022450925260193,0.16104401361134063,0.16186351797007936,0.16268302232881807,0.16350252668755677,0.16423048657957479,0.1649584464715928,0.16568640636361082,0.16641436625562883,0.16714232614764685,0.16781597241545015,0.16848961868325349,0.1691632649510568,0.16983691121886013,0.17051055748666344]
["I-81",0,null,0,0,0,0,0,0,0,0,0,0,0,0,0,0,0,0,0,0,0,0,0,0,0,0,0,0]
["I-81",10,null,2.8504801393704655E-3,2.8600266438243791E-3,2.8695731482782931E-3,2.8791196527322067E-3,2.8886661571861207E-3,2.8982126616400343E-3,2.9067458271068406E-3,2.9152789925736469E-3,2.9238121580404531E-3,2.9323453235072594E-3,2.9408784889740657E-3,2.9491686422384914E-3,2.9574587955029175E-3,2.9657489487673432E-3,2.9740391020317693E-3,2.9823292552961949E-3,2.9899912329658766E-3,2.9976532106355579E-3,3.0053151883052396E-3,3.0129771659749209E-3,3.0206391436446026E-3,3.0289292969090283E-3,3.0372194501734539E-3,3.0455096034378792E-3,3.0537997567023048E-3,3.0620899099667305E-3]
["I-81",20,null,2.0533200571365802E-3,2.0640066098818245E-3,2.0746931626270683E-3,2.0853797153723127E-3,2.0960662681175565E-3,2.1067528208628008E-3,2.1159749730631601E-3,2.1251971252635193E-3,2.1344192774638785E-3,2.1436414296642377E-3,2.152863581864597E-3,2.161043588959168E-3,2.1692235960537386E-3,2.1774036031483096E-3,2.1855836102428802E-3,2.1937636173374512E-3,2.2006903516066855E-3,2.2076170858759195E-3,2.2145438201451539E-3,2.2214705544143878E-3,2.2283972886836222E-3,2.2365772957781932E-3,2.2447573028727638E-3,2.2529373099673348E-3,2.2611173170619054E-3,2.2692973241564764E-3]
["I-81",30,null,3.6811948512329106E-3,3.6985859177051483E-3,3.715976984177386E-3,3.7333680506496242E-3,3.7507591171218619E-3,3.7681501835940996E-3,3.7832566651584431E-3,3.7983631467227862E-3,3.8134696282871297E-3,3.8285761098514727E-3,3.8436825914158162E-3,3.8573230563000143E-3,3.8709635211842119E-3,3.88460398606841E-3,3.8982444509526076E-3,3.9118849158368057E-3,3.9236500799269842E-3,3.9354152440171626E-3,3.9471804081073402E-3,3.9589455721975187E-3,3.9707107362876972E-3,3.9843512011718948E-3,3.9979916660560933E-3,4.0116321309402909E-3,4.0252725958244895E-3,4.0389130607086871E-3]
["I-81",40,null,4.0934810239511869E-3,4.1147654452363498E-3,4.1360498665215127E-3,4.1573342878066756E-3,4.1786187090918385E-3,4.1999031303770014E-3,4.2182720290938301E-3,4.2366409278106597E-3,4.2550098265274885E-3,4.2733787252443181E-3,4.2917476239611469E-3,4.3080435080819005E-3,4.324339392202654E-3,4.3406352763234067E-3,4.3569311604441602E-3,4.3732270445649138E-3,4.3870286601034618E-3,4.4008302756420106E-3,4.4146318911805586E-3,4.4284335067191075E-3,4.4422351222576555E-3,4.458531006378409E-3,4.4748268904991617E-3,4.4911227746199153E-3,4.5074186587406679E-3,4.5237145428614215E-3]
["I-81",50,null,4.5037278243098668E-3,4.528886392382781E-3,4.5540449604556952E-3,4.5792035285286102E-3,4.6043620966015244E-3,4.6295206646744386E-3,4.6511358837255205E-3,4.6727511027766025E-3,4.6943663218276853E-3,4.7159815408787673E-3,4.7375967599298493E-3,4.7565349575017478E-3,4.7754731550736463E-3,4.7944113526455449E-3,4.8133495502174434E-3,4.8322877477893419E-3,4.8481157601107322E-3,4.8639437724321234E-3,4.8797717847535137E-3,4.8955997970749048E-3,4.9114278093962951E-3,4.9303660069681936E-3,4.9493042045400922E-3,4.9682424021119916E-3,4.9871805996838901E-3,5.0061187972557887E-3]
["I-81",60,null,4.9119412972720147E-3,4.9409548610232154E-3,4.9699684247744161E-3,4.998981988525616E-3,5.0279955522768167E-3,5.0570091160280174E-3,5.0818546062925407E-3,5.106700096557064E-3,5.1315455868215874E-3,5.1563910770861107E-3,5.181236567350634E-3,5.2028040114242878E-3,5.2243714554979417E-3,5.2459388995715964E-3,5.2675063436452502E-3,5.289073787718904E-3,5.3069181719537844E-3,5.3247625561886648E-3,5.3426069404235461E-3,5.3604513246584265E-3,5.3782957088933069E-3,5.3998631529669607E-3,5.4214305970406145E-3,5.4429980411142692E-3,5.464565485187923E-3,5.4861329292615769E-3]
["I-81",70,null,5.3181274739484618E-3,5.3509769390537526E-3,5.3838264041590426E-3,5.4166758692643334E-3,5.4495253343696233E-3,5.4823747994749141E-3,5.5104345594201758E-3,5.5384943193654375E-3,5.5665540793106991E-3,5.5946138392559608E-3,5.6226735992012224E-3,5.6468572615742587E-3,5.6710409239472941E-3,5.6952245863203304E-3,5.7194082486933659E-3,5.7435919110664022E-3,5.7634426720733116E-3,5.7832934330802202E-3,5.8031441940871297E-3,5.8229949550940383E-3,5.8428457161009478E-3,5.8670293784739832E-3,5.8912130408470195E-3,5.915396703220055E-3,5.9395803655930913E-3,5.9637640279661267E-3]
["I-81",80,null,5.7222923716148998E-3,5.7589587004051018E-3,5.7956250291953029E-3,5.8322913579855048E-3,5.8689576867757059E-3,5.9056240155659079E-3,5.9368820911381579E-3,5.9681401667104079E-3,5.9993982422826579E-3,6.0306563178549079E-3,6.0619143934271579E-3,6.0887012845553421E-3,6.1154881756835264E-3,6.1422750668117107E-3,6.1690619579398949E-3,6.1958488490680792E-3,6.217696021365255E-3,6.23954319366243E-3,6.2613903659596059E-3,6.2832375382567808E-3,6.3050847105539567E-3,6.3318716016821409E-3,6.3586584928103252E-3,6.3854453839385103E-3,6.4122322750666946E-3,6.4390191661948789E-3]
["I-81",90,null,6.124441993736034E-3,6.1649062050669612E-3,6.2053704163978875E-3,6.2458346277288147E-3,6.286298839059741E-3,6.3267630503906682E-3,6.361203534906143E-3,6.3956440194216178E-3,6.4300845039370934E-3,6.4645249884525682E-3,6.498965472968043E-3,6.5283426418765583E-3,6.5577198107850737E-3,6.5870969796935882E-3,6.6164741486021035E-3,6.6458513175106189E-3,6.6696849652079287E-3,6.6935186129052386E-3,6.7173522606025476E-3,6.7411859082998574E-3,6.7650195559971673E-3,6.7943967249056826E-3,6.823773893814198E-3,6.8531510627227133E-3,6.8825282316312287E-3,6.911905400539744E-3]
["I-81",100,null,6.5245823299937208E-3,6.5688254991164126E-3,6.6130686682391053E-3,6.657311837361797E-3,6.7015550064844897E-3,6.7457981756071815E-3,6.7834052096433567E-3,6.8210122436795318E-3,6.8586192777157062E-3,6.8962263117518813E-3,6.9338333457880565E-3,6.9657878799829574E-3,6.9977424141778582E-3,7.029696948372759E-3,7.0616514825676598E-3,7.0936060167625607E-3,7.1194162334935656E-3,7.1452264502245705E-3,7.1710366669555745E-3,7.1968468836865794E-3,7.2226571004175844E-3,7.2546116346124852E-3,7.286566168807386E-3,7.318520703002286E-3,7.3504752371971868E-3,7.3824297713920876E-3]
["I-81",110,null,6.9227193563141656E-3,6.9707226147453774E-3,7.01872587317659E-3,7.0667291316078018E-3,7.1147323900390145E-3,7.1627356484702262E-3,7.2034934197572793E-3,7.2442511910443316E-3,7.2850089623313847E-3,7.3257667336184369E-3,7.36652450490549E-3,7.401043530285329E-3,7.435562555665169E-3,7.4700815810450081E-3,7.504600606424848E-3,7.5391196318046871E-3,7.5668965406588407E-3,7.5946734495129934E-3,7.622450358367147E-3,7.6502272672212997E-3,7.6780041760754533E-3,7.7125232014552923E-3,7.7470422268351323E-3,7.7815612522149713E-3,7.8160802775948113E-3,7.8505993029746503E-3]
["I-81",120,null,7.3188590348877538E-3,7.3706035702806386E-3,7.4223481056735234E-3,7.4740926410664082E-3,7.525837176459293E-3,7.5775817118521778E-3,7.6214744551646157E-3,7.6653671984770536E-3,7.7092599417894914E-3,7.7531526851019293E-3,7.7970454284143672E-3,7.834116109181959E-3,7.8711867899495507E-3,7.9082574707171425E-3,7.9453281514847342E-3,7.982398832252326E-3,8.0121325857072725E-3,8.0418663391622174E-3,8.0716000926171639E-3,8.1013338460721087E-3,8.1310675995270552E-3,8.168138280294647E-3,8.2052089610622388E-3,8.2422796418298288E-3,8.2793503225974206E-3,8.3164210033650123E-3]
["I-81",130,null,7.3188590348877538E-3,7.3706035702806386E-3,7.4223481056735234E-3,7.4740926410664082E-3,7.525837176459293E-3,7.5775817118521778E-3,7.6214744551646157E-3,7.6653671984770536E-3,7.7092599417894914E-3,7.7531526851019293E-3,7.7970454284143672E-3,7.834116109181959E-3,7.8711867899495507E-3,7.9082574707171425E-3,7.9453281514847342E-3,7.982398832252326E-3,8.0121325857072725E-3,8.0418663391622174E-3,8.0716000926171639E-3,8.1013338460721087E-3,8.1310675995270552E-3,8.168138280294647E-3,8.2052089610622388E-3,8.2422796418298288E-3,8.2793503225974206E-3,8.3164210033650123E-3]
["I-95",0,null,0,0,0,0,0,0,0,0,0,0,0,0,0,0,0,0,0,0,0,0,0,0,0,0,0,0]
["I-95",10,null,2.7344540762655609E-2,2.7455447423536554E-2,2.7566354084417499E-2,2.7677260745298447E-2,2.7788167406179391E-2,2.7899074067060336E-2,2.7996533888315099E-2,2.8093993709569866E-2,2.8191453530824629E-2,2.8288913352079396E-2,2.8386373173334159E-2,2.8477102960101378E-2,2.8567832746868596E-2,2.8658562533635811E-2,2.874929232040303E-2,2.8840022107170248E-2,2.8920663456880602E-2,2.9001304806590956E-2,2.9081946156301306E-2,2.916258750601166E-2,2.9243228855722014E-2,2.9333958642489229E-2,2.9424688429256444E-2,2.9515418216023662E-2,2.9606148002790877E-2,2.9696877789558093E-2]
["I-95",20,null,3.4065752180113082E-2,3.4239977512138225E-2,3.4414202844163369E-2,3.458842817618852E-2,3.4762653508213663E-2,3.4936878840238807E-2,3.5087400893221744E-2,3.5237922946204682E-2,3.5388444999187613E-2,3.553896705217055E-2,3.5689489105153488E-2,3.5823420247487969E-2,3.5957351389822444E-2,3.6091282532156925E-2,3.6225213674491399E-2,3.6359144816825881E-2,3.6472928864315024E-2,3.6586712911804167E-2,3.6700496959293318E-2,3.6814281006782461E-2,3.6928065054271604E-2,3.7061996196606078E-2,3.7195927338940553E-2,3.7329858481275034E-2,3.7463789623609509E-2,3.7597720765943983E-2]
["I-95",30,null,4.0767079191250839E-2,4.1004435973531726E-2,4.124179275581262E-2,4.1479149538093507E-2,4.1716506320374401E-2,4.1953863102655288E-2,4.2157290489535842E-2,4.2360717876416397E-2,4.2564145263296958E-2,4.2767572650177513E-2,4.2971000037058067E-2,4.3148004786289142E-2,4.3325009535520209E-2,4.3502014284751284E-2,4.3679019033982351E-2,4.3856023783213426E-2,4.4002852515919594E-2,4.4149681248625762E-2,4.429650998133193E-2,4.4443338714038098E-2,4.4590167446744267E-2,4.4767172195975341E-2,4.4944176945206415E-2,4.512118169443749E-2,4.5298186443668564E-2,4.5475191192899639E-2]
["I-95",40,null,4.7448550624721648E-2,4.7748851907790907E-2,4.8049153190860172E-2,4.834945447392943E-2,4.8649755756998696E-2,4.8950057040067954E-2,4.9206233090476621E-2,4.9462409140885295E-2,4.9718585191293962E-2,4.9974761241702637E-2,5.0230937292111304E-2,5.0450888084771744E-2,5.0670838877432185E-2,5.0890789670092633E-2,5.1110740462753074E-2,5.1330691255413514E-2,5.1510466802869553E-2,5.1690242350325592E-2,5.1870017897781624E-2,5.2049793445237663E-2,5.2229568992693702E-2,5.2449519785354143E-2,5.2669470578014591E-2,5.2889421370675031E-2,5.3109372163335479E-2,5.332932295599592E-2]
["I-95",50,null,5.4110195275319239E-2,5.4473254380811825E-2,5.4836313486304411E-2,5.5199372591796997E-2,5.5562431697289583E-2,5.5925490802782168E-2,5.6234259073543361E-2,5.6543027344304553E-2,5.6851795615065752E-2,5.7160563885826944E-2,5.7469332156588136E-2,5.773210161419666E-2,5.7994871071805176E-2,5.82576405294137E-2,5.8520409987022216E-2,5.878317944463074E-2,5.8995804078297229E-2,5.9208428711963711E-2,5.94210533456302E-2,5.9633677979296681E-2,5.984630261296317E-2,6.0109072070571694E-2,6.037184152818021E-2,6.0634610985788734E-2,6.089738044339725E-2,6.1160149901005774E-2]
["I-95",60,null,6.0752041904012351E-2,6.1177672424347074E-2,6.160330294468179E-2,6.2028933465016513E-2,6.2454563985351229E-2,6.2880194505685952E-2,6.3241398780551114E-2,6.3602603055416276E-2,6.3963807330281452E-2,6.4325011605146615E-2,6.4686215880011777E-2,6.4991676808855703E-2,6.5297137737699629E-2,6.5602598666543568E-2,6.5908059595387494E-2,6.621352052423142E-2,6.6458896657329958E-2,6.6704272790428482E-2,6.6949648923527019E-2,6.7195025056625543E-2,6.7440401189724081E-2,6.7745862118568007E-2,6.8051323047411932E-2,6.8356783976255858E-2,6.8662244905099784E-2,6.896770583394371E-2]
["I-95",70,null,6.7374119237967794E-2,6.78621350360291E-2,6.8350150834090406E-2,6.8838166632151698E-2,6.9326182430213004E-2,6.981419822827431E-2,7.0227682517655252E-2,7.0641166807036193E-2,7.1054651096417135E-2,7.1468135385798076E-2,7.1881619675179018E-2,7.2229645066097178E-2,7.2577670457015339E-2,7.2925695847933486E-2,7.3273721238851647E-2,7.3621746629769808E-2,7.3899776817116403E-2,7.4177807004462984E-2,7.4455837191809579E-2,7.473386737915616E-2,7.5011897566502755E-2,7.5359922957420916E-2,7.5707948348339077E-2,7.6055973739257224E-2,7.6403999130175385E-2,7.6752024521093545E-2]
["I-95",80,null,7.3976455970580626E-2,7.4526671179400664E-2,7.5076886388220701E-2,7.5627101597040738E-2,7.6177316805860776E-2,7.6727532014680813E-2,7.7193140555383233E-2,7.7658749096085639E-2,7.8124357636788058E-2,7.8589966177490464E-2,7.9055574718192884E-2,7.9446037746358639E-2,7.9836500774524394E-2,8.0226963802690135E-2,8.061742683085589E-2,8.1007889859021645E-2,8.1318476796860259E-2,8.1629063734698873E-2,8.1939650672537487E-2,8.2250237610376101E-2,8.2560824548214715E-2,8.295128757638047E-2,8.3341750604546211E-2,8.3732213632711966E-2,8.4122676660877707E-2,8.4513139689043462E-2]
["I-95",90,null,8.0559080761547372E-2,8.1171309783988663E-2,8.1783538806429967E-2,8.2395767828871258E-2,8.3007996851312563E-2,8.3620225873753853E-2,8.4137803128711441E-2,8.4655380383669016E-2,8.5172957638626604E-2,8.5690534893584178E-2,8.6208112148541766E-2,8.6640886173246501E-2,8.7073660197951236E-2,8.7506434222655985E-2,8.793920824736072E-2,8.8371982272065455E-2,8.8715028797901913E-2,8.905807532373837E-2,8.9401121849574827E-2,8.9744168375411285E-2,9.0087214901247742E-2,9.0519988925952477E-2,9.0952762950657212E-2,9.1385536975361961E-2,9.1818311000066696E-2,9.2251085024771431E-2]
["I-95",100,null,8.7122022236852822E-2,8.7796079745290939E-2,8.847013725372907E-2,8.9144194762167187E-2,8.9818252270605317E-2,9.0492309779043434E-2,9.106170043705189E-2,9.1631091095060346E-2,9.2200481753068789E-2,9.2769872411077245E-2,9.3339263069085701E-2,9.3814221633522293E-2,9.4289180197958886E-2,9.4764138762395464E-2,9.5239097326832056E-2,9.5714055891268648E-2,9.6089464983704478E-2,9.6464874076140295E-2,9.6840283168576125E-2,9.7215692261011941E-2,9.7591101353447771E-2,9.8066059917884363E-2,9.8541018482320955E-2,9.9015977046757533E-2,9.9490935611194126E-2,9.9965894175630718E-2]
["I-95",110,null,9.366530898880232E-2,9.4401009924808765E-2,9.513671086081521E-2,9.5872411796821655E-2,9.66081127328281E-2,9.7343813668834545E-2,9.7964862644285888E-2,9.8585911619737232E-2,9.920696059518859E-2,9.9828009570639933E-2,0.10044905854609128,0.1009660753771377,0.10148309220818412,0.10200010903923053,0.10251712587027695,0.10303414270132337,0.10344181747988977,0.10384949225845619,0.10425716703702259,0.10466484181558901,0.10507251659415541,0.10558953342520183,0.10610655025624825,0.10662356708729466,0.10714058391834108,0.1076576007493875]
["I-95",120,null,0.10018896957611562,0.1009861291501416,0.10178328872416757,0.10258044829819356,0.10337760787221953,0.10417476744624551,0.10484731987886305,0.10551987231148058,0.1061924247440981,0.10686497717671563,0.10753752960933316,0.10809647861733672,0.10865542762534028,0.10921437663334385,0.10977332564134741,0.11033227464935097,0.11077211837434334,0.11121196209933569,0.11165180582432806,0.11209164954932041,0.11253149327431278,0.11309044228231635,0.11364939129031991,0.11420834029832348,0.11476728930632704,0.11532623831433061]
["I-95",130,null,0.10669303252388219,0.10755146621494203,0.10840989990600187,0.1092683335970617,0.11012676728812154,0.11098520097918138,{"$f":"($N62-$I62)/($N$6-$I$6)*(J$6-$I$6)+$I62","v":0.11170910223375434},0.11243300348832731,0.11315690474290027,0.11388080599747324,0.1146047072520462,0.11520546253060752,0.11580621780916886,0.11640697308773018,0.11700772836629152,0.11760848364485284,0.11808039971716491,0.11855231578947699,0.11902423186178908,0.11949614793410115,0.11996806400641323,0.12056881928497455,0.12116957456353589,0.12177032984209721,0.12237108512065854,0.12297184039921986]
["US29",0,null,0,{"$f":"($I63-$D63)/($I$6-$D$6)*(E$6-$D$6)+$D63","v":0},0,0,0,0,0,{"$f":"($N63-$I63)/($N$6-$I$6)*(K$6-$I$6)+$I63","v":0},0,0,0,{"$f":"($S63-$N63)/($S$6-$N$6)*(O$6-$N$6)+$N63","v":0},0,0,0,0,{"$f":"($X63-$S63)/($X$6-$S$6)*(T$6-$S$6)+$S63","v":0},0,0,0,0,{"$f":"($AC63-$X63)/($AC$6-$X$6)*(Y$6-$X$6)+$X63","v":0},0,0,0,0]
["US29",10,null,1.0717878065311623E-2,1.0753273582726031E-2,1.078866910014044E-2,1.0824064617554849E-2,1.0859460134969258E-2,1.0894855652383666E-2,1.0928021096931809E-2,1.0961186541479951E-2,1.0994351986028094E-2,1.1027517430576235E-2,1.1060682875124378E-2,1.1092927480673512E-2,1.1125172086222648E-2,1.1157416691771782E-2,1.1189661297320918E-2,1.1221905902870052E-2,1.1252689812096952E-2,1.1283473721323852E-2,1.131425763055075E-2,1.134504153977765E-2,1.137582544900455E-2,1.1405742722442529E-2,1.1435659995880511E-2,1.146557726931849E-2,1.1495494542756472E-2,1.1525411816194452E-2]
["US29",20,null,1.2420504463263253E-2,1.2470397023343571E-2,1.2520289583423888E-2,1.2570182143504206E-2,1.2620074703584522E-2,1.2669967263664841E-2,1.2716791003896088E-2,1.2763614744127337E-2,1.2810438484358585E-2,1.2857262224589834E-2,1.2904085964821082E-2,1.2947723025178191E-2,1.29913600855353E-2,1.3034997145892411E-2,1.307863420624952E-2,1.3122271266606629E-2,1.3163008409152599E-2,1.3203745551698572E-2,1.3244482694244542E-2,1.3285219836790515E-2,1.3325956979336485E-2,1.3364973591391757E-2,1.3403990203447029E-2,1.3443006815502303E-2,1.3482023427557575E-2,1.3521040039612848E-2]
["US29",30,null,1.409772823968437E-2,1.4161901902318648E-2,1.4226075564952924E-2,1.4290249227587202E-2,1.4354422890221478E-2,1.4418596552855757E-2,1.4478875143324663E-2,1.4539153733793572E-2,1.4599432324262479E-2,1.4659710914731387E-2,1.4719989505200294E-2,1.4774849296689497E-2,1.48297090881787E-2,1.4884568879667902E-2,1.4939428671157105E-2,1.4994288462646308E-2,1.5044830539801029E-2,1.5095372616955748E-2,1.5145914694110469E-2,1.5196456771265188E-2,1.5246998848419908E-2,1.5294979211882583E-2,1.5342959575345257E-2,1.539093993880793E-2,1.5438920302270604E-2,1.5486900665733279E-2]
["US29",40,null,1.5749608463466947E-2,1.5827847790669543E-2,1.5906087117872138E-2,1.5984326445074731E-2,1.6062565772277326E-2,1.6140805099479922E-2,1.6214335567813456E-2,1.628786603614699E-2,1.6361396504480527E-2,1.6434926972814061E-2,1.6508457441147595E-2,1.6574370634752134E-2,1.664028382835667E-2,1.670619702196121E-2,1.6772110215565746E-2,1.6838023409170285E-2,1.6898222467063035E-2,1.6958421524955782E-2,1.7018620582848532E-2,1.7078819640741278E-2,1.7139018698634028E-2,1.7195827541575733E-2,1.7252636384517437E-2,1.7309445227459141E-2,1.7366254070400846E-2,1.742306291334255E-2]
["US29",50,null,1.7376204146347694E-2,1.7468294201773489E-2,1.7560384257199281E-2,1.7652474312625076E-2,1.7744564368050868E-2,1.7836654423476664E-2,1.7923234269916526E-2,1.8009814116356389E-2,1.8096393962796248E-2,1.818297380923611E-2,1.8269553655675973E-2,1.8346351316656392E-2,1.8423148977636809E-2,1.8499946638617228E-2,1.8576744299597645E-2,1.8653541960578064E-2,1.8723250389844098E-2,1.8792958819110129E-2,1.8862667248376163E-2,1.8932375677642194E-2,1.9002084106908228E-2,1.9067586472377083E-2,1.9133088837845934E-2,1.919859120331479E-2,1.9264093568783641E-2,1.9329595934252496E-2]
["US29",60,null,1.8977574243013964E-2,1.9083300591473409E-2,1.9189026939932855E-2,1.9294753288392304E-2,1.940047963685175E-2,1.9506205985311196E-2,1.9605633182256933E-2,1.9705060379202673E-2,1.9804487576148409E-2,1.9903914773094149E-2,2.0003341970039886E-2,2.009085555755287E-2,2.0178369145065853E-2,2.0265882732578837E-2,2.035339632009182E-2,2.0440909907604804E-2,2.0519980443052307E-2,2.0599050978499813E-2,2.0678121513947316E-2,2.0757192049394822E-2,2.0836262584842325E-2,2.0910323830558439E-2,2.0984385076274554E-2,2.1058446321990665E-2,2.1132507567706779E-2,2.1206568813422894E-2]
["US29",70,null,2.0553777651166207E-2,2.0672926358140956E-2,2.0792075065115701E-2,2.091122377209045E-2,2.1030372479065196E-2,2.1149521186039945E-2,2.1261594177592606E-2,2.1373667169145266E-2,2.1485740160697923E-2,2.1597813152250584E-2,2.1709886143803245E-2,2.1807947510520911E-2,2.1906008877238578E-2,2.2004070243956241E-2,2.2102131610673908E-2,2.2200192977391574E-2,2.228847869766901E-2,2.2376764417946449E-2,2.2465050138223884E-2,2.2553335858501323E-2,2.2641621578778758E-2,2.2724107376830088E-2,2.2806593174881418E-2,2.2889078972932752E-2,2.2971564770984082E-2,2.3054050569035412E-2]
["US29",80,null,2.2104873211612266E-2,2.2237230842771565E-2,2.2369588473930859E-2,2.2501946105090157E-2,2.2634303736249452E-2,2.276666136740875E-2,2.289117906891526E-2,2.3015696770421767E-2,2.3140214471928277E-2,2.3264732173434784E-2,2.3389249874941294E-2,2.3497691266671089E-2,2.3606132658400888E-2,2.3714574050130683E-2,2.3823015441860482E-2,2.3931456833590277E-2,2.4028811160854265E-2,2.4126165488118252E-2,2.4223519815382243E-2,2.4320874142646231E-2,2.4418228469910219E-2,2.4509004806448922E-2,2.4599781142987623E-2,2.4690557479526327E-2,2.4781333816065027E-2,2.4872110152603731E-2]
["US29",90,null,2.3630919708349334E-2,2.3776273329067128E-2,2.3921626949784922E-2,2.4066980570502713E-2,2.4212334191220507E-2,2.4357687811938301E-2,2.449444960953651E-2,2.4631211407134718E-2,2.4767973204732927E-2,2.4904735002331136E-2,2.5041496799929345E-2,2.51601508552345E-2,2.527880491053966E-2,2.5397458965844815E-2,2.5516113021149974E-2,2.563476707645513E-2,2.5741043776038811E-2,2.5847320475622493E-2,2.5953597175206171E-2,2.6059873874789852E-2,2.6166150574373534E-2,2.6265083749312749E-2,2.6364016924251964E-2,2.6462950099191179E-2,2.6561883274130393E-2,2.6660816449069608E-2]
["US29",100,null,2.5131975868644869E-2,2.5290113043517602E-2,2.5448250218390332E-2,2.5606387393263066E-2,2.5764524568135796E-2,2.5922661743008529E-2,2.607146749317291E-2,2.622027324333729E-2,2.6369078993501667E-2,2.6517884743666047E-2,2.6666690493830428E-2,2.6795390243650956E-2,2.6924089993471484E-2,2.7052789743292009E-2,2.7181489493112537E-2,2.7310189242933065E-2,2.7425242423014931E-2,2.7540295603096798E-2,2.7655348783178664E-2,2.777040196326053E-2,2.7885455143342397E-2,2.7992411770053464E-2,2.8099368396764534E-2,2.8206325023475601E-2,2.8313281650186671E-2,2.8420238276897738E-2]
["US29",110,null,2.6608100363131049E-2,2.6778809155496242E-2,2.6949517947861434E-2,2.7120226740226624E-2,2.7290935532591817E-2,2.746164432495701E-2,2.7622294354045094E-2,2.7782944383133175E-2,2.7943594412221259E-2,2.810424444130934E-2,2.8264894470397425E-2,2.8403473337671726E-2,2.8542052204946027E-2,2.8680631072220329E-2,2.881920993949463E-2,2.8957788806768931E-2,2.9081472918042216E-2,2.92051570293155E-2,2.9328841140588782E-2,2.9452525251862066E-2,2.9576209363135351E-2,2.9691056368145542E-2,2.9805903373155737E-2,2.9920750378165929E-2,3.0035597383176123E-2,3.0150444388186315E-2]
["US29",120,null,2.8059351805872757E-2,2.8242420777328199E-2,2.8425489748783637E-2,2.8608558720239079E-2,2.8791627691694518E-2,2.897469666314996E-2,2.9146991766949345E-2,2.931928687074873E-2,2.9491581974548119E-2,2.9663877078347504E-2,2.9836172182146889E-2,2.998446398143385E-2,3.0132755780720812E-2,3.0281047580007776E-2,3.0429339379294738E-2,3.0577631178581699E-2,3.0709801013924162E-2,3.0841970849266626E-2,3.0974140684609092E-2,3.1106310519951556E-2,3.1238480355294019E-2,3.1361084977984621E-2,3.1483689600675227E-2,3.1606294223365833E-2,3.1728898846056432E-2,3.1851503468747037E-2]
["US29",130,null,2.9485788754467421E-2,2.9681006964391174E-2,2.987622517431493E-2,3.0071443384238682E-2,3.0266661594162438E-2,3.0461879804086191E-2,3.0645621247362337E-2,3.0829362690638479E-2,3.1013104133914626E-2,3.1196845577190768E-2,3.1380587020466914E-2,3.1538425957568651E-2,3.1696264894670381E-2,3.1854103831772118E-2,3.2011942768873848E-2,3.2169781705975585E-2,3.2310292400119879E-2,3.2450803094264173E-2,3.2591313788408474E-2,3.2731824482552768E-2,3.2872335176697062E-2,3.3002564969002002E-2,3.3132794761306941E-2,3.3263024553611888E-2,3.3393254345916827E-2,3.3523484138221767E-2]
["US58",0,null,0,0,0,0,0,0,0,0,0,0,0,0,0,0,0,0,0,0,0,0,0,0,0,0,0,0]
["US58",10,null,0.16351060317962016,{"$f":"($I78-$D78)/($I$6-$D$6)*(E$6-$D$6)+$D78","v":0.16423414937353861},0.16495769556745704,0.1656812417613755,0.16640478795529393,0.16712833414921238,{"$f":"($N78-$I78)/($N$6-$I$6)*(J$6-$I$6)+$I78","v":0.16780783744098196},0.16848734073275154,0.16916684402452115,0.16984634731629072,0.1705258506080603,{"$f":"($S78-$N78)/($S$6-$N$6)*(O$6-$N$6)+$N78","v":0.17114746394154887},0.1717690772750374,0.17239069060852596,0.1730123039420145,0.17363391727550306,{"$f":"($X78-$S78)/($X$6-$S$6)*(T$6-$S$6)+$S78","v":0.17420827668355315},0.17478263609160322,0.17535699549965331,0.17593135490770337,0.17650571431575346,{"$f":"($AC78-$X78)/($AC$6-$X$6)*(Y$6-$X$6)+$X78","v":0.17705203781905829},0.17759836132236315,0.17814468482566798,0.17869100832897283,0.17923733183227766]
["US58",20,null,0.2188377499212944,0.22003205051417543,0.22122635110705646,0.22242065169993752,0.22361495229281855,0.22480925288569958,0.22593227333739072,0.22705529378908182,0.22817831424077295,0.22930133469246405,0.23042435514415519,0.23141593545376368,0.23240751576337218,0.23339909607298065,0.23439067638258915,0.23538225669219764,0.23627986015164978,0.23717746361110192,0.23807506707055409,0.23897267053000623,0.23987027398945837,0.24071212068384196,0.24155396737822554,0.2423958140726091,0.24323766076699269,0.24407950746137627]
["US58",30,null,0.27353750819127853,0.27519722976077443,0.27685695133027033,0.27851667289976617,0.28017639446926207,0.28183611603875797,0.2833976288284305,0.28495914161810304,0.28652065440777552,0.28808216719744806,0.28964367998712059,0.29100103534689875,0.29235839070667691,0.29371574606645506,0.29507310142623322,0.29643045678601138,0.29764764154458345,0.29886482630315547,0.30008201106172755,0.30129919582029957,0.30251638057887165,0.30365040167247759,0.30478442276608358,0.30591844385968953,0.30705246495329552,0.30818648604690146]
["US58",40,null,0.32761203931663063,0.32973186681305244,0.33185169430947425,0.33397152180589612,0.33609134930231793,0.33821117679873974,0.34020617441403816,0.34220117202933653,0.34419616964463495,0.34619116725993332,0.34818616487523174,0.34990511779970318,0.35162407072417462,0.35334302364864612,0.35506197657311755,0.35678092949758899,0.35831404542059464,0.35984716134360029,0.36138027726660599,0.36291339318961163,0.36444650911261728,0.36586936734966585,0.36729222558671443,0.36871508382376295,0.37013794206081152,0.37156080029786009]
["US58",50,null,0.38106349968334891,0.38363813638766436,0.38621277309197977,0.38878740979629522,0.39136204650061063,0.39393668320492609,0.39636017540350771,0.39878366760208933,0.40120715980067101,0.40363065199925263,0.40605414419783425,0.40813053160898388,0.41020691902013351,0.41228330643128314,0.41435969384243276,0.41643608125358239,0.41828149079508592,0.42012690033658939,0.42197230987809292,0.42381771941959639,0.42566312896109992,0.42737149859551493,0.42907986822992994,0.43078823786434495,0.43249660749875996,0.43420497713317496]
["US58",60,null,0.43389404074475751,0.43691820822666022,0.43994237570856287,0.44296654319046558,0.44599071067236823,0.44901487815427094,0.45186189192430154,0.45470890569433209,0.45755591946436269,0.46040293323439324,0.46324994700442385,0.46567962019874115,0.46810929339305851,0.47053896658737582,0.47296863978169318,0.47539831297601048,0.47755239115003029,0.47970646932405014,0.48186054749806995,0.4840146256720898,0.48616870384610961,0.48815927061519054,0.49014983738427148,0.49214040415335247,0.49413097092243341,0.49612153769151435]
["US58",70,null,0.48610580902968198,0.48957424710573033,0.49304268518177868,0.49651112325782698,0.49997956133387533,0.50344799940992369,0.50671357893063829,0.50997915845135289,0.51324473797206738,0.51651031749278198,0.51977589701349658,0.52255472162907401,0.52533354624465134,0.52811237086022877,0.5308911954758061,0.53367002009138353,0.5361291544431438,0.53858828879490406,0.54104742314666421,0.54350655749842447,0.54596569185018473,0.54823515294832237,0.55050461404646001,0.55277407514459753,0.55504353624273517,0.55731299734087281]
["US58",80,null,0.53770094615110053,0.54160841284293015,0.54551587953475988,0.5494233462265895,0.55333081291841923,0.55723827961024885,0.56091748621258208,0.56459669281491531,0.56827589941724843,0.57195510601958166,0.57563431262191489,0.57875816860560325,0.58188202458929172,0.58500588057298009,0.58812973655666856,0.59125359254035692,0.59401418311758925,0.59677477369482146,0.59953536427205378,0.602295954849286,0.60505654542651832,0.60760160947895636,0.61014667353139429,0.61269173758383233,0.61523680163627026,0.6177818656887083]
["US58",90,null,0.58868158881433374,0.59302286030693929,0.59736413179954473,0.60170540329215028,0.60604667478475571,0.61038794627736126,0.61447585840464303,0.61856377053192479,0.62265168265920667,0.62673959478648844,0.63082750691377021,0.63429228848838981,0.63775707006300941,0.64122185163762901,0.64468663321224862,0.64815141478686822,0.65120987411116138,0.65426833343545465,0.65732679275974781,0.66038525208404109,0.66344371140833425,0.66626109844497483,0.66907848548161541,0.67189587251825589,0.67471325955489647,0.67753064659153706]
["US58",100,null,0.63904986882534265,0.64381973942543003,0.64858961002551752,0.65335948062560489,0.65812935122569238,0.66289922182577976,0.66739093499449786,0.67188264816321586,0.67637436133193396,0.68086607450065195,0.68535778766937006,0.68915940330097636,0.69296101893258266,0.69676263456418885,0.70056425019579516,0.70436586582740146,0.70771861886559984,0.71107137190379821,0.7144241249419967,0.71777687798019507,0.72112963101839345,0.72421607244764696,0.72730251387690048,0.730388955306154,0.73347539673540751,0.73656183816466103]
["US58",110,null,0.68880791309918554,0.69400119519359693,0.69919447728800832,0.70438775938241971,0.7095810414768311,0.71477432357124249,0.71966495033187217,0.72455557709250196,0.72944620385313164,0.73433683061376143,0.73922745737439111,0.7433618297395973,0.7474962021048035,0.75163057447000958,0.75576494683521578,0.75989931920042197,0.76354280333607283,0.76718628747172368,0.77082977160737454,0.77447325574302539,0.77811673987867624,0.78146897846135632,0.7848212170440364,0.78817345562671637,0.79152569420939645,0.79487793279207652]
["US58",120,null,0.73795784366833972,0.74356936768254811,0.74918089169675661,0.754792415710965,0.76040393972517351,0.7660154637393819,0.77130013363728289,0.77658480353518389,0.78186947343308488,0.78715414333098588,0.79243881322888687,0.79690187918224209,0.80136494513559742,0.80582801108895263,0.81029107704230796,0.81475414299566318,0.8186848080005128,0.82261547300536231,0.82654613801021193,0.83047680301506144,0.83440746801991106,0.83802225784317363,0.8416370476664361,0.84525183748969868,0.84886662731296114,0.85248141713622372]
["US58",130,null,4.0957437308459549E-2,4.1197979183753779E-2,4.1438521059048009E-2,4.1679062934342238E-2,4.1919604809636468E-2,4.2160146684930698E-2,4.2386418763303714E-2,4.261269084167673E-2,4.2838962920049739E-2,4.3065234998422755E-2,4.3291507076795771E-2,4.3489114312115322E-2,4.3686721547434873E-2,4.3884328782754417E-2,4.4081936018073968E-2,4.4279543253393519E-2,4.4457246894646002E-2,4.4634950535898492E-2,4.4812654177150975E-2,4.4990357818403465E-2,4.5168061459655948E-2,4.5333956235038046E-2,4.5499851010420152E-2,4.566574578580225E-2,4.5831640561184356E-2,4.5997535336566454E-2]
["US460",0,null,0,0,0,0,0,0,0,0,0,0,0,0,0,0,0,0,0,0,0,0,0,0,0,0,0,0]
["US460",10,null,2.1959324515212656E-2,2.2051582320962677E-2,2.2143840126712697E-2,2.2236097932462721E-2,2.2328355738212742E-2,2.2420613543962763E-2,2.2507224694165801E-2,2.2593835844368838E-2,2.2680446994571876E-2,2.2767058144774914E-2,2.2853669294977952E-2,2.2933679514696704E-2,2.3013689734415456E-2,2.3093699954134204E-2,2.3173710173852956E-2,2.3253720393571709E-2,2.3328052890574918E-2,2.3402385387578127E-2,2.3476717884581336E-2,2.3551050381584546E-2,2.3625382878587755E-2,2.3696346764586783E-2,2.3767310650585811E-2,2.3838274536584839E-2,2.3909238422583867E-2,2.3980202308582894E-2]
["US460",20,null,2.8583262144406884E-2,2.8731873892346757E-2,2.888048564028663E-2,2.9029097388226503E-2,2.9177709136166376E-2,2.9326320884106249E-2,2.9466025390133804E-2,2.9605729896161358E-2,2.9745434402188908E-2,2.9885138908216462E-2,3.0024843414244017E-2,3.0149142822768343E-2,3.027344223129267E-2,3.0397741639817E-2,3.0522041048341327E-2,3.0646340456865654E-2,3.0759369177320087E-2,3.0872397897774524E-2,3.0985426618228958E-2,3.1098455338683394E-2,3.1211484059137828E-2,3.1317825844396747E-2,3.1424167629655671E-2,3.1530509414914594E-2,3.163685120017351E-2,3.1743192985432434E-2]
["US460",30,null,3.5107026589012914E-2,3.5311140752120232E-2,3.5515254915227557E-2,3.5719369078334874E-2,3.5923483241442199E-2,3.6127597404549516E-2,3.6319593010248306E-2,3.6511588615947096E-2,3.670358422164588E-2,3.689557982734467E-2,3.708757543304346E-2,3.7255494749625334E-2,3.7423414066207202E-2,3.7591333382789076E-2,3.7759252699370943E-2,3.7927172015952818E-2,3.8078312164641658E-2,3.8229452313330491E-2,3.8380592462019331E-2,3.8531732610708164E-2,3.8682872759397004E-2,3.8824057774234241E-2,3.8965242789071479E-2,3.9106427803908717E-2,3.9247612818745954E-2,3.9388797833583192E-2]
["US460",40,null,4.153093999298399E-2,4.1789707782702329E-2,4.2048475572420661E-2,4.2307243362139001E-2,4.2566011151857333E-2,4.2824778941575672E-2,4.306826597080609E-2,4.3311753000036507E-2,4.3555240029266931E-2,4.3798727058497348E-2,4.4042214087727766E-2,4.4253086183985511E-2,4.4463958280243264E-2,4.467483037650101E-2,4.4885702472758762E-2,4.5096574569016508E-2,4.5285243231385851E-2,4.5473911893755194E-2,4.5662580556124537E-2,4.5851249218493879E-2,4.6039917880863222E-2,4.6215413175057625E-2,4.6390908469252028E-2,4.6566403763446423E-2,4.6741899057640826E-2,4.6917394351835229E-2]
["US460",50,null,4.7855324351577119E-2,4.816789971655247E-2,4.8480475081527828E-2,4.8793050446503179E-2,4.9105625811478537E-2,4.9418201176453888E-2,4.9712382531899572E-2,5.0006563887345257E-2,5.0300745242790934E-2,5.0594926598236618E-2,5.0889107953682303E-2,5.1142267852607455E-2,5.1395427751532607E-2,5.1648587650457767E-2,5.1901747549382919E-2,5.2154907448308072E-2,5.2380523589599153E-2,5.2606139730890233E-2,5.2831755872181321E-2,5.3057372013472402E-2,5.3282988154763483E-2,5.3492262496760874E-2,5.3701536838758265E-2,5.3910811180755663E-2,5.4120085522753054E-2,5.4329359864750446E-2]
["US460",60,null,5.4080501512818131E-2,5.4446041137647817E-2,5.4811580762477496E-2,5.5177120387307182E-2,5.5542660012136862E-2,5.5908199636966548E-2,5.6252280798955646E-2,5.6596361960944745E-2,5.6940443122933837E-2,5.7284524284922936E-2,5.7628605446912035E-2,5.7923390321885954E-2,5.8218175196859866E-2,5.8512960071833785E-2,5.8807744946807697E-2,5.9102529821781616E-2,5.9364514286171524E-2,5.9626498750561432E-2,5.9888483214951348E-2,6.0150467679341256E-2,6.0412452143731164E-2,6.0654976019858725E-2,6.0897499895986286E-2,6.1140023772113854E-2,6.1382547648241415E-2,6.1625071524368975E-2]
["US460",70,null,6.0206793179017622E-2,6.0624456483012019E-2,6.1042119787006417E-2,6.1459783091000808E-2,6.1877446394995206E-2,6.2295109698989604E-2,6.2688298724328198E-2,6.3081487749666793E-2,6.3474676775005373E-2,6.3867865800343968E-2,6.4261054825682562E-2,6.4596803999503155E-2,6.4932553173323748E-2,6.5268302347144341E-2,6.5604051520964934E-2,6.5939800694785528E-2,6.6237576204536783E-2,6.6535351714288038E-2,6.6833127224039307E-2,6.7130902733790562E-2,6.7428678243541817E-2,6.770392385723055E-2,6.7979169470919282E-2,6.8254415084608014E-2,6.8529660698296746E-2,6.8804906311985478E-2]
["US460",80,null,6.6234520908269048E-2,6.6703470044226137E-2,6.7172419180183213E-2,6.7641368316140302E-2,6.8110317452097377E-2,6.8579266588054466E-2,6.9020774108871988E-2,6.946228162968951E-2,6.9903789150507017E-2,7.0345296671324539E-2,7.0786804192142061E-2,7.1162859136060561E-2,7.1538914079979074E-2,7.1914969023897574E-2,7.2291023967816087E-2,7.2667078911734587E-2,7.3000070066353492E-2,7.3333061220972398E-2,7.366605237559129E-2,7.3999043530210196E-2,7.4332034684829101E-2,7.4639475955844276E-2,7.494691722685945E-2,7.525435849787461E-2,7.5561799768889784E-2,7.5869241039904958E-2]
["US460",90,null,7.2164006115973914E-2,7.2683405968966747E-2,7.320280582195958E-2,7.3722205674952399E-2,7.4241605527945231E-2,7.4761005380938064E-2,7.5250044603544952E-2,7.5739083826151826E-2,7.6228123048758714E-2,7.6717162271365588E-2,7.7206201493972476E-2,7.7621905826740417E-2,7.8037610159508358E-2,7.8453314492276313E-2,7.8869018825044254E-2,7.9284723157812195E-2,7.9652356433216054E-2,8.0019989708619899E-2,8.0387622984023757E-2,8.0755256259427602E-2,8.112288953483146E-2,8.1462002098511219E-2,8.1801114662190991E-2,8.2140227225870749E-2,8.2479339789550521E-2,8.2818452353230279E-2]
["US460",100,null,7.7995570076423895E-2,7.8564588262601542E-2,7.913360644877919E-2,7.9702624634956837E-2,8.0271642821134484E-2,8.0840661007312131E-2,8.1376447711070124E-2,8.1912234414828131E-2,8.2448021118586123E-2,8.298380782234413E-2,8.3519594526102123E-2,8.3974294013028833E-2,8.4428993499955543E-2,8.4883692986882267E-2,8.5338392473808977E-2,8.5793091960735687E-2,8.6194795708429292E-2,8.6596499456122883E-2,8.6998203203816488E-2,8.7399906951510078E-2,8.7801610699203683E-2,8.8171871905706134E-2,8.8542133112208585E-2,8.8912394318711049E-2,8.92826555252135E-2,8.9652916731715951E-2]
["US460",110,null,8.3729533924369742E-2,8.4347340789771574E-2,8.496514765517342E-2,8.5582954520575252E-2,8.6200761385977098E-2,8.681856825137893E-2,8.7400320787584015E-2,8.7982073323789101E-2,8.8563825859994186E-2,8.9145578396199271E-2,8.9727330932404356E-2,9.0220373484424993E-2,9.0713416036445629E-2,9.1206458588466266E-2,9.1699501140486903E-2,9.2192543692507539E-2,9.2627748138768826E-2,9.3062952585030098E-2,9.3498157031291385E-2,9.3933361477552657E-2,9.4368565923813943E-2,9.4769454837372535E-2,9.5170343750931141E-2,9.5571232664489733E-2,9.5972121578048339E-2,9.6373010491606931E-2]
["US460",120,null,8.93662186566168E-2,9.0031987276000355E-2,9.0697755895383911E-2,9.1363524514767452E-2,9.2029293134151008E-2,9.2695061753534563E-2,9.3322001044312597E-2,9.3948940335090617E-2,9.457587962586865E-2,9.520281891664667E-2,9.5829758207424703E-2,9.6360493880178935E-2,9.6891229552933181E-2,9.7421965225687412E-2,9.7952700898441658E-2,9.848343657119589E-2,9.8951573816270885E-2,9.9419711061345881E-2,9.9887848306420862E-2,0.10035598555149586,0.10082412279657085,0.10125512019475838,0.10168611759294591,0.10211711499113342,0.10254811238932095,0.10297910978750847]
["US460",130,null,9.4905945133667222E-2,9.5618851309349995E-2,9.6331757485032768E-2,9.7044663660715541E-2,9.7757569836398314E-2,9.8470476012081087E-2,9.9141825549296639E-2,9.981317508651219E-2,0.10048452462372774,0.10115587416094329,0.10182722369815884,0.10239500469108054,0.10296278568400222,0.10353056667692391,0.10409834766984559,0.10466612866276728,0.10516663268007466,0.10566713669738205,0.10616764071468943,0.10666814473199682,0.10716864874930419,0.10762923712230546,0.10808982549530673,0.10855041386830799,0.10901100224130926,0.10947159061431053]
["Multiple",0,null,{"$f":"D7*'Project Information'!$D$14+'Project Information'!$D$15*D21+D35*'Project Information'!$D$16+'Project Information'!$D$17*D49+D63*'Project Information'!$D$18+'Project Information'!$D$19*D77+D91*'Project Information'!$D$20","v":0},{"$f":"E7*'Project Information'!$D$14+'Project Information'!$D$15*E21+E35*'Project Information'!$D$16+'Project Information'!$D$17*E49+E63*'Project Information'!$D$18+'Project Information'!$D$19*E77+E91*'Project Information'!$D$20","v":0},{"$f":"F7*'Project Information'!$D$14+'Project Information'!$D$15*F21+F35*'Project Information'!$D$16+'Project Information'!$D$17*F49+F63*'Project Information'!$D$18+'Project Information'!$D$19*F77+F91*'Project Information'!$D$20","v":0},{"$f":"G7*'Project Information'!$D$14+'Project Information'!$D$15*G21+G35*'Project Information'!$D$16+'Project Information'!$D$17*G49+G63*'Project Information'!$D$18+'Project Information'!$D$19*G77+G91*'Project Information'!$D$20","v":0},{"$f":"H7*'Project Information'!$D$14+'Project Information'!$D$15*H21+H35*'Project Information'!$D$16+'Project Information'!$D$17*H49+H63*'Project Information'!$D$18+'Project Information'!$D$19*H77+H91*'Project Information'!$D$20","v":0},{"$f":"I7*'Project Information'!$D$14+'Project Information'!$D$15*I21+I35*'Project Information'!$D$16+'Project Information'!$D$17*I49+I63*'Project Information'!$D$18+'Project Information'!$D$19*I77+I91*'Project Information'!$D$20","v":0},{"$f":"J7*'Project Information'!$D$14+'Project Information'!$D$15*J21+J35*'Project Information'!$D$16+'Project Information'!$D$17*J49+J63*'Project Information'!$D$18+'Project Information'!$D$19*J77+J91*'Project Information'!$D$20","v":0},{"$f":"K7*'Project Information'!$D$14+'Project Information'!$D$15*K21+K35*'Project Information'!$D$16+'Project Information'!$D$17*K49+K63*'Project Information'!$D$18+'Project Information'!$D$19*K77+K91*'Project Information'!$D$20","v":0},{"$f":"L7*'Project Information'!$D$14+'Project Information'!$D$15*L21+L35*'Project Information'!$D$16+'Project Information'!$D$17*L49+L63*'Project Information'!$D$18+'Project Information'!$D$19*L77+L91*'Project Information'!$D$20","v":0},{"$f":"M7*'Project Information'!$D$14+'Project Information'!$D$15*M21+M35*'Project Information'!$D$16+'Project Information'!$D$17*M49+M63*'Project Information'!$D$18+'Project Information'!$D$19*M77+M91*'Project Information'!$D$20","v":0},{"$f":"N7*'Project Information'!$D$14+'Project Information'!$D$15*N21+N35*'Project Information'!$D$16+'Project Information'!$D$17*N49+N63*'Project Information'!$D$18+'Project Information'!$D$19*N77+N91*'Project Information'!$D$20","v":0},{"$f":"O7*'Project Information'!$D$14+'Project Information'!$D$15*O21+O35*'Project Information'!$D$16+'Project Information'!$D$17*O49+O63*'Project Information'!$D$18+'Project Information'!$D$19*O77+O91*'Project Information'!$D$20","v":0},{"$f":"P7*'Project Information'!$D$14+'Project Information'!$D$15*P21+P35*'Project Information'!$D$16+'Project Information'!$D$17*P49+P63*'Project Information'!$D$18+'Project Information'!$D$19*P77+P91*'Project Information'!$D$20","v":0},{"$f":"Q7*'Project Information'!$D$14+'Project Information'!$D$15*Q21+Q35*'Project Information'!$D$16+'Project Information'!$D$17*Q49+Q63*'Project Information'!$D$18+'Project Information'!$D$19*Q77+Q91*'Project Information'!$D$20","v":0},{"$f":"R7*'Project Information'!$D$14+'Project Information'!$D$15*R21+R35*'Project Information'!$D$16+'Project Information'!$D$17*R49+R63*'Project Information'!$D$18+'Project Information'!$D$19*R77+R91*'Project Information'!$D$20","v":0},{"$f":"S7*'Project Information'!$D$14+'Project Information'!$D$15*S21+S35*'Project Information'!$D$16+'Project Information'!$D$17*S49+S63*'Project Information'!$D$18+'Project Information'!$D$19*S77+S91*'Project Information'!$D$20","v":0},{"$f":"T7*'Project Information'!$D$14+'Project Information'!$D$15*T21+T35*'Project Information'!$D$16+'Project Information'!$D$17*T49+T63*'Project Information'!$D$18+'Project Information'!$D$19*T77+T91*'Project Information'!$D$20","v":0},{"$f":"U7*'Project Information'!$D$14+'Project Information'!$D$15*U21+U35*'Project Information'!$D$16+'Project Information'!$D$17*U49+U63*'Project Information'!$D$18+'Project Information'!$D$19*U77+U91*'Project Information'!$D$20","v":0},{"$f":"V7*'Project Information'!$D$14+'Project Information'!$D$15*V21+V35*'Project Information'!$D$16+'Project Information'!$D$17*V49+V63*'Project Information'!$D$18+'Project Information'!$D$19*V77+V91*'Project Information'!$D$20","v":0},{"$f":"W7*'Project Information'!$D$14+'Project Information'!$D$15*W21+W35*'Project Information'!$D$16+'Project Information'!$D$17*W49+W63*'Project Information'!$D$18+'Project Information'!$D$19*W77+W91*'Project Information'!$D$20","v":0},{"$f":"X7*'Project Information'!$D$14+'Project Information'!$D$15*X21+X35*'Project Information'!$D$16+'Project Information'!$D$17*X49+X63*'Project Information'!$D$18+'Project Information'!$D$19*X77+X91*'Project Information'!$D$20","v":0},{"$f":"Y7*'Project Information'!$D$14+'Project Information'!$D$15*Y21+Y35*'Project Information'!$D$16+'Project Information'!$D$17*Y49+Y63*'Project Information'!$D$18+'Project Information'!$D$19*Y77+Y91*'Project Information'!$D$20","v":0},{"$f":"Z7*'Project Information'!$D$14+'Project Information'!$D$15*Z21+Z35*'Project Information'!$D$16+'Project Information'!$D$17*Z49+Z63*'Project Information'!$D$18+'Project Information'!$D$19*Z77+Z91*'Project Information'!$D$20","v":0},{"$f":"AA7*'Project Information'!$D$14+'Project Information'!$D$15*AA21+AA35*'Project Information'!$D$16+'Project Information'!$D$17*AA49+AA63*'Project Information'!$D$18+'Project Information'!$D$19*AA77+AA91*'Project Information'!$D$20","v":0},{"$f":"AB7*'Project Information'!$D$14+'Project Information'!$D$15*AB21+AB35*'Project Information'!$D$16+'Project Information'!$D$17*AB49+AB63*'Project Information'!$D$18+'Project Information'!$D$19*AB77+AB91*'Project Information'!$D$20","v":0},{"$f":"AC7*'Project Information'!$D$14+'Project Information'!$D$15*AC21+AC35*'Project Information'!$D$16+'Project Information'!$D$17*AC49+AC63*'Project Information'!$D$18+'Project Information'!$D$19*AC77+AC91*'Project Information'!$D$20","v":0}]
["Multiple",10,null,{"$f":"D8*'Project Information'!$D$14+'Project Information'!$D$15*D22+D36*'Project Information'!$D$16+'Project Information'!$D$17*D50+D64*'Project Information'!$D$18+'Project Information'!$D$19*D78+D92*'Project Information'!$D$20","v":0},{"$f":"E8*'Project Information'!$D$14+'Project Information'!$D$15*E22+E36*'Project Information'!$D$16+'Project Information'!$D$17*E50+E64*'Project Information'!$D$18+'Project Information'!$D$19*E78+E92*'Project Information'!$D$20","v":0},{"$f":"F8*'Project Information'!$D$14+'Project Information'!$D$15*F22+F36*'Project Information'!$D$16+'Project Information'!$D$17*F50+F64*'Project Information'!$D$18+'Project Information'!$D$19*F78+F92*'Project Information'!$D$20","v":0},{"$f":"G8*'Project Information'!$D$14+'Project Information'!$D$15*G22+G36*'Project Information'!$D$16+'Project Information'!$D$17*G50+G64*'Project Information'!$D$18+'Project Information'!$D$19*G78+G92*'Project Information'!$D$20","v":0},{"$f":"H8*'Project Information'!$D$14+'Project Information'!$D$15*H22+H36*'Project Information'!$D$16+'Project Information'!$D$17*H50+H64*'Project Information'!$D$18+'Project Information'!$D$19*H78+H92*'Project Information'!$D$20","v":0},{"$f":"I8*'Project Information'!$D$14+'Project Information'!$D$15*I22+I36*'Project Information'!$D$16+'Project Information'!$D$17*I50+I64*'Project Information'!$D$18+'Project Information'!$D$19*I78+I92*'Project Information'!$D$20","v":0},{"$f":"J8*'Project Information'!$D$14+'Project Information'!$D$15*J22+J36*'Project Information'!$D$16+'Project Information'!$D$17*J50+J64*'Project Information'!$D$18+'Project Information'!$D$19*J78+J92*'Project Information'!$D$20","v":0},{"$f":"K8*'Project Information'!$D$14+'Project Information'!$D$15*K22+K36*'Project Information'!$D$16+'Project Information'!$D$17*K50+K64*'Project Information'!$D$18+'Project Information'!$D$19*K78+K92*'Project Information'!$D$20","v":0},{"$f":"L8*'Project Information'!$D$14+'Project Information'!$D$15*L22+L36*'Project Information'!$D$16+'Project Information'!$D$17*L50+L64*'Project Information'!$D$18+'Project Information'!$D$19*L78+L92*'Project Information'!$D$20","v":0},{"$f":"M8*'Project Information'!$D$14+'Project Information'!$D$15*M22+M36*'Project Information'!$D$16+'Project Information'!$D$17*M50+M64*'Project Information'!$D$18+'Project Information'!$D$19*M78+M92*'Project Information'!$D$20","v":0},{"$f":"N8*'Project Information'!$D$14+'Project Information'!$D$15*N22+N36*'Project Information'!$D$16+'Project Information'!$D$17*N50+N64*'Project Information'!$D$18+'Project Information'!$D$19*N78+N92*'Project Information'!$D$20","v":0},{"$f":"O8*'Project Information'!$D$14+'Project Information'!$D$15*O22+O36*'Project Information'!$D$16+'Project Information'!$D$17*O50+O64*'Project Information'!$D$18+'Project Information'!$D$19*O78+O92*'Project Information'!$D$20","v":0},{"$f":"P8*'Project Information'!$D$14+'Project Information'!$D$15*P22+P36*'Project Information'!$D$16+'Project Information'!$D$17*P50+P64*'Project Information'!$D$18+'Project Information'!$D$19*P78+P92*'Project Information'!$D$20","v":0},{"$f":"Q8*'Project Information'!$D$14+'Project Information'!$D$15*Q22+Q36*'Project Information'!$D$16+'Project Information'!$D$17*Q50+Q64*'Project Information'!$D$18+'Project Information'!$D$19*Q78+Q92*'Project Information'!$D$20","v":0},{"$f":"R8*'Project Information'!$D$14+'Project Information'!$D$15*R22+R36*'Project Information'!$D$16+'Project Information'!$D$17*R50+R64*'Project Information'!$D$18+'Project Information'!$D$19*R78+R92*'Project Information'!$D$20","v":0},{"$f":"S8*'Project Information'!$D$14+'Project Information'!$D$15*S22+S36*'Project Information'!$D$16+'Project Information'!$D$17*S50+S64*'Project Information'!$D$18+'Project Information'!$D$19*S78+S92*'Project Information'!$D$20","v":0},{"$f":"T8*'Project Information'!$D$14+'Project Information'!$D$15*T22+T36*'Project Information'!$D$16+'Project Information'!$D$17*T50+T64*'Project Information'!$D$18+'Project Information'!$D$19*T78+T92*'Project Information'!$D$20","v":0},{"$f":"U8*'Project Information'!$D$14+'Project Information'!$D$15*U22+U36*'Project Information'!$D$16+'Project Information'!$D$17*U50+U64*'Project Information'!$D$18+'Project Information'!$D$19*U78+U92*'Project Information'!$D$20","v":0},{"$f":"V8*'Project Information'!$D$14+'Project Information'!$D$15*V22+V36*'Project Information'!$D$16+'Project Information'!$D$17*V50+V64*'Project Information'!$D$18+'Project Information'!$D$19*V78+V92*'Project Information'!$D$20","v":0},{"$f":"W8*'Project Information'!$D$14+'Project Information'!$D$15*W22+W36*'Project Information'!$D$16+'Project Information'!$D$17*W50+W64*'Project Information'!$D$18+'Project Information'!$D$19*W78+W92*'Project Information'!$D$20","v":0},{"$f":"X8*'Project Information'!$D$14+'Project Information'!$D$15*X22+X36*'Project Information'!$D$16+'Project Information'!$D$17*X50+X64*'Project Information'!$D$18+'Project Information'!$D$19*X78+X92*'Project Information'!$D$20","v":0},{"$f":"Y8*'Project Information'!$D$14+'Project Information'!$D$15*Y22+Y36*'Project Information'!$D$16+'Project Information'!$D$17*Y50+Y64*'Project Information'!$D$18+'Project Information'!$D$19*Y78+Y92*'Project Information'!$D$20","v":0},{"$f":"Z8*'Project Information'!$D$14+'Project Information'!$D$15*Z22+Z36*'Project Information'!$D$16+'Project Information'!$D$17*Z50+Z64*'Project Information'!$D$18+'Project Information'!$D$19*Z78+Z92*'Project Information'!$D$20","v":0},{"$f":"AA8*'Project Information'!$D$14+'Project Information'!$D$15*AA22+AA36*'Project Information'!$D$16+'Project Information'!$D$17*AA50+AA64*'Project Information'!$D$18+'Project Information'!$D$19*AA78+AA92*'Project Information'!$D$20","v":0},{"$f":"AB8*'Project Information'!$D$14+'Project Information'!$D$15*AB22+AB36*'Project Information'!$D$16+'Project Information'!$D$17*AB50+AB64*'Project Information'!$D$18+'Project Information'!$D$19*AB78+AB92*'Project Information'!$D$20","v":0},{"$f":"AC8*'Project Information'!$D$14+'Project Information'!$D$15*AC22+AC36*'Project Information'!$D$16+'Project Information'!$D$17*AC50+AC64*'Project Information'!$D$18+'Project Information'!$D$19*AC78+AC92*'Project Information'!$D$20","v":0}]
["Multiple",20,null,{"$f":"D9*'Project Information'!$D$14+'Project Information'!$D$15*D23+D37*'Project Information'!$D$16+'Project Information'!$D$17*D51+D65*'Project Information'!$D$18+'Project Information'!$D$19*D79+D93*'Project Information'!$D$20","v":0},{"$f":"E9*'Project Information'!$D$14+'Project Information'!$D$15*E23+E37*'Project Information'!$D$16+'Project Information'!$D$17*E51+E65*'Project Information'!$D$18+'Project Information'!$D$19*E79+E93*'Project Information'!$D$20","v":0},{"$f":"F9*'Project Information'!$D$14+'Project Information'!$D$15*F23+F37*'Project Information'!$D$16+'Project Information'!$D$17*F51+F65*'Project Information'!$D$18+'Project Information'!$D$19*F79+F93*'Project Information'!$D$20","v":0},{"$f":"G9*'Project Information'!$D$14+'Project Information'!$D$15*G23+G37*'Project Information'!$D$16+'Project Information'!$D$17*G51+G65*'Project Information'!$D$18+'Project Information'!$D$19*G79+G93*'Project Information'!$D$20","v":0},{"$f":"H9*'Project Information'!$D$14+'Project Information'!$D$15*H23+H37*'Project Information'!$D$16+'Project Information'!$D$17*H51+H65*'Project Information'!$D$18+'Project Information'!$D$19*H79+H93*'Project Information'!$D$20","v":0},{"$f":"I9*'Project Information'!$D$14+'Project Information'!$D$15*I23+I37*'Project Information'!$D$16+'Project Information'!$D$17*I51+I65*'Project Information'!$D$18+'Project Information'!$D$19*I79+I93*'Project Information'!$D$20","v":0},{"$f":"J9*'Project Information'!$D$14+'Project Information'!$D$15*J23+J37*'Project Information'!$D$16+'Project Information'!$D$17*J51+J65*'Project Information'!$D$18+'Project Information'!$D$19*J79+J93*'Project Information'!$D$20","v":0},{"$f":"K9*'Project Information'!$D$14+'Project Information'!$D$15*K23+K37*'Project Information'!$D$16+'Project Information'!$D$17*K51+K65*'Project Information'!$D$18+'Project Information'!$D$19*K79+K93*'Project Information'!$D$20","v":0},{"$f":"L9*'Project Information'!$D$14+'Project Information'!$D$15*L23+L37*'Project Information'!$D$16+'Project Information'!$D$17*L51+L65*'Project Information'!$D$18+'Project Information'!$D$19*L79+L93*'Project Information'!$D$20","v":0},{"$f":"M9*'Project Information'!$D$14+'Project Information'!$D$15*M23+M37*'Project Information'!$D$16+'Project Information'!$D$17*M51+M65*'Project Information'!$D$18+'Project Information'!$D$19*M79+M93*'Project Information'!$D$20","v":0},{"$f":"N9*'Project Information'!$D$14+'Project Information'!$D$15*N23+N37*'Project Information'!$D$16+'Project Information'!$D$17*N51+N65*'Project Information'!$D$18+'Project Information'!$D$19*N79+N93*'Project Information'!$D$20","v":0},{"$f":"O9*'Project Information'!$D$14+'Project Information'!$D$15*O23+O37*'Project Information'!$D$16+'Project Information'!$D$17*O51+O65*'Project Information'!$D$18+'Project Information'!$D$19*O79+O93*'Project Information'!$D$20","v":0},{"$f":"P9*'Project Information'!$D$14+'Project Information'!$D$15*P23+P37*'Project Information'!$D$16+'Project Information'!$D$17*P51+P65*'Project Information'!$D$18+'Project Information'!$D$19*P79+P93*'Project Information'!$D$20","v":0},{"$f":"Q9*'Project Information'!$D$14+'Project Information'!$D$15*Q23+Q37*'Project Information'!$D$16+'Project Information'!$D$17*Q51+Q65*'Project Information'!$D$18+'Project Information'!$D$19*Q79+Q93*'Project Information'!$D$20","v":0},{"$f":"R9*'Project Information'!$D$14+'Project Information'!$D$15*R23+R37*'Project Information'!$D$16+'Project Information'!$D$17*R51+R65*'Project Information'!$D$18+'Project Information'!$D$19*R79+R93*'Project Information'!$D$20","v":0},{"$f":"S9*'Project Information'!$D$14+'Project Information'!$D$15*S23+S37*'Project Information'!$D$16+'Project Information'!$D$17*S51+S65*'Project Information'!$D$18+'Project Information'!$D$19*S79+S93*'Project Information'!$D$20","v":0},{"$f":"T9*'Project Information'!$D$14+'Project Information'!$D$15*T23+T37*'Project Information'!$D$16+'Project Information'!$D$17*T51+T65*'Project Information'!$D$18+'Project Information'!$D$19*T79+T93*'Project Information'!$D$20","v":0},{"$f":"U9*'Project Information'!$D$14+'Project Information'!$D$15*U23+U37*'Project Information'!$D$16+'Project Information'!$D$17*U51+U65*'Project Information'!$D$18+'Project Information'!$D$19*U79+U93*'Project Information'!$D$20","v":0},{"$f":"V9*'Project Information'!$D$14+'Project Information'!$D$15*V23+V37*'Project Information'!$D$16+'Project Information'!$D$17*V51+V65*'Project Information'!$D$18+'Project Information'!$D$19*V79+V93*'Project Information'!$D$20","v":0},{"$f":"W9*'Project Information'!$D$14+'Project Information'!$D$15*W23+W37*'Project Information'!$D$16+'Project Information'!$D$17*W51+W65*'Project Information'!$D$18+'Project Information'!$D$19*W79+W93*'Project Information'!$D$20","v":0},{"$f":"X9*'Project Information'!$D$14+'Project Information'!$D$15*X23+X37*'Project Information'!$D$16+'Project Information'!$D$17*X51+X65*'Project Information'!$D$18+'Project Information'!$D$19*X79+X93*'Project Information'!$D$20","v":0},{"$f":"Y9*'Project Information'!$D$14+'Project Information'!$D$15*Y23+Y37*'Project Information'!$D$16+'Project Information'!$D$17*Y51+Y65*'Project Information'!$D$18+'Project Information'!$D$19*Y79+Y93*'Project Information'!$D$20","v":0},{"$f":"Z9*'Project Information'!$D$14+'Project Information'!$D$15*Z23+Z37*'Project Information'!$D$16+'Project Information'!$D$17*Z51+Z65*'Project Information'!$D$18+'Project Information'!$D$19*Z79+Z93*'Project Information'!$D$20","v":0},{"$f":"AA9*'Project Information'!$D$14+'Project Information'!$D$15*AA23+AA37*'Project Information'!$D$16+'Project Information'!$D$17*AA51+AA65*'Project Information'!$D$18+'Project Information'!$D$19*AA79+AA93*'Project Information'!$D$20","v":0},{"$f":"AB9*'Project Information'!$D$14+'Project Information'!$D$15*AB23+AB37*'Project Information'!$D$16+'Project Information'!$D$17*AB51+AB65*'Project Information'!$D$18+'Project Information'!$D$19*AB79+AB93*'Project Information'!$D$20","v":0},{"$f":"AC9*'Project Information'!$D$14+'Project Information'!$D$15*AC23+AC37*'Project Information'!$D$16+'Project Information'!$D$17*AC51+AC65*'Project Information'!$D$18+'Project Information'!$D$19*AC79+AC93*'Project Information'!$D$20","v":0}]
["Multiple",30,null,{"$f":"D10*'Project Information'!$D$14+'Project Information'!$D$15*D24+D38*'Project Information'!$D$16+'Project Information'!$D$17*D52+D66*'Project Information'!$D$18+'Project Information'!$D$19*D80+D94*'Project Information'!$D$20","v":0},{"$f":"E10*'Project Information'!$D$14+'Project Information'!$D$15*E24+E38*'Project Information'!$D$16+'Project Information'!$D$17*E52+E66*'Project Information'!$D$18+'Project Information'!$D$19*E80+E94*'Project Information'!$D$20","v":0},{"$f":"F10*'Project Information'!$D$14+'Project Information'!$D$15*F24+F38*'Project Information'!$D$16+'Project Information'!$D$17*F52+F66*'Project Information'!$D$18+'Project Information'!$D$19*F80+F94*'Project Information'!$D$20","v":0},{"$f":"G10*'Project Information'!$D$14+'Project Information'!$D$15*G24+G38*'Project Information'!$D$16+'Project Information'!$D$17*G52+G66*'Project Information'!$D$18+'Project Information'!$D$19*G80+G94*'Project Information'!$D$20","v":0},{"$f":"H10*'Project Information'!$D$14+'Project Information'!$D$15*H24+H38*'Project Information'!$D$16+'Project Information'!$D$17*H52+H66*'Project Information'!$D$18+'Project Information'!$D$19*H80+H94*'Project Information'!$D$20","v":0},{"$f":"I10*'Project Information'!$D$14+'Project Information'!$D$15*I24+I38*'Project Information'!$D$16+'Project Information'!$D$17*I52+I66*'Project Information'!$D$18+'Project Information'!$D$19*I80+I94*'Project Information'!$D$20","v":0},{"$f":"J10*'Project Information'!$D$14+'Project Information'!$D$15*J24+J38*'Project Information'!$D$16+'Project Information'!$D$17*J52+J66*'Project Information'!$D$18+'Project Information'!$D$19*J80+J94*'Project Information'!$D$20","v":0},{"$f":"K10*'Project Information'!$D$14+'Project Information'!$D$15*K24+K38*'Project Information'!$D$16+'Project Information'!$D$17*K52+K66*'Project Information'!$D$18+'Project Information'!$D$19*K80+K94*'Project Information'!$D$20","v":0},{"$f":"L10*'Project Information'!$D$14+'Project Information'!$D$15*L24+L38*'Project Information'!$D$16+'Project Information'!$D$17*L52+L66*'Project Information'!$D$18+'Project Information'!$D$19*L80+L94*'Project Information'!$D$20","v":0},{"$f":"M10*'Project Information'!$D$14+'Project Information'!$D$15*M24+M38*'Project Information'!$D$16+'Project Information'!$D$17*M52+M66*'Project Information'!$D$18+'Project Information'!$D$19*M80+M94*'Project Information'!$D$20","v":0},{"$f":"N10*'Project Information'!$D$14+'Project Information'!$D$15*N24+N38*'Project Information'!$D$16+'Project Information'!$D$17*N52+N66*'Project Information'!$D$18+'Project Information'!$D$19*N80+N94*'Project Information'!$D$20","v":0},{"$f":"O10*'Project Information'!$D$14+'Project Information'!$D$15*O24+O38*'Project Information'!$D$16+'Project Information'!$D$17*O52+O66*'Project Information'!$D$18+'Project Information'!$D$19*O80+O94*'Project Information'!$D$20","v":0},{"$f":"P10*'Project Information'!$D$14+'Project Information'!$D$15*P24+P38*'Project Information'!$D$16+'Project Information'!$D$17*P52+P66*'Project Information'!$D$18+'Project Information'!$D$19*P80+P94*'Project Information'!$D$20","v":0},{"$f":"Q10*'Project Information'!$D$14+'Project Information'!$D$15*Q24+Q38*'Project Information'!$D$16+'Project Information'!$D$17*Q52+Q66*'Project Information'!$D$18+'Project Information'!$D$19*Q80+Q94*'Project Information'!$D$20","v":0},{"$f":"R10*'Project Information'!$D$14+'Project Information'!$D$15*R24+R38*'Project Information'!$D$16+'Project Information'!$D$17*R52+R66*'Project Information'!$D$18+'Project Information'!$D$19*R80+R94*'Project Information'!$D$20","v":0},{"$f":"S10*'Project Information'!$D$14+'Project Information'!$D$15*S24+S38*'Project Information'!$D$16+'Project Information'!$D$17*S52+S66*'Project Information'!$D$18+'Project Information'!$D$19*S80+S94*'Project Information'!$D$20","v":0},{"$f":"T10*'Project Information'!$D$14+'Project Information'!$D$15*T24+T38*'Project Information'!$D$16+'Project Information'!$D$17*T52+T66*'Project Information'!$D$18+'Project Information'!$D$19*T80+T94*'Project Information'!$D$20","v":0},{"$f":"U10*'Project Information'!$D$14+'Project Information'!$D$15*U24+U38*'Project Information'!$D$16+'Project Information'!$D$17*U52+U66*'Project Information'!$D$18+'Project Information'!$D$19*U80+U94*'Project Information'!$D$20","v":0},{"$f":"V10*'Project Information'!$D$14+'Project Information'!$D$15*V24+V38*'Project Information'!$D$16+'Project Information'!$D$17*V52+V66*'Project Information'!$D$18+'Project Information'!$D$19*V80+V94*'Project Information'!$D$20","v":0},{"$f":"W10*'Project Information'!$D$14+'Project Information'!$D$15*W24+W38*'Project Information'!$D$16+'Project Information'!$D$17*W52+W66*'Project Information'!$D$18+'Project Information'!$D$19*W80+W94*'Project Information'!$D$20","v":0},{"$f":"X10*'Project Information'!$D$14+'Project Information'!$D$15*X24+X38*'Project Information'!$D$16+'Project Information'!$D$17*X52+X66*'Project Information'!$D$18+'Project Information'!$D$19*X80+X94*'Project Information'!$D$20","v":0},{"$f":"Y10*'Project Information'!$D$14+'Project Information'!$D$15*Y24+Y38*'Project Information'!$D$16+'Project Information'!$D$17*Y52+Y66*'Project Information'!$D$18+'Project Information'!$D$19*Y80+Y94*'Project Information'!$D$20","v":0},{"$f":"Z10*'Project Information'!$D$14+'Project Information'!$D$15*Z24+Z38*'Project Information'!$D$16+'Project Information'!$D$17*Z52+Z66*'Project Information'!$D$18+'Project Information'!$D$19*Z80+Z94*'Project Information'!$D$20","v":0},{"$f":"AA10*'Project Information'!$D$14+'Project Information'!$D$15*AA24+AA38*'Project Information'!$D$16+'Project Information'!$D$17*AA52+AA66*'Project Information'!$D$18+'Project Information'!$D$19*AA80+AA94*'Project Information'!$D$20","v":0},{"$f":"AB10*'Project Information'!$D$14+'Project Information'!$D$15*AB24+AB38*'Project Information'!$D$16+'Project Information'!$D$17*AB52+AB66*'Project Information'!$D$18+'Project Information'!$D$19*AB80+AB94*'Project Information'!$D$20","v":0},{"$f":"AC10*'Project Information'!$D$14+'Project Information'!$D$15*AC24+AC38*'Project Information'!$D$16+'Project Information'!$D$17*AC52+AC66*'Project Information'!$D$18+'Project Information'!$D$19*AC80+AC94*'Project Information'!$D$20","v":0}]
["Multiple",40,null,{"$f":"D11*'Project Information'!$D$14+'Project Information'!$D$15*D25+D39*'Project Information'!$D$16+'Project Information'!$D$17*D53+D67*'Project Information'!$D$18+'Project Information'!$D$19*D81+D95*'Project Information'!$D$20","v":0},{"$f":"E11*'Project Information'!$D$14+'Project Information'!$D$15*E25+E39*'Project Information'!$D$16+'Project Information'!$D$17*E53+E67*'Project Information'!$D$18+'Project Information'!$D$19*E81+E95*'Project Information'!$D$20","v":0},{"$f":"F11*'Project Information'!$D$14+'Project Information'!$D$15*F25+F39*'Project Information'!$D$16+'Project Information'!$D$17*F53+F67*'Project Information'!$D$18+'Project Information'!$D$19*F81+F95*'Project Information'!$D$20","v":0},{"$f":"G11*'Project Information'!$D$14+'Project Information'!$D$15*G25+G39*'Project Information'!$D$16+'Project Information'!$D$17*G53+G67*'Project Information'!$D$18+'Project Information'!$D$19*G81+G95*'Project Information'!$D$20","v":0},{"$f":"H11*'Project Information'!$D$14+'Project Information'!$D$15*H25+H39*'Project Information'!$D$16+'Project Information'!$D$17*H53+H67*'Project Information'!$D$18+'Project Information'!$D$19*H81+H95*'Project Information'!$D$20","v":0},{"$f":"I11*'Project Information'!$D$14+'Project Information'!$D$15*I25+I39*'Project Information'!$D$16+'Project Information'!$D$17*I53+I67*'Project Information'!$D$18+'Project Information'!$D$19*I81+I95*'Project Information'!$D$20","v":0},{"$f":"J11*'Project Information'!$D$14+'Project Information'!$D$15*J25+J39*'Project Information'!$D$16+'Project Information'!$D$17*J53+J67*'Project Information'!$D$18+'Project Information'!$D$19*J81+J95*'Project Information'!$D$20","v":0},{"$f":"K11*'Project Information'!$D$14+'Project Information'!$D$15*K25+K39*'Project Information'!$D$16+'Project Information'!$D$17*K53+K67*'Project Information'!$D$18+'Project Information'!$D$19*K81+K95*'Project Information'!$D$20","v":0},{"$f":"L11*'Project Information'!$D$14+'Project Information'!$D$15*L25+L39*'Project Information'!$D$16+'Project Information'!$D$17*L53+L67*'Project Information'!$D$18+'Project Information'!$D$19*L81+L95*'Project Information'!$D$20","v":0},{"$f":"M11*'Project Information'!$D$14+'Project Information'!$D$15*M25+M39*'Project Information'!$D$16+'Project Information'!$D$17*M53+M67*'Project Information'!$D$18+'Project Information'!$D$19*M81+M95*'Project Information'!$D$20","v":0},{"$f":"N11*'Project Information'!$D$14+'Project Information'!$D$15*N25+N39*'Project Information'!$D$16+'Project Information'!$D$17*N53+N67*'Project Information'!$D$18+'Project Information'!$D$19*N81+N95*'Project Information'!$D$20","v":0},{"$f":"O11*'Project Information'!$D$14+'Project Information'!$D$15*O25+O39*'Project Information'!$D$16+'Project Information'!$D$17*O53+O67*'Project Information'!$D$18+'Project Information'!$D$19*O81+O95*'Project Information'!$D$20","v":0},{"$f":"P11*'Project Information'!$D$14+'Project Information'!$D$15*P25+P39*'Project Information'!$D$16+'Project Information'!$D$17*P53+P67*'Project Information'!$D$18+'Project Information'!$D$19*P81+P95*'Project Information'!$D$20","v":0},{"$f":"Q11*'Project Information'!$D$14+'Project Information'!$D$15*Q25+Q39*'Project Information'!$D$16+'Project Information'!$D$17*Q53+Q67*'Project Information'!$D$18+'Project Information'!$D$19*Q81+Q95*'Project Information'!$D$20","v":0},{"$f":"R11*'Project Information'!$D$14+'Project Information'!$D$15*R25+R39*'Project Information'!$D$16+'Project Information'!$D$17*R53+R67*'Project Information'!$D$18+'Project Information'!$D$19*R81+R95*'Project Information'!$D$20","v":0},{"$f":"S11*'Project Information'!$D$14+'Project Information'!$D$15*S25+S39*'Project Information'!$D$16+'Project Information'!$D$17*S53+S67*'Project Information'!$D$18+'Project Information'!$D$19*S81+S95*'Project Information'!$D$20","v":0},{"$f":"T11*'Project Information'!$D$14+'Project Information'!$D$15*T25+T39*'Project Information'!$D$16+'Project Information'!$D$17*T53+T67*'Project Information'!$D$18+'Project Information'!$D$19*T81+T95*'Project Information'!$D$20","v":0},{"$f":"U11*'Project Information'!$D$14+'Project Information'!$D$15*U25+U39*'Project Information'!$D$16+'Project Information'!$D$17*U53+U67*'Project Information'!$D$18+'Project Information'!$D$19*U81+U95*'Project Information'!$D$20","v":0},{"$f":"V11*'Project Information'!$D$14+'Project Information'!$D$15*V25+V39*'Project Information'!$D$16+'Project Information'!$D$17*V53+V67*'Project Information'!$D$18+'Project Information'!$D$19*V81+V95*'Project Information'!$D$20","v":0},{"$f":"W11*'Project Information'!$D$14+'Project Information'!$D$15*W25+W39*'Project Information'!$D$16+'Project Information'!$D$17*W53+W67*'Project Information'!$D$18+'Project Information'!$D$19*W81+W95*'Project Information'!$D$20","v":0},{"$f":"X11*'Project Information'!$D$14+'Project Information'!$D$15*X25+X39*'Project Information'!$D$16+'Project Information'!$D$17*X53+X67*'Project Information'!$D$18+'Project Information'!$D$19*X81+X95*'Project Information'!$D$20","v":0},{"$f":"Y11*'Project Information'!$D$14+'Project Information'!$D$15*Y25+Y39*'Project Information'!$D$16+'Project Information'!$D$17*Y53+Y67*'Project Information'!$D$18+'Project Information'!$D$19*Y81+Y95*'Project Information'!$D$20","v":0},{"$f":"Z11*'Project Information'!$D$14+'Project Information'!$D$15*Z25+Z39*'Project Information'!$D$16+'Project Information'!$D$17*Z53+Z67*'Project Information'!$D$18+'Project Information'!$D$19*Z81+Z95*'Project Information'!$D$20","v":0},{"$f":"AA11*'Project Information'!$D$14+'Project Information'!$D$15*AA25+AA39*'Project Information'!$D$16+'Project Information'!$D$17*AA53+AA67*'Project Information'!$D$18+'Project Information'!$D$19*AA81+AA95*'Project Information'!$D$20","v":0},{"$f":"AB11*'Project Information'!$D$14+'Project Information'!$D$15*AB25+AB39*'Project Information'!$D$16+'Project Information'!$D$17*AB53+AB67*'Project Information'!$D$18+'Project Information'!$D$19*AB81+AB95*'Project Information'!$D$20","v":0},{"$f":"AC11*'Project Information'!$D$14+'Project Information'!$D$15*AC25+AC39*'Project Information'!$D$16+'Project Information'!$D$17*AC53+AC67*'Project Information'!$D$18+'Project Information'!$D$19*AC81+AC95*'Project Information'!$D$20","v":0}]
["Multiple",50,null,{"$f":"D12*'Project Information'!$D$14+'Project Information'!$D$15*D26+D40*'Project Information'!$D$16+'Project Information'!$D$17*D54+D68*'Project Information'!$D$18+'Project Information'!$D$19*D82+D96*'Project Information'!$D$20","v":0},{"$f":"E12*'Project Information'!$D$14+'Project Information'!$D$15*E26+E40*'Project Information'!$D$16+'Project Information'!$D$17*E54+E68*'Project Information'!$D$18+'Project Information'!$D$19*E82+E96*'Project Information'!$D$20","v":0},{"$f":"F12*'Project Information'!$D$14+'Project Information'!$D$15*F26+F40*'Project Information'!$D$16+'Project Information'!$D$17*F54+F68*'Project Information'!$D$18+'Project Information'!$D$19*F82+F96*'Project Information'!$D$20","v":0},{"$f":"G12*'Project Information'!$D$14+'Project Information'!$D$15*G26+G40*'Project Information'!$D$16+'Project Information'!$D$17*G54+G68*'Project Information'!$D$18+'Project Information'!$D$19*G82+G96*'Project Information'!$D$20","v":0},{"$f":"H12*'Project Information'!$D$14+'Project Information'!$D$15*H26+H40*'Project Information'!$D$16+'Project Information'!$D$17*H54+H68*'Project Information'!$D$18+'Project Information'!$D$19*H82+H96*'Project Information'!$D$20","v":0},{"$f":"I12*'Project Information'!$D$14+'Project Information'!$D$15*I26+I40*'Project Information'!$D$16+'Project Information'!$D$17*I54+I68*'Project Information'!$D$18+'Project Information'!$D$19*I82+I96*'Project Information'!$D$20","v":0},{"$f":"J12*'Project Information'!$D$14+'Project Information'!$D$15*J26+J40*'Project Information'!$D$16+'Project Information'!$D$17*J54+J68*'Project Information'!$D$18+'Project Information'!$D$19*J82+J96*'Project Information'!$D$20","v":0},{"$f":"K12*'Project Information'!$D$14+'Project Information'!$D$15*K26+K40*'Project Information'!$D$16+'Project Information'!$D$17*K54+K68*'Project Information'!$D$18+'Project Information'!$D$19*K82+K96*'Project Information'!$D$20","v":0},{"$f":"L12*'Project Information'!$D$14+'Project Information'!$D$15*L26+L40*'Project Information'!$D$16+'Project Information'!$D$17*L54+L68*'Project Information'!$D$18+'Project Information'!$D$19*L82+L96*'Project Information'!$D$20","v":0},{"$f":"M12*'Project Information'!$D$14+'Project Information'!$D$15*M26+M40*'Project Information'!$D$16+'Project Information'!$D$17*M54+M68*'Project Information'!$D$18+'Project Information'!$D$19*M82+M96*'Project Information'!$D$20","v":0},{"$f":"N12*'Project Information'!$D$14+'Project Information'!$D$15*N26+N40*'Project Information'!$D$16+'Project Information'!$D$17*N54+N68*'Project Information'!$D$18+'Project Information'!$D$19*N82+N96*'Project Information'!$D$20","v":0},{"$f":"O12*'Project Information'!$D$14+'Project Information'!$D$15*O26+O40*'Project Information'!$D$16+'Project Information'!$D$17*O54+O68*'Project Information'!$D$18+'Project Information'!$D$19*O82+O96*'Project Information'!$D$20","v":0},{"$f":"P12*'Project Information'!$D$14+'Project Information'!$D$15*P26+P40*'Project Information'!$D$16+'Project Information'!$D$17*P54+P68*'Project Information'!$D$18+'Project Information'!$D$19*P82+P96*'Project Information'!$D$20","v":0},{"$f":"Q12*'Project Information'!$D$14+'Project Information'!$D$15*Q26+Q40*'Project Information'!$D$16+'Project Information'!$D$17*Q54+Q68*'Project Information'!$D$18+'Project Information'!$D$19*Q82+Q96*'Project Information'!$D$20","v":0},{"$f":"R12*'Project Information'!$D$14+'Project Information'!$D$15*R26+R40*'Project Information'!$D$16+'Project Information'!$D$17*R54+R68*'Project Information'!$D$18+'Project Information'!$D$19*R82+R96*'Project Information'!$D$20","v":0},{"$f":"S12*'Project Information'!$D$14+'Project Information'!$D$15*S26+S40*'Project Information'!$D$16+'Project Information'!$D$17*S54+S68*'Project Information'!$D$18+'Project Information'!$D$19*S82+S96*'Project Information'!$D$20","v":0},{"$f":"T12*'Project Information'!$D$14+'Project Information'!$D$15*T26+T40*'Project Information'!$D$16+'Project Information'!$D$17*T54+T68*'Project Information'!$D$18+'Project Information'!$D$19*T82+T96*'Project Information'!$D$20","v":0},{"$f":"U12*'Project Information'!$D$14+'Project Information'!$D$15*U26+U40*'Project Information'!$D$16+'Project Information'!$D$17*U54+U68*'Project Information'!$D$18+'Project Information'!$D$19*U82+U96*'Project Information'!$D$20","v":0},{"$f":"V12*'Project Information'!$D$14+'Project Information'!$D$15*V26+V40*'Project Information'!$D$16+'Project Information'!$D$17*V54+V68*'Project Information'!$D$18+'Project Information'!$D$19*V82+V96*'Project Information'!$D$20","v":0},{"$f":"W12*'Project Information'!$D$14+'Project Information'!$D$15*W26+W40*'Project Information'!$D$16+'Project Information'!$D$17*W54+W68*'Project Information'!$D$18+'Project Information'!$D$19*W82+W96*'Project Information'!$D$20","v":0},{"$f":"X12*'Project Information'!$D$14+'Project Information'!$D$15*X26+X40*'Project Information'!$D$16+'Project Information'!$D$17*X54+X68*'Project Information'!$D$18+'Project Information'!$D$19*X82+X96*'Project Information'!$D$20","v":0},{"$f":"Y12*'Project Information'!$D$14+'Project Information'!$D$15*Y26+Y40*'Project Information'!$D$16+'Project Information'!$D$17*Y54+Y68*'Project Information'!$D$18+'Project Information'!$D$19*Y82+Y96*'Project Information'!$D$20","v":0},{"$f":"Z12*'Project Information'!$D$14+'Project Information'!$D$15*Z26+Z40*'Project Information'!$D$16+'Project Information'!$D$17*Z54+Z68*'Project Information'!$D$18+'Project Information'!$D$19*Z82+Z96*'Project Information'!$D$20","v":0},{"$f":"AA12*'Project Information'!$D$14+'Project Information'!$D$15*AA26+AA40*'Project Information'!$D$16+'Project Information'!$D$17*AA54+AA68*'Project Information'!$D$18+'Project Information'!$D$19*AA82+AA96*'Project Information'!$D$20","v":0},{"$f":"AB12*'Project Information'!$D$14+'Project Information'!$D$15*AB26+AB40*'Project Information'!$D$16+'Project Information'!$D$17*AB54+AB68*'Project Information'!$D$18+'Project Information'!$D$19*AB82+AB96*'Project Information'!$D$20","v":0},{"$f":"AC12*'Project Information'!$D$14+'Project Information'!$D$15*AC26+AC40*'Project Information'!$D$16+'Project Information'!$D$17*AC54+AC68*'Project Information'!$D$18+'Project Information'!$D$19*AC82+AC96*'Project Information'!$D$20","v":0}]
["Multiple",60,null,{"$f":"D13*'Project Information'!$D$14+'Project Information'!$D$15*D27+D41*'Project Information'!$D$16+'Project Information'!$D$17*D55+D69*'Project Information'!$D$18+'Project Information'!$D$19*D83+D97*'Project Information'!$D$20","v":0},{"$f":"E13*'Project Information'!$D$14+'Project Information'!$D$15*E27+E41*'Project Information'!$D$16+'Project Information'!$D$17*E55+E69*'Project Information'!$D$18+'Project Information'!$D$19*E83+E97*'Project Information'!$D$20","v":0},{"$f":"F13*'Project Information'!$D$14+'Project Information'!$D$15*F27+F41*'Project Information'!$D$16+'Project Information'!$D$17*F55+F69*'Project Information'!$D$18+'Project Information'!$D$19*F83+F97*'Project Information'!$D$20","v":0},{"$f":"G13*'Project Information'!$D$14+'Project Information'!$D$15*G27+G41*'Project Information'!$D$16+'Project Information'!$D$17*G55+G69*'Project Information'!$D$18+'Project Information'!$D$19*G83+G97*'Project Information'!$D$20","v":0},{"$f":"H13*'Project Information'!$D$14+'Project Information'!$D$15*H27+H41*'Project Information'!$D$16+'Project Information'!$D$17*H55+H69*'Project Information'!$D$18+'Project Information'!$D$19*H83+H97*'Project Information'!$D$20","v":0},{"$f":"I13*'Project Information'!$D$14+'Project Information'!$D$15*I27+I41*'Project Information'!$D$16+'Project Information'!$D$17*I55+I69*'Project Information'!$D$18+'Project Information'!$D$19*I83+I97*'Project Information'!$D$20","v":0},{"$f":"J13*'Project Information'!$D$14+'Project Information'!$D$15*J27+J41*'Project Information'!$D$16+'Project Information'!$D$17*J55+J69*'Project Information'!$D$18+'Project Information'!$D$19*J83+J97*'Project Information'!$D$20","v":0},{"$f":"K13*'Project Information'!$D$14+'Project Information'!$D$15*K27+K41*'Project Information'!$D$16+'Project Information'!$D$17*K55+K69*'Project Information'!$D$18+'Project Information'!$D$19*K83+K97*'Project Information'!$D$20","v":0},{"$f":"L13*'Project Information'!$D$14+'Project Information'!$D$15*L27+L41*'Project Information'!$D$16+'Project Information'!$D$17*L55+L69*'Project Information'!$D$18+'Project Information'!$D$19*L83+L97*'Project Information'!$D$20","v":0},{"$f":"M13*'Project Information'!$D$14+'Project Information'!$D$15*M27+M41*'Project Information'!$D$16+'Project Information'!$D$17*M55+M69*'Project Information'!$D$18+'Project Information'!$D$19*M83+M97*'Project Information'!$D$20","v":0},{"$f":"N13*'Project Information'!$D$14+'Project Information'!$D$15*N27+N41*'Project Information'!$D$16+'Project Information'!$D$17*N55+N69*'Project Information'!$D$18+'Project Information'!$D$19*N83+N97*'Project Information'!$D$20","v":0},{"$f":"O13*'Project Information'!$D$14+'Project Information'!$D$15*O27+O41*'Project Information'!$D$16+'Project Information'!$D$17*O55+O69*'Project Information'!$D$18+'Project Information'!$D$19*O83+O97*'Project Information'!$D$20","v":0},{"$f":"P13*'Project Information'!$D$14+'Project Information'!$D$15*P27+P41*'Project Information'!$D$16+'Project Information'!$D$17*P55+P69*'Project Information'!$D$18+'Project Information'!$D$19*P83+P97*'Project Information'!$D$20","v":0},{"$f":"Q13*'Project Information'!$D$14+'Project Information'!$D$15*Q27+Q41*'Project Information'!$D$16+'Project Information'!$D$17*Q55+Q69*'Project Information'!$D$18+'Project Information'!$D$19*Q83+Q97*'Project Information'!$D$20","v":0},{"$f":"R13*'Project Information'!$D$14+'Project Information'!$D$15*R27+R41*'Project Information'!$D$16+'Project Information'!$D$17*R55+R69*'Project Information'!$D$18+'Project Information'!$D$19*R83+R97*'Project Information'!$D$20","v":0},{"$f":"S13*'Project Information'!$D$14+'Project Information'!$D$15*S27+S41*'Project Information'!$D$16+'Project Information'!$D$17*S55+S69*'Project Information'!$D$18+'Project Information'!$D$19*S83+S97*'Project Information'!$D$20","v":0},{"$f":"T13*'Project Information'!$D$14+'Project Information'!$D$15*T27+T41*'Project Information'!$D$16+'Project Information'!$D$17*T55+T69*'Project Information'!$D$18+'Project Information'!$D$19*T83+T97*'Project Information'!$D$20","v":0},{"$f":"U13*'Project Information'!$D$14+'Project Information'!$D$15*U27+U41*'Project Information'!$D$16+'Project Information'!$D$17*U55+U69*'Project Information'!$D$18+'Project Information'!$D$19*U83+U97*'Project Information'!$D$20","v":0},{"$f":"V13*'Project Information'!$D$14+'Project Information'!$D$15*V27+V41*'Project Information'!$D$16+'Project Information'!$D$17*V55+V69*'Project Information'!$D$18+'Project Information'!$D$19*V83+V97*'Project Information'!$D$20","v":0},{"$f":"W13*'Project Information'!$D$14+'Project Information'!$D$15*W27+W41*'Project Information'!$D$16+'Project Information'!$D$17*W55+W69*'Project Information'!$D$18+'Project Information'!$D$19*W83+W97*'Project Information'!$D$20","v":0},{"$f":"X13*'Project Information'!$D$14+'Project Information'!$D$15*X27+X41*'Project Information'!$D$16+'Project Information'!$D$17*X55+X69*'Project Information'!$D$18+'Project Information'!$D$19*X83+X97*'Project Information'!$D$20","v":0},{"$f":"Y13*'Project Information'!$D$14+'Project Information'!$D$15*Y27+Y41*'Project Information'!$D$16+'Project Information'!$D$17*Y55+Y69*'Project Information'!$D$18+'Project Information'!$D$19*Y83+Y97*'Project Information'!$D$20","v":0},{"$f":"Z13*'Project Information'!$D$14+'Project Information'!$D$15*Z27+Z41*'Project Information'!$D$16+'Project Information'!$D$17*Z55+Z69*'Project Information'!$D$18+'Project Information'!$D$19*Z83+Z97*'Project Information'!$D$20","v":0},{"$f":"AA13*'Project Information'!$D$14+'Project Information'!$D$15*AA27+AA41*'Project Information'!$D$16+'Project Information'!$D$17*AA55+AA69*'Project Information'!$D$18+'Project Information'!$D$19*AA83+AA97*'Project Information'!$D$20","v":0},{"$f":"AB13*'Project Information'!$D$14+'Project Information'!$D$15*AB27+AB41*'Project Information'!$D$16+'Project Information'!$D$17*AB55+AB69*'Project Information'!$D$18+'Project Information'!$D$19*AB83+AB97*'Project Information'!$D$20","v":0},{"$f":"AC13*'Project Information'!$D$14+'Project Information'!$D$15*AC27+AC41*'Project Information'!$D$16+'Project Information'!$D$17*AC55+AC69*'Project Information'!$D$18+'Project Information'!$D$19*AC83+AC97*'Project Information'!$D$20","v":0}]
["Multiple",70,null,{"$f":"D14*'Project Information'!$D$14+'Project Information'!$D$15*D28+D42*'Project Information'!$D$16+'Project Information'!$D$17*D56+D70*'Project Information'!$D$18+'Project Information'!$D$19*D84+D98*'Project Information'!$D$20","v":0},{"$f":"E14*'Project Information'!$D$14+'Project Information'!$D$15*E28+E42*'Project Information'!$D$16+'Project Information'!$D$17*E56+E70*'Project Information'!$D$18+'Project Information'!$D$19*E84+E98*'Project Information'!$D$20","v":0},{"$f":"F14*'Project Information'!$D$14+'Project Information'!$D$15*F28+F42*'Project Information'!$D$16+'Project Information'!$D$17*F56+F70*'Project Information'!$D$18+'Project Information'!$D$19*F84+F98*'Project Information'!$D$20","v":0},{"$f":"G14*'Project Information'!$D$14+'Project Information'!$D$15*G28+G42*'Project Information'!$D$16+'Project Information'!$D$17*G56+G70*'Project Information'!$D$18+'Project Information'!$D$19*G84+G98*'Project Information'!$D$20","v":0},{"$f":"H14*'Project Information'!$D$14+'Project Information'!$D$15*H28+H42*'Project Information'!$D$16+'Project Information'!$D$17*H56+H70*'Project Information'!$D$18+'Project Information'!$D$19*H84+H98*'Project Information'!$D$20","v":0},{"$f":"I14*'Project Information'!$D$14+'Project Information'!$D$15*I28+I42*'Project Information'!$D$16+'Project Information'!$D$17*I56+I70*'Project Information'!$D$18+'Project Information'!$D$19*I84+I98*'Project Information'!$D$20","v":0},{"$f":"J14*'Project Information'!$D$14+'Project Information'!$D$15*J28+J42*'Project Information'!$D$16+'Project Information'!$D$17*J56+J70*'Project Information'!$D$18+'Project Information'!$D$19*J84+J98*'Project Information'!$D$20","v":0},{"$f":"K14*'Project Information'!$D$14+'Project Information'!$D$15*K28+K42*'Project Information'!$D$16+'Project Information'!$D$17*K56+K70*'Project Information'!$D$18+'Project Information'!$D$19*K84+K98*'Project Information'!$D$20","v":0},{"$f":"L14*'Project Information'!$D$14+'Project Information'!$D$15*L28+L42*'Project Information'!$D$16+'Project Information'!$D$17*L56+L70*'Project Information'!$D$18+'Project Information'!$D$19*L84+L98*'Project Information'!$D$20","v":0},{"$f":"M14*'Project Information'!$D$14+'Project Information'!$D$15*M28+M42*'Project Information'!$D$16+'Project Information'!$D$17*M56+M70*'Project Information'!$D$18+'Project Information'!$D$19*M84+M98*'Project Information'!$D$20","v":0},{"$f":"N14*'Project Information'!$D$14+'Project Information'!$D$15*N28+N42*'Project Information'!$D$16+'Project Information'!$D$17*N56+N70*'Project Information'!$D$18+'Project Information'!$D$19*N84+N98*'Project Information'!$D$20","v":0},{"$f":"O14*'Project Information'!$D$14+'Project Information'!$D$15*O28+O42*'Project Information'!$D$16+'Project Information'!$D$17*O56+O70*'Project Information'!$D$18+'Project Information'!$D$19*O84+O98*'Project Information'!$D$20","v":0},{"$f":"P14*'Project Information'!$D$14+'Project Information'!$D$15*P28+P42*'Project Information'!$D$16+'Project Information'!$D$17*P56+P70*'Project Information'!$D$18+'Project Information'!$D$19*P84+P98*'Project Information'!$D$20","v":0},{"$f":"Q14*'Project Information'!$D$14+'Project Information'!$D$15*Q28+Q42*'Project Information'!$D$16+'Project Information'!$D$17*Q56+Q70*'Project Information'!$D$18+'Project Information'!$D$19*Q84+Q98*'Project Information'!$D$20","v":0},{"$f":"R14*'Project Information'!$D$14+'Project Information'!$D$15*R28+R42*'Project Information'!$D$16+'Project Information'!$D$17*R56+R70*'Project Information'!$D$18+'Project Information'!$D$19*R84+R98*'Project Information'!$D$20","v":0},{"$f":"S14*'Project Information'!$D$14+'Project Information'!$D$15*S28+S42*'Project Information'!$D$16+'Project Information'!$D$17*S56+S70*'Project Information'!$D$18+'Project Information'!$D$19*S84+S98*'Project Information'!$D$20","v":0},{"$f":"T14*'Project Information'!$D$14+'Project Information'!$D$15*T28+T42*'Project Information'!$D$16+'Project Information'!$D$17*T56+T70*'Project Information'!$D$18+'Project Information'!$D$19*T84+T98*'Project Information'!$D$20","v":0},{"$f":"U14*'Project Information'!$D$14+'Project Information'!$D$15*U28+U42*'Project Information'!$D$16+'Project Information'!$D$17*U56+U70*'Project Information'!$D$18+'Project Information'!$D$19*U84+U98*'Project Information'!$D$20","v":0},{"$f":"V14*'Project Information'!$D$14+'Project Information'!$D$15*V28+V42*'Project Information'!$D$16+'Project Information'!$D$17*V56+V70*'Project Information'!$D$18+'Project Information'!$D$19*V84+V98*'Project Information'!$D$20","v":0},{"$f":"W14*'Project Information'!$D$14+'Project Information'!$D$15*W28+W42*'Project Information'!$D$16+'Project Information'!$D$17*W56+W70*'Project Information'!$D$18+'Project Information'!$D$19*W84+W98*'Project Information'!$D$20","v":0},{"$f":"X14*'Project Information'!$D$14+'Project Information'!$D$15*X28+X42*'Project Information'!$D$16+'Project Information'!$D$17*X56+X70*'Project Information'!$D$18+'Project Information'!$D$19*X84+X98*'Project Information'!$D$20","v":0},{"$f":"Y14*'Project Information'!$D$14+'Project Information'!$D$15*Y28+Y42*'Project Information'!$D$16+'Project Information'!$D$17*Y56+Y70*'Project Information'!$D$18+'Project Information'!$D$19*Y84+Y98*'Project Information'!$D$20","v":0},{"$f":"Z14*'Project Information'!$D$14+'Project Information'!$D$15*Z28+Z42*'Project Information'!$D$16+'Project Information'!$D$17*Z56+Z70*'Project Information'!$D$18+'Project Information'!$D$19*Z84+Z98*'Project Information'!$D$20","v":0},{"$f":"AA14*'Project Information'!$D$14+'Project Information'!$D$15*AA28+AA42*'Project Information'!$D$16+'Project Information'!$D$17*AA56+AA70*'Project Information'!$D$18+'Project Information'!$D$19*AA84+AA98*'Project Information'!$D$20","v":0},{"$f":"AB14*'Project Information'!$D$14+'Project Information'!$D$15*AB28+AB42*'Project Information'!$D$16+'Project Information'!$D$17*AB56+AB70*'Project Information'!$D$18+'Project Information'!$D$19*AB84+AB98*'Project Information'!$D$20","v":0},{"$f":"AC14*'Project Information'!$D$14+'Project Information'!$D$15*AC28+AC42*'Project Information'!$D$16+'Project Information'!$D$17*AC56+AC70*'Project Information'!$D$18+'Project Information'!$D$19*AC84+AC98*'Project Information'!$D$20","v":0}]
["Multiple",80,null,{"$f":"D15*'Project Information'!$D$14+'Project Information'!$D$15*D29+D43*'Project Information'!$D$16+'Project Information'!$D$17*D57+D71*'Project Information'!$D$18+'Project Information'!$D$19*D85+D99*'Project Information'!$D$20","v":0},{"$f":"E15*'Project Information'!$D$14+'Project Information'!$D$15*E29+E43*'Project Information'!$D$16+'Project Information'!$D$17*E57+E71*'Project Information'!$D$18+'Project Information'!$D$19*E85+E99*'Project Information'!$D$20","v":0},{"$f":"F15*'Project Information'!$D$14+'Project Information'!$D$15*F29+F43*'Project Information'!$D$16+'Project Information'!$D$17*F57+F71*'Project Information'!$D$18+'Project Information'!$D$19*F85+F99*'Project Information'!$D$20","v":0},{"$f":"G15*'Project Information'!$D$14+'Project Information'!$D$15*G29+G43*'Project Information'!$D$16+'Project Information'!$D$17*G57+G71*'Project Information'!$D$18+'Project Information'!$D$19*G85+G99*'Project Information'!$D$20","v":0},{"$f":"H15*'Project Information'!$D$14+'Project Information'!$D$15*H29+H43*'Project Information'!$D$16+'Project Information'!$D$17*H57+H71*'Project Information'!$D$18+'Project Information'!$D$19*H85+H99*'Project Information'!$D$20","v":0},{"$f":"I15*'Project Information'!$D$14+'Project Information'!$D$15*I29+I43*'Project Information'!$D$16+'Project Information'!$D$17*I57+I71*'Project Information'!$D$18+'Project Information'!$D$19*I85+I99*'Project Information'!$D$20","v":0},{"$f":"J15*'Project Information'!$D$14+'Project Information'!$D$15*J29+J43*'Project Information'!$D$16+'Project Information'!$D$17*J57+J71*'Project Information'!$D$18+'Project Information'!$D$19*J85+J99*'Project Information'!$D$20","v":0},{"$f":"K15*'Project Information'!$D$14+'Project Information'!$D$15*K29+K43*'Project Information'!$D$16+'Project Information'!$D$17*K57+K71*'Project Information'!$D$18+'Project Information'!$D$19*K85+K99*'Project Information'!$D$20","v":0},{"$f":"L15*'Project Information'!$D$14+'Project Information'!$D$15*L29+L43*'Project Information'!$D$16+'Project Information'!$D$17*L57+L71*'Project Information'!$D$18+'Project Information'!$D$19*L85+L99*'Project Information'!$D$20","v":0},{"$f":"M15*'Project Information'!$D$14+'Project Information'!$D$15*M29+M43*'Project Information'!$D$16+'Project Information'!$D$17*M57+M71*'Project Information'!$D$18+'Project Information'!$D$19*M85+M99*'Project Information'!$D$20","v":0},{"$f":"N15*'Project Information'!$D$14+'Project Information'!$D$15*N29+N43*'Project Information'!$D$16+'Project Information'!$D$17*N57+N71*'Project Information'!$D$18+'Project Information'!$D$19*N85+N99*'Project Information'!$D$20","v":0},{"$f":"O15*'Project Information'!$D$14+'Project Information'!$D$15*O29+O43*'Project Information'!$D$16+'Project Information'!$D$17*O57+O71*'Project Information'!$D$18+'Project Information'!$D$19*O85+O99*'Project Information'!$D$20","v":0},{"$f":"P15*'Project Information'!$D$14+'Project Information'!$D$15*P29+P43*'Project Information'!$D$16+'Project Information'!$D$17*P57+P71*'Project Information'!$D$18+'Project Information'!$D$19*P85+P99*'Project Information'!$D$20","v":0},{"$f":"Q15*'Project Information'!$D$14+'Project Information'!$D$15*Q29+Q43*'Project Information'!$D$16+'Project Information'!$D$17*Q57+Q71*'Project Information'!$D$18+'Project Information'!$D$19*Q85+Q99*'Project Information'!$D$20","v":0},{"$f":"R15*'Project Information'!$D$14+'Project Information'!$D$15*R29+R43*'Project Information'!$D$16+'Project Information'!$D$17*R57+R71*'Project Information'!$D$18+'Project Information'!$D$19*R85+R99*'Project Information'!$D$20","v":0},{"$f":"S15*'Project Information'!$D$14+'Project Information'!$D$15*S29+S43*'Project Information'!$D$16+'Project Information'!$D$17*S57+S71*'Project Information'!$D$18+'Project Information'!$D$19*S85+S99*'Project Information'!$D$20","v":0},{"$f":"T15*'Project Information'!$D$14+'Project Information'!$D$15*T29+T43*'Project Information'!$D$16+'Project Information'!$D$17*T57+T71*'Project Information'!$D$18+'Project Information'!$D$19*T85+T99*'Project Information'!$D$20","v":0},{"$f":"U15*'Project Information'!$D$14+'Project Information'!$D$15*U29+U43*'Project Information'!$D$16+'Project Information'!$D$17*U57+U71*'Project Information'!$D$18+'Project Information'!$D$19*U85+U99*'Project Information'!$D$20","v":0},{"$f":"V15*'Project Information'!$D$14+'Project Information'!$D$15*V29+V43*'Project Information'!$D$16+'Project Information'!$D$17*V57+V71*'Project Information'!$D$18+'Project Information'!$D$19*V85+V99*'Project Information'!$D$20","v":0},{"$f":"W15*'Project Information'!$D$14+'Project Information'!$D$15*W29+W43*'Project Information'!$D$16+'Project Information'!$D$17*W57+W71*'Project Information'!$D$18+'Project Information'!$D$19*W85+W99*'Project Information'!$D$20","v":0},{"$f":"X15*'Project Information'!$D$14+'Project Information'!$D$15*X29+X43*'Project Information'!$D$16+'Project Information'!$D$17*X57+X71*'Project Information'!$D$18+'Project Information'!$D$19*X85+X99*'Project Information'!$D$20","v":0},{"$f":"Y15*'Project Information'!$D$14+'Project Information'!$D$15*Y29+Y43*'Project Information'!$D$16+'Project Information'!$D$17*Y57+Y71*'Project Information'!$D$18+'Project Information'!$D$19*Y85+Y99*'Project Information'!$D$20","v":0},{"$f":"Z15*'Project Information'!$D$14+'Project Information'!$D$15*Z29+Z43*'Project Information'!$D$16+'Project Information'!$D$17*Z57+Z71*'Project Information'!$D$18+'Project Information'!$D$19*Z85+Z99*'Project Information'!$D$20","v":0},{"$f":"AA15*'Project Information'!$D$14+'Project Information'!$D$15*AA29+AA43*'Project Information'!$D$16+'Project Information'!$D$17*AA57+AA71*'Project Information'!$D$18+'Project Information'!$D$19*AA85+AA99*'Project Information'!$D$20","v":0},{"$f":"AB15*'Project Information'!$D$14+'Project Information'!$D$15*AB29+AB43*'Project Information'!$D$16+'Project Information'!$D$17*AB57+AB71*'Project Information'!$D$18+'Project Information'!$D$19*AB85+AB99*'Project Information'!$D$20","v":0},{"$f":"AC15*'Project Information'!$D$14+'Project Information'!$D$15*AC29+AC43*'Project Information'!$D$16+'Project Information'!$D$17*AC57+AC71*'Project Information'!$D$18+'Project Information'!$D$19*AC85+AC99*'Project Information'!$D$20","v":0}]
["Multiple",90,null,{"$f":"D16*'Project Information'!$D$14+'Project Information'!$D$15*D30+D44*'Project Information'!$D$16+'Project Information'!$D$17*D58+D72*'Project Information'!$D$18+'Project Information'!$D$19*D86+D100*'Project Information'!$D$20","v":0},{"$f":"E16*'Project Information'!$D$14+'Project Information'!$D$15*E30+E44*'Project Information'!$D$16+'Project Information'!$D$17*E58+E72*'Project Information'!$D$18+'Project Information'!$D$19*E86+E100*'Project Information'!$D$20","v":0},{"$f":"F16*'Project Information'!$D$14+'Project Information'!$D$15*F30+F44*'Project Information'!$D$16+'Project Information'!$D$17*F58+F72*'Project Information'!$D$18+'Project Information'!$D$19*F86+F100*'Project Information'!$D$20","v":0},{"$f":"G16*'Project Information'!$D$14+'Project Information'!$D$15*G30+G44*'Project Information'!$D$16+'Project Information'!$D$17*G58+G72*'Project Information'!$D$18+'Project Information'!$D$19*G86+G100*'Project Information'!$D$20","v":0},{"$f":"H16*'Project Information'!$D$14+'Project Information'!$D$15*H30+H44*'Project Information'!$D$16+'Project Information'!$D$17*H58+H72*'Project Information'!$D$18+'Project Information'!$D$19*H86+H100*'Project Information'!$D$20","v":0},{"$f":"I16*'Project Information'!$D$14+'Project Information'!$D$15*I30+I44*'Project Information'!$D$16+'Project Information'!$D$17*I58+I72*'Project Information'!$D$18+'Project Information'!$D$19*I86+I100*'Project Information'!$D$20","v":0},{"$f":"J16*'Project Information'!$D$14+'Project Information'!$D$15*J30+J44*'Project Information'!$D$16+'Project Information'!$D$17*J58+J72*'Project Information'!$D$18+'Project Information'!$D$19*J86+J100*'Project Information'!$D$20","v":0},{"$f":"K16*'Project Information'!$D$14+'Project Information'!$D$15*K30+K44*'Project Information'!$D$16+'Project Information'!$D$17*K58+K72*'Project Information'!$D$18+'Project Information'!$D$19*K86+K100*'Project Information'!$D$20","v":0},{"$f":"L16*'Project Information'!$D$14+'Project Information'!$D$15*L30+L44*'Project Information'!$D$16+'Project Information'!$D$17*L58+L72*'Project Information'!$D$18+'Project Information'!$D$19*L86+L100*'Project Information'!$D$20","v":0},{"$f":"M16*'Project Information'!$D$14+'Project Information'!$D$15*M30+M44*'Project Information'!$D$16+'Project Information'!$D$17*M58+M72*'Project Information'!$D$18+'Project Information'!$D$19*M86+M100*'Project Information'!$D$20","v":0},{"$f":"N16*'Project Information'!$D$14+'Project Information'!$D$15*N30+N44*'Project Information'!$D$16+'Project Information'!$D$17*N58+N72*'Project Information'!$D$18+'Project Information'!$D$19*N86+N100*'Project Information'!$D$20","v":0},{"$f":"O16*'Project Information'!$D$14+'Project Information'!$D$15*O30+O44*'Project Information'!$D$16+'Project Information'!$D$17*O58+O72*'Project Information'!$D$18+'Project Information'!$D$19*O86+O100*'Project Information'!$D$20","v":0},{"$f":"P16*'Project Information'!$D$14+'Project Information'!$D$15*P30+P44*'Project Information'!$D$16+'Project Information'!$D$17*P58+P72*'Project Information'!$D$18+'Project Information'!$D$19*P86+P100*'Project Information'!$D$20","v":0},{"$f":"Q16*'Project Information'!$D$14+'Project Information'!$D$15*Q30+Q44*'Project Information'!$D$16+'Project Information'!$D$17*Q58+Q72*'Project Information'!$D$18+'Project Information'!$D$19*Q86+Q100*'Project Information'!$D$20","v":0},{"$f":"R16*'Project Information'!$D$14+'Project Information'!$D$15*R30+R44*'Project Information'!$D$16+'Project Information'!$D$17*R58+R72*'Project Information'!$D$18+'Project Information'!$D$19*R86+R100*'Project Information'!$D$20","v":0},{"$f":"S16*'Project Information'!$D$14+'Project Information'!$D$15*S30+S44*'Project Information'!$D$16+'Project Information'!$D$17*S58+S72*'Project Information'!$D$18+'Project Information'!$D$19*S86+S100*'Project Information'!$D$20","v":0},{"$f":"T16*'Project Information'!$D$14+'Project Information'!$D$15*T30+T44*'Project Information'!$D$16+'Project Information'!$D$17*T58+T72*'Project Information'!$D$18+'Project Information'!$D$19*T86+T100*'Project Information'!$D$20","v":0},{"$f":"U16*'Project Information'!$D$14+'Project Information'!$D$15*U30+U44*'Project Information'!$D$16+'Project Information'!$D$17*U58+U72*'Project Information'!$D$18+'Project Information'!$D$19*U86+U100*'Project Information'!$D$20","v":0},{"$f":"V16*'Project Information'!$D$14+'Project Information'!$D$15*V30+V44*'Project Information'!$D$16+'Project Information'!$D$17*V58+V72*'Project Information'!$D$18+'Project Information'!$D$19*V86+V100*'Project Information'!$D$20","v":0},{"$f":"W16*'Project Information'!$D$14+'Project Information'!$D$15*W30+W44*'Project Information'!$D$16+'Project Information'!$D$17*W58+W72*'Project Information'!$D$18+'Project Information'!$D$19*W86+W100*'Project Information'!$D$20","v":0},{"$f":"X16*'Project Information'!$D$14+'Project Information'!$D$15*X30+X44*'Project Information'!$D$16+'Project Information'!$D$17*X58+X72*'Project Information'!$D$18+'Project Information'!$D$19*X86+X100*'Project Information'!$D$20","v":0},{"$f":"Y16*'Project Information'!$D$14+'Project Information'!$D$15*Y30+Y44*'Project Information'!$D$16+'Project Information'!$D$17*Y58+Y72*'Project Information'!$D$18+'Project Information'!$D$19*Y86+Y100*'Project Information'!$D$20","v":0},{"$f":"Z16*'Project Information'!$D$14+'Project Information'!$D$15*Z30+Z44*'Project Information'!$D$16+'Project Information'!$D$17*Z58+Z72*'Project Information'!$D$18+'Project Information'!$D$19*Z86+Z100*'Project Information'!$D$20","v":0},{"$f":"AA16*'Project Information'!$D$14+'Project Information'!$D$15*AA30+AA44*'Project Information'!$D$16+'Project Information'!$D$17*AA58+AA72*'Project Information'!$D$18+'Project Information'!$D$19*AA86+AA100*'Project Information'!$D$20","v":0},{"$f":"AB16*'Project Information'!$D$14+'Project Information'!$D$15*AB30+AB44*'Project Information'!$D$16+'Project Information'!$D$17*AB58+AB72*'Project Information'!$D$18+'Project Information'!$D$19*AB86+AB100*'Project Information'!$D$20","v":0},{"$f":"AC16*'Project Information'!$D$14+'Project Information'!$D$15*AC30+AC44*'Project Information'!$D$16+'Project Information'!$D$17*AC58+AC72*'Project Information'!$D$18+'Project Information'!$D$19*AC86+AC100*'Project Information'!$D$20","v":0}]
["Multiple",100,null,{"$f":"D17*'Project Information'!$D$14+'Project Information'!$D$15*D31+D45*'Project Information'!$D$16+'Project Information'!$D$17*D59+D73*'Project Information'!$D$18+'Project Information'!$D$19*D87+D101*'Project Information'!$D$20","v":0},{"$f":"E17*'Project Information'!$D$14+'Project Information'!$D$15*E31+E45*'Project Information'!$D$16+'Project Information'!$D$17*E59+E73*'Project Information'!$D$18+'Project Information'!$D$19*E87+E101*'Project Information'!$D$20","v":0},{"$f":"F17*'Project Information'!$D$14+'Project Information'!$D$15*F31+F45*'Project Information'!$D$16+'Project Information'!$D$17*F59+F73*'Project Information'!$D$18+'Project Information'!$D$19*F87+F101*'Project Information'!$D$20","v":0},{"$f":"G17*'Project Information'!$D$14+'Project Information'!$D$15*G31+G45*'Project Information'!$D$16+'Project Information'!$D$17*G59+G73*'Project Information'!$D$18+'Project Information'!$D$19*G87+G101*'Project Information'!$D$20","v":0},{"$f":"H17*'Project Information'!$D$14+'Project Information'!$D$15*H31+H45*'Project Information'!$D$16+'Project Information'!$D$17*H59+H73*'Project Information'!$D$18+'Project Information'!$D$19*H87+H101*'Project Information'!$D$20","v":0},{"$f":"I17*'Project Information'!$D$14+'Project Information'!$D$15*I31+I45*'Project Information'!$D$16+'Project Information'!$D$17*I59+I73*'Project Information'!$D$18+'Project Information'!$D$19*I87+I101*'Project Information'!$D$20","v":0},{"$f":"J17*'Project Information'!$D$14+'Project Information'!$D$15*J31+J45*'Project Information'!$D$16+'Project Information'!$D$17*J59+J73*'Project Information'!$D$18+'Project Information'!$D$19*J87+J101*'Project Information'!$D$20","v":0},{"$f":"K17*'Project Information'!$D$14+'Project Information'!$D$15*K31+K45*'Project Information'!$D$16+'Project Information'!$D$17*K59+K73*'Project Information'!$D$18+'Project Information'!$D$19*K87+K101*'Project Information'!$D$20","v":0},{"$f":"L17*'Project Information'!$D$14+'Project Information'!$D$15*L31+L45*'Project Information'!$D$16+'Project Information'!$D$17*L59+L73*'Project Information'!$D$18+'Project Information'!$D$19*L87+L101*'Project Information'!$D$20","v":0},{"$f":"M17*'Project Information'!$D$14+'Project Information'!$D$15*M31+M45*'Project Information'!$D$16+'Project Information'!$D$17*M59+M73*'Project Information'!$D$18+'Project Information'!$D$19*M87+M101*'Project Information'!$D$20","v":0},{"$f":"N17*'Project Information'!$D$14+'Project Information'!$D$15*N31+N45*'Project Information'!$D$16+'Project Information'!$D$17*N59+N73*'Project Information'!$D$18+'Project Information'!$D$19*N87+N101*'Project Information'!$D$20","v":0},{"$f":"O17*'Project Information'!$D$14+'Project Information'!$D$15*O31+O45*'Project Information'!$D$16+'Project Information'!$D$17*O59+O73*'Project Information'!$D$18+'Project Information'!$D$19*O87+O101*'Project Information'!$D$20","v":0},{"$f":"P17*'Project Information'!$D$14+'Project Information'!$D$15*P31+P45*'Project Information'!$D$16+'Project Information'!$D$17*P59+P73*'Project Information'!$D$18+'Project Information'!$D$19*P87+P101*'Project Information'!$D$20","v":0},{"$f":"Q17*'Project Information'!$D$14+'Project Information'!$D$15*Q31+Q45*'Project Information'!$D$16+'Project Information'!$D$17*Q59+Q73*'Project Information'!$D$18+'Project Information'!$D$19*Q87+Q101*'Project Information'!$D$20","v":0},{"$f":"R17*'Project Information'!$D$14+'Project Information'!$D$15*R31+R45*'Project Information'!$D$16+'Project Information'!$D$17*R59+R73*'Project Information'!$D$18+'Project Information'!$D$19*R87+R101*'Project Information'!$D$20","v":0},{"$f":"S17*'Project Information'!$D$14+'Project Information'!$D$15*S31+S45*'Project Information'!$D$16+'Project Information'!$D$17*S59+S73*'Project Information'!$D$18+'Project Information'!$D$19*S87+S101*'Project Information'!$D$20","v":0},{"$f":"T17*'Project Information'!$D$14+'Project Information'!$D$15*T31+T45*'Project Information'!$D$16+'Project Information'!$D$17*T59+T73*'Project Information'!$D$18+'Project Information'!$D$19*T87+T101*'Project Information'!$D$20","v":0},{"$f":"U17*'Project Information'!$D$14+'Project Information'!$D$15*U31+U45*'Project Information'!$D$16+'Project Information'!$D$17*U59+U73*'Project Information'!$D$18+'Project Information'!$D$19*U87+U101*'Project Information'!$D$20","v":0},{"$f":"V17*'Project Information'!$D$14+'Project Information'!$D$15*V31+V45*'Project Information'!$D$16+'Project Information'!$D$17*V59+V73*'Project Information'!$D$18+'Project Information'!$D$19*V87+V101*'Project Information'!$D$20","v":0},{"$f":"W17*'Project Information'!$D$14+'Project Information'!$D$15*W31+W45*'Project Information'!$D$16+'Project Information'!$D$17*W59+W73*'Project Information'!$D$18+'Project Information'!$D$19*W87+W101*'Project Information'!$D$20","v":0},{"$f":"X17*'Project Information'!$D$14+'Project Information'!$D$15*X31+X45*'Project Information'!$D$16+'Project Information'!$D$17*X59+X73*'Project Information'!$D$18+'Project Information'!$D$19*X87+X101*'Project Information'!$D$20","v":0},{"$f":"Y17*'Project Information'!$D$14+'Project Information'!$D$15*Y31+Y45*'Project Information'!$D$16+'Project Information'!$D$17*Y59+Y73*'Project Information'!$D$18+'Project Information'!$D$19*Y87+Y101*'Project Information'!$D$20","v":0},{"$f":"Z17*'Project Information'!$D$14+'Project Information'!$D$15*Z31+Z45*'Project Information'!$D$16+'Project Information'!$D$17*Z59+Z73*'Project Information'!$D$18+'Project Information'!$D$19*Z87+Z101*'Project Information'!$D$20","v":0},{"$f":"AA17*'Project Information'!$D$14+'Project Information'!$D$15*AA31+AA45*'Project Information'!$D$16+'Project Information'!$D$17*AA59+AA73*'Project Information'!$D$18+'Project Information'!$D$19*AA87+AA101*'Project Information'!$D$20","v":0},{"$f":"AB17*'Project Information'!$D$14+'Project Information'!$D$15*AB31+AB45*'Project Information'!$D$16+'Project Information'!$D$17*AB59+AB73*'Project Information'!$D$18+'Project Information'!$D$19*AB87+AB101*'Project Information'!$D$20","v":0},{"$f":"AC17*'Project Information'!$D$14+'Project Information'!$D$15*AC31+AC45*'Project Information'!$D$16+'Project Information'!$D$17*AC59+AC73*'Project Information'!$D$18+'Project Information'!$D$19*AC87+AC101*'Project Information'!$D$20","v":0}]
["Multiple",110,null,{"$f":"D18*'Project Information'!$D$14+'Project Information'!$D$15*D32+D46*'Project Information'!$D$16+'Project Information'!$D$17*D60+D74*'Project Information'!$D$18+'Project Information'!$D$19*D88+D102*'Project Information'!$D$20","v":0},{"$f":"E18*'Project Information'!$D$14+'Project Information'!$D$15*E32+E46*'Project Information'!$D$16+'Project Information'!$D$17*E60+E74*'Project Information'!$D$18+'Project Information'!$D$19*E88+E102*'Project Information'!$D$20","v":0},{"$f":"F18*'Project Information'!$D$14+'Project Information'!$D$15*F32+F46*'Project Information'!$D$16+'Project Information'!$D$17*F60+F74*'Project Information'!$D$18+'Project Information'!$D$19*F88+F102*'Project Information'!$D$20","v":0},{"$f":"G18*'Project Information'!$D$14+'Project Information'!$D$15*G32+G46*'Project Information'!$D$16+'Project Information'!$D$17*G60+G74*'Project Information'!$D$18+'Project Information'!$D$19*G88+G102*'Project Information'!$D$20","v":0},{"$f":"H18*'Project Information'!$D$14+'Project Information'!$D$15*H32+H46*'Project Information'!$D$16+'Project Information'!$D$17*H60+H74*'Project Information'!$D$18+'Project Information'!$D$19*H88+H102*'Project Information'!$D$20","v":0},{"$f":"I18*'Project Information'!$D$14+'Project Information'!$D$15*I32+I46*'Project Information'!$D$16+'Project Information'!$D$17*I60+I74*'Project Information'!$D$18+'Project Information'!$D$19*I88+I102*'Project Information'!$D$20","v":0},{"$f":"J18*'Project Information'!$D$14+'Project Information'!$D$15*J32+J46*'Project Information'!$D$16+'Project Information'!$D$17*J60+J74*'Project Information'!$D$18+'Project Information'!$D$19*J88+J102*'Project Information'!$D$20","v":0},{"$f":"K18*'Project Information'!$D$14+'Project Information'!$D$15*K32+K46*'Project Information'!$D$16+'Project Information'!$D$17*K60+K74*'Project Information'!$D$18+'Project Information'!$D$19*K88+K102*'Project Information'!$D$20","v":0},{"$f":"L18*'Project Information'!$D$14+'Project Information'!$D$15*L32+L46*'Project Information'!$D$16+'Project Information'!$D$17*L60+L74*'Project Information'!$D$18+'Project Information'!$D$19*L88+L102*'Project Information'!$D$20","v":0},{"$f":"M18*'Project Information'!$D$14+'Project Information'!$D$15*M32+M46*'Project Information'!$D$16+'Project Information'!$D$17*M60+M74*'Project Information'!$D$18+'Project Information'!$D$19*M88+M102*'Project Information'!$D$20","v":0},{"$f":"N18*'Project Information'!$D$14+'Project Information'!$D$15*N32+N46*'Project Information'!$D$16+'Project Information'!$D$17*N60+N74*'Project Information'!$D$18+'Project Information'!$D$19*N88+N102*'Project Information'!$D$20","v":0},{"$f":"O18*'Project Information'!$D$14+'Project Information'!$D$15*O32+O46*'Project Information'!$D$16+'Project Information'!$D$17*O60+O74*'Project Information'!$D$18+'Project Information'!$D$19*O88+O102*'Project Information'!$D$20","v":0},{"$f":"P18*'Project Information'!$D$14+'Project Information'!$D$15*P32+P46*'Project Information'!$D$16+'Project Information'!$D$17*P60+P74*'Project Information'!$D$18+'Project Information'!$D$19*P88+P102*'Project Information'!$D$20","v":0},{"$f":"Q18*'Project Information'!$D$14+'Project Information'!$D$15*Q32+Q46*'Project Information'!$D$16+'Project Information'!$D$17*Q60+Q74*'Project Information'!$D$18+'Project Information'!$D$19*Q88+Q102*'Project Information'!$D$20","v":0},{"$f":"R18*'Project Information'!$D$14+'Project Information'!$D$15*R32+R46*'Project Information'!$D$16+'Project Information'!$D$17*R60+R74*'Project Information'!$D$18+'Project Information'!$D$19*R88+R102*'Project Information'!$D$20","v":0},{"$f":"S18*'Project Information'!$D$14+'Project Information'!$D$15*S32+S46*'Project Information'!$D$16+'Project Information'!$D$17*S60+S74*'Project Information'!$D$18+'Project Information'!$D$19*S88+S102*'Project Information'!$D$20","v":0},{"$f":"T18*'Project Information'!$D$14+'Project Information'!$D$15*T32+T46*'Project Information'!$D$16+'Project Information'!$D$17*T60+T74*'Project Information'!$D$18+'Project Information'!$D$19*T88+T102*'Project Information'!$D$20","v":0},{"$f":"U18*'Project Information'!$D$14+'Project Information'!$D$15*U32+U46*'Project Information'!$D$16+'Project Information'!$D$17*U60+U74*'Project Information'!$D$18+'Project Information'!$D$19*U88+U102*'Project Information'!$D$20","v":0},{"$f":"V18*'Project Information'!$D$14+'Project Information'!$D$15*V32+V46*'Project Information'!$D$16+'Project Information'!$D$17*V60+V74*'Project Information'!$D$18+'Project Information'!$D$19*V88+V102*'Project Information'!$D$20","v":0},{"$f":"W18*'Project Information'!$D$14+'Project Information'!$D$15*W32+W46*'Project Information'!$D$16+'Project Information'!$D$17*W60+W74*'Project Information'!$D$18+'Project Information'!$D$19*W88+W102*'Project Information'!$D$20","v":0},{"$f":"X18*'Project Information'!$D$14+'Project Information'!$D$15*X32+X46*'Project Information'!$D$16+'Project Information'!$D$17*X60+X74*'Project Information'!$D$18+'Project Information'!$D$19*X88+X102*'Project Information'!$D$20","v":0},{"$f":"Y18*'Project Information'!$D$14+'Project Information'!$D$15*Y32+Y46*'Project Information'!$D$16+'Project Information'!$D$17*Y60+Y74*'Project Information'!$D$18+'Project Information'!$D$19*Y88+Y102*'Project Information'!$D$20","v":0},{"$f":"Z18*'Project Information'!$D$14+'Project Information'!$D$15*Z32+Z46*'Project Information'!$D$16+'Project Information'!$D$17*Z60+Z74*'Project Information'!$D$18+'Project Information'!$D$19*Z88+Z102*'Project Information'!$D$20","v":0},{"$f":"AA18*'Project Information'!$D$14+'Project Information'!$D$15*AA32+AA46*'Project Information'!$D$16+'Project Information'!$D$17*AA60+AA74*'Project Information'!$D$18+'Project Information'!$D$19*AA88+AA102*'Project Information'!$D$20","v":0},{"$f":"AB18*'Project Information'!$D$14+'Project Information'!$D$15*AB32+AB46*'Project Information'!$D$16+'Project Information'!$D$17*AB60+AB74*'Project Information'!$D$18+'Project Information'!$D$19*AB88+AB102*'Project Information'!$D$20","v":0},{"$f":"AC18*'Project Information'!$D$14+'Project Information'!$D$15*AC32+AC46*'Project Information'!$D$16+'Project Information'!$D$17*AC60+AC74*'Project Information'!$D$18+'Project Information'!$D$19*AC88+AC102*'Project Information'!$D$20","v":0}]
["Multiple",120,null,{"$f":"D19*'Project Information'!$D$14+'Project Information'!$D$15*D33+D47*'Project Information'!$D$16+'Project Information'!$D$17*D61+D75*'Project Information'!$D$18+'Project Information'!$D$19*D89+D103*'Project Information'!$D$20","v":0},{"$f":"E19*'Project Information'!$D$14+'Project Information'!$D$15*E33+E47*'Project Information'!$D$16+'Project Information'!$D$17*E61+E75*'Project Information'!$D$18+'Project Information'!$D$19*E89+E103*'Project Information'!$D$20","v":0},{"$f":"F19*'Project Information'!$D$14+'Project Information'!$D$15*F33+F47*'Project Information'!$D$16+'Project Information'!$D$17*F61+F75*'Project Information'!$D$18+'Project Information'!$D$19*F89+F103*'Project Information'!$D$20","v":0},{"$f":"G19*'Project Information'!$D$14+'Project Information'!$D$15*G33+G47*'Project Information'!$D$16+'Project Information'!$D$17*G61+G75*'Project Information'!$D$18+'Project Information'!$D$19*G89+G103*'Project Information'!$D$20","v":0},{"$f":"H19*'Project Information'!$D$14+'Project Information'!$D$15*H33+H47*'Project Information'!$D$16+'Project Information'!$D$17*H61+H75*'Project Information'!$D$18+'Project Information'!$D$19*H89+H103*'Project Information'!$D$20","v":0},{"$f":"I19*'Project Information'!$D$14+'Project Information'!$D$15*I33+I47*'Project Information'!$D$16+'Project Information'!$D$17*I61+I75*'Project Information'!$D$18+'Project Information'!$D$19*I89+I103*'Project Information'!$D$20","v":0},{"$f":"J19*'Project Information'!$D$14+'Project Information'!$D$15*J33+J47*'Project Information'!$D$16+'Project Information'!$D$17*J61+J75*'Project Information'!$D$18+'Project Information'!$D$19*J89+J103*'Project Information'!$D$20","v":0},{"$f":"K19*'Project Information'!$D$14+'Project Information'!$D$15*K33+K47*'Project Information'!$D$16+'Project Information'!$D$17*K61+K75*'Project Information'!$D$18+'Project Information'!$D$19*K89+K103*'Project Information'!$D$20","v":0},{"$f":"L19*'Project Information'!$D$14+'Project Information'!$D$15*L33+L47*'Project Information'!$D$16+'Project Information'!$D$17*L61+L75*'Project Information'!$D$18+'Project Information'!$D$19*L89+L103*'Project Information'!$D$20","v":0},{"$f":"M19*'Project Information'!$D$14+'Project Information'!$D$15*M33+M47*'Project Information'!$D$16+'Project Information'!$D$17*M61+M75*'Project Information'!$D$18+'Project Information'!$D$19*M89+M103*'Project Information'!$D$20","v":0},{"$f":"N19*'Project Information'!$D$14+'Project Information'!$D$15*N33+N47*'Project Information'!$D$16+'Project Information'!$D$17*N61+N75*'Project Information'!$D$18+'Project Information'!$D$19*N89+N103*'Project Information'!$D$20","v":0},{"$f":"O19*'Project Information'!$D$14+'Project Information'!$D$15*O33+O47*'Project Information'!$D$16+'Project Information'!$D$17*O61+O75*'Project Information'!$D$18+'Project Information'!$D$19*O89+O103*'Project Information'!$D$20","v":0},{"$f":"P19*'Project Information'!$D$14+'Project Information'!$D$15*P33+P47*'Project Information'!$D$16+'Project Information'!$D$17*P61+P75*'Project Information'!$D$18+'Project Information'!$D$19*P89+P103*'Project Information'!$D$20","v":0},{"$f":"Q19*'Project Information'!$D$14+'Project Information'!$D$15*Q33+Q47*'Project Information'!$D$16+'Project Information'!$D$17*Q61+Q75*'Project Information'!$D$18+'Project Information'!$D$19*Q89+Q103*'Project Information'!$D$20","v":0},{"$f":"R19*'Project Information'!$D$14+'Project Information'!$D$15*R33+R47*'Project Information'!$D$16+'Project Information'!$D$17*R61+R75*'Project Information'!$D$18+'Project Information'!$D$19*R89+R103*'Project Information'!$D$20","v":0},{"$f":"S19*'Project Information'!$D$14+'Project Information'!$D$15*S33+S47*'Project Information'!$D$16+'Project Information'!$D$17*S61+S75*'Project Information'!$D$18+'Project Information'!$D$19*S89+S103*'Project Information'!$D$20","v":0},{"$f":"T19*'Project Information'!$D$14+'Project Information'!$D$15*T33+T47*'Project Information'!$D$16+'Project Information'!$D$17*T61+T75*'Project Information'!$D$18+'Project Information'!$D$19*T89+T103*'Project Information'!$D$20","v":0},{"$f":"U19*'Project Information'!$D$14+'Project Information'!$D$15*U33+U47*'Project Information'!$D$16+'Project Information'!$D$17*U61+U75*'Project Information'!$D$18+'Project Information'!$D$19*U89+U103*'Project Information'!$D$20","v":0},{"$f":"V19*'Project Information'!$D$14+'Project Information'!$D$15*V33+V47*'Project Information'!$D$16+'Project Information'!$D$17*V61+V75*'Project Information'!$D$18+'Project Information'!$D$19*V89+V103*'Project Information'!$D$20","v":0},{"$f":"W19*'Project Information'!$D$14+'Project Information'!$D$15*W33+W47*'Project Information'!$D$16+'Project Information'!$D$17*W61+W75*'Project Information'!$D$18+'Project Information'!$D$19*W89+W103*'Project Information'!$D$20","v":0},{"$f":"X19*'Project Information'!$D$14+'Project Information'!$D$15*X33+X47*'Project Information'!$D$16+'Project Information'!$D$17*X61+X75*'Project Information'!$D$18+'Project Information'!$D$19*X89+X103*'Project Information'!$D$20","v":0},{"$f":"Y19*'Project Information'!$D$14+'Project Information'!$D$15*Y33+Y47*'Project Information'!$D$16+'Project Information'!$D$17*Y61+Y75*'Project Information'!$D$18+'Project Information'!$D$19*Y89+Y103*'Project Information'!$D$20","v":0},{"$f":"Z19*'Project Information'!$D$14+'Project Information'!$D$15*Z33+Z47*'Project Information'!$D$16+'Project Information'!$D$17*Z61+Z75*'Project Information'!$D$18+'Project Information'!$D$19*Z89+Z103*'Project Information'!$D$20","v":0},{"$f":"AA19*'Project Information'!$D$14+'Project Information'!$D$15*AA33+AA47*'Project Information'!$D$16+'Project Information'!$D$17*AA61+AA75*'Project Information'!$D$18+'Project Information'!$D$19*AA89+AA103*'Project Information'!$D$20","v":0},{"$f":"AB19*'Project Information'!$D$14+'Project Information'!$D$15*AB33+AB47*'Project Information'!$D$16+'Project Information'!$D$17*AB61+AB75*'Project Information'!$D$18+'Project Information'!$D$19*AB89+AB103*'Project Information'!$D$20","v":0},{"$f":"AC19*'Project Information'!$D$14+'Project Information'!$D$15*AC33+AC47*'Project Information'!$D$16+'Project Information'!$D$17*AC61+AC75*'Project Information'!$D$18+'Project Information'!$D$19*AC89+AC103*'Project Information'!$D$20","v":0}]
["Multiple",130,null,{"$f":"D20*'Project Information'!$D$14+'Project Information'!$D$15*D34+D48*'Project Information'!$D$16+'Project Information'!$D$17*D62+D76*'Project Information'!$D$18+'Project Information'!$D$19*D90+D104*'Project Information'!$D$20","v":0},{"$f":"E20*'Project Information'!$D$14+'Project Information'!$D$15*E34+E48*'Project Information'!$D$16+'Project Information'!$D$17*E62+E76*'Project Information'!$D$18+'Project Information'!$D$19*E90+E104*'Project Information'!$D$20","v":0},{"$f":"F20*'Project Information'!$D$14+'Project Information'!$D$15*F34+F48*'Project Information'!$D$16+'Project Information'!$D$17*F62+F76*'Project Information'!$D$18+'Project Information'!$D$19*F90+F104*'Project Information'!$D$20","v":0},{"$f":"G20*'Project Information'!$D$14+'Project Information'!$D$15*G34+G48*'Project Information'!$D$16+'Project Information'!$D$17*G62+G76*'Project Information'!$D$18+'Project Information'!$D$19*G90+G104*'Project Information'!$D$20","v":0},{"$f":"H20*'Project Information'!$D$14+'Project Information'!$D$15*H34+H48*'Project Information'!$D$16+'Project Information'!$D$17*H62+H76*'Project Information'!$D$18+'Project Information'!$D$19*H90+H104*'Project Information'!$D$20","v":0},{"$f":"I20*'Project Information'!$D$14+'Project Information'!$D$15*I34+I48*'Project Information'!$D$16+'Project Information'!$D$17*I62+I76*'Project Information'!$D$18+'Project Information'!$D$19*I90+I104*'Project Information'!$D$20","v":0},{"$f":"J20*'Project Information'!$D$14+'Project Information'!$D$15*J34+J48*'Project Information'!$D$16+'Project Information'!$D$17*J62+J76*'Project Information'!$D$18+'Project Information'!$D$19*J90+J104*'Project Information'!$D$20","v":0},{"$f":"K20*'Project Information'!$D$14+'Project Information'!$D$15*K34+K48*'Project Information'!$D$16+'Project Information'!$D$17*K62+K76*'Project Information'!$D$18+'Project Information'!$D$19*K90+K104*'Project Information'!$D$20","v":0},{"$f":"L20*'Project Information'!$D$14+'Project Information'!$D$15*L34+L48*'Project Information'!$D$16+'Project Information'!$D$17*L62+L76*'Project Information'!$D$18+'Project Information'!$D$19*L90+L104*'Project Information'!$D$20","v":0},{"$f":"M20*'Project Information'!$D$14+'Project Information'!$D$15*M34+M48*'Project Information'!$D$16+'Project Information'!$D$17*M62+M76*'Project Information'!$D$18+'Project Information'!$D$19*M90+M104*'Project Information'!$D$20","v":0},{"$f":"N20*'Project Information'!$D$14+'Project Information'!$D$15*N34+N48*'Project Information'!$D$16+'Project Information'!$D$17*N62+N76*'Project Information'!$D$18+'Project Information'!$D$19*N90+N104*'Project Information'!$D$20","v":0},{"$f":"O20*'Project Information'!$D$14+'Project Information'!$D$15*O34+O48*'Project Information'!$D$16+'Project Information'!$D$17*O62+O76*'Project Information'!$D$18+'Project Information'!$D$19*O90+O104*'Project Information'!$D$20","v":0},{"$f":"P20*'Project Information'!$D$14+'Project Information'!$D$15*P34+P48*'Project Information'!$D$16+'Project Information'!$D$17*P62+P76*'Project Information'!$D$18+'Project Information'!$D$19*P90+P104*'Project Information'!$D$20","v":0},{"$f":"Q20*'Project Information'!$D$14+'Project Information'!$D$15*Q34+Q48*'Project Information'!$D$16+'Project Information'!$D$17*Q62+Q76*'Project Information'!$D$18+'Project Information'!$D$19*Q90+Q104*'Project Information'!$D$20","v":0},{"$f":"R20*'Project Information'!$D$14+'Project Information'!$D$15*R34+R48*'Project Information'!$D$16+'Project Information'!$D$17*R62+R76*'Project Information'!$D$18+'Project Information'!$D$19*R90+R104*'Project Information'!$D$20","v":0},{"$f":"S20*'Project Information'!$D$14+'Project Information'!$D$15*S34+S48*'Project Information'!$D$16+'Project Information'!$D$17*S62+S76*'Project Information'!$D$18+'Project Information'!$D$19*S90+S104*'Project Information'!$D$20","v":0},{"$f":"T20*'Project Information'!$D$14+'Project Information'!$D$15*T34+T48*'Project Information'!$D$16+'Project Information'!$D$17*T62+T76*'Project Information'!$D$18+'Project Information'!$D$19*T90+T104*'Project Information'!$D$20","v":0},{"$f":"U20*'Project Information'!$D$14+'Project Information'!$D$15*U34+U48*'Project Information'!$D$16+'Project Information'!$D$17*U62+U76*'Project Information'!$D$18+'Project Information'!$D$19*U90+U104*'Project Information'!$D$20","v":0},{"$f":"V20*'Project Information'!$D$14+'Project Information'!$D$15*V34+V48*'Project Information'!$D$16+'Project Information'!$D$17*V62+V76*'Project Information'!$D$18+'Project Information'!$D$19*V90+V104*'Project Information'!$D$20","v":0},{"$f":"W20*'Project Information'!$D$14+'Project Information'!$D$15*W34+W48*'Project Information'!$D$16+'Project Information'!$D$17*W62+W76*'Project Information'!$D$18+'Project Information'!$D$19*W90+W104*'Project Information'!$D$20","v":0},{"$f":"X20*'Project Information'!$D$14+'Project Information'!$D$15*X34+X48*'Project Information'!$D$16+'Project Information'!$D$17*X62+X76*'Project Information'!$D$18+'Project Information'!$D$19*X90+X104*'Project Information'!$D$20","v":0},{"$f":"Y20*'Project Information'!$D$14+'Project Information'!$D$15*Y34+Y48*'Project Information'!$D$16+'Project Information'!$D$17*Y62+Y76*'Project Information'!$D$18+'Project Information'!$D$19*Y90+Y104*'Project Information'!$D$20","v":0},{"$f":"Z20*'Project Information'!$D$14+'Project Information'!$D$15*Z34+Z48*'Project Information'!$D$16+'Project Information'!$D$17*Z62+Z76*'Project Information'!$D$18+'Project Information'!$D$19*Z90+Z104*'Project Information'!$D$20","v":0},{"$f":"AA20*'Project Information'!$D$14+'Project Information'!$D$15*AA34+AA48*'Project Information'!$D$16+'Project Information'!$D$17*AA62+AA76*'Project Information'!$D$18+'Project Information'!$D$19*AA90+AA104*'Project Information'!$D$20","v":0},{"$f":"AB20*'Project Information'!$D$14+'Project Information'!$D$15*AB34+AB48*'Project Information'!$D$16+'Project Information'!$D$17*AB62+AB76*'Project Information'!$D$18+'Project Information'!$D$19*AB90+AB104*'Project Information'!$D$20","v":0},{"$f":"AC20*'Project Information'!$D$14+'Project Information'!$D$15*AC34+AC48*'Project Information'!$D$16+'Project Information'!$D$17*AC62+AC76*'Project Information'!$D$18+'Project Information'!$D$19*AC90+AC104*'Project Information'!$D$20","v":0}]
["Other","40 kip 4-axle S.U. Truck/Rural Interstate",null,3.3952589999999998E-2,3.3952589999999998E-2,3.3952589999999998E-2,3.3952589999999998E-2,3.3952589999999998E-2,3.3952589999999998E-2,3.3952589999999998E-2,3.3952589999999998E-2,3.3952589999999998E-2,3.3952589999999998E-2,3.3952589999999998E-2,3.3952589999999998E-2,3.3952589999999998E-2,3.3952589999999998E-2,3.3952589999999998E-2,3.3952589999999998E-2,3.3952589999999998E-2,3.3952589999999998E-2,3.3952589999999998E-2,3.3952589999999998E-2,3.3952589999999998E-2,3.3952589999999998E-2,3.3952589999999998E-2,3.3952589999999998E-2,3.3952589999999998E-2,3.3952589999999998E-2]
["Other","40 kip 4-axle S.U. Truck/Urban Interstate",null,0.339248736,0.339248736,0.339248736,0.339248736,0.339248736,0.339248736,0.339248736,0.339248736,0.339248736,0.339248736,0.339248736,0.339248736,0.339248736,0.339248736,0.339248736,0.339248736,0.339248736,0.339248736,0.339248736,0.339248736,0.339248736,0.339248736,0.339248736,0.339248736,0.339248736,0.339248736]
["Other","60 kip 4-axle S.U. Truck/Rural Interstate",null,4.5316313999999996E-2,4.5316313999999996E-2,4.5316313999999996E-2,4.5316313999999996E-2,4.5316313999999996E-2,4.5316313999999996E-2,4.5316313999999996E-2,4.5316313999999996E-2,4.5316313999999996E-2,4.5316313999999996E-2,4.5316313999999996E-2,4.5316313999999996E-2,4.5316313999999996E-2,4.5316313999999996E-2,4.5316313999999996E-2,4.5316313999999996E-2,4.5316313999999996E-2,4.5316313999999996E-2,4.5316313999999996E-2,4.5316313999999996E-2,4.5316313999999996E-2,4.5316313999999996E-2,4.5316313999999996E-2,4.5316313999999996E-2,4.5316313999999996E-2,4.5316313999999996E-2]
["Other","60 kip 4-axle S.U. Truck/Urban Interstate",null,0.45233164799999998,0.45233164799999998,0.45233164799999998,0.45233164799999998,0.45233164799999998,0.45233164799999998,0.45233164799999998,0.45233164799999998,0.45233164799999998,0.45233164799999998,0.45233164799999998,0.45233164799999998,0.45233164799999998,0.45233164799999998,0.45233164799999998,0.45233164799999998,0.45233164799999998,0.45233164799999998,0.45233164799999998,0.45233164799999998,0.45233164799999998,0.45233164799999998,0.45233164799999998,0.45233164799999998,0.45233164799999998,0.45233164799999998]
["Other","60 kip 5-axle Comb/Rural Interstate",null,2.6053415999999996E-2,2.6053415999999996E-2,2.6053415999999996E-2,2.6053415999999996E-2,2.6053415999999996E-2,2.6053415999999996E-2,2.6053415999999996E-2,2.6053415999999996E-2,2.6053415999999996E-2,2.6053415999999996E-2,2.6053415999999996E-2,2.6053415999999996E-2,2.6053415999999996E-2,2.6053415999999996E-2,2.6053415999999996E-2,2.6053415999999996E-2,2.6053415999999996E-2,2.6053415999999996E-2,2.6053415999999996E-2,2.6053415999999996E-2,2.6053415999999996E-2,2.6053415999999996E-2,2.6053415999999996E-2,2.6053415999999996E-2,2.6053415999999996E-2,2.6053415999999996E-2]
["Other","60 kip 5-axle Comb/Urban Interstate",null,0.25485229799999998,0.25485229799999998,0.25485229799999998,0.25485229799999998,0.25485229799999998,0.25485229799999998,0.25485229799999998,0.25485229799999998,0.25485229799999998,0.25485229799999998,0.25485229799999998,0.25485229799999998,0.25485229799999998,0.25485229799999998,0.25485229799999998,0.25485229799999998,0.25485229799999998,0.25485229799999998,0.25485229799999998,0.25485229799999998,0.25485229799999998,0.25485229799999998,0.25485229799999998,0.25485229799999998,0.25485229799999998,0.25485229799999998]
["Other","80 kip 5-axle Comb/Rural Interstate",null,3.0903785999999999E-2,3.0903785999999999E-2,3.0903785999999999E-2,3.0903785999999999E-2,3.0903785999999999E-2,3.0903785999999999E-2,3.0903785999999999E-2,3.0903785999999999E-2,3.0903785999999999E-2,3.0903785999999999E-2,3.0903785999999999E-2,3.0903785999999999E-2,3.0903785999999999E-2,3.0903785999999999E-2,3.0903785999999999E-2,3.0903785999999999E-2,3.0903785999999999E-2,3.0903785999999999E-2,3.0903785999999999E-2,3.0903785999999999E-2,3.0903785999999999E-2,3.0903785999999999E-2,3.0903785999999999E-2,3.0903785999999999E-2,3.0903785999999999E-2,3.0903785999999999E-2]
["Other","80 kip 5-axle Comb/Urban Interstate",null,0.27799549199999996,0.27799549199999996,0.27799549199999996,0.27799549199999996,0.27799549199999996,0.27799549199999996,0.27799549199999996,0.27799549199999996,0.27799549199999996,0.27799549199999996,0.27799549199999996,0.27799549199999996,0.27799549199999996,0.27799549199999996,0.27799549199999996,0.27799549199999996,0.27799549199999996,0.27799549199999996,0.27799549199999996,0.27799549199999996,0.27799549199999996,0.27799549199999996,0.27799549199999996,0.27799549199999996,0.27799549199999996,0.27800000000000002]
[]
[]
[]
[]
[]
[]
[]
[]
[]
[]
[]
[]
[]
[]
[]
[]
[]
[]
[]
[]
[]
[]
["Heartland"]
["Crescent"]
["National Gateway"]
["Southeast HSR"]

{"sheet":"Intermediate Pass Calcs","index":10,"n_rows":89,"n_cols":12,"rows_kept":89,"cut":false,"hidden":false,"merged":[[61,2,61,4],[0,1,0,9],[31,2,31,4],[33,5,33,9],[31,5,31,11]]}
[null,"Congestion Cost"]
[null,"Reduction in Passenger VMT","Reduction in vehicles on highway (Amtrak)","Reduction in vehicles on highway (VRE)","Reduction in Vehicles Total","Round Down","Round Up","Min Congest Cost","Min Congest Cost","Interpolated Congestion Cost"]
[null,"Calculates the mileage that passengers who plan to switch to rail travel will no longer be driving. These miles are those traveled in Virginia only.   ","Calculates the number of vehicles that are no longer causing vehicle traffic congestion because the passenger(s) have switched from highway vehicle(s) to Amtrak rail travel.  ","Calculates the number of vehicles that are no longer causing vehicle traffic congestion because the passenger(s) have switched from highway vehicle(s) to  VRE rail travel.  ",null,"Rounds the number of miles down to the nearest 20","Rounds the number of trucks up to the nearest 20","Looks up the Congestion Cost based on rounded down vehicle number reduction, highway and year","Looks up the Congestion Cost based on rounded up vehicle number reduction, capped at 260, highway and year"]
["Year","(Reduction in vehicles on highway (Amtrak Shift) + Reduction in vehicles on highway (VRE Shift) )  * (Automobile trip length)","(Annual Amtrak passengers  (after project) - Annual Amtrak passengers (existing))/ Vehicle Occupancy Rate","(Annual VRE passengers  (after project) - Annual Amtrak/VRE passengers (existing))/ Vehicle Occupancy Rate","Total of Amtrak and VRE Vehicle Reduction"]
[{"$f":"IF('Project Information'!C9>2040, \"No Values Available\", 'Project Information'!C8)","v":0},{"$f":"IF(A5=\"No Values Available\",\"No Values\",(C5*'Project Information'!$C$58+D5*'Project Information'!$D$58))","v":0},{"$f":"IF(A5=\"No Values Available\",\"No Values\",('Railcar and Passenger Demand'!F2-'Railcar and Passenger Demand'!$F$2)/'BCA Values Passenger'!$D$4)","v":0},{"$f":"IF(A5=\"No Values Available\",\"No Values\",('Railcar and Passenger Demand'!H2-'Railcar and Passenger Demand'!$H$2)/'BCA Values Passenger'!$D$4)","v":0},{"$f":"IF(D5=\"No Values\",\"No Values\",((C5+D5)/250))","v":0},{"$f":"IF(A5=\"No Values Available\",\"No Values\",IF(E5>260,260,(IF(E5<0,0,FLOOR(E5,20)))))","v":0},{"$f":"IF(A5=\"No Values Available\",\"No Values\",IF(E5>260,260,IF(E5<0,0,CEILING(E5,20))))","v":0},{"$f":"VLOOKUP(F5,'BCA Values Passenger Congestion'!$B$105:$AC$119,'Project Information'!$C$8-2012,FALSE)","v":{"$error":"#VALUE!"}},{"$f":"VLOOKUP(G5,'BCA Values Passenger Congestion'!$B$105:$AC$119,'Project Information'!$C$8-2012,FALSE)","v":{"$error":"#VALUE!"}},{"$f":"IFERROR(IF(F5=G5,H5,(H5+(I5-H5)*((E5-F5)/(G5-F5)))),\"\")","v":""}]
[{"$f":"IFERROR((IF(A5+1>2040,\"No Values Available\",A5+1)),\"No Values Available\")","v":1},{"$f":"IF(A6=\"No Values Available\",\"No Values\",(C6*'Project Information'!$C$58+D6*'Project Information'!$D$58))","v":0},{"$f":"IF(A6=\"No Values Available\",\"No Values\",('Railcar and Passenger Demand'!F3-'Railcar and Passenger Demand'!$F$2)/'BCA Values Passenger'!$D$4)","v":0},{"$f":"IF(A6=\"No Values Available\",\"No Values\",('Railcar and Passenger Demand'!H3-'Railcar and Passenger Demand'!$H$2)/'BCA Values Passenger'!$D$4)","v":0},{"$f":"IF(D6=\"No Values\",\"No Values\",(C6+D6)/250)","v":0},{"$f":"IF(A6=\"No Values Available\",\"No Values\",IF(E6>260,260,(IF(E6<0,0,FLOOR(E6,20)))))","v":0},{"$f":"IF(A6=\"No Values Available\",\"No Values\",IF(E6>260,260,IF(E6<0,0,CEILING(E6,20))))","v":0},{"$f":"VLOOKUP(F6,'BCA Values Passenger Congestion'!$B$105:$AC$119,'Project Information'!$C$8-2011,FALSE)","v":{"$error":"#VALUE!"}},{"$f":"VLOOKUP(G6,'BCA Values Passenger Congestion'!$B$105:$AC$119,'Project Information'!$C$8-2011,FALSE)","v":{"$error":"#VALUE!"}},""]
[{"$f":"IFERROR((IF(A6+1>2040,\"No Values Available\",A6+1)),\"No Values Available\")","v":2},{"$f":"IF(A7=\"No Values Available\",\"No Values\",(C7*'Project Information'!$C$58+D7*'Project Information'!$D$58))","v":0},{"$f":"IF(A7=\"No Values Available\",\"No Values\",('Railcar and Passenger Demand'!F4-'Railcar and Passenger Demand'!$F$2)/'BCA Values Passenger'!$D$4)","v":0},{"$f":"IF(A7=\"No Values Available\",\"No Values\",('Railcar and Passenger Demand'!H4-'Railcar and Passenger Demand'!$H$2)/'BCA Values Passenger'!$D$4)","v":0},0,0,0,{"$f":"VLOOKUP(F7,'BCA Values Passenger Congestion'!$B$105:$AC$119,'Project Information'!$C$8-2010,FALSE)","v":{"$error":"#VALUE!"}},{"$f":"VLOOKUP(G7,'BCA Values Passenger Congestion'!$B$105:$AC$119,'Project Information'!$C$8-2010,FALSE)","v":{"$error":"#VALUE!"}},""]
[3,{"$f":"IF(A8=\"No Values Available\",\"No Values\",(C8*'Project Information'!$C$58+D8*'Project Information'!$D$58))","v":0},{"$f":"IF(A8=\"No Values Available\",\"No Values\",('Railcar and Passenger Demand'!F5-'Railcar and Passenger Demand'!$F$2)/'BCA Values Passenger'!$D$4)","v":0},{"$f":"IF(A8=\"No Values Available\",\"No Values\",('Railcar and Passenger Demand'!H5-'Railcar and Passenger Demand'!$H$2)/'BCA Values Passenger'!$D$4)","v":0},0,0,0,{"$f":"VLOOKUP(F8,'BCA Values Passenger Congestion'!$B$105:$AC$119,'Project Information'!$C$8-2009,FALSE)","v":{"$error":"#VALUE!"}},{"$f":"VLOOKUP(G8,'BCA Values Passenger Congestion'!$B$105:$AC$119,'Project Information'!$C$8-2009,FALSE)","v":{"$error":"#VALUE!"}},""]
[4,{"$f":"IF(A9=\"No Values Available\",\"No Values\",(C9*'Project Information'!$C$58+D9*'Project Information'!$D$58))","v":0},{"$f":"IF(A9=\"No Values Available\",\"No Values\",('Railcar and Passenger Demand'!F6-'Railcar and Passenger Demand'!$F$2)/'BCA Values Passenger'!$D$4)","v":0},{"$f":"IF(A9=\"No Values Available\",\"No Values\",('Railcar and Passenger Demand'!H6-'Railcar and Passenger Demand'!$H$2)/'BCA Values Passenger'!$D$4)","v":0},0,0,0,{"$f":"VLOOKUP(F9,'BCA Values Passenger Congestion'!$B$105:$AC$119,'Project Information'!$C$8-2008,FALSE)","v":{"$error":"#VALUE!"}},{"$f":"VLOOKUP(G9,'BCA Values Passenger Congestion'!$B$105:$AC$119,'Project Information'!$C$8-2008,FALSE)","v":{"$error":"#VALUE!"}},""]
[5,{"$f":"IF(A10=\"No Values Available\",\"No Values\",(C10*'Project Information'!$C$58+D10*'Project Information'!$D$58))","v":0},{"$f":"IF(A10=\"No Values Available\",\"No Values\",('Railcar and Passenger Demand'!F7-'Railcar and Passenger Demand'!$F$2)/'BCA Values Passenger'!$D$4)","v":0},{"$f":"IF(A10=\"No Values Available\",\"No Values\",('Railcar and Passenger Demand'!H7-'Railcar and Passenger Demand'!$H$2)/'BCA Values Passenger'!$D$4)","v":0},0,0,0,{"$f":"VLOOKUP(F10,'BCA Values Passenger Congestion'!$B$105:$AC$119,'Project Information'!$C$8-2007,FALSE)","v":{"$error":"#VALUE!"}},{"$f":"VLOOKUP(G10,'BCA Values Passenger Congestion'!$B$105:$AC$119,'Project Information'!$C$8-2007,FALSE)","v":{"$error":"#VALUE!"}},""]
[6,{"$f":"IF(A11=\"No Values Available\",\"No Values\",(C11*'Project Information'!$C$58+D11*'Project Information'!$D$58))","v":0},{"$f":"IF(A11=\"No Values Available\",\"No Values\",('Railcar and Passenger Demand'!F8-'Railcar and Passenger Demand'!$F$2)/'BCA Values Passenger'!$D$4)","v":0},{"$f":"IF(A11=\"No Values Available\",\"No Values\",('Railcar and Passenger Demand'!H8-'Railcar and Passenger Demand'!$H$2)/'BCA Values Passenger'!$D$4)","v":0},0,0,0,{"$f":"VLOOKUP(F11,'BCA Values Passenger Congestion'!$B$105:$AC$119,'Project Information'!$C$8-2006,FALSE)","v":{"$error":"#VALUE!"}},{"$f":"VLOOKUP(G11,'BCA Values Passenger Congestion'!$B$105:$AC$119,'Project Information'!$C$8-2006,FALSE)","v":{"$error":"#VALUE!"}},{"$f":"IFERROR(IF(F11=G11,H11,(H11+(I11-H11)*((E11-F11)/(G11-F11)))),\"\")","v":""}]
[7,{"$f":"IF(A12=\"No Values Available\",\"No Values\",(C12*'Project Information'!$C$58+D12*'Project Information'!$D$58))","v":0},{"$f":"IF(A12=\"No Values Available\",\"No Values\",('Railcar and Passenger Demand'!F9-'Railcar and Passenger Demand'!$F$2)/'BCA Values Passenger'!$D$4)","v":0},{"$f":"IF(A12=\"No Values Available\",\"No Values\",('Railcar and Passenger Demand'!H9-'Railcar and Passenger Demand'!$H$2)/'BCA Values Passenger'!$D$4)","v":0},0,0,0,{"$f":"VLOOKUP(F12,'BCA Values Passenger Congestion'!$B$105:$AC$119,'Project Information'!$C$8-2005,FALSE)","v":{"$error":"#VALUE!"}},{"$f":"VLOOKUP(G12,'BCA Values Passenger Congestion'!$B$105:$AC$119,'Project Information'!$C$8-2005,FALSE)","v":{"$error":"#VALUE!"}},{"$f":"IFERROR(IF(F12=G12,H12,(H12+(I12-H12)*((E12-F12)/(G12-F12)))),\"\")","v":""}]
[8,{"$f":"IF(A13=\"No Values Available\",\"No Values\",(C13*'Project Information'!$C$58+D13*'Project Information'!$D$58))","v":0},{"$f":"IF(A13=\"No Values Available\",\"No Values\",('Railcar and Passenger Demand'!F10-'Railcar and Passenger Demand'!$F$2)/'BCA Values Passenger'!$D$4)","v":0},{"$f":"IF(A13=\"No Values Available\",\"No Values\",('Railcar and Passenger Demand'!H10-'Railcar and Passenger Demand'!$H$2)/'BCA Values Passenger'!$D$4)","v":0},0,0,0,{"$f":"VLOOKUP(F13,'BCA Values Passenger Congestion'!$B$105:$AC$119,'Project Information'!$C$8-2004,FALSE)","v":{"$error":"#VALUE!"}},{"$f":"VLOOKUP(G13,'BCA Values Passenger Congestion'!$B$105:$AC$119,'Project Information'!$C$8-2004,FALSE)","v":{"$error":"#VALUE!"}},""]
[9,{"$f":"IF(A14=\"No Values Available\",\"No Values\",(C14*'Project Information'!$C$58+D14*'Project Information'!$D$58))","v":0},{"$f":"IF(A14=\"No Values Available\",\"No Values\",('Railcar and Passenger Demand'!F11-'Railcar and Passenger Demand'!$F$2)/'BCA Values Passenger'!$D$4)","v":0},{"$f":"IF(A14=\"No Values Available\",\"No Values\",('Railcar and Passenger Demand'!H11-'Railcar and Passenger Demand'!$H$2)/'BCA Values Passenger'!$D$4)","v":0},0,0,0,{"$f":"VLOOKUP(F14,'BCA Values Passenger Congestion'!$B$105:$AC$119,'Project Information'!$C$8-2003,FALSE)","v":{"$error":"#VALUE!"}},{"$f":"VLOOKUP(G14,'BCA Values Passenger Congestion'!$B$105:$AC$119,'Project Information'!$C$8-2003,FALSE)","v":{"$error":"#VALUE!"}},""]
[10,{"$f":"IF(A15=\"No Values Available\",\"No Values\",(C15*'Project Information'!$C$58+D15*'Project Information'!$D$58))","v":0},{"$f":"IF(A15=\"No Values Available\",\"No Values\",('Railcar and Passenger Demand'!F12-'Railcar and Passenger Demand'!$F$2)/'BCA Values Passenger'!$D$4)","v":0},{"$f":"IF(A15=\"No Values Available\",\"No Values\",('Railcar and Passenger Demand'!H12-'Railcar and Passenger Demand'!$H$2)/'BCA Values Passenger'!$D$4)","v":0},0,0,0,{"$f":"VLOOKUP(F15,'BCA Values Passenger Congestion'!$B$105:$AC$119,'Project Information'!$C$8-2002,FALSE)","v":{"$error":"#VALUE!"}},{"$f":"VLOOKUP(G15,'BCA Values Passenger Congestion'!$B$105:$AC$119,'Project Information'!$C$8-2002,FALSE)","v":{"$error":"#VALUE!"}},""]
[11,{"$f":"IF(A16=\"No Values Available\",\"No Values\",(C16*'Project Information'!$C$58+D16*'Project Information'!$D$58))","v":0},{"$f":"IF(A16=\"No Values Available\",\"No Values\",('Railcar and Passenger Demand'!F13-'Railcar and Passenger Demand'!$F$2)/'BCA Values Passenger'!$D$4)","v":0},{"$f":"IF(A16=\"No Values Available\",\"No Values\",('Railcar and Passenger Demand'!H13-'Railcar and Passenger Demand'!$H$2)/'BCA Values Passenger'!$D$4)","v":0},0,0,0,{"$f":"VLOOKUP(F16,'BCA Values Passenger Congestion'!$B$105:$AC$119,'Project Information'!$C$8-2001,FALSE)","v":{"$error":"#VALUE!"}},{"$f":"VLOOKUP(G16,'BCA Values Passenger Congestion'!$B$105:$AC$119,'Project Information'!$C$8-2001,FALSE)","v":{"$error":"#VALUE!"}},""]
[12,{"$f":"IF(A17=\"No Values Available\",\"No Values\",(C17*'Project Information'!$C$58+D17*'Project Information'!$D$58))","v":0},{"$f":"IF(A17=\"No Values Available\",\"No Values\",('Railcar and Passenger Demand'!F14-'Railcar and Passenger Demand'!$F$2)/'BCA Values Passenger'!$D$4)","v":0},{"$f":"IF(A17=\"No Values Available\",\"No Values\",('Railcar and Passenger Demand'!H14-'Railcar and Passenger Demand'!$H$2)/'BCA Values Passenger'!$D$4)","v":0},0,0,0,{"$f":"VLOOKUP(F17,'BCA Values Passenger Congestion'!$B$105:$AC$119,'Project Information'!$C$8-2000,FALSE)","v":{"$error":"#VALUE!"}},{"$f":"VLOOKUP(G17,'BCA Values Passenger Congestion'!$B$105:$AC$119,'Project Information'!$C$8-2000,FALSE)","v":{"$error":"#VALUE!"}},""]
[13,{"$f":"IF(A18=\"No Values Available\",\"No Values\",(C18*'Project Information'!$C$58+D18*'Project Information'!$D$58))","v":0},{"$f":"IF(A18=\"No Values Available\",\"No Values\",('Railcar and Passenger Demand'!F15-'Railcar and Passenger Demand'!$F$2)/'BCA Values Passenger'!$D$4)","v":0},{"$f":"IF(A18=\"No Values Available\",\"No Values\",('Railcar and Passenger Demand'!H15-'Railcar and Passenger Demand'!$H$2)/'BCA Values Passenger'!$D$4)","v":0},0,0,0,{"$f":"VLOOKUP(F18,'BCA Values Passenger Congestion'!$B$105:$AC$119,'Project Information'!$C$8-1999,FALSE)","v":{"$error":"#VALUE!"}},{"$f":"VLOOKUP(G18,'BCA Values Passenger Congestion'!$B$105:$AC$119,'Project Information'!$C$8-1999,FALSE)","v":{"$error":"#VALUE!"}},""]
[14,{"$f":"IF(A19=\"No Values Available\",\"No Values\",(C19*'Project Information'!$C$58+D19*'Project Information'!$D$58))","v":0},{"$f":"IF(A19=\"No Values Available\",\"No Values\",('Railcar and Passenger Demand'!F16-'Railcar and Passenger Demand'!$F$2)/'BCA Values Passenger'!$D$4)","v":0},{"$f":"IF(A19=\"No Values Available\",\"No Values\",('Railcar and Passenger Demand'!H16-'Railcar and Passenger Demand'!$H$2)/'BCA Values Passenger'!$D$4)","v":0},0,0,0,{"$f":"VLOOKUP(F19,'BCA Values Passenger Congestion'!$B$105:$AC$119,'Project Information'!$C$8-1998,FALSE)","v":{"$error":"#VALUE!"}},{"$f":"VLOOKUP(G19,'BCA Values Passenger Congestion'!$B$105:$AC$119,'Project Information'!$C$8-1998,FALSE)","v":{"$error":"#VALUE!"}},""]
[15,{"$f":"IF(A20=\"No Values Available\",\"No Values\",(C20*'Project Information'!$C$58+D20*'Project Information'!$D$58))","v":0},{"$f":"IF(A20=\"No Values Available\",\"No Values\",('Railcar and Passenger Demand'!F17-'Railcar and Passenger Demand'!$F$2)/'BCA Values Passenger'!$D$4)","v":0},{"$f":"IF(A20=\"No Values Available\",\"No Values\",('Railcar and Passenger Demand'!H17-'Railcar and Passenger Demand'!$H$2)/'BCA Values Passenger'!$D$4)","v":0},0,0,0,{"$f":"VLOOKUP(F20,'BCA Values Passenger Congestion'!$B$105:$AC$119,'Project Information'!$C$8-1997,FALSE)","v":{"$error":"#VALUE!"}},{"$f":"VLOOKUP(G20,'BCA Values Passenger Congestion'!$B$105:$AC$119,'Project Information'!$C$8-1997,FALSE)","v":{"$error":"#VALUE!"}},""]
[16,{"$f":"IF(A21=\"No Values Available\",\"No Values\",(C21*'Project Information'!$C$58+D21*'Project Information'!$D$58))","v":0},{"$f":"IF(A21=\"No Values Available\",\"No Values\",('Railcar and Passenger Demand'!F18-'Railcar and Passenger Demand'!$F$2)/'BCA Values Passenger'!$D$4)","v":0},{"$f":"IF(A21=\"No Values Available\",\"No Values\",('Railcar and Passenger Demand'!H18-'Railcar and Passenger Demand'!$H$2)/'BCA Values Passenger'!$D$4)","v":0},0,0,0,{"$f":"VLOOKUP(F21,'BCA Values Passenger Congestion'!$B$105:$AC$119,'Project Information'!$C$8-1996,FALSE)","v":{"$error":"#VALUE!"}},{"$f":"VLOOKUP(G21,'BCA Values Passenger Congestion'!$B$105:$AC$119,'Project Information'!$C$8-1996,FALSE)","v":{"$error":"#VALUE!"}},""]
[17,{"$f":"IF(A22=\"No Values Available\",\"No Values\",(C22*'Project Information'!$C$58+D22*'Project Information'!$D$58))","v":0},{"$f":"IF(A22=\"No Values Available\",\"No Values\",('Railcar and Passenger Demand'!F19-'Railcar and Passenger Demand'!$F$2)/'BCA Values Passenger'!$D$4)","v":0},{"$f":"IF(A22=\"No Values Available\",\"No Values\",('Railcar and Passenger Demand'!H19-'Railcar and Passenger Demand'!$H$2)/'BCA Values Passenger'!$D$4)","v":0},0,0,0,{"$f":"VLOOKUP(F22,'BCA Values Passenger Congestion'!$B$105:$AC$119,'Project Information'!$C$8-1995,FALSE)","v":{"$error":"#VALUE!"}},{"$f":"VLOOKUP(G22,'BCA Values Passenger Congestion'!$B$105:$AC$119,'Project Information'!$C$8-1995,FALSE)","v":{"$error":"#VALUE!"}},""]
[18,{"$f":"IF(A23=\"No Values Available\",\"No Values\",(C23*'Project Information'!$C$58+D23*'Project Information'!$D$58))","v":0},{"$f":"IF(A23=\"No Values Available\",\"No Values\",('Railcar and Passenger Demand'!F20-'Railcar and Passenger Demand'!$F$2)/'BCA Values Passenger'!$D$4)","v":0},{"$f":"IF(A23=\"No Values Available\",\"No Values\",('Railcar and Passenger Demand'!H20-'Railcar and Passenger Demand'!$H$2)/'BCA Values Passenger'!$D$4)","v":0},0,0,0,{"$f":"VLOOKUP(F23,'BCA Values Passenger Congestion'!$B$105:$AC$119,'Project Information'!$C$8-1994,FALSE)","v":{"$error":"#VALUE!"}},{"$f":"VLOOKUP(G23,'BCA Values Passenger Congestion'!$B$105:$AC$119,'Project Information'!$C$8-1994,FALSE)","v":{"$error":"#VALUE!"}},""]
[19,{"$f":"IF(A24=\"No Values Available\",\"No Values\",(C24*'Project Information'!$C$58+D24*'Project Information'!$D$58))","v":0},{"$f":"IF(A24=\"No Values Available\",\"No Values\",('Railcar and Passenger Demand'!F21-'Railcar and Passenger Demand'!$F$2)/'BCA Values Passenger'!$D$4)","v":0},{"$f":"IF(A24=\"No Values Available\",\"No Values\",('Railcar and Passenger Demand'!H21-'Railcar and Passenger Demand'!$H$2)/'BCA Values Passenger'!$D$4)","v":0},0,0,0,{"$f":"VLOOKUP(F24,'BCA Values Passenger Congestion'!$B$105:$AC$119,'Project Information'!$C$8-1993,FALSE)","v":{"$error":"#VALUE!"}},{"$f":"VLOOKUP(G24,'BCA Values Passenger Congestion'!$B$105:$AC$119,'Project Information'!$C$8-1993,FALSE)","v":{"$error":"#VALUE!"}},""]
[20,{"$f":"IF(A25=\"No Values Available\",\"No Values\",(C25*'Project Information'!$C$58+D25*'Project Information'!$D$58))","v":0},{"$f":"IF(A25=\"No Values Available\",\"No Values\",('Railcar and Passenger Demand'!F22-'Railcar and Passenger Demand'!$F$2)/'BCA Values Passenger'!$D$4)","v":0},{"$f":"IF(A25=\"No Values Available\",\"No Values\",('Railcar and Passenger Demand'!H22-'Railcar and Passenger Demand'!$H$2)/'BCA Values Passenger'!$D$4)","v":0},0,0,0,{"$f":"VLOOKUP(F25,'BCA Values Passenger Congestion'!$B$105:$AC$119,'Project Information'!$C$8-1992,FALSE)","v":{"$error":"#VALUE!"}},{"$f":"VLOOKUP(G25,'BCA Values Passenger Congestion'!$B$105:$AC$119,'Project Information'!$C$8-1992,FALSE)","v":{"$error":"#VALUE!"}},""]
[21,{"$f":"IF(A26=\"No Values Available\",\"No Values\",(C26*'Project Information'!$C$58+D26*'Project Information'!$D$58))","v":0},{"$f":"IF(A26=\"No Values Available\",\"No Values\",('Railcar and Passenger Demand'!F23-'Railcar and Passenger Demand'!$F$2)/'BCA Values Passenger'!$D$4)","v":0},{"$f":"IF(A26=\"No Values Available\",\"No Values\",('Railcar and Passenger Demand'!H23-'Railcar and Passenger Demand'!$H$2)/'BCA Values Passenger'!$D$4)","v":0},0,0,0,{"$f":"VLOOKUP(F26,'BCA Values Passenger Congestion'!$B$105:$AC$119,'Project Information'!$C$8-1991,FALSE)","v":{"$error":"#VALUE!"}},{"$f":"VLOOKUP(G26,'BCA Values Passenger Congestion'!$B$105:$AC$119,'Project Information'!$C$8-1991,FALSE)","v":{"$error":"#VALUE!"}},""]
[22,{"$f":"IF(A27=\"No Values Available\",\"No Values\",(C27*'Project Information'!$C$58+D27*'Project Information'!$D$58))","v":0},{"$f":"IF(A27=\"No Values Available\",\"No Values\",('Railcar and Passenger Demand'!F24-'Railcar and Passenger Demand'!$F$2)/'BCA Values Passenger'!$D$4)","v":0},{"$f":"IF(A27=\"No Values Available\",\"No Values\",('Railcar and Passenger Demand'!H24-'Railcar and Passenger Demand'!$H$2)/'BCA Values Passenger'!$D$4)","v":0},0,0,0,{"$f":"VLOOKUP(F27,'BCA Values Passenger Congestion'!$B$105:$AC$119,'Project Information'!$C$8-1990,FALSE)","v":{"$error":"#VALUE!"}},{"$f":"VLOOKUP(G27,'BCA Values Passenger Congestion'!$B$105:$AC$119,'Project Information'!$C$8-1990,FALSE)","v":{"$error":"#VALUE!"}},""]
[23,{"$f":"IF(A28=\"No Values Available\",\"No Values\",(C28*'Project Information'!$C$58+D28*'Project Information'!$D$58))","v":0},{"$f":"IF(A28=\"No Values Available\",\"No Values\",('Railcar and Passenger Demand'!F25-'Railcar and Passenger Demand'!$F$2)/'BCA Values Passenger'!$D$4)","v":0},{"$f":"IF(A28=\"No Values Available\",\"No Values\",('Railcar and Passenger Demand'!H25-'Railcar and Passenger Demand'!$H$2)/'BCA Values Passenger'!$D$4)","v":0},0,0,0,{"$f":"VLOOKUP(F28,'BCA Values Passenger Congestion'!$B$105:$AC$119,'Project Information'!$C$8-1989,FALSE)","v":{"$error":"#VALUE!"}},{"$f":"VLOOKUP(G28,'BCA Values Passenger Congestion'!$B$105:$AC$119,'Project Information'!$C$8-1989,FALSE)","v":{"$error":"#VALUE!"}},""]
[24,{"$f":"IF(A29=\"No Values Available\",\"No Values\",(C29*'Project Information'!$C$58+D29*'Project Information'!$D$58))","v":0},{"$f":"IF(A29=\"No Values Available\",\"No Values\",('Railcar and Passenger Demand'!F26-'Railcar and Passenger Demand'!$F$2)/'BCA Values Passenger'!$D$4)","v":0},{"$f":"IF(A29=\"No Values Available\",\"No Values\",('Railcar and Passenger Demand'!H26-'Railcar and Passenger Demand'!$H$2)/'BCA Values Passenger'!$D$4)","v":0},0,0,0,{"$f":"VLOOKUP(F29,'BCA Values Passenger Congestion'!$B$105:$AC$119,'Project Information'!$C$8-1988,FALSE)","v":{"$error":"#VALUE!"}},{"$f":"VLOOKUP(G29,'BCA Values Passenger Congestion'!$B$105:$AC$119,'Project Information'!$C$8-1988,FALSE)","v":{"$error":"#VALUE!"}},""]
[]
[]
[null,"Reduced Accident Cost","Reduced Passenger Transportation Cost",null,null,"Travel Time Savings"]
[null,"Accident Cost per vehicle mile","Vehicle Operating Cost (car)","Fare (Amtrak)","Fare (VRE)","Weighted Average Value of Time, Local","Weighted Average Value of Time, Intercity","Weighted Average Value of Time, Business","Weighted Average Value of Time, Aggregated Local","Weighted Average Value of Time, Aggregated Intercity","Weighted Average of Time, By Breakdown Amtrak","Weighted Average of Time, By Breakdown VRE"]
["Year","Lookup Value (by year)","Lookup Value (by year)","Lookup Value (by year)","Lookup Value (by year)","Lookup Value (by year, travel type and location)"]
[{"$f":"IF('Project Information'!C9>2040, \"No Values Available\", 'Project Information'!C8)","v":0},{"$f":"IF(A35=\"No Values Available\",\"No Values\",(HLOOKUP(A35,'BCA Values Passenger'!$D$11:$AC$16,5,FALSE)))","v":{"$error":"#N/A"}},{"$f":"IF(A35=\"No Values Available\",\"No Values\",(HLOOKUP(A35,'BCA Values Passenger'!$D$21:$AC$26,4,FALSE)))","v":{"$error":"#N/A"}},{"$f":"IF(A35=\"No Values Available\",\"No Values\",(HLOOKUP(A35,'BCA Values Passenger'!$D$21:$AC$26,5,FALSE)))","v":{"$error":"#N/A"}},{"$f":"IF(A35=\"No Values Available\",\"No Values\",(HLOOKUP(A35,'BCA Values Passenger'!$D$21:$AC$26,6,FALSE)))","v":{"$error":"#N/A"}},{"$f":"HLOOKUP(A35,'BCA Values Passenger VOT '!$B$697:$AC$702,2,FALSE)","v":{"$error":"#N/A"}},{"$f":"HLOOKUP(A35,'BCA Values Passenger VOT '!$B$697:$AC$702,3,FALSE)","v":{"$error":"#N/A"}},{"$f":"HLOOKUP(A35,'BCA Values Passenger VOT '!$B$697:$AC$702,4,FALSE)","v":{"$error":"#N/A"}},{"$f":"HLOOKUP(A35,'BCA Values Passenger VOT '!$B$697:$AC$702,5,FALSE)","v":{"$error":"#N/A"}},{"$f":"HLOOKUP(A35,'BCA Values Passenger VOT '!$B$697:$AC$702,6,FALSE)","v":{"$error":"#N/A"}},{"$f":"IF(A35=\"No Values Available\",\"No Values\",(F35*'Project Information'!$C$51+'Project Information'!$C$52*'Intermediate Pass Calcs'!G35+'Intermediate Pass Calcs'!H35*'Project Information'!$C$53+'Project Information'!$C$54*'Intermediate Pass Calcs'!I35+'Intermediate Pass Calcs'!J35*'Project Information'!$C$55)/100)","v":{"$error":"#N/A"}},{"$f":"IF(A35=\"No Values Available\",\"No Values\",(F35*'Project Information'!$D$51+'Project Information'!$D$52*'Intermediate Pass Calcs'!G35+'Intermediate Pass Calcs'!H35*'Project Information'!$D$53+'Project Information'!$D$54*'Intermediate Pass Calcs'!I35+'Intermediate Pass Calcs'!J35*'Project Information'!$D$55)/100)","v":{"$error":"#N/A"}}]
[{"$f":"IFERROR((IF(A35+1>2040,\"No Values Available\",A35+1)),\"No Values Available\")","v":1},{"$f":"IF(A36=\"No Values Available\",\"No Values\",(HLOOKUP(A36,'BCA Values Passenger'!$D$11:$AC$16,5,FALSE)))","v":{"$error":"#N/A"}},{"$f":"IF(A36=\"No Values Available\",\"No Values\",(HLOOKUP(A36,'BCA Values Passenger'!$D$21:$AC$26,4,FALSE)))","v":{"$error":"#N/A"}},{"$f":"IF(A36=\"No Values Available\",\"No Values\",(HLOOKUP(A36,'BCA Values Passenger'!$D$21:$AC$26,5,FALSE)))","v":{"$error":"#N/A"}},{"$f":"IF(A36=\"No Values Available\",\"No Values\",(HLOOKUP(A36,'BCA Values Passenger'!$D$21:$AC$26,6,FALSE)))","v":{"$error":"#N/A"}},{"$f":"HLOOKUP(A36,'BCA Values Passenger VOT '!$B$697:$AC$702,2,FALSE)","v":{"$error":"#N/A"}},{"$f":"HLOOKUP(A36,'BCA Values Passenger VOT '!$B$697:$AC$702,3,FALSE)","v":{"$error":"#N/A"}},{"$f":"HLOOKUP(A36,'BCA Values Passenger VOT '!$B$697:$AC$702,4,FALSE)","v":{"$error":"#N/A"}},{"$f":"HLOOKUP(A36,'BCA Values Passenger VOT '!$B$697:$AC$702,5,FALSE)","v":{"$error":"#N/A"}},{"$f":"HLOOKUP(A36,'BCA Values Passenger VOT '!$B$697:$AC$702,6,FALSE)","v":{"$error":"#N/A"}},{"$f":"IF(A36=\"No Values Available\",\"No Values\",(F36*'Project Information'!$C$51+'Project Information'!$C$52*'Intermediate Pass Calcs'!G36+'Intermediate Pass Calcs'!H36*'Project Information'!$C$53+'Project Information'!$C$54*'Intermediate Pass Calcs'!I36+'Intermediate Pass Calcs'!J36*'Project Information'!$C$55)/100)","v":{"$error":"#N/A"}},{"$f":"IF(A36=\"No Values Available\",\"No Values\",(F36*'Project Information'!$D$51+'Project Information'!$D$52*'Intermediate Pass Calcs'!G36+'Intermediate Pass Calcs'!H36*'Project Information'!$D$53+'Project Information'!$D$54*'Intermediate Pass Calcs'!I36+'Intermediate Pass Calcs'!J36*'Project Information'!$D$55)/100)","v":{"$error":"#N/A"}}]
[{"$f":"IFERROR((IF(A36+1>2040,\"No Values Available\",A36+1)),\"No Values Available\")","v":2},{"$f":"IF(A37=\"No Values Available\",\"No Values\",(HLOOKUP(A37,'BCA Values Passenger'!$D$11:$AC$16,5,FALSE)))","v":{"$error":"#N/A"}},{"$f":"IF(A37=\"No Values Available\",\"No Values\",(HLOOKUP(A37,'BCA Values Passenger'!$D$21:$AC$26,4,FALSE)))","v":{"$error":"#N/A"}},{"$f":"IF(A37=\"No Values Available\",\"No Values\",(HLOOKUP(A37,'BCA Values Passenger'!$D$21:$AC$26,5,FALSE)))","v":{"$error":"#N/A"}},{"$f":"IF(A37=\"No Values Available\",\"No Values\",(HLOOKUP(A37,'BCA Values Passenger'!$D$21:$AC$26,6,FALSE)))","v":{"$error":"#N/A"}},{"$f":"HLOOKUP(A37,'BCA Values Passenger VOT '!$B$697:$AC$702,2,FALSE)","v":{"$error":"#N/A"}},{"$f":"HLOOKUP(A37,'BCA Values Passenger VOT '!$B$697:$AC$702,3,FALSE)","v":{"$error":"#N/A"}},{"$f":"HLOOKUP(A37,'BCA Values Passenger VOT '!$B$697:$AC$702,4,FALSE)","v":{"$error":"#N/A"}},{"$f":"HLOOKUP(A37,'BCA Values Passenger VOT '!$B$697:$AC$702,5,FALSE)","v":{"$error":"#N/A"}},{"$f":"HLOOKUP(A37,'BCA Values Passenger VOT '!$B$697:$AC$702,6,FALSE)","v":{"$error":"#N/A"}},{"$f":"IF(A37=\"No Values Available\",\"No Values\",(F37*'Project Information'!$C$51+'Project Information'!$C$52*'Intermediate Pass Calcs'!G37+'Intermediate Pass Calcs'!H37*'Project Information'!$C$53+'Project Information'!$C$54*'Intermediate Pass Calcs'!I37+'Intermediate Pass Calcs'!J37*'Project Information'!$C$55)/100)","v":{"$error":"#N/A"}},{"$f":"IF(A37=\"No Values Available\",\"No Values\",(F37*'Project Information'!$D$51+'Project Information'!$D$52*'Intermediate Pass Calcs'!G37+'Intermediate Pass Calcs'!H37*'Project Information'!$D$53+'Project Information'!$D$54*'Intermediate Pass Calcs'!I37+'Intermediate Pass Calcs'!J37*'Project Information'!$D$55)/100)","v":{"$error":"#N/A"}}]
[3,{"$f":"IF(A38=\"No Values Available\",\"No Values\",(HLOOKUP(A38,'BCA Values Passenger'!$D$11:$AC$16,5,FALSE)))","v":{"$error":"#N/A"}},{"$f":"IF(A38=\"No Values Available\",\"No Values\",(HLOOKUP(A38,'BCA Values Passenger'!$D$21:$AC$26,4,FALSE)))","v":{"$error":"#N/A"}},{"$f":"IF(A38=\"No Values Available\",\"No Values\",(HLOOKUP(A38,'BCA Values Passenger'!$D$21:$AC$26,5,FALSE)))","v":{"$error":"#N/A"}},{"$f":"IF(A38=\"No Values Available\",\"No Values\",(HLOOKUP(A38,'BCA Values Passenger'!$D$21:$AC$26,6,FALSE)))","v":{"$error":"#N/A"}},{"$f":"HLOOKUP(A38,'BCA Values Passenger VOT '!$B$697:$AC$702,2,FALSE)","v":{"$error":"#N/A"}},{"$f":"HLOOKUP(A38,'BCA Values Passenger VOT '!$B$697:$AC$702,3,FALSE)","v":{"$error":"#N/A"}},{"$f":"HLOOKUP(A38,'BCA Values Passenger VOT '!$B$697:$AC$702,4,FALSE)","v":{"$error":"#N/A"}},{"$f":"HLOOKUP(A38,'BCA Values Passenger VOT '!$B$697:$AC$702,5,FALSE)","v":{"$error":"#N/A"}},{"$f":"HLOOKUP(A38,'BCA Values Passenger VOT '!$B$697:$AC$702,6,FALSE)","v":{"$error":"#N/A"}},{"$f":"IF(A38=\"No Values Available\",\"No Values\",(F38*'Project Information'!$C$51+'Project Information'!$C$52*'Intermediate Pass Calcs'!G38+'Intermediate Pass Calcs'!H38*'Project Information'!$C$53+'Project Information'!$C$54*'Intermediate Pass Calcs'!I38+'Intermediate Pass Calcs'!J38*'Project Information'!$C$55)/100)","v":{"$error":"#N/A"}},{"$f":"IF(A38=\"No Values Available\",\"No Values\",(F38*'Project Information'!$D$51+'Project Information'!$D$52*'Intermediate Pass Calcs'!G38+'Intermediate Pass Calcs'!H38*'Project Information'!$D$53+'Project Information'!$D$54*'Intermediate Pass Calcs'!I38+'Intermediate Pass Calcs'!J38*'Project Information'!$D$55)/100)","v":{"$error":"#N/A"}}]
[4,{"$f":"IF(A39=\"No Values Available\",\"No Values\",(HLOOKUP(A39,'BCA Values Passenger'!$D$11:$AC$16,5,FALSE)))","v":{"$error":"#N/A"}},{"$f":"IF(A39=\"No Values Available\",\"No Values\",(HLOOKUP(A39,'BCA Values Passenger'!$D$21:$AC$26,4,FALSE)))","v":{"$error":"#N/A"}},{"$f":"IF(A39=\"No Values Available\",\"No Values\",(HLOOKUP(A39,'BCA Values Passenger'!$D$21:$AC$26,5,FALSE)))","v":{"$error":"#N/A"}},{"$f":"IF(A39=\"No Values Available\",\"No Values\",(HLOOKUP(A39,'BCA Values Passenger'!$D$21:$AC$26,6,FALSE)))","v":{"$error":"#N/A"}},{"$f":"HLOOKUP(A39,'BCA Values Passenger VOT '!$B$697:$AC$702,2,FALSE)","v":{"$error":"#N/A"}},{"$f":"HLOOKUP(A39,'BCA Values Passenger VOT '!$B$697:$AC$702,3,FALSE)","v":{"$error":"#N/A"}},{"$f":"HLOOKUP(A39,'BCA Values Passenger VOT '!$B$697:$AC$702,4,FALSE)","v":{"$error":"#N/A"}},{"$f":"HLOOKUP(A39,'BCA Values Passenger VOT '!$B$697:$AC$702,5,FALSE)","v":{"$error":"#N/A"}},{"$f":"HLOOKUP(A39,'BCA Values Passenger VOT '!$B$697:$AC$702,6,FALSE)","v":{"$error":"#N/A"}},{"$f":"IF(A39=\"No Values Available\",\"No Values\",(F39*'Project Information'!$C$51+'Project Information'!$C$52*'Intermediate Pass Calcs'!G39+'Intermediate Pass Calcs'!H39*'Project Information'!$C$53+'Project Information'!$C$54*'Intermediate Pass Calcs'!I39+'Intermediate Pass Calcs'!J39*'Project Information'!$C$55)/100)","v":{"$error":"#N/A"}},{"$f":"IF(A39=\"No Values Available\",\"No Values\",(F39*'Project Information'!$D$51+'Project Information'!$D$52*'Intermediate Pass Calcs'!G39+'Intermediate Pass Calcs'!H39*'Project Information'!$D$53+'Project Information'!$D$54*'Intermediate Pass Calcs'!I39+'Intermediate Pass Calcs'!J39*'Project Information'!$D$55)/100)","v":{"$error":"#N/A"}}]
[5,{"$f":"IF(A40=\"No Values Available\",\"No Values\",(HLOOKUP(A40,'BCA Values Passenger'!$D$11:$AC$16,5,FALSE)))","v":{"$error":"#N/A"}},{"$f":"IF(A40=\"No Values Available\",\"No Values\",(HLOOKUP(A40,'BCA Values Passenger'!$D$21:$AC$26,4,FALSE)))","v":{"$error":"#N/A"}},{"$f":"IF(A40=\"No Values Available\",\"No Values\",(HLOOKUP(A40,'BCA Values Passenger'!$D$21:$AC$26,5,FALSE)))","v":{"$error":"#N/A"}},{"$f":"IF(A40=\"No Values Available\",\"No Values\",(HLOOKUP(A40,'BCA Values Passenger'!$D$21:$AC$26,6,FALSE)))","v":{"$error":"#N/A"}},{"$f":"HLOOKUP(A40,'BCA Values Passenger VOT '!$B$697:$AC$702,2,FALSE)","v":{"$error":"#N/A"}},{"$f":"HLOOKUP(A40,'BCA Values Passenger VOT '!$B$697:$AC$702,3,FALSE)","v":{"$error":"#N/A"}},{"$f":"HLOOKUP(A40,'BCA Values Passenger VOT '!$B$697:$AC$702,4,FALSE)","v":{"$error":"#N/A"}},{"$f":"HLOOKUP(A40,'BCA Values Passenger VOT '!$B$697:$AC$702,5,FALSE)","v":{"$error":"#N/A"}},{"$f":"HLOOKUP(A40,'BCA Values Passenger VOT '!$B$697:$AC$702,6,FALSE)","v":{"$error":"#N/A"}},{"$f":"IF(A40=\"No Values Available\",\"No Values\",(F40*'Project Information'!$C$51+'Project Information'!$C$52*'Intermediate Pass Calcs'!G40+'Intermediate Pass Calcs'!H40*'Project Information'!$C$53+'Project Information'!$C$54*'Intermediate Pass Calcs'!I40+'Intermediate Pass Calcs'!J40*'Project Information'!$C$55)/100)","v":{"$error":"#N/A"}},{"$f":"IF(A40=\"No Values Available\",\"No Values\",(F40*'Project Information'!$D$51+'Project Information'!$D$52*'Intermediate Pass Calcs'!G40+'Intermediate Pass Calcs'!H40*'Project Information'!$D$53+'Project Information'!$D$54*'Intermediate Pass Calcs'!I40+'Intermediate Pass Calcs'!J40*'Project Information'!$D$55)/100)","v":{"$error":"#N/A"}}]
[6,{"$f":"IF(A41=\"No Values Available\",\"No Values\",(HLOOKUP(A41,'BCA Values Passenger'!$D$11:$AC$16,5,FALSE)))","v":{"$error":"#N/A"}},{"$f":"IF(A41=\"No Values Available\",\"No Values\",(HLOOKUP(A41,'BCA Values Passenger'!$D$21:$AC$26,4,FALSE)))","v":{"$error":"#N/A"}},{"$f":"IF(A41=\"No Values Available\",\"No Values\",(HLOOKUP(A41,'BCA Values Passenger'!$D$21:$AC$26,5,FALSE)))","v":{"$error":"#N/A"}},{"$f":"IF(A41=\"No Values Available\",\"No Values\",(HLOOKUP(A41,'BCA Values Passenger'!$D$21:$AC$26,6,FALSE)))","v":{"$error":"#N/A"}},{"$f":"HLOOKUP(A41,'BCA Values Passenger VOT '!$B$697:$AC$702,2,FALSE)","v":{"$error":"#N/A"}},{"$f":"HLOOKUP(A41,'BCA Values Passenger VOT '!$B$697:$AC$702,3,FALSE)","v":{"$error":"#N/A"}},{"$f":"HLOOKUP(A41,'BCA Values Passenger VOT '!$B$697:$AC$702,4,FALSE)","v":{"$error":"#N/A"}},{"$f":"HLOOKUP(A41,'BCA Values Passenger VOT '!$B$697:$AC$702,5,FALSE)","v":{"$error":"#N/A"}},{"$f":"HLOOKUP(A41,'BCA Values Passenger VOT '!$B$697:$AC$702,6,FALSE)","v":{"$error":"#N/A"}},{"$f":"IF(A41=\"No Values Available\",\"No Values\",(F41*'Project Information'!$C$51+'Project Information'!$C$52*'Intermediate Pass Calcs'!G41+'Intermediate Pass Calcs'!H41*'Project Information'!$C$53+'Project Information'!$C$54*'Intermediate Pass Calcs'!I41+'Intermediate Pass Calcs'!J41*'Project Information'!$C$55)/100)","v":{"$error":"#N/A"}},{"$f":"IF(A41=\"No Values Available\",\"No Values\",(F41*'Project Information'!$D$51+'Project Information'!$D$52*'Intermediate Pass Calcs'!G41+'Intermediate Pass Calcs'!H41*'Project Information'!$D$53+'Project Information'!$D$54*'Intermediate Pass Calcs'!I41+'Intermediate Pass Calcs'!J41*'Project Information'!$D$55)/100)","v":{"$error":"#N/A"}}]
[7,{"$f":"IF(A42=\"No Values Available\",\"No Values\",(HLOOKUP(A42,'BCA Values Passenger'!$D$11:$AC$16,5,FALSE)))","v":{"$error":"#N/A"}},{"$f":"IF(A42=\"No Values Available\",\"No Values\",(HLOOKUP(A42,'BCA Values Passenger'!$D$21:$AC$26,4,FALSE)))","v":{"$error":"#N/A"}},{"$f":"IF(A42=\"No Values Available\",\"No Values\",(HLOOKUP(A42,'BCA Values Passenger'!$D$21:$AC$26,5,FALSE)))","v":{"$error":"#N/A"}},{"$f":"IF(A42=\"No Values Available\",\"No Values\",(HLOOKUP(A42,'BCA Values Passenger'!$D$21:$AC$26,6,FALSE)))","v":{"$error":"#N/A"}},{"$f":"HLOOKUP(A42,'BCA Values Passenger VOT '!$B$697:$AC$702,2,FALSE)","v":{"$error":"#N/A"}},{"$f":"HLOOKUP(A42,'BCA Values Passenger VOT '!$B$697:$AC$702,3,FALSE)","v":{"$error":"#N/A"}},{"$f":"HLOOKUP(A42,'BCA Values Passenger VOT '!$B$697:$AC$702,4,FALSE)","v":{"$error":"#N/A"}},{"$f":"HLOOKUP(A42,'BCA Values Passenger VOT '!$B$697:$AC$702,5,FALSE)","v":{"$error":"#N/A"}},{"$f":"HLOOKUP(A42,'BCA Values Passenger VOT '!$B$697:$AC$702,6,FALSE)","v":{"$error":"#N/A"}},{"$f":"IF(A42=\"No Values Available\",\"No Values\",(F42*'Project Information'!$C$51+'Project Information'!$C$52*'Intermediate Pass Calcs'!G42+'Intermediate Pass Calcs'!H42*'Project Information'!$C$53+'Project Information'!$C$54*'Intermediate Pass Calcs'!I42+'Intermediate Pass Calcs'!J42*'Project Information'!$C$55)/100)","v":{"$error":"#N/A"}},{"$f":"IF(A42=\"No Values Available\",\"No Values\",(F42*'Project Information'!$D$51+'Project Information'!$D$52*'Intermediate Pass Calcs'!G42+'Intermediate Pass Calcs'!H42*'Project Information'!$D$53+'Project Information'!$D$54*'Intermediate Pass Calcs'!I42+'Intermediate Pass Calcs'!J42*'Project Information'!$D$55)/100)","v":{"$error":"#N/A"}}]
[8,{"$f":"IF(A43=\"No Values Available\",\"No Values\",(HLOOKUP(A43,'BCA Values Passenger'!$D$11:$AC$16,5,FALSE)))","v":{"$error":"#N/A"}},{"$f":"IF(A43=\"No Values Available\",\"No Values\",(HLOOKUP(A43,'BCA Values Passenger'!$D$21:$AC$26,4,FALSE)))","v":{"$error":"#N/A"}},{"$f":"IF(A43=\"No Values Available\",\"No Values\",(HLOOKUP(A43,'BCA Values Passenger'!$D$21:$AC$26,5,FALSE)))","v":{"$error":"#N/A"}},{"$f":"IF(A43=\"No Values Available\",\"No Values\",(HLOOKUP(A43,'BCA Values Passenger'!$D$21:$AC$26,6,FALSE)))","v":{"$error":"#N/A"}},{"$f":"HLOOKUP(A43,'BCA Values Passenger VOT '!$B$697:$AC$702,2,FALSE)","v":{"$error":"#N/A"}},{"$f":"HLOOKUP(A43,'BCA Values Passenger VOT '!$B$697:$AC$702,3,FALSE)","v":{"$error":"#N/A"}},{"$f":"HLOOKUP(A43,'BCA Values Passenger VOT '!$B$697:$AC$702,4,FALSE)","v":{"$error":"#N/A"}},{"$f":"HLOOKUP(A43,'BCA Values Passenger VOT '!$B$697:$AC$702,5,FALSE)","v":{"$error":"#N/A"}},{"$f":"HLOOKUP(A43,'BCA Values Passenger VOT '!$B$697:$AC$702,6,FALSE)","v":{"$error":"#N/A"}},{"$f":"IF(A43=\"No Values Available\",\"No Values\",(F43*'Project Information'!$C$51+'Project Information'!$C$52*'Intermediate Pass Calcs'!G43+'Intermediate Pass Calcs'!H43*'Project Information'!$C$53+'Project Information'!$C$54*'Intermediate Pass Calcs'!I43+'Intermediate Pass Calcs'!J43*'Project Information'!$C$55)/100)","v":{"$error":"#N/A"}},{"$f":"IF(A43=\"No Values Available\",\"No Values\",(F43*'Project Information'!$D$51+'Project Information'!$D$52*'Intermediate Pass Calcs'!G43+'Intermediate Pass Calcs'!H43*'Project Information'!$D$53+'Project Information'!$D$54*'Intermediate Pass Calcs'!I43+'Intermediate Pass Calcs'!J43*'Project Information'!$D$55)/100)","v":{"$error":"#N/A"}}]
[9,{"$f":"IF(A44=\"No Values Available\",\"No Values\",(HLOOKUP(A44,'BCA Values Passenger'!$D$11:$AC$16,5,FALSE)))","v":{"$error":"#N/A"}},{"$f":"IF(A44=\"No Values Available\",\"No Values\",(HLOOKUP(A44,'BCA Values Passenger'!$D$21:$AC$26,4,FALSE)))","v":{"$error":"#N/A"}},{"$f":"IF(A44=\"No Values Available\",\"No Values\",(HLOOKUP(A44,'BCA Values Passenger'!$D$21:$AC$26,5,FALSE)))","v":{"$error":"#N/A"}},{"$f":"IF(A44=\"No Values Available\",\"No Values\",(HLOOKUP(A44,'BCA Values Passenger'!$D$21:$AC$26,6,FALSE)))","v":{"$error":"#N/A"}},{"$f":"HLOOKUP(A44,'BCA Values Passenger VOT '!$B$697:$AC$702,2,FALSE)","v":{"$error":"#N/A"}},{"$f":"HLOOKUP(A44,'BCA Values Passenger VOT '!$B$697:$AC$702,3,FALSE)","v":{"$error":"#N/A"}},{"$f":"HLOOKUP(A44,'BCA Values Passenger VOT '!$B$697:$AC$702,4,FALSE)","v":{"$error":"#N/A"}},{"$f":"HLOOKUP(A44,'BCA Values Passenger VOT '!$B$697:$AC$702,5,FALSE)","v":{"$error":"#N/A"}},{"$f":"HLOOKUP(A44,'BCA Values Passenger VOT '!$B$697:$AC$702,6,FALSE)","v":{"$error":"#N/A"}},{"$f":"IF(A44=\"No Values Available\",\"No Values\",(F44*'Project Information'!$C$51+'Project Information'!$C$52*'Intermediate Pass Calcs'!G44+'Intermediate Pass Calcs'!H44*'Project Information'!$C$53+'Project Information'!$C$54*'Intermediate Pass Calcs'!I44+'Intermediate Pass Calcs'!J44*'Project Information'!$C$55)/100)","v":{"$error":"#N/A"}},{"$f":"IF(A44=\"No Values Available\",\"No Values\",(F44*'Project Information'!$D$51+'Project Information'!$D$52*'Intermediate Pass Calcs'!G44+'Intermediate Pass Calcs'!H44*'Project Information'!$D$53+'Project Information'!$D$54*'Intermediate Pass Calcs'!I44+'Intermediate Pass Calcs'!J44*'Project Information'!$D$55)/100)","v":{"$error":"#N/A"}}]
[10,{"$f":"IF(A45=\"No Values Available\",\"No Values\",(HLOOKUP(A45,'BCA Values Passenger'!$D$11:$AC$16,5,FALSE)))","v":{"$error":"#N/A"}},{"$f":"IF(A45=\"No Values Available\",\"No Values\",(HLOOKUP(A45,'BCA Values Passenger'!$D$21:$AC$26,4,FALSE)))","v":{"$error":"#N/A"}},{"$f":"IF(A45=\"No Values Available\",\"No Values\",(HLOOKUP(A45,'BCA Values Passenger'!$D$21:$AC$26,5,FALSE)))","v":{"$error":"#N/A"}},{"$f":"IF(A45=\"No Values Available\",\"No Values\",(HLOOKUP(A45,'BCA Values Passenger'!$D$21:$AC$26,6,FALSE)))","v":{"$error":"#N/A"}},{"$f":"HLOOKUP(A45,'BCA Values Passenger VOT '!$B$697:$AC$702,2,FALSE)","v":{"$error":"#N/A"}},{"$f":"HLOOKUP(A45,'BCA Values Passenger VOT '!$B$697:$AC$702,3,FALSE)","v":{"$error":"#N/A"}},{"$f":"HLOOKUP(A45,'BCA Values Passenger VOT '!$B$697:$AC$702,4,FALSE)","v":{"$error":"#N/A"}},{"$f":"HLOOKUP(A45,'BCA Values Passenger VOT '!$B$697:$AC$702,5,FALSE)","v":{"$error":"#N/A"}},{"$f":"HLOOKUP(A45,'BCA Values Passenger VOT '!$B$697:$AC$702,6,FALSE)","v":{"$error":"#N/A"}},{"$f":"IF(A45=\"No Values Available\",\"No Values\",(F45*'Project Information'!$C$51+'Project Information'!$C$52*'Intermediate Pass Calcs'!G45+'Intermediate Pass Calcs'!H45*'Project Information'!$C$53+'Project Information'!$C$54*'Intermediate Pass Calcs'!I45+'Intermediate Pass Calcs'!J45*'Project Information'!$C$55)/100)","v":{"$error":"#N/A"}},{"$f":"IF(A45=\"No Values Available\",\"No Values\",(F45*'Project Information'!$D$51+'Project Information'!$D$52*'Intermediate Pass Calcs'!G45+'Intermediate Pass Calcs'!H45*'Project Information'!$D$53+'Project Information'!$D$54*'Intermediate Pass Calcs'!I45+'Intermediate Pass Calcs'!J45*'Project Information'!$D$55)/100)","v":{"$error":"#N/A"}}]
[11,{"$f":"IF(A46=\"No Values Available\",\"No Values\",(HLOOKUP(A46,'BCA Values Passenger'!$D$11:$AC$16,5,FALSE)))","v":{"$error":"#N/A"}},{"$f":"IF(A46=\"No Values Available\",\"No Values\",(HLOOKUP(A46,'BCA Values Passenger'!$D$21:$AC$26,4,FALSE)))","v":{"$error":"#N/A"}},{"$f":"IF(A46=\"No Values Available\",\"No Values\",(HLOOKUP(A46,'BCA Values Passenger'!$D$21:$AC$26,5,FALSE)))","v":{"$error":"#N/A"}},{"$f":"IF(A46=\"No Values Available\",\"No Values\",(HLOOKUP(A46,'BCA Values Passenger'!$D$21:$AC$26,6,FALSE)))","v":{"$error":"#N/A"}},{"$f":"HLOOKUP(A46,'BCA Values Passenger VOT '!$B$697:$AC$702,2,FALSE)","v":{"$error":"#N/A"}},{"$f":"HLOOKUP(A46,'BCA Values Passenger VOT '!$B$697:$AC$702,3,FALSE)","v":{"$error":"#N/A"}},{"$f":"HLOOKUP(A46,'BCA Values Passenger VOT '!$B$697:$AC$702,4,FALSE)","v":{"$error":"#N/A"}},{"$f":"HLOOKUP(A46,'BCA Values Passenger VOT '!$B$697:$AC$702,5,FALSE)","v":{"$error":"#N/A"}},{"$f":"HLOOKUP(A46,'BCA Values Passenger VOT '!$B$697:$AC$702,6,FALSE)","v":{"$error":"#N/A"}},{"$f":"IF(A46=\"No Values Available\",\"No Values\",(F46*'Project Information'!$C$51+'Project Information'!$C$52*'Intermediate Pass Calcs'!G46+'Intermediate Pass Calcs'!H46*'Project Information'!$C$53+'Project Information'!$C$54*'Intermediate Pass Calcs'!I46+'Intermediate Pass Calcs'!J46*'Project Information'!$C$55)/100)","v":{"$error":"#N/A"}},{"$f":"IF(A46=\"No Values Available\",\"No Values\",(F46*'Project Information'!$D$51+'Project Information'!$D$52*'Intermediate Pass Calcs'!G46+'Intermediate Pass Calcs'!H46*'Project Information'!$D$53+'Project Information'!$D$54*'Intermediate Pass Calcs'!I46+'Intermediate Pass Calcs'!J46*'Project Information'!$D$55)/100)","v":{"$error":"#N/A"}}]
[12,{"$f":"IF(A47=\"No Values Available\",\"No Values\",(HLOOKUP(A47,'BCA Values Passenger'!$D$11:$AC$16,5,FALSE)))","v":{"$error":"#N/A"}},{"$f":"IF(A47=\"No Values Available\",\"No Values\",(HLOOKUP(A47,'BCA Values Passenger'!$D$21:$AC$26,4,FALSE)))","v":{"$error":"#N/A"}},{"$f":"IF(A47=\"No Values Available\",\"No Values\",(HLOOKUP(A47,'BCA Values Passenger'!$D$21:$AC$26,5,FALSE)))","v":{"$error":"#N/A"}},{"$f":"IF(A47=\"No Values Available\",\"No Values\",(HLOOKUP(A47,'BCA Values Passenger'!$D$21:$AC$26,6,FALSE)))","v":{"$error":"#N/A"}},{"$f":"HLOOKUP(A47,'BCA Values Passenger VOT '!$B$697:$AC$702,2,FALSE)","v":{"$error":"#N/A"}},{"$f":"HLOOKUP(A47,'BCA Values Passenger VOT '!$B$697:$AC$702,3,FALSE)","v":{"$error":"#N/A"}},{"$f":"HLOOKUP(A47,'BCA Values Passenger VOT '!$B$697:$AC$702,4,FALSE)","v":{"$error":"#N/A"}},{"$f":"HLOOKUP(A47,'BCA Values Passenger VOT '!$B$697:$AC$702,5,FALSE)","v":{"$error":"#N/A"}},{"$f":"HLOOKUP(A47,'BCA Values Passenger VOT '!$B$697:$AC$702,6,FALSE)","v":{"$error":"#N/A"}},{"$f":"IF(A47=\"No Values Available\",\"No Values\",(F47*'Project Information'!$C$51+'Project Information'!$C$52*'Intermediate Pass Calcs'!G47+'Intermediate Pass Calcs'!H47*'Project Information'!$C$53+'Project Information'!$C$54*'Intermediate Pass Calcs'!I47+'Intermediate Pass Calcs'!J47*'Project Information'!$C$55)/100)","v":{"$error":"#N/A"}},{"$f":"IF(A47=\"No Values Available\",\"No Values\",(F47*'Project Information'!$D$51+'Project Information'!$D$52*'Intermediate Pass Calcs'!G47+'Intermediate Pass Calcs'!H47*'Project Information'!$D$53+'Project Information'!$D$54*'Intermediate Pass Calcs'!I47+'Intermediate Pass Calcs'!J47*'Project Information'!$D$55)/100)","v":{"$error":"#N/A"}}]
[13,{"$f":"IF(A48=\"No Values Available\",\"No Values\",(HLOOKUP(A48,'BCA Values Passenger'!$D$11:$AC$16,5,FALSE)))","v":{"$error":"#N/A"}},{"$f":"IF(A48=\"No Values Available\",\"No Values\",(HLOOKUP(A48,'BCA Values Passenger'!$D$21:$AC$26,4,FALSE)))","v":{"$error":"#N/A"}},{"$f":"IF(A48=\"No Values Available\",\"No Values\",(HLOOKUP(A48,'BCA Values Passenger'!$D$21:$AC$26,5,FALSE)))","v":{"$error":"#N/A"}},{"$f":"IF(A48=\"No Values Available\",\"No Values\",(HLOOKUP(A48,'BCA Values Passenger'!$D$21:$AC$26,6,FALSE)))","v":{"$error":"#N/A"}},{"$f":"HLOOKUP(A48,'BCA Values Passenger VOT '!$B$697:$AC$702,2,FALSE)","v":{"$error":"#N/A"}},{"$f":"HLOOKUP(A48,'BCA Values Passenger VOT '!$B$697:$AC$702,3,FALSE)","v":{"$error":"#N/A"}},{"$f":"HLOOKUP(A48,'BCA Values Passenger VOT '!$B$697:$AC$702,4,FALSE)","v":{"$error":"#N/A"}},{"$f":"HLOOKUP(A48,'BCA Values Passenger VOT '!$B$697:$AC$702,5,FALSE)","v":{"$error":"#N/A"}},{"$f":"HLOOKUP(A48,'BCA Values Passenger VOT '!$B$697:$AC$702,6,FALSE)","v":{"$error":"#N/A"}},{"$f":"IF(A48=\"No Values Available\",\"No Values\",(F48*'Project Information'!$C$51+'Project Information'!$C$52*'Intermediate Pass Calcs'!G48+'Intermediate Pass Calcs'!H48*'Project Information'!$C$53+'Project Information'!$C$54*'Intermediate Pass Calcs'!I48+'Intermediate Pass Calcs'!J48*'Project Information'!$C$55)/100)","v":{"$error":"#N/A"}},{"$f":"IF(A48=\"No Values Available\",\"No Values\",(F48*'Project Information'!$D$51+'Project Information'!$D$52*'Intermediate Pass Calcs'!G48+'Intermediate Pass Calcs'!H48*'Project Information'!$D$53+'Project Information'!$D$54*'Intermediate Pass Calcs'!I48+'Intermediate Pass Calcs'!J48*'Project Information'!$D$55)/100)","v":{"$error":"#N/A"}}]
[14,{"$f":"IF(A49=\"No Values Available\",\"No Values\",(HLOOKUP(A49,'BCA Values Passenger'!$D$11:$AC$16,5,FALSE)))","v":{"$error":"#N/A"}},{"$f":"IF(A49=\"No Values Available\",\"No Values\",(HLOOKUP(A49,'BCA Values Passenger'!$D$21:$AC$26,4,FALSE)))","v":{"$error":"#N/A"}},{"$f":"IF(A49=\"No Values Available\",\"No Values\",(HLOOKUP(A49,'BCA Values Passenger'!$D$21:$AC$26,5,FALSE)))","v":{"$error":"#N/A"}},{"$f":"IF(A49=\"No Values Available\",\"No Values\",(HLOOKUP(A49,'BCA Values Passenger'!$D$21:$AC$26,6,FALSE)))","v":{"$error":"#N/A"}},{"$f":"HLOOKUP(A49,'BCA Values Passenger VOT '!$B$697:$AC$702,2,FALSE)","v":{"$error":"#N/A"}},{"$f":"HLOOKUP(A49,'BCA Values Passenger VOT '!$B$697:$AC$702,3,FALSE)","v":{"$error":"#N/A"}},{"$f":"HLOOKUP(A49,'BCA Values Passenger VOT '!$B$697:$AC$702,4,FALSE)","v":{"$error":"#N/A"}},{"$f":"HLOOKUP(A49,'BCA Values Passenger VOT '!$B$697:$AC$702,5,FALSE)","v":{"$error":"#N/A"}},{"$f":"HLOOKUP(A49,'BCA Values Passenger VOT '!$B$697:$AC$702,6,FALSE)","v":{"$error":"#N/A"}},{"$f":"IF(A49=\"No Values Available\",\"No Values\",(F49*'Project Information'!$C$51+'Project Information'!$C$52*'Intermediate Pass Calcs'!G49+'Intermediate Pass Calcs'!H49*'Project Information'!$C$53+'Project Information'!$C$54*'Intermediate Pass Calcs'!I49+'Intermediate Pass Calcs'!J49*'Project Information'!$C$55)/100)","v":{"$error":"#N/A"}},{"$f":"IF(A49=\"No Values Available\",\"No Values\",(F49*'Project Information'!$D$51+'Project Information'!$D$52*'Intermediate Pass Calcs'!G49+'Intermediate Pass Calcs'!H49*'Project Information'!$D$53+'Project Information'!$D$54*'Intermediate Pass Calcs'!I49+'Intermediate Pass Calcs'!J49*'Project Information'!$D$55)/100)","v":{"$error":"#N/A"}}]
[15,{"$f":"IF(A50=\"No Values Available\",\"No Values\",(HLOOKUP(A50,'BCA Values Passenger'!$D$11:$AC$16,5,FALSE)))","v":{"$error":"#N/A"}},{"$f":"IF(A50=\"No Values Available\",\"No Values\",(HLOOKUP(A50,'BCA Values Passenger'!$D$21:$AC$26,4,FALSE)))","v":{"$error":"#N/A"}},{"$f":"IF(A50=\"No Values Available\",\"No Values\",(HLOOKUP(A50,'BCA Values Passenger'!$D$21:$AC$26,5,FALSE)))","v":{"$error":"#N/A"}},{"$f":"IF(A50=\"No Values Available\",\"No Values\",(HLOOKUP(A50,'BCA Values Passenger'!$D$21:$AC$26,6,FALSE)))","v":{"$error":"#N/A"}},{"$f":"HLOOKUP(A50,'BCA Values Passenger VOT '!$B$697:$AC$702,2,FALSE)","v":{"$error":"#N/A"}},{"$f":"HLOOKUP(A50,'BCA Values Passenger VOT '!$B$697:$AC$702,3,FALSE)","v":{"$error":"#N/A"}},{"$f":"HLOOKUP(A50,'BCA Values Passenger VOT '!$B$697:$AC$702,4,FALSE)","v":{"$error":"#N/A"}},{"$f":"HLOOKUP(A50,'BCA Values Passenger VOT '!$B$697:$AC$702,5,FALSE)","v":{"$error":"#N/A"}},{"$f":"HLOOKUP(A50,'BCA Values Passenger VOT '!$B$697:$AC$702,6,FALSE)","v":{"$error":"#N/A"}},{"$f":"IF(A50=\"No Values Available\",\"No Values\",(F50*'Project Information'!$C$51+'Project Information'!$C$52*'Intermediate Pass Calcs'!G50+'Intermediate Pass Calcs'!H50*'Project Information'!$C$53+'Project Information'!$C$54*'Intermediate Pass Calcs'!I50+'Intermediate Pass Calcs'!J50*'Project Information'!$C$55)/100)","v":{"$error":"#N/A"}},{"$f":"IF(A50=\"No Values Available\",\"No Values\",(F50*'Project Information'!$D$51+'Project Information'!$D$52*'Intermediate Pass Calcs'!G50+'Intermediate Pass Calcs'!H50*'Project Information'!$D$53+'Project Information'!$D$54*'Intermediate Pass Calcs'!I50+'Intermediate Pass Calcs'!J50*'Project Information'!$D$55)/100)","v":{"$error":"#N/A"}}]
[16,{"$f":"IF(A51=\"No Values Available\",\"No Values\",(HLOOKUP(A51,'BCA Values Passenger'!$D$11:$AC$16,5,FALSE)))","v":{"$error":"#N/A"}},{"$f":"IF(A51=\"No Values Available\",\"No Values\",(HLOOKUP(A51,'BCA Values Passenger'!$D$21:$AC$26,4,FALSE)))","v":{"$error":"#N/A"}},{"$f":"IF(A51=\"No Values Available\",\"No Values\",(HLOOKUP(A51,'BCA Values Passenger'!$D$21:$AC$26,5,FALSE)))","v":{"$error":"#N/A"}},{"$f":"IF(A51=\"No Values Available\",\"No Values\",(HLOOKUP(A51,'BCA Values Passenger'!$D$21:$AC$26,6,FALSE)))","v":{"$error":"#N/A"}},{"$f":"HLOOKUP(A51,'BCA Values Passenger VOT '!$B$697:$AC$702,2,FALSE)","v":{"$error":"#N/A"}},{"$f":"HLOOKUP(A51,'BCA Values Passenger VOT '!$B$697:$AC$702,3,FALSE)","v":{"$error":"#N/A"}},{"$f":"HLOOKUP(A51,'BCA Values Passenger VOT '!$B$697:$AC$702,4,FALSE)","v":{"$error":"#N/A"}},{"$f":"HLOOKUP(A51,'BCA Values Passenger VOT '!$B$697:$AC$702,5,FALSE)","v":{"$error":"#N/A"}},{"$f":"HLOOKUP(A51,'BCA Values Passenger VOT '!$B$697:$AC$702,6,FALSE)","v":{"$error":"#N/A"}},{"$f":"IF(A51=\"No Values Available\",\"No Values\",(F51*'Project Information'!$C$51+'Project Information'!$C$52*'Intermediate Pass Calcs'!G51+'Intermediate Pass Calcs'!H51*'Project Information'!$C$53+'Project Information'!$C$54*'Intermediate Pass Calcs'!I51+'Intermediate Pass Calcs'!J51*'Project Information'!$C$55)/100)","v":{"$error":"#N/A"}},{"$f":"IF(A51=\"No Values Available\",\"No Values\",(F51*'Project Information'!$D$51+'Project Information'!$D$52*'Intermediate Pass Calcs'!G51+'Intermediate Pass Calcs'!H51*'Project Information'!$D$53+'Project Information'!$D$54*'Intermediate Pass Calcs'!I51+'Intermediate Pass Calcs'!J51*'Project Information'!$D$55)/100)","v":{"$error":"#N/A"}}]
[17,{"$f":"IF(A52=\"No Values Available\",\"No Values\",(HLOOKUP(A52,'BCA Values Passenger'!$D$11:$AC$16,5,FALSE)))","v":{"$error":"#N/A"}},{"$f":"IF(A52=\"No Values Available\",\"No Values\",(HLOOKUP(A52,'BCA Values Passenger'!$D$21:$AC$26,4,FALSE)))","v":{"$error":"#N/A"}},{"$f":"IF(A52=\"No Values Available\",\"No Values\",(HLOOKUP(A52,'BCA Values Passenger'!$D$21:$AC$26,5,FALSE)))","v":{"$error":"#N/A"}},{"$f":"IF(A52=\"No Values Available\",\"No Values\",(HLOOKUP(A52,'BCA Values Passenger'!$D$21:$AC$26,6,FALSE)))","v":{"$error":"#N/A"}},{"$f":"HLOOKUP(A52,'BCA Values Passenger VOT '!$B$697:$AC$702,2,FALSE)","v":{"$error":"#N/A"}},{"$f":"HLOOKUP(A52,'BCA Values Passenger VOT '!$B$697:$AC$702,3,FALSE)","v":{"$error":"#N/A"}},{"$f":"HLOOKUP(A52,'BCA Values Passenger VOT '!$B$697:$AC$702,4,FALSE)","v":{"$error":"#N/A"}},{"$f":"HLOOKUP(A52,'BCA Values Passenger VOT '!$B$697:$AC$702,5,FALSE)","v":{"$error":"#N/A"}},{"$f":"HLOOKUP(A52,'BCA Values Passenger VOT '!$B$697:$AC$702,6,FALSE)","v":{"$error":"#N/A"}},{"$f":"IF(A52=\"No Values Available\",\"No Values\",(F52*'Project Information'!$C$51+'Project Information'!$C$52*'Intermediate Pass Calcs'!G52+'Intermediate Pass Calcs'!H52*'Project Information'!$C$53+'Project Information'!$C$54*'Intermediate Pass Calcs'!I52+'Intermediate Pass Calcs'!J52*'Project Information'!$C$55)/100)","v":{"$error":"#N/A"}},{"$f":"IF(A52=\"No Values Available\",\"No Values\",(F52*'Project Information'!$D$51+'Project Information'!$D$52*'Intermediate Pass Calcs'!G52+'Intermediate Pass Calcs'!H52*'Project Information'!$D$53+'Project Information'!$D$54*'Intermediate Pass Calcs'!I52+'Intermediate Pass Calcs'!J52*'Project Information'!$D$55)/100)","v":{"$error":"#N/A"}}]
[18,{"$f":"IF(A53=\"No Values Available\",\"No Values\",(HLOOKUP(A53,'BCA Values Passenger'!$D$11:$AC$16,5,FALSE)))","v":{"$error":"#N/A"}},{"$f":"IF(A53=\"No Values Available\",\"No Values\",(HLOOKUP(A53,'BCA Values Passenger'!$D$21:$AC$26,4,FALSE)))","v":{"$error":"#N/A"}},{"$f":"IF(A53=\"No Values Available\",\"No Values\",(HLOOKUP(A53,'BCA Values Passenger'!$D$21:$AC$26,5,FALSE)))","v":{"$error":"#N/A"}},{"$f":"IF(A53=\"No Values Available\",\"No Values\",(HLOOKUP(A53,'BCA Values Passenger'!$D$21:$AC$26,6,FALSE)))","v":{"$error":"#N/A"}},{"$f":"HLOOKUP(A53,'BCA Values Passenger VOT '!$B$697:$AC$702,2,FALSE)","v":{"$error":"#N/A"}},{"$f":"HLOOKUP(A53,'BCA Values Passenger VOT '!$B$697:$AC$702,3,FALSE)","v":{"$error":"#N/A"}},{"$f":"HLOOKUP(A53,'BCA Values Passenger VOT '!$B$697:$AC$702,4,FALSE)","v":{"$error":"#N/A"}},{"$f":"HLOOKUP(A53,'BCA Values Passenger VOT '!$B$697:$AC$702,5,FALSE)","v":{"$error":"#N/A"}},{"$f":"HLOOKUP(A53,'BCA Values Passenger VOT '!$B$697:$AC$702,6,FALSE)","v":{"$error":"#N/A"}},{"$f":"IF(A53=\"No Values Available\",\"No Values\",(F53*'Project Information'!$C$51+'Project Information'!$C$52*'Intermediate Pass Calcs'!G53+'Intermediate Pass Calcs'!H53*'Project Information'!$C$53+'Project Information'!$C$54*'Intermediate Pass Calcs'!I53+'Intermediate Pass Calcs'!J53*'Project Information'!$C$55)/100)","v":{"$error":"#N/A"}},{"$f":"IF(A53=\"No Values Available\",\"No Values\",(F53*'Project Information'!$D$51+'Project Information'!$D$52*'Intermediate Pass Calcs'!G53+'Intermediate Pass Calcs'!H53*'Project Information'!$D$53+'Project Information'!$D$54*'Intermediate Pass Calcs'!I53+'Intermediate Pass Calcs'!J53*'Project Information'!$D$55)/100)","v":{"$error":"#N/A"}}]
[19,{"$f":"IF(A54=\"No Values Available\",\"No Values\",(HLOOKUP(A54,'BCA Values Passenger'!$D$11:$AC$16,5,FALSE)))","v":{"$error":"#N/A"}},{"$f":"IF(A54=\"No Values Available\",\"No Values\",(HLOOKUP(A54,'BCA Values Passenger'!$D$21:$AC$26,4,FALSE)))","v":{"$error":"#N/A"}},{"$f":"IF(A54=\"No Values Available\",\"No Values\",(HLOOKUP(A54,'BCA Values Passenger'!$D$21:$AC$26,5,FALSE)))","v":{"$error":"#N/A"}},{"$f":"IF(A54=\"No Values Available\",\"No Values\",(HLOOKUP(A54,'BCA Values Passenger'!$D$21:$AC$26,6,FALSE)))","v":{"$error":"#N/A"}},{"$f":"HLOOKUP(A54,'BCA Values Passenger VOT '!$B$697:$AC$702,2,FALSE)","v":{"$error":"#N/A"}},{"$f":"HLOOKUP(A54,'BCA Values Passenger VOT '!$B$697:$AC$702,3,FALSE)","v":{"$error":"#N/A"}},{"$f":"HLOOKUP(A54,'BCA Values Passenger VOT '!$B$697:$AC$702,4,FALSE)","v":{"$error":"#N/A"}},{"$f":"HLOOKUP(A54,'BCA Values Passenger VOT '!$B$697:$AC$702,5,FALSE)","v":{"$error":"#N/A"}},{"$f":"HLOOKUP(A54,'BCA Values Passenger VOT '!$B$697:$AC$702,6,FALSE)","v":{"$error":"#N/A"}},{"$f":"IF(A54=\"No Values Available\",\"No Values\",(F54*'Project Information'!$C$51+'Project Information'!$C$52*'Intermediate Pass Calcs'!G54+'Intermediate Pass Calcs'!H54*'Project Information'!$C$53+'Project Information'!$C$54*'Intermediate Pass Calcs'!I54+'Intermediate Pass Calcs'!J54*'Project Information'!$C$55)/100)","v":{"$error":"#N/A"}},{"$f":"IF(A54=\"No Values Available\",\"No Values\",(F54*'Project Information'!$D$51+'Project Information'!$D$52*'Intermediate Pass Calcs'!G54+'Intermediate Pass Calcs'!H54*'Project Information'!$D$53+'Project Information'!$D$54*'Intermediate Pass Calcs'!I54+'Intermediate Pass Calcs'!J54*'Project Information'!$D$55)/100)","v":{"$error":"#N/A"}}]
[20,{"$f":"IF(A55=\"No Values Available\",\"No Values\",(HLOOKUP(A55,'BCA Values Passenger'!$D$11:$AC$16,5,FALSE)))","v":{"$error":"#N/A"}},{"$f":"IF(A55=\"No Values Available\",\"No Values\",(HLOOKUP(A55,'BCA Values Passenger'!$D$21:$AC$26,4,FALSE)))","v":{"$error":"#N/A"}},{"$f":"IF(A55=\"No Values Available\",\"No Values\",(HLOOKUP(A55,'BCA Values Passenger'!$D$21:$AC$26,5,FALSE)))","v":{"$error":"#N/A"}},{"$f":"IF(A55=\"No Values Available\",\"No Values\",(HLOOKUP(A55,'BCA Values Passenger'!$D$21:$AC$26,6,FALSE)))","v":{"$error":"#N/A"}},{"$f":"HLOOKUP(A55,'BCA Values Passenger VOT '!$B$697:$AC$702,2,FALSE)","v":{"$error":"#N/A"}},{"$f":"HLOOKUP(A55,'BCA Values Passenger VOT '!$B$697:$AC$702,3,FALSE)","v":{"$error":"#N/A"}},{"$f":"HLOOKUP(A55,'BCA Values Passenger VOT '!$B$697:$AC$702,4,FALSE)","v":{"$error":"#N/A"}},{"$f":"HLOOKUP(A55,'BCA Values Passenger VOT '!$B$697:$AC$702,5,FALSE)","v":{"$error":"#N/A"}},{"$f":"HLOOKUP(A55,'BCA Values Passenger VOT '!$B$697:$AC$702,6,FALSE)","v":{"$error":"#N/A"}},{"$f":"IF(A55=\"No Values Available\",\"No Values\",(F55*'Project Information'!$C$51+'Project Information'!$C$52*'Intermediate Pass Calcs'!G55+'Intermediate Pass Calcs'!H55*'Project Information'!$C$53+'Project Information'!$C$54*'Intermediate Pass Calcs'!I55+'Intermediate Pass Calcs'!J55*'Project Information'!$C$55)/100)","v":{"$error":"#N/A"}},{"$f":"IF(A55=\"No Values Available\",\"No Values\",(F55*'Project Information'!$D$51+'Project Information'!$D$52*'Intermediate Pass Calcs'!G55+'Intermediate Pass Calcs'!H55*'Project Information'!$D$53+'Project Information'!$D$54*'Intermediate Pass Calcs'!I55+'Intermediate Pass Calcs'!J55*'Project Information'!$D$55)/100)","v":{"$error":"#N/A"}}]
[21,{"$f":"IF(A56=\"No Values Available\",\"No Values\",(HLOOKUP(A56,'BCA Values Passenger'!$D$11:$AC$16,5,FALSE)))","v":{"$error":"#N/A"}},{"$f":"IF(A56=\"No Values Available\",\"No Values\",(HLOOKUP(A56,'BCA Values Passenger'!$D$21:$AC$26,4,FALSE)))","v":{"$error":"#N/A"}},{"$f":"IF(A56=\"No Values Available\",\"No Values\",(HLOOKUP(A56,'BCA Values Passenger'!$D$21:$AC$26,5,FALSE)))","v":{"$error":"#N/A"}},{"$f":"IF(A56=\"No Values Available\",\"No Values\",(HLOOKUP(A56,'BCA Values Passenger'!$D$21:$AC$26,6,FALSE)))","v":{"$error":"#N/A"}},{"$f":"HLOOKUP(A56,'BCA Values Passenger VOT '!$B$697:$AC$702,2,FALSE)","v":{"$error":"#N/A"}},{"$f":"HLOOKUP(A56,'BCA Values Passenger VOT '!$B$697:$AC$702,3,FALSE)","v":{"$error":"#N/A"}},{"$f":"HLOOKUP(A56,'BCA Values Passenger VOT '!$B$697:$AC$702,4,FALSE)","v":{"$error":"#N/A"}},{"$f":"HLOOKUP(A56,'BCA Values Passenger VOT '!$B$697:$AC$702,5,FALSE)","v":{"$error":"#N/A"}},{"$f":"HLOOKUP(A56,'BCA Values Passenger VOT '!$B$697:$AC$702,6,FALSE)","v":{"$error":"#N/A"}},{"$f":"IF(A56=\"No Values Available\",\"No Values\",(F56*'Project Information'!$C$51+'Project Information'!$C$52*'Intermediate Pass Calcs'!G56+'Intermediate Pass Calcs'!H56*'Project Information'!$C$53+'Project Information'!$C$54*'Intermediate Pass Calcs'!I56+'Intermediate Pass Calcs'!J56*'Project Information'!$C$55)/100)","v":{"$error":"#N/A"}},{"$f":"IF(A56=\"No Values Available\",\"No Values\",(F56*'Project Information'!$D$51+'Project Information'!$D$52*'Intermediate Pass Calcs'!G56+'Intermediate Pass Calcs'!H56*'Project Information'!$D$53+'Project Information'!$D$54*'Intermediate Pass Calcs'!I56+'Intermediate Pass Calcs'!J56*'Project Information'!$D$55)/100)","v":{"$error":"#N/A"}}]
[22,{"$f":"IF(A57=\"No Values Available\",\"No Values\",(HLOOKUP(A57,'BCA Values Passenger'!$D$11:$AC$16,5,FALSE)))","v":{"$error":"#N/A"}},{"$f":"IF(A57=\"No Values Available\",\"No Values\",(HLOOKUP(A57,'BCA Values Passenger'!$D$21:$AC$26,4,FALSE)))","v":{"$error":"#N/A"}},{"$f":"IF(A57=\"No Values Available\",\"No Values\",(HLOOKUP(A57,'BCA Values Passenger'!$D$21:$AC$26,5,FALSE)))","v":{"$error":"#N/A"}},{"$f":"IF(A57=\"No Values Available\",\"No Values\",(HLOOKUP(A57,'BCA Values Passenger'!$D$21:$AC$26,6,FALSE)))","v":{"$error":"#N/A"}},{"$f":"HLOOKUP(A57,'BCA Values Passenger VOT '!$B$697:$AC$702,2,FALSE)","v":{"$error":"#N/A"}},{"$f":"HLOOKUP(A57,'BCA Values Passenger VOT '!$B$697:$AC$702,3,FALSE)","v":{"$error":"#N/A"}},{"$f":"HLOOKUP(A57,'BCA Values Passenger VOT '!$B$697:$AC$702,4,FALSE)","v":{"$error":"#N/A"}},{"$f":"HLOOKUP(A57,'BCA Values Passenger VOT '!$B$697:$AC$702,5,FALSE)","v":{"$error":"#N/A"}},{"$f":"HLOOKUP(A57,'BCA Values Passenger VOT '!$B$697:$AC$702,6,FALSE)","v":{"$error":"#N/A"}},{"$f":"IF(A57=\"No Values Available\",\"No Values\",(F57*'Project Information'!$C$51+'Project Information'!$C$52*'Intermediate Pass Calcs'!G57+'Intermediate Pass Calcs'!H57*'Project Information'!$C$53+'Project Information'!$C$54*'Intermediate Pass Calcs'!I57+'Intermediate Pass Calcs'!J57*'Project Information'!$C$55)/100)","v":{"$error":"#N/A"}},{"$f":"IF(A57=\"No Values Available\",\"No Values\",(F57*'Project Information'!$D$51+'Project Information'!$D$52*'Intermediate Pass Calcs'!G57+'Intermediate Pass Calcs'!H57*'Project Information'!$D$53+'Project Information'!$D$54*'Intermediate Pass Calcs'!I57+'Intermediate Pass Calcs'!J57*'Project Information'!$D$55)/100)","v":{"$error":"#N/A"}}]
[23,{"$f":"IF(A58=\"No Values Available\",\"No Values\",(HLOOKUP(A58,'BCA Values Passenger'!$D$11:$AC$16,5,FALSE)))","v":{"$error":"#N/A"}},{"$f":"IF(A58=\"No Values Available\",\"No Values\",(HLOOKUP(A58,'BCA Values Passenger'!$D$21:$AC$26,4,FALSE)))","v":{"$error":"#N/A"}},{"$f":"IF(A58=\"No Values Available\",\"No Values\",(HLOOKUP(A58,'BCA Values Passenger'!$D$21:$AC$26,5,FALSE)))","v":{"$error":"#N/A"}},{"$f":"IF(A58=\"No Values Available\",\"No Values\",(HLOOKUP(A58,'BCA Values Passenger'!$D$21:$AC$26,6,FALSE)))","v":{"$error":"#N/A"}},{"$f":"HLOOKUP(A58,'BCA Values Passenger VOT '!$B$697:$AC$702,2,FALSE)","v":{"$error":"#N/A"}},{"$f":"HLOOKUP(A58,'BCA Values Passenger VOT '!$B$697:$AC$702,3,FALSE)","v":{"$error":"#N/A"}},{"$f":"HLOOKUP(A58,'BCA Values Passenger VOT '!$B$697:$AC$702,4,FALSE)","v":{"$error":"#N/A"}},{"$f":"HLOOKUP(A58,'BCA Values Passenger VOT '!$B$697:$AC$702,5,FALSE)","v":{"$error":"#N/A"}},{"$f":"HLOOKUP(A58,'BCA Values Passenger VOT '!$B$697:$AC$702,6,FALSE)","v":{"$error":"#N/A"}},{"$f":"IF(A58=\"No Values Available\",\"No Values\",(F58*'Project Information'!$C$51+'Project Information'!$C$52*'Intermediate Pass Calcs'!G58+'Intermediate Pass Calcs'!H58*'Project Information'!$C$53+'Project Information'!$C$54*'Intermediate Pass Calcs'!I58+'Intermediate Pass Calcs'!J58*'Project Information'!$C$55)/100)","v":{"$error":"#N/A"}},{"$f":"IF(A58=\"No Values Available\",\"No Values\",(F58*'Project Information'!$D$51+'Project Information'!$D$52*'Intermediate Pass Calcs'!G58+'Intermediate Pass Calcs'!H58*'Project Information'!$D$53+'Project Information'!$D$54*'Intermediate Pass Calcs'!I58+'Intermediate Pass Calcs'!J58*'Project Information'!$D$55)/100)","v":{"$error":"#N/A"}}]
[24,{"$f":"IF(A59=\"No Values Available\",\"No Values\",(HLOOKUP(A59,'BCA Values Passenger'!$D$11:$AC$16,5,FALSE)))","v":{"$error":"#N/A"}},{"$f":"IF(A59=\"No Values Available\",\"No Values\",(HLOOKUP(A59,'BCA Values Passenger'!$D$21:$AC$26,4,FALSE)))","v":{"$error":"#N/A"}},{"$f":"IF(A59=\"No Values Available\",\"No Values\",(HLOOKUP(A59,'BCA Values Passenger'!$D$21:$AC$26,5,FALSE)))","v":{"$error":"#N/A"}},{"$f":"IF(A59=\"No Values Available\",\"No Values\",(HLOOKUP(A59,'BCA Values Passenger'!$D$21:$AC$26,6,FALSE)))","v":{"$error":"#N/A"}},{"$f":"HLOOKUP(A59,'BCA Values Passenger VOT '!$B$697:$AC$702,2,FALSE)","v":{"$error":"#N/A"}},{"$f":"HLOOKUP(A59,'BCA Values Passenger VOT '!$B$697:$AC$702,3,FALSE)","v":{"$error":"#N/A"}},{"$f":"HLOOKUP(A59,'BCA Values Passenger VOT '!$B$697:$AC$702,4,FALSE)","v":{"$error":"#N/A"}},{"$f":"HLOOKUP(A59,'BCA Values Passenger VOT '!$B$697:$AC$702,5,FALSE)","v":{"$error":"#N/A"}},{"$f":"HLOOKUP(A59,'BCA Values Passenger VOT '!$B$697:$AC$702,6,FALSE)","v":{"$error":"#N/A"}},{"$f":"IF(A59=\"No Values Available\",\"No Values\",(F59*'Project Information'!$C$51+'Project Information'!$C$52*'Intermediate Pass Calcs'!G59+'Intermediate Pass Calcs'!H59*'Project Information'!$C$53+'Project Information'!$C$54*'Intermediate Pass Calcs'!I59+'Intermediate Pass Calcs'!J59*'Project Information'!$C$55)/100)","v":{"$error":"#N/A"}},{"$f":"IF(A59=\"No Values Available\",\"No Values\",(F59*'Project Information'!$D$51+'Project Information'!$D$52*'Intermediate Pass Calcs'!G59+'Intermediate Pass Calcs'!H59*'Project Information'!$D$53+'Project Information'!$D$54*'Intermediate Pass Calcs'!I59+'Intermediate Pass Calcs'!J59*'Project Information'!$D$55)/100)","v":{"$error":"#N/A"}}]
[]
[]
[null,"Environmental Improvement"]
[null,"Air Pollution Cost per car mile","Noise pollution cost per vehicle mile","Change in Passengers, Amtrak","Change in Passengers, VRE","Air pollution cost, train"]
["Year"]
[{"$f":"IF('Project Information'!C9>2040, \"No Values Available\", 'Project Information'!C8)","v":0},{"$f":"'Project Information'!$D$23*(HLOOKUP('Intermediate Pass Calcs'!A65,'BCA Values Passenger'!$D$31:$AC$63,3,FALSE)*HLOOKUP('Intermediate Pass Calcs'!A65,'BCA Values Passenger'!$D$31:$AC$63,28,FALSE)+HLOOKUP('Intermediate Pass Calcs'!A65,'BCA Values Passenger'!$D$31:$AC$63,5,FALSE)*HLOOKUP('Intermediate Pass Calcs'!A65,'BCA Values Passenger'!$D$31:$AC$63,29,FALSE)+HLOOKUP('Intermediate Pass Calcs'!A65,'BCA Values Passenger'!$D$31:$AC$63,6,FALSE)*HLOOKUP('Intermediate Pass Calcs'!A65,'BCA Values Passenger'!$D$31:$AC$63,30,FALSE)+HLOOKUP('Intermediate Pass Calcs'!A65,'BCA Values Passenger'!$D$31:$AC$63,7,FALSE)*HLOOKUP('Intermediate Pass Calcs'!A65,'BCA Values Passenger'!$D$31:$AC$63,31,FALSE)+HLOOKUP('Intermediate Pass Calcs'!A65,'BCA Values Passenger'!$D$31:$AC$63,8,FALSE)*HLOOKUP('Intermediate Pass Calcs'!A65,'BCA Values Passenger'!$D$31:$AC$63,32,FALSE)+HLOOKUP('Intermediate Pass Calcs'!A65,'BCA Values Passenger'!$D$31:$AC$63,9,FALSE)*HLOOKUP('Intermediate Pass Calcs'!A65,'BCA Values Passenger'!$D$31:$AC$63,33,FALSE))+'Project Information'!$C$23*(HLOOKUP('Intermediate Pass Calcs'!A65,'BCA Values Passenger'!$D$31:$AC$63,12,FALSE)*HLOOKUP('Intermediate Pass Calcs'!A65,'BCA Values Passenger'!$D$31:$AC$63,28,FALSE)+HLOOKUP('Intermediate Pass Calcs'!A65,'BCA Values Passenger'!$D$31:$AC$63,14,FALSE)*HLOOKUP('Intermediate Pass Calcs'!A65,'BCA Values Passenger'!$D$31:$AC$63,29,FALSE)+HLOOKUP('Intermediate Pass Calcs'!A65,'BCA Values Passenger'!$D$31:$AC$63,15,FALSE)*HLOOKUP('Intermediate Pass Calcs'!A65,'BCA Values Passenger'!$D$31:$AC$63,30,FALSE)+HLOOKUP('Intermediate Pass Calcs'!A65,'BCA Values Passenger'!$D$31:$AC$63,16,FALSE)*HLOOKUP('Intermediate Pass Calcs'!A65,'BCA Values Passenger'!$D$31:$AC$63,31,FALSE)+HLOOKUP('Intermediate Pass Calcs'!A65,'BCA Values Passenger'!$D$31:$AC$63,17,FALSE)*HLOOKUP('Intermediate Pass Calcs'!A65,'BCA Values Passenger'!$D$31:$AC$63,32,FALSE)+HLOOKUP('Intermediate Pass Calcs'!A65,'BCA Values Passenger'!$D$31:$AC$63,18,FALSE)*HLOOKUP('Intermediate Pass Calcs'!A65,'BCA Values Passenger'!$D$31:$AC$63,33,FALSE))","v":{"$error":"#VALUE!"}},{"$f":"'Project Information'!$D$23*HLOOKUP(A65,'BCA Values Passenger'!$D$31:$AC$69,37,FALSE)+'Project Information'!$C$23*HLOOKUP(A65,'BCA Values Passenger'!$D$31:$AC$69,39,FALSE)","v":{"$error":"#VALUE!"}},{"$f":"'Railcar and Passenger Demand'!G2","v":0},{"$f":"'Railcar and Passenger Demand'!I2","v":0},{"$f":"HLOOKUP(A65,'BCA Values Passenger'!$D$31:$AC$63,21,FALSE)*HLOOKUP(A65,'BCA Values Passenger'!$D$31:$AC$63,28,FALSE)+HLOOKUP(A65,'BCA Values Passenger'!$D$31:$AC$63,22,FALSE)*HLOOKUP(A65,'BCA Values Passenger'!$D$31:$AC$63,29,FALSE)+HLOOKUP(A65,'BCA Values Passenger'!$D$31:$AC$63,23,FALSE)*0.97*HLOOKUP(A65,'BCA Values Passenger'!$D$31:$AC$63,30,FALSE)+HLOOKUP(A65,'BCA Values Passenger'!$D$31:$AC$63,23,FALSE)*0.03*HLOOKUP(A65,'BCA Values Passenger'!$D$31:$AC$63,31,FALSE)+HLOOKUP(A65,'BCA Values Passenger'!$D$31:$AC$63,24,FALSE)*HLOOKUP(A65,'BCA Values Passenger'!$D$31:$AC$63,32,FALSE)+HLOOKUP(A65,'BCA Values Passenger'!$D$31:$AC$63,25,FALSE)*HLOOKUP(A65,'BCA Values Passenger'!$D$31:$AC$63,33,FALSE)","v":{"$error":"#N/A"}}]
[{"$f":"IFERROR((IF(A65+1>2040,\"No Values Available\",A65+1)),\"No Values Available\")","v":1},{"$f":"'Project Information'!$D$23*(HLOOKUP('Intermediate Pass Calcs'!A66,'BCA Values Passenger'!$D$31:$AC$63,3,FALSE)*HLOOKUP('Intermediate Pass Calcs'!A66,'BCA Values Passenger'!$D$31:$AC$63,28,FALSE)+HLOOKUP('Intermediate Pass Calcs'!A66,'BCA Values Passenger'!$D$31:$AC$63,5,FALSE)*HLOOKUP('Intermediate Pass Calcs'!A66,'BCA Values Passenger'!$D$31:$AC$63,29,FALSE)+HLOOKUP('Intermediate Pass Calcs'!A66,'BCA Values Passenger'!$D$31:$AC$63,6,FALSE)*HLOOKUP('Intermediate Pass Calcs'!A66,'BCA Values Passenger'!$D$31:$AC$63,30,FALSE)+HLOOKUP('Intermediate Pass Calcs'!A66,'BCA Values Passenger'!$D$31:$AC$63,7,FALSE)*HLOOKUP('Intermediate Pass Calcs'!A66,'BCA Values Passenger'!$D$31:$AC$63,31,FALSE)+HLOOKUP('Intermediate Pass Calcs'!A66,'BCA Values Passenger'!$D$31:$AC$63,8,FALSE)*HLOOKUP('Intermediate Pass Calcs'!A66,'BCA Values Passenger'!$D$31:$AC$63,32,FALSE)+HLOOKUP('Intermediate Pass Calcs'!A66,'BCA Values Passenger'!$D$31:$AC$63,9,FALSE)*HLOOKUP('Intermediate Pass Calcs'!A66,'BCA Values Passenger'!$D$31:$AC$63,33,FALSE))+'Project Information'!$C$23*(HLOOKUP('Intermediate Pass Calcs'!A66,'BCA Values Passenger'!$D$31:$AC$63,12,FALSE)*HLOOKUP('Intermediate Pass Calcs'!A66,'BCA Values Passenger'!$D$31:$AC$63,28,FALSE)+HLOOKUP('Intermediate Pass Calcs'!A66,'BCA Values Passenger'!$D$31:$AC$63,14,FALSE)*HLOOKUP('Intermediate Pass Calcs'!A66,'BCA Values Passenger'!$D$31:$AC$63,29,FALSE)+HLOOKUP('Intermediate Pass Calcs'!A66,'BCA Values Passenger'!$D$31:$AC$63,15,FALSE)*HLOOKUP('Intermediate Pass Calcs'!A66,'BCA Values Passenger'!$D$31:$AC$63,30,FALSE)+HLOOKUP('Intermediate Pass Calcs'!A66,'BCA Values Passenger'!$D$31:$AC$63,16,FALSE)*HLOOKUP('Intermediate Pass Calcs'!A66,'BCA Values Passenger'!$D$31:$AC$63,31,FALSE)+HLOOKUP('Intermediate Pass Calcs'!A66,'BCA Values Passenger'!$D$31:$AC$63,17,FALSE)*HLOOKUP('Intermediate Pass Calcs'!A66,'BCA Values Passenger'!$D$31:$AC$63,32,FALSE)+HLOOKUP('Intermediate Pass Calcs'!A66,'BCA Values Passenger'!$D$31:$AC$63,18,FALSE)*HLOOKUP('Intermediate Pass Calcs'!A66,'BCA Values Passenger'!$D$31:$AC$63,33,FALSE))","v":{"$error":"#VALUE!"}},{"$f":"'Project Information'!$D$23*HLOOKUP(A66,'BCA Values Passenger'!$D$31:$AC$69,37,FALSE)+'Project Information'!$C$23*HLOOKUP(A66,'BCA Values Passenger'!$D$31:$AC$69,39,FALSE)","v":{"$error":"#VALUE!"}},{"$f":"'Railcar and Passenger Demand'!G3","v":""},{"$f":"'Railcar and Passenger Demand'!I3","v":""},{"$f":"HLOOKUP(A66,'BCA Values Passenger'!$D$31:$AC$63,21,FALSE)*HLOOKUP(A66,'BCA Values Passenger'!$D$31:$AC$63,28,FALSE)+HLOOKUP(A66,'BCA Values Passenger'!$D$31:$AC$63,22,FALSE)*HLOOKUP(A66,'BCA Values Passenger'!$D$31:$AC$63,29,FALSE)+HLOOKUP(A66,'BCA Values Passenger'!$D$31:$AC$63,23,FALSE)*0.97*HLOOKUP(A66,'BCA Values Passenger'!$D$31:$AC$63,30,FALSE)+HLOOKUP(A66,'BCA Values Passenger'!$D$31:$AC$63,23,FALSE)*0.03*HLOOKUP(A66,'BCA Values Passenger'!$D$31:$AC$63,31,FALSE)+HLOOKUP(A66,'BCA Values Passenger'!$D$31:$AC$63,24,FALSE)*HLOOKUP(A66,'BCA Values Passenger'!$D$31:$AC$63,32,FALSE)+HLOOKUP(A66,'BCA Values Passenger'!$D$31:$AC$63,25,FALSE)*HLOOKUP(A66,'BCA Values Passenger'!$D$31:$AC$63,33,FALSE)","v":{"$error":"#N/A"}}]
[{"$f":"IFERROR((IF(A66+1>2040,\"No Values Available\",A66+1)),\"No Values Available\")","v":2},{"$f":"'Project Information'!$D$23*(HLOOKUP('Intermediate Pass Calcs'!A67,'BCA Values Passenger'!$D$31:$AC$63,3,FALSE)*HLOOKUP('Intermediate Pass Calcs'!A67,'BCA Values Passenger'!$D$31:$AC$63,28,FALSE)+HLOOKUP('Intermediate Pass Calcs'!A67,'BCA Values Passenger'!$D$31:$AC$63,5,FALSE)*HLOOKUP('Intermediate Pass Calcs'!A67,'BCA Values Passenger'!$D$31:$AC$63,29,FALSE)+HLOOKUP('Intermediate Pass Calcs'!A67,'BCA Values Passenger'!$D$31:$AC$63,6,FALSE)*HLOOKUP('Intermediate Pass Calcs'!A67,'BCA Values Passenger'!$D$31:$AC$63,30,FALSE)+HLOOKUP('Intermediate Pass Calcs'!A67,'BCA Values Passenger'!$D$31:$AC$63,7,FALSE)*HLOOKUP('Intermediate Pass Calcs'!A67,'BCA Values Passenger'!$D$31:$AC$63,31,FALSE)+HLOOKUP('Intermediate Pass Calcs'!A67,'BCA Values Passenger'!$D$31:$AC$63,8,FALSE)*HLOOKUP('Intermediate Pass Calcs'!A67,'BCA Values Passenger'!$D$31:$AC$63,32,FALSE)+HLOOKUP('Intermediate Pass Calcs'!A67,'BCA Values Passenger'!$D$31:$AC$63,9,FALSE)*HLOOKUP('Intermediate Pass Calcs'!A67,'BCA Values Passenger'!$D$31:$AC$63,33,FALSE))+'Project Information'!$C$23*(HLOOKUP('Intermediate Pass Calcs'!A67,'BCA Values Passenger'!$D$31:$AC$63,12,FALSE)*HLOOKUP('Intermediate Pass Calcs'!A67,'BCA Values Passenger'!$D$31:$AC$63,28,FALSE)+HLOOKUP('Intermediate Pass Calcs'!A67,'BCA Values Passenger'!$D$31:$AC$63,14,FALSE)*HLOOKUP('Intermediate Pass Calcs'!A67,'BCA Values Passenger'!$D$31:$AC$63,29,FALSE)+HLOOKUP('Intermediate Pass Calcs'!A67,'BCA Values Passenger'!$D$31:$AC$63,15,FALSE)*HLOOKUP('Intermediate Pass Calcs'!A67,'BCA Values Passenger'!$D$31:$AC$63,30,FALSE)+HLOOKUP('Intermediate Pass Calcs'!A67,'BCA Values Passenger'!$D$31:$AC$63,16,FALSE)*HLOOKUP('Intermediate Pass Calcs'!A67,'BCA Values Passenger'!$D$31:$AC$63,31,FALSE)+HLOOKUP('Intermediate Pass Calcs'!A67,'BCA Values Passenger'!$D$31:$AC$63,17,FALSE)*HLOOKUP('Intermediate Pass Calcs'!A67,'BCA Values Passenger'!$D$31:$AC$63,32,FALSE)+HLOOKUP('Intermediate Pass Calcs'!A67,'BCA Values Passenger'!$D$31:$AC$63,18,FALSE)*HLOOKUP('Intermediate Pass Calcs'!A67,'BCA Values Passenger'!$D$31:$AC$63,33,FALSE))","v":{"$error":"#VALUE!"}},{"$f":"'Project Information'!$D$23*HLOOKUP(A67,'BCA Values Passenger'!$D$31:$AC$69,37,FALSE)+'Project Information'!$C$23*HLOOKUP(A67,'BCA Values Passenger'!$D$31:$AC$69,39,FALSE)","v":{"$error":"#VALUE!"}},{"$f":"'Railcar and Passenger Demand'!G4","v":""},{"$f":"'Railcar and Passenger Demand'!I4","v":""},{"$f":"HLOOKUP(A67,'BCA Values Passenger'!$D$31:$AC$63,21,FALSE)*HLOOKUP(A67,'BCA Values Passenger'!$D$31:$AC$63,28,FALSE)+HLOOKUP(A67,'BCA Values Passenger'!$D$31:$AC$63,22,FALSE)*HLOOKUP(A67,'BCA Values Passenger'!$D$31:$AC$63,29,FALSE)+HLOOKUP(A67,'BCA Values Passenger'!$D$31:$AC$63,23,FALSE)*0.97*HLOOKUP(A67,'BCA Values Passenger'!$D$31:$AC$63,30,FALSE)+HLOOKUP(A67,'BCA Values Passenger'!$D$31:$AC$63,23,FALSE)*0.03*HLOOKUP(A67,'BCA Values Passenger'!$D$31:$AC$63,31,FALSE)+HLOOKUP(A67,'BCA Values Passenger'!$D$31:$AC$63,24,FALSE)*HLOOKUP(A67,'BCA Values Passenger'!$D$31:$AC$63,32,FALSE)+HLOOKUP(A67,'BCA Values Passenger'!$D$31:$AC$63,25,FALSE)*HLOOKUP(A67,'BCA Values Passenger'!$D$31:$AC$63,33,FALSE)","v":{"$error":"#N/A"}}]
[3,{"$f":"'Project Information'!$D$23*(HLOOKUP('Intermediate Pass Calcs'!A68,'BCA Values Passenger'!$D$31:$AC$63,3,FALSE)*HLOOKUP('Intermediate Pass Calcs'!A68,'BCA Values Passenger'!$D$31:$AC$63,28,FALSE)+HLOOKUP('Intermediate Pass Calcs'!A68,'BCA Values Passenger'!$D$31:$AC$63,5,FALSE)*HLOOKUP('Intermediate Pass Calcs'!A68,'BCA Values Passenger'!$D$31:$AC$63,29,FALSE)+HLOOKUP('Intermediate Pass Calcs'!A68,'BCA Values Passenger'!$D$31:$AC$63,6,FALSE)*HLOOKUP('Intermediate Pass Calcs'!A68,'BCA Values Passenger'!$D$31:$AC$63,30,FALSE)+HLOOKUP('Intermediate Pass Calcs'!A68,'BCA Values Passenger'!$D$31:$AC$63,7,FALSE)*HLOOKUP('Intermediate Pass Calcs'!A68,'BCA Values Passenger'!$D$31:$AC$63,31,FALSE)+HLOOKUP('Intermediate Pass Calcs'!A68,'BCA Values Passenger'!$D$31:$AC$63,8,FALSE)*HLOOKUP('Intermediate Pass Calcs'!A68,'BCA Values Passenger'!$D$31:$AC$63,32,FALSE)+HLOOKUP('Intermediate Pass Calcs'!A68,'BCA Values Passenger'!$D$31:$AC$63,9,FALSE)*HLOOKUP('Intermediate Pass Calcs'!A68,'BCA Values Passenger'!$D$31:$AC$63,33,FALSE))+'Project Information'!$C$23*(HLOOKUP('Intermediate Pass Calcs'!A68,'BCA Values Passenger'!$D$31:$AC$63,12,FALSE)*HLOOKUP('Intermediate Pass Calcs'!A68,'BCA Values Passenger'!$D$31:$AC$63,28,FALSE)+HLOOKUP('Intermediate Pass Calcs'!A68,'BCA Values Passenger'!$D$31:$AC$63,14,FALSE)*HLOOKUP('Intermediate Pass Calcs'!A68,'BCA Values Passenger'!$D$31:$AC$63,29,FALSE)+HLOOKUP('Intermediate Pass Calcs'!A68,'BCA Values Passenger'!$D$31:$AC$63,15,FALSE)*HLOOKUP('Intermediate Pass Calcs'!A68,'BCA Values Passenger'!$D$31:$AC$63,30,FALSE)+HLOOKUP('Intermediate Pass Calcs'!A68,'BCA Values Passenger'!$D$31:$AC$63,16,FALSE)*HLOOKUP('Intermediate Pass Calcs'!A68,'BCA Values Passenger'!$D$31:$AC$63,31,FALSE)+HLOOKUP('Intermediate Pass Calcs'!A68,'BCA Values Passenger'!$D$31:$AC$63,17,FALSE)*HLOOKUP('Intermediate Pass Calcs'!A68,'BCA Values Passenger'!$D$31:$AC$63,32,FALSE)+HLOOKUP('Intermediate Pass Calcs'!A68,'BCA Values Passenger'!$D$31:$AC$63,18,FALSE)*HLOOKUP('Intermediate Pass Calcs'!A68,'BCA Values Passenger'!$D$31:$AC$63,33,FALSE))","v":{"$error":"#VALUE!"}},{"$f":"'Project Information'!$D$23*HLOOKUP(A68,'BCA Values Passenger'!$D$31:$AC$69,37,FALSE)+'Project Information'!$C$23*HLOOKUP(A68,'BCA Values Passenger'!$D$31:$AC$69,39,FALSE)","v":{"$error":"#VALUE!"}},{"$f":"'Railcar and Passenger Demand'!G5","v":""},{"$f":"'Railcar and Passenger Demand'!I5","v":""},{"$f":"HLOOKUP(A68,'BCA Values Passenger'!$D$31:$AC$63,21,FALSE)*HLOOKUP(A68,'BCA Values Passenger'!$D$31:$AC$63,28,FALSE)+HLOOKUP(A68,'BCA Values Passenger'!$D$31:$AC$63,22,FALSE)*HLOOKUP(A68,'BCA Values Passenger'!$D$31:$AC$63,29,FALSE)+HLOOKUP(A68,'BCA Values Passenger'!$D$31:$AC$63,23,FALSE)*0.97*HLOOKUP(A68,'BCA Values Passenger'!$D$31:$AC$63,30,FALSE)+HLOOKUP(A68,'BCA Values Passenger'!$D$31:$AC$63,23,FALSE)*0.03*HLOOKUP(A68,'BCA Values Passenger'!$D$31:$AC$63,31,FALSE)+HLOOKUP(A68,'BCA Values Passenger'!$D$31:$AC$63,24,FALSE)*HLOOKUP(A68,'BCA Values Passenger'!$D$31:$AC$63,32,FALSE)+HLOOKUP(A68,'BCA Values Passenger'!$D$31:$AC$63,25,FALSE)*HLOOKUP(A68,'BCA Values Passenger'!$D$31:$AC$63,33,FALSE)","v":{"$error":"#N/A"}}]
[4,{"$f":"'Project Information'!$D$23*(HLOOKUP('Intermediate Pass Calcs'!A69,'BCA Values Passenger'!$D$31:$AC$63,3,FALSE)*HLOOKUP('Intermediate Pass Calcs'!A69,'BCA Values Passenger'!$D$31:$AC$63,28,FALSE)+HLOOKUP('Intermediate Pass Calcs'!A69,'BCA Values Passenger'!$D$31:$AC$63,5,FALSE)*HLOOKUP('Intermediate Pass Calcs'!A69,'BCA Values Passenger'!$D$31:$AC$63,29,FALSE)+HLOOKUP('Intermediate Pass Calcs'!A69,'BCA Values Passenger'!$D$31:$AC$63,6,FALSE)*HLOOKUP('Intermediate Pass Calcs'!A69,'BCA Values Passenger'!$D$31:$AC$63,30,FALSE)+HLOOKUP('Intermediate Pass Calcs'!A69,'BCA Values Passenger'!$D$31:$AC$63,7,FALSE)*HLOOKUP('Intermediate Pass Calcs'!A69,'BCA Values Passenger'!$D$31:$AC$63,31,FALSE)+HLOOKUP('Intermediate Pass Calcs'!A69,'BCA Values Passenger'!$D$31:$AC$63,8,FALSE)*HLOOKUP('Intermediate Pass Calcs'!A69,'BCA Values Passenger'!$D$31:$AC$63,32,FALSE)+HLOOKUP('Intermediate Pass Calcs'!A69,'BCA Values Passenger'!$D$31:$AC$63,9,FALSE)*HLOOKUP('Intermediate Pass Calcs'!A69,'BCA Values Passenger'!$D$31:$AC$63,33,FALSE))+'Project Information'!$C$23*(HLOOKUP('Intermediate Pass Calcs'!A69,'BCA Values Passenger'!$D$31:$AC$63,12,FALSE)*HLOOKUP('Intermediate Pass Calcs'!A69,'BCA Values Passenger'!$D$31:$AC$63,28,FALSE)+HLOOKUP('Intermediate Pass Calcs'!A69,'BCA Values Passenger'!$D$31:$AC$63,14,FALSE)*HLOOKUP('Intermediate Pass Calcs'!A69,'BCA Values Passenger'!$D$31:$AC$63,29,FALSE)+HLOOKUP('Intermediate Pass Calcs'!A69,'BCA Values Passenger'!$D$31:$AC$63,15,FALSE)*HLOOKUP('Intermediate Pass Calcs'!A69,'BCA Values Passenger'!$D$31:$AC$63,30,FALSE)+HLOOKUP('Intermediate Pass Calcs'!A69,'BCA Values Passenger'!$D$31:$AC$63,16,FALSE)*HLOOKUP('Intermediate Pass Calcs'!A69,'BCA Values Passenger'!$D$31:$AC$63,31,FALSE)+HLOOKUP('Intermediate Pass Calcs'!A69,'BCA Values Passenger'!$D$31:$AC$63,17,FALSE)*HLOOKUP('Intermediate Pass Calcs'!A69,'BCA Values Passenger'!$D$31:$AC$63,32,FALSE)+HLOOKUP('Intermediate Pass Calcs'!A69,'BCA Values Passenger'!$D$31:$AC$63,18,FALSE)*HLOOKUP('Intermediate Pass Calcs'!A69,'BCA Values Passenger'!$D$31:$AC$63,33,FALSE))","v":{"$error":"#VALUE!"}},{"$f":"'Project Information'!$D$23*HLOOKUP(A69,'BCA Values Passenger'!$D$31:$AC$69,37,FALSE)+'Project Information'!$C$23*HLOOKUP(A69,'BCA Values Passenger'!$D$31:$AC$69,39,FALSE)","v":{"$error":"#VALUE!"}},{"$f":"'Railcar and Passenger Demand'!G6","v":""},{"$f":"'Railcar and Passenger Demand'!I6","v":""},{"$f":"HLOOKUP(A69,'BCA Values Passenger'!$D$31:$AC$63,21,FALSE)*HLOOKUP(A69,'BCA Values Passenger'!$D$31:$AC$63,28,FALSE)+HLOOKUP(A69,'BCA Values Passenger'!$D$31:$AC$63,22,FALSE)*HLOOKUP(A69,'BCA Values Passenger'!$D$31:$AC$63,29,FALSE)+HLOOKUP(A69,'BCA Values Passenger'!$D$31:$AC$63,23,FALSE)*0.97*HLOOKUP(A69,'BCA Values Passenger'!$D$31:$AC$63,30,FALSE)+HLOOKUP(A69,'BCA Values Passenger'!$D$31:$AC$63,23,FALSE)*0.03*HLOOKUP(A69,'BCA Values Passenger'!$D$31:$AC$63,31,FALSE)+HLOOKUP(A69,'BCA Values Passenger'!$D$31:$AC$63,24,FALSE)*HLOOKUP(A69,'BCA Values Passenger'!$D$31:$AC$63,32,FALSE)+HLOOKUP(A69,'BCA Values Passenger'!$D$31:$AC$63,25,FALSE)*HLOOKUP(A69,'BCA Values Passenger'!$D$31:$AC$63,33,FALSE)","v":{"$error":"#N/A"}}]
[5,{"$f":"'Project Information'!$D$23*(HLOOKUP('Intermediate Pass Calcs'!A70,'BCA Values Passenger'!$D$31:$AC$63,3,FALSE)*HLOOKUP('Intermediate Pass Calcs'!A70,'BCA Values Passenger'!$D$31:$AC$63,28,FALSE)+HLOOKUP('Intermediate Pass Calcs'!A70,'BCA Values Passenger'!$D$31:$AC$63,5,FALSE)*HLOOKUP('Intermediate Pass Calcs'!A70,'BCA Values Passenger'!$D$31:$AC$63,29,FALSE)+HLOOKUP('Intermediate Pass Calcs'!A70,'BCA Values Passenger'!$D$31:$AC$63,6,FALSE)*HLOOKUP('Intermediate Pass Calcs'!A70,'BCA Values Passenger'!$D$31:$AC$63,30,FALSE)+HLOOKUP('Intermediate Pass Calcs'!A70,'BCA Values Passenger'!$D$31:$AC$63,7,FALSE)*HLOOKUP('Intermediate Pass Calcs'!A70,'BCA Values Passenger'!$D$31:$AC$63,31,FALSE)+HLOOKUP('Intermediate Pass Calcs'!A70,'BCA Values Passenger'!$D$31:$AC$63,8,FALSE)*HLOOKUP('Intermediate Pass Calcs'!A70,'BCA Values Passenger'!$D$31:$AC$63,32,FALSE)+HLOOKUP('Intermediate Pass Calcs'!A70,'BCA Values Passenger'!$D$31:$AC$63,9,FALSE)*HLOOKUP('Intermediate Pass Calcs'!A70,'BCA Values Passenger'!$D$31:$AC$63,33,FALSE))+'Project Information'!$C$23*(HLOOKUP('Intermediate Pass Calcs'!A70,'BCA Values Passenger'!$D$31:$AC$63,12,FALSE)*HLOOKUP('Intermediate Pass Calcs'!A70,'BCA Values Passenger'!$D$31:$AC$63,28,FALSE)+HLOOKUP('Intermediate Pass Calcs'!A70,'BCA Values Passenger'!$D$31:$AC$63,14,FALSE)*HLOOKUP('Intermediate Pass Calcs'!A70,'BCA Values Passenger'!$D$31:$AC$63,29,FALSE)+HLOOKUP('Intermediate Pass Calcs'!A70,'BCA Values Passenger'!$D$31:$AC$63,15,FALSE)*HLOOKUP('Intermediate Pass Calcs'!A70,'BCA Values Passenger'!$D$31:$AC$63,30,FALSE)+HLOOKUP('Intermediate Pass Calcs'!A70,'BCA Values Passenger'!$D$31:$AC$63,16,FALSE)*HLOOKUP('Intermediate Pass Calcs'!A70,'BCA Values Passenger'!$D$31:$AC$63,31,FALSE)+HLOOKUP('Intermediate Pass Calcs'!A70,'BCA Values Passenger'!$D$31:$AC$63,17,FALSE)*HLOOKUP('Intermediate Pass Calcs'!A70,'BCA Values Passenger'!$D$31:$AC$63,32,FALSE)+HLOOKUP('Intermediate Pass Calcs'!A70,'BCA Values Passenger'!$D$31:$AC$63,18,FALSE)*HLOOKUP('Intermediate Pass Calcs'!A70,'BCA Values Passenger'!$D$31:$AC$63,33,FALSE))","v":{"$error":"#VALUE!"}},{"$f":"'Project Information'!$D$23*HLOOKUP(A70,'BCA Values Passenger'!$D$31:$AC$69,37,FALSE)+'Project Information'!$C$23*HLOOKUP(A70,'BCA Values Passenger'!$D$31:$AC$69,39,FALSE)","v":{"$error":"#VALUE!"}},{"$f":"'Railcar and Passenger Demand'!G7","v":""},{"$f":"'Railcar and Passenger Demand'!I7","v":""},{"$f":"HLOOKUP(A70,'BCA Values Passenger'!$D$31:$AC$63,21,FALSE)*HLOOKUP(A70,'BCA Values Passenger'!$D$31:$AC$63,28,FALSE)+HLOOKUP(A70,'BCA Values Passenger'!$D$31:$AC$63,22,FALSE)*HLOOKUP(A70,'BCA Values Passenger'!$D$31:$AC$63,29,FALSE)+HLOOKUP(A70,'BCA Values Passenger'!$D$31:$AC$63,23,FALSE)*0.97*HLOOKUP(A70,'BCA Values Passenger'!$D$31:$AC$63,30,FALSE)+HLOOKUP(A70,'BCA Values Passenger'!$D$31:$AC$63,23,FALSE)*0.03*HLOOKUP(A70,'BCA Values Passenger'!$D$31:$AC$63,31,FALSE)+HLOOKUP(A70,'BCA Values Passenger'!$D$31:$AC$63,24,FALSE)*HLOOKUP(A70,'BCA Values Passenger'!$D$31:$AC$63,32,FALSE)+HLOOKUP(A70,'BCA Values Passenger'!$D$31:$AC$63,25,FALSE)*HLOOKUP(A70,'BCA Values Passenger'!$D$31:$AC$63,33,FALSE)","v":{"$error":"#N/A"}}]
[6,{"$f":"'Project Information'!$D$23*(HLOOKUP('Intermediate Pass Calcs'!A71,'BCA Values Passenger'!$D$31:$AC$63,3,FALSE)*HLOOKUP('Intermediate Pass Calcs'!A71,'BCA Values Passenger'!$D$31:$AC$63,28,FALSE)+HLOOKUP('Intermediate Pass Calcs'!A71,'BCA Values Passenger'!$D$31:$AC$63,5,FALSE)*HLOOKUP('Intermediate Pass Calcs'!A71,'BCA Values Passenger'!$D$31:$AC$63,29,FALSE)+HLOOKUP('Intermediate Pass Calcs'!A71,'BCA Values Passenger'!$D$31:$AC$63,6,FALSE)*HLOOKUP('Intermediate Pass Calcs'!A71,'BCA Values Passenger'!$D$31:$AC$63,30,FALSE)+HLOOKUP('Intermediate Pass Calcs'!A71,'BCA Values Passenger'!$D$31:$AC$63,7,FALSE)*HLOOKUP('Intermediate Pass Calcs'!A71,'BCA Values Passenger'!$D$31:$AC$63,31,FALSE)+HLOOKUP('Intermediate Pass Calcs'!A71,'BCA Values Passenger'!$D$31:$AC$63,8,FALSE)*HLOOKUP('Intermediate Pass Calcs'!A71,'BCA Values Passenger'!$D$31:$AC$63,32,FALSE)+HLOOKUP('Intermediate Pass Calcs'!A71,'BCA Values Passenger'!$D$31:$AC$63,9,FALSE)*HLOOKUP('Intermediate Pass Calcs'!A71,'BCA Values Passenger'!$D$31:$AC$63,33,FALSE))+'Project Information'!$C$23*(HLOOKUP('Intermediate Pass Calcs'!A71,'BCA Values Passenger'!$D$31:$AC$63,12,FALSE)*HLOOKUP('Intermediate Pass Calcs'!A71,'BCA Values Passenger'!$D$31:$AC$63,28,FALSE)+HLOOKUP('Intermediate Pass Calcs'!A71,'BCA Values Passenger'!$D$31:$AC$63,14,FALSE)*HLOOKUP('Intermediate Pass Calcs'!A71,'BCA Values Passenger'!$D$31:$AC$63,29,FALSE)+HLOOKUP('Intermediate Pass Calcs'!A71,'BCA Values Passenger'!$D$31:$AC$63,15,FALSE)*HLOOKUP('Intermediate Pass Calcs'!A71,'BCA Values Passenger'!$D$31:$AC$63,30,FALSE)+HLOOKUP('Intermediate Pass Calcs'!A71,'BCA Values Passenger'!$D$31:$AC$63,16,FALSE)*HLOOKUP('Intermediate Pass Calcs'!A71,'BCA Values Passenger'!$D$31:$AC$63,31,FALSE)+HLOOKUP('Intermediate Pass Calcs'!A71,'BCA Values Passenger'!$D$31:$AC$63,17,FALSE)*HLOOKUP('Intermediate Pass Calcs'!A71,'BCA Values Passenger'!$D$31:$AC$63,32,FALSE)+HLOOKUP('Intermediate Pass Calcs'!A71,'BCA Values Passenger'!$D$31:$AC$63,18,FALSE)*HLOOKUP('Intermediate Pass Calcs'!A71,'BCA Values Passenger'!$D$31:$AC$63,33,FALSE))","v":{"$error":"#VALUE!"}},{"$f":"'Project Information'!$D$23*HLOOKUP(A71,'BCA Values Passenger'!$D$31:$AC$69,37,FALSE)+'Project Information'!$C$23*HLOOKUP(A71,'BCA Values Passenger'!$D$31:$AC$69,39,FALSE)","v":{"$error":"#VALUE!"}},{"$f":"'Railcar and Passenger Demand'!G8","v":""},{"$f":"'Railcar and Passenger Demand'!I8","v":""},{"$f":"HLOOKUP(A71,'BCA Values Passenger'!$D$31:$AC$63,21,FALSE)*HLOOKUP(A71,'BCA Values Passenger'!$D$31:$AC$63,28,FALSE)+HLOOKUP(A71,'BCA Values Passenger'!$D$31:$AC$63,22,FALSE)*HLOOKUP(A71,'BCA Values Passenger'!$D$31:$AC$63,29,FALSE)+HLOOKUP(A71,'BCA Values Passenger'!$D$31:$AC$63,23,FALSE)*0.97*HLOOKUP(A71,'BCA Values Passenger'!$D$31:$AC$63,30,FALSE)+HLOOKUP(A71,'BCA Values Passenger'!$D$31:$AC$63,23,FALSE)*0.03*HLOOKUP(A71,'BCA Values Passenger'!$D$31:$AC$63,31,FALSE)+HLOOKUP(A71,'BCA Values Passenger'!$D$31:$AC$63,24,FALSE)*HLOOKUP(A71,'BCA Values Passenger'!$D$31:$AC$63,32,FALSE)+HLOOKUP(A71,'BCA Values Passenger'!$D$31:$AC$63,25,FALSE)*HLOOKUP(A71,'BCA Values Passenger'!$D$31:$AC$63,33,FALSE)","v":{"$error":"#N/A"}}]
[7,{"$f":"'Project Information'!$D$23*(HLOOKUP('Intermediate Pass Calcs'!A72,'BCA Values Passenger'!$D$31:$AC$63,3,FALSE)*HLOOKUP('Intermediate Pass Calcs'!A72,'BCA Values Passenger'!$D$31:$AC$63,28,FALSE)+HLOOKUP('Intermediate Pass Calcs'!A72,'BCA Values Passenger'!$D$31:$AC$63,5,FALSE)*HLOOKUP('Intermediate Pass Calcs'!A72,'BCA Values Passenger'!$D$31:$AC$63,29,FALSE)+HLOOKUP('Intermediate Pass Calcs'!A72,'BCA Values Passenger'!$D$31:$AC$63,6,FALSE)*HLOOKUP('Intermediate Pass Calcs'!A72,'BCA Values Passenger'!$D$31:$AC$63,30,FALSE)+HLOOKUP('Intermediate Pass Calcs'!A72,'BCA Values Passenger'!$D$31:$AC$63,7,FALSE)*HLOOKUP('Intermediate Pass Calcs'!A72,'BCA Values Passenger'!$D$31:$AC$63,31,FALSE)+HLOOKUP('Intermediate Pass Calcs'!A72,'BCA Values Passenger'!$D$31:$AC$63,8,FALSE)*HLOOKUP('Intermediate Pass Calcs'!A72,'BCA Values Passenger'!$D$31:$AC$63,32,FALSE)+HLOOKUP('Intermediate Pass Calcs'!A72,'BCA Values Passenger'!$D$31:$AC$63,9,FALSE)*HLOOKUP('Intermediate Pass Calcs'!A72,'BCA Values Passenger'!$D$31:$AC$63,33,FALSE))+'Project Information'!$C$23*(HLOOKUP('Intermediate Pass Calcs'!A72,'BCA Values Passenger'!$D$31:$AC$63,12,FALSE)*HLOOKUP('Intermediate Pass Calcs'!A72,'BCA Values Passenger'!$D$31:$AC$63,28,FALSE)+HLOOKUP('Intermediate Pass Calcs'!A72,'BCA Values Passenger'!$D$31:$AC$63,14,FALSE)*HLOOKUP('Intermediate Pass Calcs'!A72,'BCA Values Passenger'!$D$31:$AC$63,29,FALSE)+HLOOKUP('Intermediate Pass Calcs'!A72,'BCA Values Passenger'!$D$31:$AC$63,15,FALSE)*HLOOKUP('Intermediate Pass Calcs'!A72,'BCA Values Passenger'!$D$31:$AC$63,30,FALSE)+HLOOKUP('Intermediate Pass Calcs'!A72,'BCA Values Passenger'!$D$31:$AC$63,16,FALSE)*HLOOKUP('Intermediate Pass Calcs'!A72,'BCA Values Passenger'!$D$31:$AC$63,31,FALSE)+HLOOKUP('Intermediate Pass Calcs'!A72,'BCA Values Passenger'!$D$31:$AC$63,17,FALSE)*HLOOKUP('Intermediate Pass Calcs'!A72,'BCA Values Passenger'!$D$31:$AC$63,32,FALSE)+HLOOKUP('Intermediate Pass Calcs'!A72,'BCA Values Passenger'!$D$31:$AC$63,18,FALSE)*HLOOKUP('Intermediate Pass Calcs'!A72,'BCA Values Passenger'!$D$31:$AC$63,33,FALSE))","v":{"$error":"#VALUE!"}},{"$f":"'Project Information'!$D$23*HLOOKUP(A72,'BCA Values Passenger'!$D$31:$AC$69,37,FALSE)+'Project Information'!$C$23*HLOOKUP(A72,'BCA Values Passenger'!$D$31:$AC$69,39,FALSE)","v":{"$error":"#VALUE!"}},{"$f":"'Railcar and Passenger Demand'!G9","v":""},{"$f":"'Railcar and Passenger Demand'!I9","v":""},{"$f":"HLOOKUP(A72,'BCA Values Passenger'!$D$31:$AC$63,21,FALSE)*HLOOKUP(A72,'BCA Values Passenger'!$D$31:$AC$63,28,FALSE)+HLOOKUP(A72,'BCA Values Passenger'!$D$31:$AC$63,22,FALSE)*HLOOKUP(A72,'BCA Values Passenger'!$D$31:$AC$63,29,FALSE)+HLOOKUP(A72,'BCA Values Passenger'!$D$31:$AC$63,23,FALSE)*0.97*HLOOKUP(A72,'BCA Values Passenger'!$D$31:$AC$63,30,FALSE)+HLOOKUP(A72,'BCA Values Passenger'!$D$31:$AC$63,23,FALSE)*0.03*HLOOKUP(A72,'BCA Values Passenger'!$D$31:$AC$63,31,FALSE)+HLOOKUP(A72,'BCA Values Passenger'!$D$31:$AC$63,24,FALSE)*HLOOKUP(A72,'BCA Values Passenger'!$D$31:$AC$63,32,FALSE)+HLOOKUP(A72,'BCA Values Passenger'!$D$31:$AC$63,25,FALSE)*HLOOKUP(A72,'BCA Values Passenger'!$D$31:$AC$63,33,FALSE)","v":{"$error":"#N/A"}}]
[8,{"$f":"'Project Information'!$D$23*(HLOOKUP('Intermediate Pass Calcs'!A73,'BCA Values Passenger'!$D$31:$AC$63,3,FALSE)*HLOOKUP('Intermediate Pass Calcs'!A73,'BCA Values Passenger'!$D$31:$AC$63,28,FALSE)+HLOOKUP('Intermediate Pass Calcs'!A73,'BCA Values Passenger'!$D$31:$AC$63,5,FALSE)*HLOOKUP('Intermediate Pass Calcs'!A73,'BCA Values Passenger'!$D$31:$AC$63,29,FALSE)+HLOOKUP('Intermediate Pass Calcs'!A73,'BCA Values Passenger'!$D$31:$AC$63,6,FALSE)*HLOOKUP('Intermediate Pass Calcs'!A73,'BCA Values Passenger'!$D$31:$AC$63,30,FALSE)+HLOOKUP('Intermediate Pass Calcs'!A73,'BCA Values Passenger'!$D$31:$AC$63,7,FALSE)*HLOOKUP('Intermediate Pass Calcs'!A73,'BCA Values Passenger'!$D$31:$AC$63,31,FALSE)+HLOOKUP('Intermediate Pass Calcs'!A73,'BCA Values Passenger'!$D$31:$AC$63,8,FALSE)*HLOOKUP('Intermediate Pass Calcs'!A73,'BCA Values Passenger'!$D$31:$AC$63,32,FALSE)+HLOOKUP('Intermediate Pass Calcs'!A73,'BCA Values Passenger'!$D$31:$AC$63,9,FALSE)*HLOOKUP('Intermediate Pass Calcs'!A73,'BCA Values Passenger'!$D$31:$AC$63,33,FALSE))+'Project Information'!$C$23*(HLOOKUP('Intermediate Pass Calcs'!A73,'BCA Values Passenger'!$D$31:$AC$63,12,FALSE)*HLOOKUP('Intermediate Pass Calcs'!A73,'BCA Values Passenger'!$D$31:$AC$63,28,FALSE)+HLOOKUP('Intermediate Pass Calcs'!A73,'BCA Values Passenger'!$D$31:$AC$63,14,FALSE)*HLOOKUP('Intermediate Pass Calcs'!A73,'BCA Values Passenger'!$D$31:$AC$63,29,FALSE)+HLOOKUP('Intermediate Pass Calcs'!A73,'BCA Values Passenger'!$D$31:$AC$63,15,FALSE)*HLOOKUP('Intermediate Pass Calcs'!A73,'BCA Values Passenger'!$D$31:$AC$63,30,FALSE)+HLOOKUP('Intermediate Pass Calcs'!A73,'BCA Values Passenger'!$D$31:$AC$63,16,FALSE)*HLOOKUP('Intermediate Pass Calcs'!A73,'BCA Values Passenger'!$D$31:$AC$63,31,FALSE)+HLOOKUP('Intermediate Pass Calcs'!A73,'BCA Values Passenger'!$D$31:$AC$63,17,FALSE)*HLOOKUP('Intermediate Pass Calcs'!A73,'BCA Values Passenger'!$D$31:$AC$63,32,FALSE)+HLOOKUP('Intermediate Pass Calcs'!A73,'BCA Values Passenger'!$D$31:$AC$63,18,FALSE)*HLOOKUP('Intermediate Pass Calcs'!A73,'BCA Values Passenger'!$D$31:$AC$63,33,FALSE))","v":{"$error":"#VALUE!"}},{"$f":"'Project Information'!$D$23*HLOOKUP(A73,'BCA Values Passenger'!$D$31:$AC$69,37,FALSE)+'Project Information'!$C$23*HLOOKUP(A73,'BCA Values Passenger'!$D$31:$AC$69,39,FALSE)","v":{"$error":"#VALUE!"}},{"$f":"'Railcar and Passenger Demand'!G10","v":""},{"$f":"'Railcar and Passenger Demand'!I10","v":""},{"$f":"HLOOKUP(A73,'BCA Values Passenger'!$D$31:$AC$63,21,FALSE)*HLOOKUP(A73,'BCA Values Passenger'!$D$31:$AC$63,28,FALSE)+HLOOKUP(A73,'BCA Values Passenger'!$D$31:$AC$63,22,FALSE)*HLOOKUP(A73,'BCA Values Passenger'!$D$31:$AC$63,29,FALSE)+HLOOKUP(A73,'BCA Values Passenger'!$D$31:$AC$63,23,FALSE)*0.97*HLOOKUP(A73,'BCA Values Passenger'!$D$31:$AC$63,30,FALSE)+HLOOKUP(A73,'BCA Values Passenger'!$D$31:$AC$63,23,FALSE)*0.03*HLOOKUP(A73,'BCA Values Passenger'!$D$31:$AC$63,31,FALSE)+HLOOKUP(A73,'BCA Values Passenger'!$D$31:$AC$63,24,FALSE)*HLOOKUP(A73,'BCA Values Passenger'!$D$31:$AC$63,32,FALSE)+HLOOKUP(A73,'BCA Values Passenger'!$D$31:$AC$63,25,FALSE)*HLOOKUP(A73,'BCA Values Passenger'!$D$31:$AC$63,33,FALSE)","v":{"$error":"#N/A"}}]
[9,{"$f":"'Project Information'!$D$23*(HLOOKUP('Intermediate Pass Calcs'!A74,'BCA Values Passenger'!$D$31:$AC$63,3,FALSE)*HLOOKUP('Intermediate Pass Calcs'!A74,'BCA Values Passenger'!$D$31:$AC$63,28,FALSE)+HLOOKUP('Intermediate Pass Calcs'!A74,'BCA Values Passenger'!$D$31:$AC$63,5,FALSE)*HLOOKUP('Intermediate Pass Calcs'!A74,'BCA Values Passenger'!$D$31:$AC$63,29,FALSE)+HLOOKUP('Intermediate Pass Calcs'!A74,'BCA Values Passenger'!$D$31:$AC$63,6,FALSE)*HLOOKUP('Intermediate Pass Calcs'!A74,'BCA Values Passenger'!$D$31:$AC$63,30,FALSE)+HLOOKUP('Intermediate Pass Calcs'!A74,'BCA Values Passenger'!$D$31:$AC$63,7,FALSE)*HLOOKUP('Intermediate Pass Calcs'!A74,'BCA Values Passenger'!$D$31:$AC$63,31,FALSE)+HLOOKUP('Intermediate Pass Calcs'!A74,'BCA Values Passenger'!$D$31:$AC$63,8,FALSE)*HLOOKUP('Intermediate Pass Calcs'!A74,'BCA Values Passenger'!$D$31:$AC$63,32,FALSE)+HLOOKUP('Intermediate Pass Calcs'!A74,'BCA Values Passenger'!$D$31:$AC$63,9,FALSE)*HLOOKUP('Intermediate Pass Calcs'!A74,'BCA Values Passenger'!$D$31:$AC$63,33,FALSE))+'Project Information'!$C$23*(HLOOKUP('Intermediate Pass Calcs'!A74,'BCA Values Passenger'!$D$31:$AC$63,12,FALSE)*HLOOKUP('Intermediate Pass Calcs'!A74,'BCA Values Passenger'!$D$31:$AC$63,28,FALSE)+HLOOKUP('Intermediate Pass Calcs'!A74,'BCA Values Passenger'!$D$31:$AC$63,14,FALSE)*HLOOKUP('Intermediate Pass Calcs'!A74,'BCA Values Passenger'!$D$31:$AC$63,29,FALSE)+HLOOKUP('Intermediate Pass Calcs'!A74,'BCA Values Passenger'!$D$31:$AC$63,15,FALSE)*HLOOKUP('Intermediate Pass Calcs'!A74,'BCA Values Passenger'!$D$31:$AC$63,30,FALSE)+HLOOKUP('Intermediate Pass Calcs'!A74,'BCA Values Passenger'!$D$31:$AC$63,16,FALSE)*HLOOKUP('Intermediate Pass Calcs'!A74,'BCA Values Passenger'!$D$31:$AC$63,31,FALSE)+HLOOKUP('Intermediate Pass Calcs'!A74,'BCA Values Passenger'!$D$31:$AC$63,17,FALSE)*HLOOKUP('Intermediate Pass Calcs'!A74,'BCA Values Passenger'!$D$31:$AC$63,32,FALSE)+HLOOKUP('Intermediate Pass Calcs'!A74,'BCA Values Passenger'!$D$31:$AC$63,18,FALSE)*HLOOKUP('Intermediate Pass Calcs'!A74,'BCA Values Passenger'!$D$31:$AC$63,33,FALSE))","v":{"$error":"#VALUE!"}},{"$f":"'Project Information'!$D$23*HLOOKUP(A74,'BCA Values Passenger'!$D$31:$AC$69,37,FALSE)+'Project Information'!$C$23*HLOOKUP(A74,'BCA Values Passenger'!$D$31:$AC$69,39,FALSE)","v":{"$error":"#VALUE!"}},{"$f":"'Railcar and Passenger Demand'!G11","v":""},{"$f":"'Railcar and Passenger Demand'!I11","v":""},{"$f":"HLOOKUP(A74,'BCA Values Passenger'!$D$31:$AC$63,21,FALSE)*HLOOKUP(A74,'BCA Values Passenger'!$D$31:$AC$63,28,FALSE)+HLOOKUP(A74,'BCA Values Passenger'!$D$31:$AC$63,22,FALSE)*HLOOKUP(A74,'BCA Values Passenger'!$D$31:$AC$63,29,FALSE)+HLOOKUP(A74,'BCA Values Passenger'!$D$31:$AC$63,23,FALSE)*0.97*HLOOKUP(A74,'BCA Values Passenger'!$D$31:$AC$63,30,FALSE)+HLOOKUP(A74,'BCA Values Passenger'!$D$31:$AC$63,23,FALSE)*0.03*HLOOKUP(A74,'BCA Values Passenger'!$D$31:$AC$63,31,FALSE)+HLOOKUP(A74,'BCA Values Passenger'!$D$31:$AC$63,24,FALSE)*HLOOKUP(A74,'BCA Values Passenger'!$D$31:$AC$63,32,FALSE)+HLOOKUP(A74,'BCA Values Passenger'!$D$31:$AC$63,25,FALSE)*HLOOKUP(A74,'BCA Values Passenger'!$D$31:$AC$63,33,FALSE)","v":{"$error":"#N/A"}}]
[10,{"$f":"'Project Information'!$D$23*(HLOOKUP('Intermediate Pass Calcs'!A75,'BCA Values Passenger'!$D$31:$AC$63,3,FALSE)*HLOOKUP('Intermediate Pass Calcs'!A75,'BCA Values Passenger'!$D$31:$AC$63,28,FALSE)+HLOOKUP('Intermediate Pass Calcs'!A75,'BCA Values Passenger'!$D$31:$AC$63,5,FALSE)*HLOOKUP('Intermediate Pass Calcs'!A75,'BCA Values Passenger'!$D$31:$AC$63,29,FALSE)+HLOOKUP('Intermediate Pass Calcs'!A75,'BCA Values Passenger'!$D$31:$AC$63,6,FALSE)*HLOOKUP('Intermediate Pass Calcs'!A75,'BCA Values Passenger'!$D$31:$AC$63,30,FALSE)+HLOOKUP('Intermediate Pass Calcs'!A75,'BCA Values Passenger'!$D$31:$AC$63,7,FALSE)*HLOOKUP('Intermediate Pass Calcs'!A75,'BCA Values Passenger'!$D$31:$AC$63,31,FALSE)+HLOOKUP('Intermediate Pass Calcs'!A75,'BCA Values Passenger'!$D$31:$AC$63,8,FALSE)*HLOOKUP('Intermediate Pass Calcs'!A75,'BCA Values Passenger'!$D$31:$AC$63,32,FALSE)+HLOOKUP('Intermediate Pass Calcs'!A75,'BCA Values Passenger'!$D$31:$AC$63,9,FALSE)*HLOOKUP('Intermediate Pass Calcs'!A75,'BCA Values Passenger'!$D$31:$AC$63,33,FALSE))+'Project Information'!$C$23*(HLOOKUP('Intermediate Pass Calcs'!A75,'BCA Values Passenger'!$D$31:$AC$63,12,FALSE)*HLOOKUP('Intermediate Pass Calcs'!A75,'BCA Values Passenger'!$D$31:$AC$63,28,FALSE)+HLOOKUP('Intermediate Pass Calcs'!A75,'BCA Values Passenger'!$D$31:$AC$63,14,FALSE)*HLOOKUP('Intermediate Pass Calcs'!A75,'BCA Values Passenger'!$D$31:$AC$63,29,FALSE)+HLOOKUP('Intermediate Pass Calcs'!A75,'BCA Values Passenger'!$D$31:$AC$63,15,FALSE)*HLOOKUP('Intermediate Pass Calcs'!A75,'BCA Values Passenger'!$D$31:$AC$63,30,FALSE)+HLOOKUP('Intermediate Pass Calcs'!A75,'BCA Values Passenger'!$D$31:$AC$63,16,FALSE)*HLOOKUP('Intermediate Pass Calcs'!A75,'BCA Values Passenger'!$D$31:$AC$63,31,FALSE)+HLOOKUP('Intermediate Pass Calcs'!A75,'BCA Values Passenger'!$D$31:$AC$63,17,FALSE)*HLOOKUP('Intermediate Pass Calcs'!A75,'BCA Values Passenger'!$D$31:$AC$63,32,FALSE)+HLOOKUP('Intermediate Pass Calcs'!A75,'BCA Values Passenger'!$D$31:$AC$63,18,FALSE)*HLOOKUP('Intermediate Pass Calcs'!A75,'BCA Values Passenger'!$D$31:$AC$63,33,FALSE))","v":{"$error":"#VALUE!"}},{"$f":"'Project Information'!$D$23*HLOOKUP(A75,'BCA Values Passenger'!$D$31:$AC$69,37,FALSE)+'Project Information'!$C$23*HLOOKUP(A75,'BCA Values Passenger'!$D$31:$AC$69,39,FALSE)","v":{"$error":"#VALUE!"}},{"$f":"'Railcar and Passenger Demand'!G12","v":""},{"$f":"'Railcar and Passenger Demand'!I12","v":""},{"$f":"HLOOKUP(A75,'BCA Values Passenger'!$D$31:$AC$63,21,FALSE)*HLOOKUP(A75,'BCA Values Passenger'!$D$31:$AC$63,28,FALSE)+HLOOKUP(A75,'BCA Values Passenger'!$D$31:$AC$63,22,FALSE)*HLOOKUP(A75,'BCA Values Passenger'!$D$31:$AC$63,29,FALSE)+HLOOKUP(A75,'BCA Values Passenger'!$D$31:$AC$63,23,FALSE)*0.97*HLOOKUP(A75,'BCA Values Passenger'!$D$31:$AC$63,30,FALSE)+HLOOKUP(A75,'BCA Values Passenger'!$D$31:$AC$63,23,FALSE)*0.03*HLOOKUP(A75,'BCA Values Passenger'!$D$31:$AC$63,31,FALSE)+HLOOKUP(A75,'BCA Values Passenger'!$D$31:$AC$63,24,FALSE)*HLOOKUP(A75,'BCA Values Passenger'!$D$31:$AC$63,32,FALSE)+HLOOKUP(A75,'BCA Values Passenger'!$D$31:$AC$63,25,FALSE)*HLOOKUP(A75,'BCA Values Passenger'!$D$31:$AC$63,33,FALSE)","v":{"$error":"#N/A"}}]
[11,{"$f":"'Project Information'!$D$23*(HLOOKUP('Intermediate Pass Calcs'!A76,'BCA Values Passenger'!$D$31:$AC$63,3,FALSE)*HLOOKUP('Intermediate Pass Calcs'!A76,'BCA Values Passenger'!$D$31:$AC$63,28,FALSE)+HLOOKUP('Intermediate Pass Calcs'!A76,'BCA Values Passenger'!$D$31:$AC$63,5,FALSE)*HLOOKUP('Intermediate Pass Calcs'!A76,'BCA Values Passenger'!$D$31:$AC$63,29,FALSE)+HLOOKUP('Intermediate Pass Calcs'!A76,'BCA Values Passenger'!$D$31:$AC$63,6,FALSE)*HLOOKUP('Intermediate Pass Calcs'!A76,'BCA Values Passenger'!$D$31:$AC$63,30,FALSE)+HLOOKUP('Intermediate Pass Calcs'!A76,'BCA Values Passenger'!$D$31:$AC$63,7,FALSE)*HLOOKUP('Intermediate Pass Calcs'!A76,'BCA Values Passenger'!$D$31:$AC$63,31,FALSE)+HLOOKUP('Intermediate Pass Calcs'!A76,'BCA Values Passenger'!$D$31:$AC$63,8,FALSE)*HLOOKUP('Intermediate Pass Calcs'!A76,'BCA Values Passenger'!$D$31:$AC$63,32,FALSE)+HLOOKUP('Intermediate Pass Calcs'!A76,'BCA Values Passenger'!$D$31:$AC$63,9,FALSE)*HLOOKUP('Intermediate Pass Calcs'!A76,'BCA Values Passenger'!$D$31:$AC$63,33,FALSE))+'Project Information'!$C$23*(HLOOKUP('Intermediate Pass Calcs'!A76,'BCA Values Passenger'!$D$31:$AC$63,12,FALSE)*HLOOKUP('Intermediate Pass Calcs'!A76,'BCA Values Passenger'!$D$31:$AC$63,28,FALSE)+HLOOKUP('Intermediate Pass Calcs'!A76,'BCA Values Passenger'!$D$31:$AC$63,14,FALSE)*HLOOKUP('Intermediate Pass Calcs'!A76,'BCA Values Passenger'!$D$31:$AC$63,29,FALSE)+HLOOKUP('Intermediate Pass Calcs'!A76,'BCA Values Passenger'!$D$31:$AC$63,15,FALSE)*HLOOKUP('Intermediate Pass Calcs'!A76,'BCA Values Passenger'!$D$31:$AC$63,30,FALSE)+HLOOKUP('Intermediate Pass Calcs'!A76,'BCA Values Passenger'!$D$31:$AC$63,16,FALSE)*HLOOKUP('Intermediate Pass Calcs'!A76,'BCA Values Passenger'!$D$31:$AC$63,31,FALSE)+HLOOKUP('Intermediate Pass Calcs'!A76,'BCA Values Passenger'!$D$31:$AC$63,17,FALSE)*HLOOKUP('Intermediate Pass Calcs'!A76,'BCA Values Passenger'!$D$31:$AC$63,32,FALSE)+HLOOKUP('Intermediate Pass Calcs'!A76,'BCA Values Passenger'!$D$31:$AC$63,18,FALSE)*HLOOKUP('Intermediate Pass Calcs'!A76,'BCA Values Passenger'!$D$31:$AC$63,33,FALSE))","v":{"$error":"#VALUE!"}},{"$f":"'Project Information'!$D$23*HLOOKUP(A76,'BCA Values Passenger'!$D$31:$AC$69,37,FALSE)+'Project Information'!$C$23*HLOOKUP(A76,'BCA Values Passenger'!$D$31:$AC$69,39,FALSE)","v":{"$error":"#VALUE!"}},{"$f":"'Railcar and Passenger Demand'!G13","v":""},{"$f":"'Railcar and Passenger Demand'!I13","v":""},{"$f":"HLOOKUP(A76,'BCA Values Passenger'!$D$31:$AC$63,21,FALSE)*HLOOKUP(A76,'BCA Values Passenger'!$D$31:$AC$63,28,FALSE)+HLOOKUP(A76,'BCA Values Passenger'!$D$31:$AC$63,22,FALSE)*HLOOKUP(A76,'BCA Values Passenger'!$D$31:$AC$63,29,FALSE)+HLOOKUP(A76,'BCA Values Passenger'!$D$31:$AC$63,23,FALSE)*0.97*HLOOKUP(A76,'BCA Values Passenger'!$D$31:$AC$63,30,FALSE)+HLOOKUP(A76,'BCA Values Passenger'!$D$31:$AC$63,23,FALSE)*0.03*HLOOKUP(A76,'BCA Values Passenger'!$D$31:$AC$63,31,FALSE)+HLOOKUP(A76,'BCA Values Passenger'!$D$31:$AC$63,24,FALSE)*HLOOKUP(A76,'BCA Values Passenger'!$D$31:$AC$63,32,FALSE)+HLOOKUP(A76,'BCA Values Passenger'!$D$31:$AC$63,25,FALSE)*HLOOKUP(A76,'BCA Values Passenger'!$D$31:$AC$63,33,FALSE)","v":{"$error":"#N/A"}}]
[12,{"$f":"'Project Information'!$D$23*(HLOOKUP('Intermediate Pass Calcs'!A77,'BCA Values Passenger'!$D$31:$AC$63,3,FALSE)*HLOOKUP('Intermediate Pass Calcs'!A77,'BCA Values Passenger'!$D$31:$AC$63,28,FALSE)+HLOOKUP('Intermediate Pass Calcs'!A77,'BCA Values Passenger'!$D$31:$AC$63,5,FALSE)*HLOOKUP('Intermediate Pass Calcs'!A77,'BCA Values Passenger'!$D$31:$AC$63,29,FALSE)+HLOOKUP('Intermediate Pass Calcs'!A77,'BCA Values Passenger'!$D$31:$AC$63,6,FALSE)*HLOOKUP('Intermediate Pass Calcs'!A77,'BCA Values Passenger'!$D$31:$AC$63,30,FALSE)+HLOOKUP('Intermediate Pass Calcs'!A77,'BCA Values Passenger'!$D$31:$AC$63,7,FALSE)*HLOOKUP('Intermediate Pass Calcs'!A77,'BCA Values Passenger'!$D$31:$AC$63,31,FALSE)+HLOOKUP('Intermediate Pass Calcs'!A77,'BCA Values Passenger'!$D$31:$AC$63,8,FALSE)*HLOOKUP('Intermediate Pass Calcs'!A77,'BCA Values Passenger'!$D$31:$AC$63,32,FALSE)+HLOOKUP('Intermediate Pass Calcs'!A77,'BCA Values Passenger'!$D$31:$AC$63,9,FALSE)*HLOOKUP('Intermediate Pass Calcs'!A77,'BCA Values Passenger'!$D$31:$AC$63,33,FALSE))+'Project Information'!$C$23*(HLOOKUP('Intermediate Pass Calcs'!A77,'BCA Values Passenger'!$D$31:$AC$63,12,FALSE)*HLOOKUP('Intermediate Pass Calcs'!A77,'BCA Values Passenger'!$D$31:$AC$63,28,FALSE)+HLOOKUP('Intermediate Pass Calcs'!A77,'BCA Values Passenger'!$D$31:$AC$63,14,FALSE)*HLOOKUP('Intermediate Pass Calcs'!A77,'BCA Values Passenger'!$D$31:$AC$63,29,FALSE)+HLOOKUP('Intermediate Pass Calcs'!A77,'BCA Values Passenger'!$D$31:$AC$63,15,FALSE)*HLOOKUP('Intermediate Pass Calcs'!A77,'BCA Values Passenger'!$D$31:$AC$63,30,FALSE)+HLOOKUP('Intermediate Pass Calcs'!A77,'BCA Values Passenger'!$D$31:$AC$63,16,FALSE)*HLOOKUP('Intermediate Pass Calcs'!A77,'BCA Values Passenger'!$D$31:$AC$63,31,FALSE)+HLOOKUP('Intermediate Pass Calcs'!A77,'BCA Values Passenger'!$D$31:$AC$63,17,FALSE)*HLOOKUP('Intermediate Pass Calcs'!A77,'BCA Values Passenger'!$D$31:$AC$63,32,FALSE)+HLOOKUP('Intermediate Pass Calcs'!A77,'BCA Values Passenger'!$D$31:$AC$63,18,FALSE)*HLOOKUP('Intermediate Pass Calcs'!A77,'BCA Values Passenger'!$D$31:$AC$63,33,FALSE))","v":{"$error":"#VALUE!"}},{"$f":"'Project Information'!$D$23*HLOOKUP(A77,'BCA Values Passenger'!$D$31:$AC$69,37,FALSE)+'Project Information'!$C$23*HLOOKUP(A77,'BCA Values Passenger'!$D$31:$AC$69,39,FALSE)","v":{"$error":"#VALUE!"}},{"$f":"'Railcar and Passenger Demand'!G14","v":""},{"$f":"'Railcar and Passenger Demand'!I14","v":""},{"$f":"HLOOKUP(A77,'BCA Values Passenger'!$D$31:$AC$63,21,FALSE)*HLOOKUP(A77,'BCA Values Passenger'!$D$31:$AC$63,28,FALSE)+HLOOKUP(A77,'BCA Values Passenger'!$D$31:$AC$63,22,FALSE)*HLOOKUP(A77,'BCA Values Passenger'!$D$31:$AC$63,29,FALSE)+HLOOKUP(A77,'BCA Values Passenger'!$D$31:$AC$63,23,FALSE)*0.97*HLOOKUP(A77,'BCA Values Passenger'!$D$31:$AC$63,30,FALSE)+HLOOKUP(A77,'BCA Values Passenger'!$D$31:$AC$63,23,FALSE)*0.03*HLOOKUP(A77,'BCA Values Passenger'!$D$31:$AC$63,31,FALSE)+HLOOKUP(A77,'BCA Values Passenger'!$D$31:$AC$63,24,FALSE)*HLOOKUP(A77,'BCA Values Passenger'!$D$31:$AC$63,32,FALSE)+HLOOKUP(A77,'BCA Values Passenger'!$D$31:$AC$63,25,FALSE)*HLOOKUP(A77,'BCA Values Passenger'!$D$31:$AC$63,33,FALSE)","v":{"$error":"#N/A"}}]
[13,{"$f":"'Project Information'!$D$23*(HLOOKUP('Intermediate Pass Calcs'!A78,'BCA Values Passenger'!$D$31:$AC$63,3,FALSE)*HLOOKUP('Intermediate Pass Calcs'!A78,'BCA Values Passenger'!$D$31:$AC$63,28,FALSE)+HLOOKUP('Intermediate Pass Calcs'!A78,'BCA Values Passenger'!$D$31:$AC$63,5,FALSE)*HLOOKUP('Intermediate Pass Calcs'!A78,'BCA Values Passenger'!$D$31:$AC$63,29,FALSE)+HLOOKUP('Intermediate Pass Calcs'!A78,'BCA Values Passenger'!$D$31:$AC$63,6,FALSE)*HLOOKUP('Intermediate Pass Calcs'!A78,'BCA Values Passenger'!$D$31:$AC$63,30,FALSE)+HLOOKUP('Intermediate Pass Calcs'!A78,'BCA Values Passenger'!$D$31:$AC$63,7,FALSE)*HLOOKUP('Intermediate Pass Calcs'!A78,'BCA Values Passenger'!$D$31:$AC$63,31,FALSE)+HLOOKUP('Intermediate Pass Calcs'!A78,'BCA Values Passenger'!$D$31:$AC$63,8,FALSE)*HLOOKUP('Intermediate Pass Calcs'!A78,'BCA Values Passenger'!$D$31:$AC$63,32,FALSE)+HLOOKUP('Intermediate Pass Calcs'!A78,'BCA Values Passenger'!$D$31:$AC$63,9,FALSE)*HLOOKUP('Intermediate Pass Calcs'!A78,'BCA Values Passenger'!$D$31:$AC$63,33,FALSE))+'Project Information'!$C$23*(HLOOKUP('Intermediate Pass Calcs'!A78,'BCA Values Passenger'!$D$31:$AC$63,12,FALSE)*HLOOKUP('Intermediate Pass Calcs'!A78,'BCA Values Passenger'!$D$31:$AC$63,28,FALSE)+HLOOKUP('Intermediate Pass Calcs'!A78,'BCA Values Passenger'!$D$31:$AC$63,14,FALSE)*HLOOKUP('Intermediate Pass Calcs'!A78,'BCA Values Passenger'!$D$31:$AC$63,29,FALSE)+HLOOKUP('Intermediate Pass Calcs'!A78,'BCA Values Passenger'!$D$31:$AC$63,15,FALSE)*HLOOKUP('Intermediate Pass Calcs'!A78,'BCA Values Passenger'!$D$31:$AC$63,30,FALSE)+HLOOKUP('Intermediate Pass Calcs'!A78,'BCA Values Passenger'!$D$31:$AC$63,16,FALSE)*HLOOKUP('Intermediate Pass Calcs'!A78,'BCA Values Passenger'!$D$31:$AC$63,31,FALSE)+HLOOKUP('Intermediate Pass Calcs'!A78,'BCA Values Passenger'!$D$31:$AC$63,17,FALSE)*HLOOKUP('Intermediate Pass Calcs'!A78,'BCA Values Passenger'!$D$31:$AC$63,32,FALSE)+HLOOKUP('Intermediate Pass Calcs'!A78,'BCA Values Passenger'!$D$31:$AC$63,18,FALSE)*HLOOKUP('Intermediate Pass Calcs'!A78,'BCA Values Passenger'!$D$31:$AC$63,33,FALSE))","v":{"$error":"#VALUE!"}},{"$f":"'Project Information'!$D$23*HLOOKUP(A78,'BCA Values Passenger'!$D$31:$AC$69,37,FALSE)+'Project Information'!$C$23*HLOOKUP(A78,'BCA Values Passenger'!$D$31:$AC$69,39,FALSE)","v":{"$error":"#VALUE!"}},{"$f":"'Railcar and Passenger Demand'!G15","v":""},{"$f":"'Railcar and Passenger Demand'!I15","v":""},{"$f":"HLOOKUP(A78,'BCA Values Passenger'!$D$31:$AC$63,21,FALSE)*HLOOKUP(A78,'BCA Values Passenger'!$D$31:$AC$63,28,FALSE)+HLOOKUP(A78,'BCA Values Passenger'!$D$31:$AC$63,22,FALSE)*HLOOKUP(A78,'BCA Values Passenger'!$D$31:$AC$63,29,FALSE)+HLOOKUP(A78,'BCA Values Passenger'!$D$31:$AC$63,23,FALSE)*0.97*HLOOKUP(A78,'BCA Values Passenger'!$D$31:$AC$63,30,FALSE)+HLOOKUP(A78,'BCA Values Passenger'!$D$31:$AC$63,23,FALSE)*0.03*HLOOKUP(A78,'BCA Values Passenger'!$D$31:$AC$63,31,FALSE)+HLOOKUP(A78,'BCA Values Passenger'!$D$31:$AC$63,24,FALSE)*HLOOKUP(A78,'BCA Values Passenger'!$D$31:$AC$63,32,FALSE)+HLOOKUP(A78,'BCA Values Passenger'!$D$31:$AC$63,25,FALSE)*HLOOKUP(A78,'BCA Values Passenger'!$D$31:$AC$63,33,FALSE)","v":{"$error":"#N/A"}}]
[14,{"$f":"'Project Information'!$D$23*(HLOOKUP('Intermediate Pass Calcs'!A79,'BCA Values Passenger'!$D$31:$AC$63,3,FALSE)*HLOOKUP('Intermediate Pass Calcs'!A79,'BCA Values Passenger'!$D$31:$AC$63,28,FALSE)+HLOOKUP('Intermediate Pass Calcs'!A79,'BCA Values Passenger'!$D$31:$AC$63,5,FALSE)*HLOOKUP('Intermediate Pass Calcs'!A79,'BCA Values Passenger'!$D$31:$AC$63,29,FALSE)+HLOOKUP('Intermediate Pass Calcs'!A79,'BCA Values Passenger'!$D$31:$AC$63,6,FALSE)*HLOOKUP('Intermediate Pass Calcs'!A79,'BCA Values Passenger'!$D$31:$AC$63,30,FALSE)+HLOOKUP('Intermediate Pass Calcs'!A79,'BCA Values Passenger'!$D$31:$AC$63,7,FALSE)*HLOOKUP('Intermediate Pass Calcs'!A79,'BCA Values Passenger'!$D$31:$AC$63,31,FALSE)+HLOOKUP('Intermediate Pass Calcs'!A79,'BCA Values Passenger'!$D$31:$AC$63,8,FALSE)*HLOOKUP('Intermediate Pass Calcs'!A79,'BCA Values Passenger'!$D$31:$AC$63,32,FALSE)+HLOOKUP('Intermediate Pass Calcs'!A79,'BCA Values Passenger'!$D$31:$AC$63,9,FALSE)*HLOOKUP('Intermediate Pass Calcs'!A79,'BCA Values Passenger'!$D$31:$AC$63,33,FALSE))+'Project Information'!$C$23*(HLOOKUP('Intermediate Pass Calcs'!A79,'BCA Values Passenger'!$D$31:$AC$63,12,FALSE)*HLOOKUP('Intermediate Pass Calcs'!A79,'BCA Values Passenger'!$D$31:$AC$63,28,FALSE)+HLOOKUP('Intermediate Pass Calcs'!A79,'BCA Values Passenger'!$D$31:$AC$63,14,FALSE)*HLOOKUP('Intermediate Pass Calcs'!A79,'BCA Values Passenger'!$D$31:$AC$63,29,FALSE)+HLOOKUP('Intermediate Pass Calcs'!A79,'BCA Values Passenger'!$D$31:$AC$63,15,FALSE)*HLOOKUP('Intermediate Pass Calcs'!A79,'BCA Values Passenger'!$D$31:$AC$63,30,FALSE)+HLOOKUP('Intermediate Pass Calcs'!A79,'BCA Values Passenger'!$D$31:$AC$63,16,FALSE)*HLOOKUP('Intermediate Pass Calcs'!A79,'BCA Values Passenger'!$D$31:$AC$63,31,FALSE)+HLOOKUP('Intermediate Pass Calcs'!A79,'BCA Values Passenger'!$D$31:$AC$63,17,FALSE)*HLOOKUP('Intermediate Pass Calcs'!A79,'BCA Values Passenger'!$D$31:$AC$63,32,FALSE)+HLOOKUP('Intermediate Pass Calcs'!A79,'BCA Values Passenger'!$D$31:$AC$63,18,FALSE)*HLOOKUP('Intermediate Pass Calcs'!A79,'BCA Values Passenger'!$D$31:$AC$63,33,FALSE))","v":{"$error":"#VALUE!"}},{"$f":"'Project Information'!$D$23*HLOOKUP(A79,'BCA Values Passenger'!$D$31:$AC$69,37,FALSE)+'Project Information'!$C$23*HLOOKUP(A79,'BCA Values Passenger'!$D$31:$AC$69,39,FALSE)","v":{"$error":"#VALUE!"}},{"$f":"'Railcar and Passenger Demand'!G16","v":""},{"$f":"'Railcar and Passenger Demand'!I16","v":""},{"$f":"HLOOKUP(A79,'BCA Values Passenger'!$D$31:$AC$63,21,FALSE)*HLOOKUP(A79,'BCA Values Passenger'!$D$31:$AC$63,28,FALSE)+HLOOKUP(A79,'BCA Values Passenger'!$D$31:$AC$63,22,FALSE)*HLOOKUP(A79,'BCA Values Passenger'!$D$31:$AC$63,29,FALSE)+HLOOKUP(A79,'BCA Values Passenger'!$D$31:$AC$63,23,FALSE)*0.97*HLOOKUP(A79,'BCA Values Passenger'!$D$31:$AC$63,30,FALSE)+HLOOKUP(A79,'BCA Values Passenger'!$D$31:$AC$63,23,FALSE)*0.03*HLOOKUP(A79,'BCA Values Passenger'!$D$31:$AC$63,31,FALSE)+HLOOKUP(A79,'BCA Values Passenger'!$D$31:$AC$63,24,FALSE)*HLOOKUP(A79,'BCA Values Passenger'!$D$31:$AC$63,32,FALSE)+HLOOKUP(A79,'BCA Values Passenger'!$D$31:$AC$63,25,FALSE)*HLOOKUP(A79,'BCA Values Passenger'!$D$31:$AC$63,33,FALSE)","v":{"$error":"#N/A"}}]
[15,{"$f":"'Project Information'!$D$23*(HLOOKUP('Intermediate Pass Calcs'!A80,'BCA Values Passenger'!$D$31:$AC$63,3,FALSE)*HLOOKUP('Intermediate Pass Calcs'!A80,'BCA Values Passenger'!$D$31:$AC$63,28,FALSE)+HLOOKUP('Intermediate Pass Calcs'!A80,'BCA Values Passenger'!$D$31:$AC$63,5,FALSE)*HLOOKUP('Intermediate Pass Calcs'!A80,'BCA Values Passenger'!$D$31:$AC$63,29,FALSE)+HLOOKUP('Intermediate Pass Calcs'!A80,'BCA Values Passenger'!$D$31:$AC$63,6,FALSE)*HLOOKUP('Intermediate Pass Calcs'!A80,'BCA Values Passenger'!$D$31:$AC$63,30,FALSE)+HLOOKUP('Intermediate Pass Calcs'!A80,'BCA Values Passenger'!$D$31:$AC$63,7,FALSE)*HLOOKUP('Intermediate Pass Calcs'!A80,'BCA Values Passenger'!$D$31:$AC$63,31,FALSE)+HLOOKUP('Intermediate Pass Calcs'!A80,'BCA Values Passenger'!$D$31:$AC$63,8,FALSE)*HLOOKUP('Intermediate Pass Calcs'!A80,'BCA Values Passenger'!$D$31:$AC$63,32,FALSE)+HLOOKUP('Intermediate Pass Calcs'!A80,'BCA Values Passenger'!$D$31:$AC$63,9,FALSE)*HLOOKUP('Intermediate Pass Calcs'!A80,'BCA Values Passenger'!$D$31:$AC$63,33,FALSE))+'Project Information'!$C$23*(HLOOKUP('Intermediate Pass Calcs'!A80,'BCA Values Passenger'!$D$31:$AC$63,12,FALSE)*HLOOKUP('Intermediate Pass Calcs'!A80,'BCA Values Passenger'!$D$31:$AC$63,28,FALSE)+HLOOKUP('Intermediate Pass Calcs'!A80,'BCA Values Passenger'!$D$31:$AC$63,14,FALSE)*HLOOKUP('Intermediate Pass Calcs'!A80,'BCA Values Passenger'!$D$31:$AC$63,29,FALSE)+HLOOKUP('Intermediate Pass Calcs'!A80,'BCA Values Passenger'!$D$31:$AC$63,15,FALSE)*HLOOKUP('Intermediate Pass Calcs'!A80,'BCA Values Passenger'!$D$31:$AC$63,30,FALSE)+HLOOKUP('Intermediate Pass Calcs'!A80,'BCA Values Passenger'!$D$31:$AC$63,16,FALSE)*HLOOKUP('Intermediate Pass Calcs'!A80,'BCA Values Passenger'!$D$31:$AC$63,31,FALSE)+HLOOKUP('Intermediate Pass Calcs'!A80,'BCA Values Passenger'!$D$31:$AC$63,17,FALSE)*HLOOKUP('Intermediate Pass Calcs'!A80,'BCA Values Passenger'!$D$31:$AC$63,32,FALSE)+HLOOKUP('Intermediate Pass Calcs'!A80,'BCA Values Passenger'!$D$31:$AC$63,18,FALSE)*HLOOKUP('Intermediate Pass Calcs'!A80,'BCA Values Passenger'!$D$31:$AC$63,33,FALSE))","v":{"$error":"#VALUE!"}},{"$f":"'Project Information'!$D$23*HLOOKUP(A80,'BCA Values Passenger'!$D$31:$AC$69,37,FALSE)+'Project Information'!$C$23*HLOOKUP(A80,'BCA Values Passenger'!$D$31:$AC$69,39,FALSE)","v":{"$error":"#VALUE!"}},{"$f":"'Railcar and Passenger Demand'!G17","v":""},{"$f":"'Railcar and Passenger Demand'!I17","v":""},{"$f":"HLOOKUP(A80,'BCA Values Passenger'!$D$31:$AC$63,21,FALSE)*HLOOKUP(A80,'BCA Values Passenger'!$D$31:$AC$63,28,FALSE)+HLOOKUP(A80,'BCA Values Passenger'!$D$31:$AC$63,22,FALSE)*HLOOKUP(A80,'BCA Values Passenger'!$D$31:$AC$63,29,FALSE)+HLOOKUP(A80,'BCA Values Passenger'!$D$31:$AC$63,23,FALSE)*0.97*HLOOKUP(A80,'BCA Values Passenger'!$D$31:$AC$63,30,FALSE)+HLOOKUP(A80,'BCA Values Passenger'!$D$31:$AC$63,23,FALSE)*0.03*HLOOKUP(A80,'BCA Values Passenger'!$D$31:$AC$63,31,FALSE)+HLOOKUP(A80,'BCA Values Passenger'!$D$31:$AC$63,24,FALSE)*HLOOKUP(A80,'BCA Values Passenger'!$D$31:$AC$63,32,FALSE)+HLOOKUP(A80,'BCA Values Passenger'!$D$31:$AC$63,25,FALSE)*HLOOKUP(A80,'BCA Values Passenger'!$D$31:$AC$63,33,FALSE)","v":{"$error":"#N/A"}}]
[16,{"$f":"'Project Information'!$D$23*(HLOOKUP('Intermediate Pass Calcs'!A81,'BCA Values Passenger'!$D$31:$AC$63,3,FALSE)*HLOOKUP('Intermediate Pass Calcs'!A81,'BCA Values Passenger'!$D$31:$AC$63,28,FALSE)+HLOOKUP('Intermediate Pass Calcs'!A81,'BCA Values Passenger'!$D$31:$AC$63,5,FALSE)*HLOOKUP('Intermediate Pass Calcs'!A81,'BCA Values Passenger'!$D$31:$AC$63,29,FALSE)+HLOOKUP('Intermediate Pass Calcs'!A81,'BCA Values Passenger'!$D$31:$AC$63,6,FALSE)*HLOOKUP('Intermediate Pass Calcs'!A81,'BCA Values Passenger'!$D$31:$AC$63,30,FALSE)+HLOOKUP('Intermediate Pass Calcs'!A81,'BCA Values Passenger'!$D$31:$AC$63,7,FALSE)*HLOOKUP('Intermediate Pass Calcs'!A81,'BCA Values Passenger'!$D$31:$AC$63,31,FALSE)+HLOOKUP('Intermediate Pass Calcs'!A81,'BCA Values Passenger'!$D$31:$AC$63,8,FALSE)*HLOOKUP('Intermediate Pass Calcs'!A81,'BCA Values Passenger'!$D$31:$AC$63,32,FALSE)+HLOOKUP('Intermediate Pass Calcs'!A81,'BCA Values Passenger'!$D$31:$AC$63,9,FALSE)*HLOOKUP('Intermediate Pass Calcs'!A81,'BCA Values Passenger'!$D$31:$AC$63,33,FALSE))+'Project Information'!$C$23*(HLOOKUP('Intermediate Pass Calcs'!A81,'BCA Values Passenger'!$D$31:$AC$63,12,FALSE)*HLOOKUP('Intermediate Pass Calcs'!A81,'BCA Values Passenger'!$D$31:$AC$63,28,FALSE)+HLOOKUP('Intermediate Pass Calcs'!A81,'BCA Values Passenger'!$D$31:$AC$63,14,FALSE)*HLOOKUP('Intermediate Pass Calcs'!A81,'BCA Values Passenger'!$D$31:$AC$63,29,FALSE)+HLOOKUP('Intermediate Pass Calcs'!A81,'BCA Values Passenger'!$D$31:$AC$63,15,FALSE)*HLOOKUP('Intermediate Pass Calcs'!A81,'BCA Values Passenger'!$D$31:$AC$63,30,FALSE)+HLOOKUP('Intermediate Pass Calcs'!A81,'BCA Values Passenger'!$D$31:$AC$63,16,FALSE)*HLOOKUP('Intermediate Pass Calcs'!A81,'BCA Values Passenger'!$D$31:$AC$63,31,FALSE)+HLOOKUP('Intermediate Pass Calcs'!A81,'BCA Values Passenger'!$D$31:$AC$63,17,FALSE)*HLOOKUP('Intermediate Pass Calcs'!A81,'BCA Values Passenger'!$D$31:$AC$63,32,FALSE)+HLOOKUP('Intermediate Pass Calcs'!A81,'BCA Values Passenger'!$D$31:$AC$63,18,FALSE)*HLOOKUP('Intermediate Pass Calcs'!A81,'BCA Values Passenger'!$D$31:$AC$63,33,FALSE))","v":{"$error":"#VALUE!"}},{"$f":"'Project Information'!$D$23*HLOOKUP(A81,'BCA Values Passenger'!$D$31:$AC$69,37,FALSE)+'Project Information'!$C$23*HLOOKUP(A81,'BCA Values Passenger'!$D$31:$AC$69,39,FALSE)","v":{"$error":"#VALUE!"}},{"$f":"'Railcar and Passenger Demand'!G18","v":""},{"$f":"'Railcar and Passenger Demand'!I18","v":""},{"$f":"HLOOKUP(A81,'BCA Values Passenger'!$D$31:$AC$63,21,FALSE)*HLOOKUP(A81,'BCA Values Passenger'!$D$31:$AC$63,28,FALSE)+HLOOKUP(A81,'BCA Values Passenger'!$D$31:$AC$63,22,FALSE)*HLOOKUP(A81,'BCA Values Passenger'!$D$31:$AC$63,29,FALSE)+HLOOKUP(A81,'BCA Values Passenger'!$D$31:$AC$63,23,FALSE)*0.97*HLOOKUP(A81,'BCA Values Passenger'!$D$31:$AC$63,30,FALSE)+HLOOKUP(A81,'BCA Values Passenger'!$D$31:$AC$63,23,FALSE)*0.03*HLOOKUP(A81,'BCA Values Passenger'!$D$31:$AC$63,31,FALSE)+HLOOKUP(A81,'BCA Values Passenger'!$D$31:$AC$63,24,FALSE)*HLOOKUP(A81,'BCA Values Passenger'!$D$31:$AC$63,32,FALSE)+HLOOKUP(A81,'BCA Values Passenger'!$D$31:$AC$63,25,FALSE)*HLOOKUP(A81,'BCA Values Passenger'!$D$31:$AC$63,33,FALSE)","v":{"$error":"#N/A"}}]
[17,{"$f":"'Project Information'!$D$23*(HLOOKUP('Intermediate Pass Calcs'!A82,'BCA Values Passenger'!$D$31:$AC$63,3,FALSE)*HLOOKUP('Intermediate Pass Calcs'!A82,'BCA Values Passenger'!$D$31:$AC$63,28,FALSE)+HLOOKUP('Intermediate Pass Calcs'!A82,'BCA Values Passenger'!$D$31:$AC$63,5,FALSE)*HLOOKUP('Intermediate Pass Calcs'!A82,'BCA Values Passenger'!$D$31:$AC$63,29,FALSE)+HLOOKUP('Intermediate Pass Calcs'!A82,'BCA Values Passenger'!$D$31:$AC$63,6,FALSE)*HLOOKUP('Intermediate Pass Calcs'!A82,'BCA Values Passenger'!$D$31:$AC$63,30,FALSE)+HLOOKUP('Intermediate Pass Calcs'!A82,'BCA Values Passenger'!$D$31:$AC$63,7,FALSE)*HLOOKUP('Intermediate Pass Calcs'!A82,'BCA Values Passenger'!$D$31:$AC$63,31,FALSE)+HLOOKUP('Intermediate Pass Calcs'!A82,'BCA Values Passenger'!$D$31:$AC$63,8,FALSE)*HLOOKUP('Intermediate Pass Calcs'!A82,'BCA Values Passenger'!$D$31:$AC$63,32,FALSE)+HLOOKUP('Intermediate Pass Calcs'!A82,'BCA Values Passenger'!$D$31:$AC$63,9,FALSE)*HLOOKUP('Intermediate Pass Calcs'!A82,'BCA Values Passenger'!$D$31:$AC$63,33,FALSE))+'Project Information'!$C$23*(HLOOKUP('Intermediate Pass Calcs'!A82,'BCA Values Passenger'!$D$31:$AC$63,12,FALSE)*HLOOKUP('Intermediate Pass Calcs'!A82,'BCA Values Passenger'!$D$31:$AC$63,28,FALSE)+HLOOKUP('Intermediate Pass Calcs'!A82,'BCA Values Passenger'!$D$31:$AC$63,14,FALSE)*HLOOKUP('Intermediate Pass Calcs'!A82,'BCA Values Passenger'!$D$31:$AC$63,29,FALSE)+HLOOKUP('Intermediate Pass Calcs'!A82,'BCA Values Passenger'!$D$31:$AC$63,15,FALSE)*HLOOKUP('Intermediate Pass Calcs'!A82,'BCA Values Passenger'!$D$31:$AC$63,30,FALSE)+HLOOKUP('Intermediate Pass Calcs'!A82,'BCA Values Passenger'!$D$31:$AC$63,16,FALSE)*HLOOKUP('Intermediate Pass Calcs'!A82,'BCA Values Passenger'!$D$31:$AC$63,31,FALSE)+HLOOKUP('Intermediate Pass Calcs'!A82,'BCA Values Passenger'!$D$31:$AC$63,17,FALSE)*HLOOKUP('Intermediate Pass Calcs'!A82,'BCA Values Passenger'!$D$31:$AC$63,32,FALSE)+HLOOKUP('Intermediate Pass Calcs'!A82,'BCA Values Passenger'!$D$31:$AC$63,18,FALSE)*HLOOKUP('Intermediate Pass Calcs'!A82,'BCA Values Passenger'!$D$31:$AC$63,33,FALSE))","v":{"$error":"#VALUE!"}},{"$f":"'Project Information'!$D$23*HLOOKUP(A82,'BCA Values Passenger'!$D$31:$AC$69,37,FALSE)+'Project Information'!$C$23*HLOOKUP(A82,'BCA Values Passenger'!$D$31:$AC$69,39,FALSE)","v":{"$error":"#VALUE!"}},{"$f":"'Railcar and Passenger Demand'!G19","v":""},{"$f":"'Railcar and Passenger Demand'!I19","v":""},{"$f":"HLOOKUP(A82,'BCA Values Passenger'!$D$31:$AC$63,21,FALSE)*HLOOKUP(A82,'BCA Values Passenger'!$D$31:$AC$63,28,FALSE)+HLOOKUP(A82,'BCA Values Passenger'!$D$31:$AC$63,22,FALSE)*HLOOKUP(A82,'BCA Values Passenger'!$D$31:$AC$63,29,FALSE)+HLOOKUP(A82,'BCA Values Passenger'!$D$31:$AC$63,23,FALSE)*0.97*HLOOKUP(A82,'BCA Values Passenger'!$D$31:$AC$63,30,FALSE)+HLOOKUP(A82,'BCA Values Passenger'!$D$31:$AC$63,23,FALSE)*0.03*HLOOKUP(A82,'BCA Values Passenger'!$D$31:$AC$63,31,FALSE)+HLOOKUP(A82,'BCA Values Passenger'!$D$31:$AC$63,24,FALSE)*HLOOKUP(A82,'BCA Values Passenger'!$D$31:$AC$63,32,FALSE)+HLOOKUP(A82,'BCA Values Passenger'!$D$31:$AC$63,25,FALSE)*HLOOKUP(A82,'BCA Values Passenger'!$D$31:$AC$63,33,FALSE)","v":{"$error":"#N/A"}}]
[18,{"$f":"'Project Information'!$D$23*(HLOOKUP('Intermediate Pass Calcs'!A83,'BCA Values Passenger'!$D$31:$AC$63,3,FALSE)*HLOOKUP('Intermediate Pass Calcs'!A83,'BCA Values Passenger'!$D$31:$AC$63,28,FALSE)+HLOOKUP('Intermediate Pass Calcs'!A83,'BCA Values Passenger'!$D$31:$AC$63,5,FALSE)*HLOOKUP('Intermediate Pass Calcs'!A83,'BCA Values Passenger'!$D$31:$AC$63,29,FALSE)+HLOOKUP('Intermediate Pass Calcs'!A83,'BCA Values Passenger'!$D$31:$AC$63,6,FALSE)*HLOOKUP('Intermediate Pass Calcs'!A83,'BCA Values Passenger'!$D$31:$AC$63,30,FALSE)+HLOOKUP('Intermediate Pass Calcs'!A83,'BCA Values Passenger'!$D$31:$AC$63,7,FALSE)*HLOOKUP('Intermediate Pass Calcs'!A83,'BCA Values Passenger'!$D$31:$AC$63,31,FALSE)+HLOOKUP('Intermediate Pass Calcs'!A83,'BCA Values Passenger'!$D$31:$AC$63,8,FALSE)*HLOOKUP('Intermediate Pass Calcs'!A83,'BCA Values Passenger'!$D$31:$AC$63,32,FALSE)+HLOOKUP('Intermediate Pass Calcs'!A83,'BCA Values Passenger'!$D$31:$AC$63,9,FALSE)*HLOOKUP('Intermediate Pass Calcs'!A83,'BCA Values Passenger'!$D$31:$AC$63,33,FALSE))+'Project Information'!$C$23*(HLOOKUP('Intermediate Pass Calcs'!A83,'BCA Values Passenger'!$D$31:$AC$63,12,FALSE)*HLOOKUP('Intermediate Pass Calcs'!A83,'BCA Values Passenger'!$D$31:$AC$63,28,FALSE)+HLOOKUP('Intermediate Pass Calcs'!A83,'BCA Values Passenger'!$D$31:$AC$63,14,FALSE)*HLOOKUP('Intermediate Pass Calcs'!A83,'BCA Values Passenger'!$D$31:$AC$63,29,FALSE)+HLOOKUP('Intermediate Pass Calcs'!A83,'BCA Values Passenger'!$D$31:$AC$63,15,FALSE)*HLOOKUP('Intermediate Pass Calcs'!A83,'BCA Values Passenger'!$D$31:$AC$63,30,FALSE)+HLOOKUP('Intermediate Pass Calcs'!A83,'BCA Values Passenger'!$D$31:$AC$63,16,FALSE)*HLOOKUP('Intermediate Pass Calcs'!A83,'BCA Values Passenger'!$D$31:$AC$63,31,FALSE)+HLOOKUP('Intermediate Pass Calcs'!A83,'BCA Values Passenger'!$D$31:$AC$63,17,FALSE)*HLOOKUP('Intermediate Pass Calcs'!A83,'BCA Values Passenger'!$D$31:$AC$63,32,FALSE)+HLOOKUP('Intermediate Pass Calcs'!A83,'BCA Values Passenger'!$D$31:$AC$63,18,FALSE)*HLOOKUP('Intermediate Pass Calcs'!A83,'BCA Values Passenger'!$D$31:$AC$63,33,FALSE))","v":{"$error":"#VALUE!"}},{"$f":"'Project Information'!$D$23*HLOOKUP(A83,'BCA Values Passenger'!$D$31:$AC$69,37,FALSE)+'Project Information'!$C$23*HLOOKUP(A83,'BCA Values Passenger'!$D$31:$AC$69,39,FALSE)","v":{"$error":"#VALUE!"}},{"$f":"'Railcar and Passenger Demand'!G20","v":""},{"$f":"'Railcar and Passenger Demand'!I20","v":""},{"$f":"HLOOKUP(A83,'BCA Values Passenger'!$D$31:$AC$63,21,FALSE)*HLOOKUP(A83,'BCA Values Passenger'!$D$31:$AC$63,28,FALSE)+HLOOKUP(A83,'BCA Values Passenger'!$D$31:$AC$63,22,FALSE)*HLOOKUP(A83,'BCA Values Passenger'!$D$31:$AC$63,29,FALSE)+HLOOKUP(A83,'BCA Values Passenger'!$D$31:$AC$63,23,FALSE)*0.97*HLOOKUP(A83,'BCA Values Passenger'!$D$31:$AC$63,30,FALSE)+HLOOKUP(A83,'BCA Values Passenger'!$D$31:$AC$63,23,FALSE)*0.03*HLOOKUP(A83,'BCA Values Passenger'!$D$31:$AC$63,31,FALSE)+HLOOKUP(A83,'BCA Values Passenger'!$D$31:$AC$63,24,FALSE)*HLOOKUP(A83,'BCA Values Passenger'!$D$31:$AC$63,32,FALSE)+HLOOKUP(A83,'BCA Values Passenger'!$D$31:$AC$63,25,FALSE)*HLOOKUP(A83,'BCA Values Passenger'!$D$31:$AC$63,33,FALSE)","v":{"$error":"#N/A"}}]
[19,{"$f":"'Project Information'!$D$23*(HLOOKUP('Intermediate Pass Calcs'!A84,'BCA Values Passenger'!$D$31:$AC$63,3,FALSE)*HLOOKUP('Intermediate Pass Calcs'!A84,'BCA Values Passenger'!$D$31:$AC$63,28,FALSE)+HLOOKUP('Intermediate Pass Calcs'!A84,'BCA Values Passenger'!$D$31:$AC$63,5,FALSE)*HLOOKUP('Intermediate Pass Calcs'!A84,'BCA Values Passenger'!$D$31:$AC$63,29,FALSE)+HLOOKUP('Intermediate Pass Calcs'!A84,'BCA Values Passenger'!$D$31:$AC$63,6,FALSE)*HLOOKUP('Intermediate Pass Calcs'!A84,'BCA Values Passenger'!$D$31:$AC$63,30,FALSE)+HLOOKUP('Intermediate Pass Calcs'!A84,'BCA Values Passenger'!$D$31:$AC$63,7,FALSE)*HLOOKUP('Intermediate Pass Calcs'!A84,'BCA Values Passenger'!$D$31:$AC$63,31,FALSE)+HLOOKUP('Intermediate Pass Calcs'!A84,'BCA Values Passenger'!$D$31:$AC$63,8,FALSE)*HLOOKUP('Intermediate Pass Calcs'!A84,'BCA Values Passenger'!$D$31:$AC$63,32,FALSE)+HLOOKUP('Intermediate Pass Calcs'!A84,'BCA Values Passenger'!$D$31:$AC$63,9,FALSE)*HLOOKUP('Intermediate Pass Calcs'!A84,'BCA Values Passenger'!$D$31:$AC$63,33,FALSE))+'Project Information'!$C$23*(HLOOKUP('Intermediate Pass Calcs'!A84,'BCA Values Passenger'!$D$31:$AC$63,12,FALSE)*HLOOKUP('Intermediate Pass Calcs'!A84,'BCA Values Passenger'!$D$31:$AC$63,28,FALSE)+HLOOKUP('Intermediate Pass Calcs'!A84,'BCA Values Passenger'!$D$31:$AC$63,14,FALSE)*HLOOKUP('Intermediate Pass Calcs'!A84,'BCA Values Passenger'!$D$31:$AC$63,29,FALSE)+HLOOKUP('Intermediate Pass Calcs'!A84,'BCA Values Passenger'!$D$31:$AC$63,15,FALSE)*HLOOKUP('Intermediate Pass Calcs'!A84,'BCA Values Passenger'!$D$31:$AC$63,30,FALSE)+HLOOKUP('Intermediate Pass Calcs'!A84,'BCA Values Passenger'!$D$31:$AC$63,16,FALSE)*HLOOKUP('Intermediate Pass Calcs'!A84,'BCA Values Passenger'!$D$31:$AC$63,31,FALSE)+HLOOKUP('Intermediate Pass Calcs'!A84,'BCA Values Passenger'!$D$31:$AC$63,17,FALSE)*HLOOKUP('Intermediate Pass Calcs'!A84,'BCA Values Passenger'!$D$31:$AC$63,32,FALSE)+HLOOKUP('Intermediate Pass Calcs'!A84,'BCA Values Passenger'!$D$31:$AC$63,18,FALSE)*HLOOKUP('Intermediate Pass Calcs'!A84,'BCA Values Passenger'!$D$31:$AC$63,33,FALSE))","v":{"$error":"#VALUE!"}},{"$f":"'Project Information'!$D$23*HLOOKUP(A84,'BCA Values Passenger'!$D$31:$AC$69,37,FALSE)+'Project Information'!$C$23*HLOOKUP(A84,'BCA Values Passenger'!$D$31:$AC$69,39,FALSE)","v":{"$error":"#VALUE!"}},{"$f":"'Railcar and Passenger Demand'!G21","v":""},{"$f":"'Railcar and Passenger Demand'!I21","v":""},{"$f":"HLOOKUP(A84,'BCA Values Passenger'!$D$31:$AC$63,21,FALSE)*HLOOKUP(A84,'BCA Values Passenger'!$D$31:$AC$63,28,FALSE)+HLOOKUP(A84,'BCA Values Passenger'!$D$31:$AC$63,22,FALSE)*HLOOKUP(A84,'BCA Values Passenger'!$D$31:$AC$63,29,FALSE)+HLOOKUP(A84,'BCA Values Passenger'!$D$31:$AC$63,23,FALSE)*0.97*HLOOKUP(A84,'BCA Values Passenger'!$D$31:$AC$63,30,FALSE)+HLOOKUP(A84,'BCA Values Passenger'!$D$31:$AC$63,23,FALSE)*0.03*HLOOKUP(A84,'BCA Values Passenger'!$D$31:$AC$63,31,FALSE)+HLOOKUP(A84,'BCA Values Passenger'!$D$31:$AC$63,24,FALSE)*HLOOKUP(A84,'BCA Values Passenger'!$D$31:$AC$63,32,FALSE)+HLOOKUP(A84,'BCA Values Passenger'!$D$31:$AC$63,25,FALSE)*HLOOKUP(A84,'BCA Values Passenger'!$D$31:$AC$63,33,FALSE)","v":{"$error":"#N/A"}}]
[20,{"$f":"'Project Information'!$D$23*(HLOOKUP('Intermediate Pass Calcs'!A85,'BCA Values Passenger'!$D$31:$AC$63,3,FALSE)*HLOOKUP('Intermediate Pass Calcs'!A85,'BCA Values Passenger'!$D$31:$AC$63,28,FALSE)+HLOOKUP('Intermediate Pass Calcs'!A85,'BCA Values Passenger'!$D$31:$AC$63,5,FALSE)*HLOOKUP('Intermediate Pass Calcs'!A85,'BCA Values Passenger'!$D$31:$AC$63,29,FALSE)+HLOOKUP('Intermediate Pass Calcs'!A85,'BCA Values Passenger'!$D$31:$AC$63,6,FALSE)*HLOOKUP('Intermediate Pass Calcs'!A85,'BCA Values Passenger'!$D$31:$AC$63,30,FALSE)+HLOOKUP('Intermediate Pass Calcs'!A85,'BCA Values Passenger'!$D$31:$AC$63,7,FALSE)*HLOOKUP('Intermediate Pass Calcs'!A85,'BCA Values Passenger'!$D$31:$AC$63,31,FALSE)+HLOOKUP('Intermediate Pass Calcs'!A85,'BCA Values Passenger'!$D$31:$AC$63,8,FALSE)*HLOOKUP('Intermediate Pass Calcs'!A85,'BCA Values Passenger'!$D$31:$AC$63,32,FALSE)+HLOOKUP('Intermediate Pass Calcs'!A85,'BCA Values Passenger'!$D$31:$AC$63,9,FALSE)*HLOOKUP('Intermediate Pass Calcs'!A85,'BCA Values Passenger'!$D$31:$AC$63,33,FALSE))+'Project Information'!$C$23*(HLOOKUP('Intermediate Pass Calcs'!A85,'BCA Values Passenger'!$D$31:$AC$63,12,FALSE)*HLOOKUP('Intermediate Pass Calcs'!A85,'BCA Values Passenger'!$D$31:$AC$63,28,FALSE)+HLOOKUP('Intermediate Pass Calcs'!A85,'BCA Values Passenger'!$D$31:$AC$63,14,FALSE)*HLOOKUP('Intermediate Pass Calcs'!A85,'BCA Values Passenger'!$D$31:$AC$63,29,FALSE)+HLOOKUP('Intermediate Pass Calcs'!A85,'BCA Values Passenger'!$D$31:$AC$63,15,FALSE)*HLOOKUP('Intermediate Pass Calcs'!A85,'BCA Values Passenger'!$D$31:$AC$63,30,FALSE)+HLOOKUP('Intermediate Pass Calcs'!A85,'BCA Values Passenger'!$D$31:$AC$63,16,FALSE)*HLOOKUP('Intermediate Pass Calcs'!A85,'BCA Values Passenger'!$D$31:$AC$63,31,FALSE)+HLOOKUP('Intermediate Pass Calcs'!A85,'BCA Values Passenger'!$D$31:$AC$63,17,FALSE)*HLOOKUP('Intermediate Pass Calcs'!A85,'BCA Values Passenger'!$D$31:$AC$63,32,FALSE)+HLOOKUP('Intermediate Pass Calcs'!A85,'BCA Values Passenger'!$D$31:$AC$63,18,FALSE)*HLOOKUP('Intermediate Pass Calcs'!A85,'BCA Values Passenger'!$D$31:$AC$63,33,FALSE))","v":{"$error":"#VALUE!"}},{"$f":"'Project Information'!$D$23*HLOOKUP(A85,'BCA Values Passenger'!$D$31:$AC$69,37,FALSE)+'Project Information'!$C$23*HLOOKUP(A85,'BCA Values Passenger'!$D$31:$AC$69,39,FALSE)","v":{"$error":"#VALUE!"}},{"$f":"'Railcar and Passenger Demand'!G22","v":""},{"$f":"'Railcar and Passenger Demand'!I22","v":""},{"$f":"HLOOKUP(A85,'BCA Values Passenger'!$D$31:$AC$63,21,FALSE)*HLOOKUP(A85,'BCA Values Passenger'!$D$31:$AC$63,28,FALSE)+HLOOKUP(A85,'BCA Values Passenger'!$D$31:$AC$63,22,FALSE)*HLOOKUP(A85,'BCA Values Passenger'!$D$31:$AC$63,29,FALSE)+HLOOKUP(A85,'BCA Values Passenger'!$D$31:$AC$63,23,FALSE)*0.97*HLOOKUP(A85,'BCA Values Passenger'!$D$31:$AC$63,30,FALSE)+HLOOKUP(A85,'BCA Values Passenger'!$D$31:$AC$63,23,FALSE)*0.03*HLOOKUP(A85,'BCA Values Passenger'!$D$31:$AC$63,31,FALSE)+HLOOKUP(A85,'BCA Values Passenger'!$D$31:$AC$63,24,FALSE)*HLOOKUP(A85,'BCA Values Passenger'!$D$31:$AC$63,32,FALSE)+HLOOKUP(A85,'BCA Values Passenger'!$D$31:$AC$63,25,FALSE)*HLOOKUP(A85,'BCA Values Passenger'!$D$31:$AC$63,33,FALSE)","v":{"$error":"#N/A"}}]
[21,{"$f":"'Project Information'!$D$23*(HLOOKUP('Intermediate Pass Calcs'!A86,'BCA Values Passenger'!$D$31:$AC$63,3,FALSE)*HLOOKUP('Intermediate Pass Calcs'!A86,'BCA Values Passenger'!$D$31:$AC$63,28,FALSE)+HLOOKUP('Intermediate Pass Calcs'!A86,'BCA Values Passenger'!$D$31:$AC$63,5,FALSE)*HLOOKUP('Intermediate Pass Calcs'!A86,'BCA Values Passenger'!$D$31:$AC$63,29,FALSE)+HLOOKUP('Intermediate Pass Calcs'!A86,'BCA Values Passenger'!$D$31:$AC$63,6,FALSE)*HLOOKUP('Intermediate Pass Calcs'!A86,'BCA Values Passenger'!$D$31:$AC$63,30,FALSE)+HLOOKUP('Intermediate Pass Calcs'!A86,'BCA Values Passenger'!$D$31:$AC$63,7,FALSE)*HLOOKUP('Intermediate Pass Calcs'!A86,'BCA Values Passenger'!$D$31:$AC$63,31,FALSE)+HLOOKUP('Intermediate Pass Calcs'!A86,'BCA Values Passenger'!$D$31:$AC$63,8,FALSE)*HLOOKUP('Intermediate Pass Calcs'!A86,'BCA Values Passenger'!$D$31:$AC$63,32,FALSE)+HLOOKUP('Intermediate Pass Calcs'!A86,'BCA Values Passenger'!$D$31:$AC$63,9,FALSE)*HLOOKUP('Intermediate Pass Calcs'!A86,'BCA Values Passenger'!$D$31:$AC$63,33,FALSE))+'Project Information'!$C$23*(HLOOKUP('Intermediate Pass Calcs'!A86,'BCA Values Passenger'!$D$31:$AC$63,12,FALSE)*HLOOKUP('Intermediate Pass Calcs'!A86,'BCA Values Passenger'!$D$31:$AC$63,28,FALSE)+HLOOKUP('Intermediate Pass Calcs'!A86,'BCA Values Passenger'!$D$31:$AC$63,14,FALSE)*HLOOKUP('Intermediate Pass Calcs'!A86,'BCA Values Passenger'!$D$31:$AC$63,29,FALSE)+HLOOKUP('Intermediate Pass Calcs'!A86,'BCA Values Passenger'!$D$31:$AC$63,15,FALSE)*HLOOKUP('Intermediate Pass Calcs'!A86,'BCA Values Passenger'!$D$31:$AC$63,30,FALSE)+HLOOKUP('Intermediate Pass Calcs'!A86,'BCA Values Passenger'!$D$31:$AC$63,16,FALSE)*HLOOKUP('Intermediate Pass Calcs'!A86,'BCA Values Passenger'!$D$31:$AC$63,31,FALSE)+HLOOKUP('Intermediate Pass Calcs'!A86,'BCA Values Passenger'!$D$31:$AC$63,17,FALSE)*HLOOKUP('Intermediate Pass Calcs'!A86,'BCA Values Passenger'!$D$31:$AC$63,32,FALSE)+HLOOKUP('Intermediate Pass Calcs'!A86,'BCA Values Passenger'!$D$31:$AC$63,18,FALSE)*HLOOKUP('Intermediate Pass Calcs'!A86,'BCA Values Passenger'!$D$31:$AC$63,33,FALSE))","v":{"$error":"#VALUE!"}},{"$f":"'Project Information'!$D$23*HLOOKUP(A86,'BCA Values Passenger'!$D$31:$AC$69,37,FALSE)+'Project Information'!$C$23*HLOOKUP(A86,'BCA Values Passenger'!$D$31:$AC$69,39,FALSE)","v":{"$error":"#VALUE!"}},{"$f":"'Railcar and Passenger Demand'!G23","v":""},{"$f":"'Railcar and Passenger Demand'!I23","v":""},{"$f":"HLOOKUP(A86,'BCA Values Passenger'!$D$31:$AC$63,21,FALSE)*HLOOKUP(A86,'BCA Values Passenger'!$D$31:$AC$63,28,FALSE)+HLOOKUP(A86,'BCA Values Passenger'!$D$31:$AC$63,22,FALSE)*HLOOKUP(A86,'BCA Values Passenger'!$D$31:$AC$63,29,FALSE)+HLOOKUP(A86,'BCA Values Passenger'!$D$31:$AC$63,23,FALSE)*0.97*HLOOKUP(A86,'BCA Values Passenger'!$D$31:$AC$63,30,FALSE)+HLOOKUP(A86,'BCA Values Passenger'!$D$31:$AC$63,23,FALSE)*0.03*HLOOKUP(A86,'BCA Values Passenger'!$D$31:$AC$63,31,FALSE)+HLOOKUP(A86,'BCA Values Passenger'!$D$31:$AC$63,24,FALSE)*HLOOKUP(A86,'BCA Values Passenger'!$D$31:$AC$63,32,FALSE)+HLOOKUP(A86,'BCA Values Passenger'!$D$31:$AC$63,25,FALSE)*HLOOKUP(A86,'BCA Values Passenger'!$D$31:$AC$63,33,FALSE)","v":{"$error":"#N/A"}}]
[22,{"$f":"'Project Information'!$D$23*(HLOOKUP('Intermediate Pass Calcs'!A87,'BCA Values Passenger'!$D$31:$AC$63,3,FALSE)*HLOOKUP('Intermediate Pass Calcs'!A87,'BCA Values Passenger'!$D$31:$AC$63,28,FALSE)+HLOOKUP('Intermediate Pass Calcs'!A87,'BCA Values Passenger'!$D$31:$AC$63,5,FALSE)*HLOOKUP('Intermediate Pass Calcs'!A87,'BCA Values Passenger'!$D$31:$AC$63,29,FALSE)+HLOOKUP('Intermediate Pass Calcs'!A87,'BCA Values Passenger'!$D$31:$AC$63,6,FALSE)*HLOOKUP('Intermediate Pass Calcs'!A87,'BCA Values Passenger'!$D$31:$AC$63,30,FALSE)+HLOOKUP('Intermediate Pass Calcs'!A87,'BCA Values Passenger'!$D$31:$AC$63,7,FALSE)*HLOOKUP('Intermediate Pass Calcs'!A87,'BCA Values Passenger'!$D$31:$AC$63,31,FALSE)+HLOOKUP('Intermediate Pass Calcs'!A87,'BCA Values Passenger'!$D$31:$AC$63,8,FALSE)*HLOOKUP('Intermediate Pass Calcs'!A87,'BCA Values Passenger'!$D$31:$AC$63,32,FALSE)+HLOOKUP('Intermediate Pass Calcs'!A87,'BCA Values Passenger'!$D$31:$AC$63,9,FALSE)*HLOOKUP('Intermediate Pass Calcs'!A87,'BCA Values Passenger'!$D$31:$AC$63,33,FALSE))+'Project Information'!$C$23*(HLOOKUP('Intermediate Pass Calcs'!A87,'BCA Values Passenger'!$D$31:$AC$63,12,FALSE)*HLOOKUP('Intermediate Pass Calcs'!A87,'BCA Values Passenger'!$D$31:$AC$63,28,FALSE)+HLOOKUP('Intermediate Pass Calcs'!A87,'BCA Values Passenger'!$D$31:$AC$63,14,FALSE)*HLOOKUP('Intermediate Pass Calcs'!A87,'BCA Values Passenger'!$D$31:$AC$63,29,FALSE)+HLOOKUP('Intermediate Pass Calcs'!A87,'BCA Values Passenger'!$D$31:$AC$63,15,FALSE)*HLOOKUP('Intermediate Pass Calcs'!A87,'BCA Values Passenger'!$D$31:$AC$63,30,FALSE)+HLOOKUP('Intermediate Pass Calcs'!A87,'BCA Values Passenger'!$D$31:$AC$63,16,FALSE)*HLOOKUP('Intermediate Pass Calcs'!A87,'BCA Values Passenger'!$D$31:$AC$63,31,FALSE)+HLOOKUP('Intermediate Pass Calcs'!A87,'BCA Values Passenger'!$D$31:$AC$63,17,FALSE)*HLOOKUP('Intermediate Pass Calcs'!A87,'BCA Values Passenger'!$D$31:$AC$63,32,FALSE)+HLOOKUP('Intermediate Pass Calcs'!A87,'BCA Values Passenger'!$D$31:$AC$63,18,FALSE)*HLOOKUP('Intermediate Pass Calcs'!A87,'BCA Values Passenger'!$D$31:$AC$63,33,FALSE))","v":{"$error":"#VALUE!"}},{"$f":"'Project Information'!$D$23*HLOOKUP(A87,'BCA Values Passenger'!$D$31:$AC$69,37,FALSE)+'Project Information'!$C$23*HLOOKUP(A87,'BCA Values Passenger'!$D$31:$AC$69,39,FALSE)","v":{"$error":"#VALUE!"}},{"$f":"'Railcar and Passenger Demand'!G24","v":""},{"$f":"'Railcar and Passenger Demand'!I24","v":""},{"$f":"HLOOKUP(A87,'BCA Values Passenger'!$D$31:$AC$63,21,FALSE)*HLOOKUP(A87,'BCA Values Passenger'!$D$31:$AC$63,28,FALSE)+HLOOKUP(A87,'BCA Values Passenger'!$D$31:$AC$63,22,FALSE)*HLOOKUP(A87,'BCA Values Passenger'!$D$31:$AC$63,29,FALSE)+HLOOKUP(A87,'BCA Values Passenger'!$D$31:$AC$63,23,FALSE)*0.97*HLOOKUP(A87,'BCA Values Passenger'!$D$31:$AC$63,30,FALSE)+HLOOKUP(A87,'BCA Values Passenger'!$D$31:$AC$63,23,FALSE)*0.03*HLOOKUP(A87,'BCA Values Passenger'!$D$31:$AC$63,31,FALSE)+HLOOKUP(A87,'BCA Values Passenger'!$D$31:$AC$63,24,FALSE)*HLOOKUP(A87,'BCA Values Passenger'!$D$31:$AC$63,32,FALSE)+HLOOKUP(A87,'BCA Values Passenger'!$D$31:$AC$63,25,FALSE)*HLOOKUP(A87,'BCA Values Passenger'!$D$31:$AC$63,33,FALSE)","v":{"$error":"#N/A"}}]
[23,{"$f":"'Project Information'!$D$23*(HLOOKUP('Intermediate Pass Calcs'!A88,'BCA Values Passenger'!$D$31:$AC$63,3,FALSE)*HLOOKUP('Intermediate Pass Calcs'!A88,'BCA Values Passenger'!$D$31:$AC$63,28,FALSE)+HLOOKUP('Intermediate Pass Calcs'!A88,'BCA Values Passenger'!$D$31:$AC$63,5,FALSE)*HLOOKUP('Intermediate Pass Calcs'!A88,'BCA Values Passenger'!$D$31:$AC$63,29,FALSE)+HLOOKUP('Intermediate Pass Calcs'!A88,'BCA Values Passenger'!$D$31:$AC$63,6,FALSE)*HLOOKUP('Intermediate Pass Calcs'!A88,'BCA Values Passenger'!$D$31:$AC$63,30,FALSE)+HLOOKUP('Intermediate Pass Calcs'!A88,'BCA Values Passenger'!$D$31:$AC$63,7,FALSE)*HLOOKUP('Intermediate Pass Calcs'!A88,'BCA Values Passenger'!$D$31:$AC$63,31,FALSE)+HLOOKUP('Intermediate Pass Calcs'!A88,'BCA Values Passenger'!$D$31:$AC$63,8,FALSE)*HLOOKUP('Intermediate Pass Calcs'!A88,'BCA Values Passenger'!$D$31:$AC$63,32,FALSE)+HLOOKUP('Intermediate Pass Calcs'!A88,'BCA Values Passenger'!$D$31:$AC$63,9,FALSE)*HLOOKUP('Intermediate Pass Calcs'!A88,'BCA Values Passenger'!$D$31:$AC$63,33,FALSE))+'Project Information'!$C$23*(HLOOKUP('Intermediate Pass Calcs'!A88,'BCA Values Passenger'!$D$31:$AC$63,12,FALSE)*HLOOKUP('Intermediate Pass Calcs'!A88,'BCA Values Passenger'!$D$31:$AC$63,28,FALSE)+HLOOKUP('Intermediate Pass Calcs'!A88,'BCA Values Passenger'!$D$31:$AC$63,14,FALSE)*HLOOKUP('Intermediate Pass Calcs'!A88,'BCA Values Passenger'!$D$31:$AC$63,29,FALSE)+HLOOKUP('Intermediate Pass Calcs'!A88,'BCA Values Passenger'!$D$31:$AC$63,15,FALSE)*HLOOKUP('Intermediate Pass Calcs'!A88,'BCA Values Passenger'!$D$31:$AC$63,30,FALSE)+HLOOKUP('Intermediate Pass Calcs'!A88,'BCA Values Passenger'!$D$31:$AC$63,16,FALSE)*HLOOKUP('Intermediate Pass Calcs'!A88,'BCA Values Passenger'!$D$31:$AC$63,31,FALSE)+HLOOKUP('Intermediate Pass Calcs'!A88,'BCA Values Passenger'!$D$31:$AC$63,17,FALSE)*HLOOKUP('Intermediate Pass Calcs'!A88,'BCA Values Passenger'!$D$31:$AC$63,32,FALSE)+HLOOKUP('Intermediate Pass Calcs'!A88,'BCA Values Passenger'!$D$31:$AC$63,18,FALSE)*HLOOKUP('Intermediate Pass Calcs'!A88,'BCA Values Passenger'!$D$31:$AC$63,33,FALSE))","v":{"$error":"#VALUE!"}},{"$f":"'Project Information'!$D$23*HLOOKUP(A88,'BCA Values Passenger'!$D$31:$AC$69,37,FALSE)+'Project Information'!$C$23*HLOOKUP(A88,'BCA Values Passenger'!$D$31:$AC$69,39,FALSE)","v":{"$error":"#VALUE!"}},{"$f":"'Railcar and Passenger Demand'!G25","v":""},{"$f":"'Railcar and Passenger Demand'!I25","v":""},{"$f":"HLOOKUP(A88,'BCA Values Passenger'!$D$31:$AC$63,21,FALSE)*HLOOKUP(A88,'BCA Values Passenger'!$D$31:$AC$63,28,FALSE)+HLOOKUP(A88,'BCA Values Passenger'!$D$31:$AC$63,22,FALSE)*HLOOKUP(A88,'BCA Values Passenger'!$D$31:$AC$63,29,FALSE)+HLOOKUP(A88,'BCA Values Passenger'!$D$31:$AC$63,23,FALSE)*0.97*HLOOKUP(A88,'BCA Values Passenger'!$D$31:$AC$63,30,FALSE)+HLOOKUP(A88,'BCA Values Passenger'!$D$31:$AC$63,23,FALSE)*0.03*HLOOKUP(A88,'BCA Values Passenger'!$D$31:$AC$63,31,FALSE)+HLOOKUP(A88,'BCA Values Passenger'!$D$31:$AC$63,24,FALSE)*HLOOKUP(A88,'BCA Values Passenger'!$D$31:$AC$63,32,FALSE)+HLOOKUP(A88,'BCA Values Passenger'!$D$31:$AC$63,25,FALSE)*HLOOKUP(A88,'BCA Values Passenger'!$D$31:$AC$63,33,FALSE)","v":{"$error":"#N/A"}}]
[24,{"$f":"'Project Information'!$D$23*(HLOOKUP('Intermediate Pass Calcs'!A89,'BCA Values Passenger'!$D$31:$AC$63,3,FALSE)*HLOOKUP('Intermediate Pass Calcs'!A89,'BCA Values Passenger'!$D$31:$AC$63,28,FALSE)+HLOOKUP('Intermediate Pass Calcs'!A89,'BCA Values Passenger'!$D$31:$AC$63,5,FALSE)*HLOOKUP('Intermediate Pass Calcs'!A89,'BCA Values Passenger'!$D$31:$AC$63,29,FALSE)+HLOOKUP('Intermediate Pass Calcs'!A89,'BCA Values Passenger'!$D$31:$AC$63,6,FALSE)*HLOOKUP('Intermediate Pass Calcs'!A89,'BCA Values Passenger'!$D$31:$AC$63,30,FALSE)+HLOOKUP('Intermediate Pass Calcs'!A89,'BCA Values Passenger'!$D$31:$AC$63,7,FALSE)*HLOOKUP('Intermediate Pass Calcs'!A89,'BCA Values Passenger'!$D$31:$AC$63,31,FALSE)+HLOOKUP('Intermediate Pass Calcs'!A89,'BCA Values Passenger'!$D$31:$AC$63,8,FALSE)*HLOOKUP('Intermediate Pass Calcs'!A89,'BCA Values Passenger'!$D$31:$AC$63,32,FALSE)+HLOOKUP('Intermediate Pass Calcs'!A89,'BCA Values Passenger'!$D$31:$AC$63,9,FALSE)*HLOOKUP('Intermediate Pass Calcs'!A89,'BCA Values Passenger'!$D$31:$AC$63,33,FALSE))+'Project Information'!$C$23*(HLOOKUP('Intermediate Pass Calcs'!A89,'BCA Values Passenger'!$D$31:$AC$63,12,FALSE)*HLOOKUP('Intermediate Pass Calcs'!A89,'BCA Values Passenger'!$D$31:$AC$63,28,FALSE)+HLOOKUP('Intermediate Pass Calcs'!A89,'BCA Values Passenger'!$D$31:$AC$63,14,FALSE)*HLOOKUP('Intermediate Pass Calcs'!A89,'BCA Values Passenger'!$D$31:$AC$63,29,FALSE)+HLOOKUP('Intermediate Pass Calcs'!A89,'BCA Values Passenger'!$D$31:$AC$63,15,FALSE)*HLOOKUP('Intermediate Pass Calcs'!A89,'BCA Values Passenger'!$D$31:$AC$63,30,FALSE)+HLOOKUP('Intermediate Pass Calcs'!A89,'BCA Values Passenger'!$D$31:$AC$63,16,FALSE)*HLOOKUP('Intermediate Pass Calcs'!A89,'BCA Values Passenger'!$D$31:$AC$63,31,FALSE)+HLOOKUP('Intermediate Pass Calcs'!A89,'BCA Values Passenger'!$D$31:$AC$63,17,FALSE)*HLOOKUP('Intermediate Pass Calcs'!A89,'BCA Values Passenger'!$D$31:$AC$63,32,FALSE)+HLOOKUP('Intermediate Pass Calcs'!A89,'BCA Values Passenger'!$D$31:$AC$63,18,FALSE)*HLOOKUP('Intermediate Pass Calcs'!A89,'BCA Values Passenger'!$D$31:$AC$63,33,FALSE))","v":{"$error":"#VALUE!"}},{"$f":"'Project Information'!$D$23*HLOOKUP(A89,'BCA Values Passenger'!$D$31:$AC$69,37,FALSE)+'Project Information'!$C$23*HLOOKUP(A89,'BCA Values Passenger'!$D$31:$AC$69,39,FALSE)","v":{"$error":"#VALUE!"}},{"$f":"'Railcar and Passenger Demand'!G26","v":""},{"$f":"'Railcar and Passenger Demand'!I26","v":""},{"$f":"HLOOKUP(A89,'BCA Values Passenger'!$D$31:$AC$63,21,FALSE)*HLOOKUP(A89,'BCA Values Passenger'!$D$31:$AC$63,28,FALSE)+HLOOKUP(A89,'BCA Values Passenger'!$D$31:$AC$63,22,FALSE)*HLOOKUP(A89,'BCA Values Passenger'!$D$31:$AC$63,29,FALSE)+HLOOKUP(A89,'BCA Values Passenger'!$D$31:$AC$63,23,FALSE)*0.97*HLOOKUP(A89,'BCA Values Passenger'!$D$31:$AC$63,30,FALSE)+HLOOKUP(A89,'BCA Values Passenger'!$D$31:$AC$63,23,FALSE)*0.03*HLOOKUP(A89,'BCA Values Passenger'!$D$31:$AC$63,31,FALSE)+HLOOKUP(A89,'BCA Values Passenger'!$D$31:$AC$63,24,FALSE)*HLOOKUP(A89,'BCA Values Passenger'!$D$31:$AC$63,32,FALSE)+HLOOKUP(A89,'BCA Values Passenger'!$D$31:$AC$63,25,FALSE)*HLOOKUP(A89,'BCA Values Passenger'!$D$31:$AC$63,33,FALSE)","v":{"$error":"#N/A"}}]

{"sheet":"Passenger Calcs","index":11,"n_rows":58,"n_cols":47,"rows_kept":58,"cut":false,"hidden":false,"merged":[]}
[null,null,"Congestion Cost",null,"Reduced Accident Costs",null,"Reduced Passenger Transportation Cost",null,"Travel Time Savings"]
[null,null,"Improvement in the levels of highway congestion realized by shifting passengers from highway traffic to rail routes, reducing the number of passenger vehicles on major highways. (I-64, I-81, or I-95)",null,"Reduction in the probably of having an accident on the highway due to reduction of passenger vehicle mileage.    ",null,"Benefit realized as the reduction in the cost to passengers for switching from highway vehicle use to being rail passengers. (Calculated for Amtrak and VRE)",null,"The savings in time realized by existing passengers due to a reduction in length of the train route.  "]
["Year",null,"Total reduction in passenger VMT * Congestion cost per vehicle mile ",null,"Total reduction in passenger VMT * Accident cost per vehicle mile + Removal of Crossings",null,"Reduction in passenger VMT * Vehicle operating cost per car mile - Increased annual passenger miles (Amtrak)* Fare per passenger mile  (Amtrak) -  Increased annual passenger miles (VRE)* Fare per passenger mile  (VRE) ",null,"Travel time savings per trip * Annual passengers (existing) * Weighted average value of time + Travel Time savings per trip of vehicle passengers switching to rail * weighted average value of time * annual passengers (new)"]
[{"$f":"IF('Project Information'!C9>2040, \"No Values Available\", 'Project Information'!C8)","v":0},null,{"$f":"IF(OR((ISBLANK('Project Information'!$H$40)),(ISBLANK('Project Information'!$C$21)),(ISBLANK('Project Information'!$G$58))),0,IF(AND((A4>='Project Information'!$C$10),(A4<('Project Information'!$C$8+'Project Cost'!$H$61))),('Intermediate Pass Calcs'!B5*'Intermediate Pass Calcs'!J5),0))","v":{"$error":"#VALUE!"}},null,{"$f":"IF(OR((ISBLANK('Project Information'!$C$33)),(ISBLANK('Project Information'!$H$40)),(ISBLANK('Project Information'!$G$58))),0,IF(AND((A4>='Project Information'!$C$10),(A4<('Project Information'!$C$8+'Project Cost'!$H$61))),IF(SUM('Freight Calcs'!$G$34:$G$58)>0,'Intermediate Pass Calcs'!B35*'Intermediate Pass Calcs'!B5,'Intermediate Pass Calcs'!B35*'Intermediate Pass Calcs'!B5+('Project Information'!$C$33*HLOOKUP(A4,'BCA Values Passenger'!$D$11:$AC$14,4,FALSE))),0))","v":0},null,{"$f":"IF(OR((ISBLANK('Project Information'!$H$40)),(ISBLANK('Project Information'!$G$44)),(ISBLANK('Project Information'!$C$8))),0,IF(AND((A4>='Project Information'!$C$10),(A4<('Project Information'!$C$8+'Project Cost'!$H$61))),('Intermediate Pass Calcs'!C35*'Intermediate Pass Calcs'!B5)-('Railcar and Passenger Demand'!G2*('Project Information'!$C$44*'Intermediate Pass Calcs'!D35+'Intermediate Pass Calcs'!E35*'Project Information'!$D$44)),0))","v":0},null,{"$f":"IF(OR((ISBLANK('Project Information'!$G$48)),(ISBLANK('Project Information'!$G$56))),0,IF(AND((A4>='Project Information'!$C$10),(A4<('Project Information'!$C$8+'Project Cost'!$H$61))),((('Project Information'!$C$40*'Project Information'!$C$48/60)+('Railcar and Passenger Demand'!G2-'Railcar and Passenger Demand'!$F$2)*'Project Information'!$C$60/60)*'Intermediate Pass Calcs'!K35)+((('Project Information'!$D$40*'Project Information'!$D$48/60)+('Railcar and Passenger Demand'!I2-'Railcar and Passenger Demand'!$H$2)*'Project Information'!$D$60/60)*'Intermediate Pass Calcs'!L35),0))","v":{"$error":"#N/A"}}]
[{"$f":"IFERROR((IF(A4+1>2040,\"No Values Available\",A4+1)),\"No Values Available\")","v":1},null,{"$f":"IF(OR((ISBLANK('Project Information'!$H$40)),(ISBLANK('Project Information'!$C$21)),(ISBLANK('Project Information'!$G$58))),0,IF(AND((A5>='Project Information'!$C$10),(A5<('Project Information'!$C$8+'Project Cost'!$H$61))),('Intermediate Pass Calcs'!B6*'Intermediate Pass Calcs'!J6),0))","v":{"$error":"#VALUE!"}},null,{"$f":"IF(OR((ISBLANK('Project Information'!$C$33)),(ISBLANK('Project Information'!$H$40)),(ISBLANK('Project Information'!$G$58))),0,IF(AND((A5>='Project Information'!$C$10),(A5<('Project Information'!$C$8+'Project Cost'!$H$61))),IF(SUM('Freight Calcs'!$G$34:$G$58)>0,'Intermediate Pass Calcs'!B36*'Intermediate Pass Calcs'!B6,'Intermediate Pass Calcs'!B36*'Intermediate Pass Calcs'!B6+('Project Information'!$C$33*HLOOKUP(A5,'BCA Values Passenger'!$D$11:$AC$14,4,FALSE))),0))","v":0},null,{"$f":"IF(OR((ISBLANK('Project Information'!$H$40)),(ISBLANK('Project Information'!$G$44)),(ISBLANK('Project Information'!$C$8))),0,IF(AND((A5>='Project Information'!$C$10),(A5<('Project Information'!$C$8+'Project Cost'!$H$61))),('Intermediate Pass Calcs'!C36*'Intermediate Pass Calcs'!B6)-('Railcar and Passenger Demand'!G3*('Project Information'!$C$44*'Intermediate Pass Calcs'!D36+'Intermediate Pass Calcs'!E36*'Project Information'!$D$44)),0))","v":0},null,{"$f":"IF(OR((ISBLANK('Project Information'!$G$48)),(ISBLANK('Project Information'!$G$56))),0,IF(AND((A5>='Project Information'!$C$10),(A5<('Project Information'!$C$8+'Project Cost'!$H$61))),((('Project Information'!$C$40*'Project Information'!$C$48/60)+('Railcar and Passenger Demand'!G3-'Railcar and Passenger Demand'!$F$2)*'Project Information'!$C$60/60)*'Intermediate Pass Calcs'!K36)+((('Project Information'!$D$40*'Project Information'!$D$48/60)+('Railcar and Passenger Demand'!I3-'Railcar and Passenger Demand'!$H$2)*'Project Information'!$D$60/60)*'Intermediate Pass Calcs'!L36),0))","v":{"$error":"#VALUE!"}}]
[{"$f":"IFERROR((IF(A5+1>2040,\"No Values Available\",A5+1)),\"No Values Available\")","v":2},null,{"$f":"IF(OR((ISBLANK('Project Information'!$H$40)),(ISBLANK('Project Information'!$C$21)),(ISBLANK('Project Information'!$G$58))),0,IF(AND((A6>='Project Information'!$C$10),(A6<('Project Information'!$C$8+'Project Cost'!$H$61))),('Intermediate Pass Calcs'!B7*'Intermediate Pass Calcs'!J7),0))","v":{"$error":"#VALUE!"}},null,{"$f":"IF(OR((ISBLANK('Project Information'!$C$33)),(ISBLANK('Project Information'!$H$40)),(ISBLANK('Project Information'!$G$58))),0,IF(AND((A6>='Project Information'!$C$10),(A6<('Project Information'!$C$8+'Project Cost'!$H$61))),IF(SUM('Freight Calcs'!$G$34:$G$58)>0,'Intermediate Pass Calcs'!B37*'Intermediate Pass Calcs'!B7,'Intermediate Pass Calcs'!B37*'Intermediate Pass Calcs'!B7+('Project Information'!$C$33*HLOOKUP(A6,'BCA Values Passenger'!$D$11:$AC$14,4,FALSE))),0))","v":0},null,{"$f":"IF(OR((ISBLANK('Project Information'!$H$40)),(ISBLANK('Project Information'!$G$44)),(ISBLANK('Project Information'!$C$8))),0,IF(AND((A6>='Project Information'!$C$10),(A6<('Project Information'!$C$8+'Project Cost'!$H$61))),('Intermediate Pass Calcs'!C37*'Intermediate Pass Calcs'!B7)-('Railcar and Passenger Demand'!G4*('Project Information'!$C$44*'Intermediate Pass Calcs'!D37+'Intermediate Pass Calcs'!E37*'Project Information'!$D$44)),0))","v":0},null,{"$f":"IF(OR((ISBLANK('Project Information'!$G$48)),(ISBLANK('Project Information'!$G$56))),0,IF(AND((A6>='Project Information'!$C$10),(A6<('Project Information'!$C$8+'Project Cost'!$H$61))),((('Project Information'!$C$40*'Project Information'!$C$48/60)+('Railcar and Passenger Demand'!G4-'Railcar and Passenger Demand'!$F$2)*'Project Information'!$C$60/60)*'Intermediate Pass Calcs'!K37)+((('Project Information'!$D$40*'Project Information'!$D$48/60)+('Railcar and Passenger Demand'!I4-'Railcar and Passenger Demand'!$H$2)*'Project Information'!$D$60/60)*'Intermediate Pass Calcs'!L37),0))","v":{"$error":"#VALUE!"}}]
[3,null,{"$f":"IF(OR((ISBLANK('Project Information'!$H$40)),(ISBLANK('Project Information'!$C$21)),(ISBLANK('Project Information'!$G$58))),0,IF(AND((A7>='Project Information'!$C$10),(A7<('Project Information'!$C$8+'Project Cost'!$H$61))),('Intermediate Pass Calcs'!B8*'Intermediate Pass Calcs'!J8),0))","v":{"$error":"#VALUE!"}},null,{"$f":"IF(OR((ISBLANK('Project Information'!$C$33)),(ISBLANK('Project Information'!$H$40)),(ISBLANK('Project Information'!$G$58))),0,IF(AND((A7>='Project Information'!$C$10),(A7<('Project Information'!$C$8+'Project Cost'!$H$61))),IF(SUM('Freight Calcs'!$G$34:$G$58)>0,'Intermediate Pass Calcs'!B38*'Intermediate Pass Calcs'!B8,'Intermediate Pass Calcs'!B38*'Intermediate Pass Calcs'!B8+('Project Information'!$C$33*HLOOKUP(A7,'BCA Values Passenger'!$D$11:$AC$14,4,FALSE))),0))","v":0},null,{"$f":"IF(OR((ISBLANK('Project Information'!$H$40)),(ISBLANK('Project Information'!$G$44)),(ISBLANK('Project Information'!$C$8))),0,IF(AND((A7>='Project Information'!$C$10),(A7<('Project Information'!$C$8+'Project Cost'!$H$61))),('Intermediate Pass Calcs'!C38*'Intermediate Pass Calcs'!B8)-('Railcar and Passenger Demand'!G5*('Project Information'!$C$44*'Intermediate Pass Calcs'!D38+'Intermediate Pass Calcs'!E38*'Project Information'!$D$44)),0))","v":0},null,{"$f":"IF(OR((ISBLANK('Project Information'!$G$48)),(ISBLANK('Project Information'!$G$56))),0,IF(AND((A7>='Project Information'!$C$10),(A7<('Project Information'!$C$8+'Project Cost'!$H$61))),((('Project Information'!$C$40*'Project Information'!$C$48/60)+('Railcar and Passenger Demand'!G5-'Railcar and Passenger Demand'!$F$2)*'Project Information'!$C$60/60)*'Intermediate Pass Calcs'!K38)+((('Project Information'!$D$40*'Project Information'!$D$48/60)+('Railcar and Passenger Demand'!I5-'Railcar and Passenger Demand'!$H$2)*'Project Information'!$D$60/60)*'Intermediate Pass Calcs'!L38),0))","v":{"$error":"#VALUE!"}}]
[4,null,{"$f":"IF(OR((ISBLANK('Project Information'!$H$40)),(ISBLANK('Project Information'!$C$21)),(ISBLANK('Project Information'!$G$58))),0,IF(AND((A8>='Project Information'!$C$10),(A8<('Project Information'!$C$8+'Project Cost'!$H$61))),('Intermediate Pass Calcs'!B9*'Intermediate Pass Calcs'!J9),0))","v":{"$error":"#VALUE!"}},null,{"$f":"IF(OR((ISBLANK('Project Information'!$C$33)),(ISBLANK('Project Information'!$H$40)),(ISBLANK('Project Information'!$G$58))),0,IF(AND((A8>='Project Information'!$C$10),(A8<('Project Information'!$C$8+'Project Cost'!$H$61))),IF(SUM('Freight Calcs'!$G$34:$G$58)>0,'Intermediate Pass Calcs'!B39*'Intermediate Pass Calcs'!B9,'Intermediate Pass Calcs'!B39*'Intermediate Pass Calcs'!B9+('Project Information'!$C$33*HLOOKUP(A8,'BCA Values Passenger'!$D$11:$AC$14,4,FALSE))),0))","v":0},null,{"$f":"IF(OR((ISBLANK('Project Information'!$H$40)),(ISBLANK('Project Information'!$G$44)),(ISBLANK('Project Information'!$C$8))),0,IF(AND((A8>='Project Information'!$C$10),(A8<('Project Information'!$C$8+'Project Cost'!$H$61))),('Intermediate Pass Calcs'!C39*'Intermediate Pass Calcs'!B9)-('Railcar and Passenger Demand'!G6*('Project Information'!$C$44*'Intermediate Pass Calcs'!D39+'Intermediate Pass Calcs'!E39*'Project Information'!$D$44)),0))","v":0},null,{"$f":"IF(OR((ISBLANK('Project Information'!$G$48)),(ISBLANK('Project Information'!$G$56))),0,IF(AND((A8>='Project Information'!$C$10),(A8<('Project Information'!$C$8+'Project Cost'!$H$61))),((('Project Information'!$C$40*'Project Information'!$C$48/60)+('Railcar and Passenger Demand'!G6-'Railcar and Passenger Demand'!$F$2)*'Project Information'!$C$60/60)*'Intermediate Pass Calcs'!K39)+((('Project Information'!$D$40*'Project Information'!$D$48/60)+('Railcar and Passenger Demand'!I6-'Railcar and Passenger Demand'!$H$2)*'Project Information'!$D$60/60)*'Intermediate Pass Calcs'!L39),0))","v":{"$error":"#VALUE!"}}]
[5,null,{"$f":"IF(OR((ISBLANK('Project Information'!$H$40)),(ISBLANK('Project Information'!$C$21)),(ISBLANK('Project Information'!$G$58))),0,IF(AND((A9>='Project Information'!$C$10),(A9<('Project Information'!$C$8+'Project Cost'!$H$61))),('Intermediate Pass Calcs'!B10*'Intermediate Pass Calcs'!J10),0))","v":{"$error":"#VALUE!"}},null,{"$f":"IF(OR((ISBLANK('Project Information'!$C$33)),(ISBLANK('Project Information'!$H$40)),(ISBLANK('Project Information'!$G$58))),0,IF(AND((A9>='Project Information'!$C$10),(A9<('Project Information'!$C$8+'Project Cost'!$H$61))),IF(SUM('Freight Calcs'!$G$34:$G$58)>0,'Intermediate Pass Calcs'!B40*'Intermediate Pass Calcs'!B10,'Intermediate Pass Calcs'!B40*'Intermediate Pass Calcs'!B10+('Project Information'!$C$33*HLOOKUP(A9,'BCA Values Passenger'!$D$11:$AC$14,4,FALSE))),0))","v":0},null,{"$f":"IF(OR((ISBLANK('Project Information'!$H$40)),(ISBLANK('Project Information'!$G$44)),(ISBLANK('Project Information'!$C$8))),0,IF(AND((A9>='Project Information'!$C$10),(A9<('Project Information'!$C$8+'Project Cost'!$H$61))),('Intermediate Pass Calcs'!C40*'Intermediate Pass Calcs'!B10)-('Railcar and Passenger Demand'!G7*('Project Information'!$C$44*'Intermediate Pass Calcs'!D40+'Intermediate Pass Calcs'!E40*'Project Information'!$D$44)),0))","v":0},null,{"$f":"IF(OR((ISBLANK('Project Information'!$G$48)),(ISBLANK('Project Information'!$G$56))),0,IF(AND((A9>='Project Information'!$C$10),(A9<('Project Information'!$C$8+'Project Cost'!$H$61))),((('Project Information'!$C$40*'Project Information'!$C$48/60)+('Railcar and Passenger Demand'!G7-'Railcar and Passenger Demand'!$F$2)*'Project Information'!$C$60/60)*'Intermediate Pass Calcs'!K40)+((('Project Information'!$D$40*'Project Information'!$D$48/60)+('Railcar and Passenger Demand'!I7-'Railcar and Passenger Demand'!$H$2)*'Project Information'!$D$60/60)*'Intermediate Pass Calcs'!L40),0))","v":{"$error":"#VALUE!"}}]
[6,null,{"$f":"IF(OR((ISBLANK('Project Information'!$H$40)),(ISBLANK('Project Information'!$C$21)),(ISBLANK('Project Information'!$G$58))),0,IF(AND((A10>='Project Information'!$C$10),(A10<('Project Information'!$C$8+'Project Cost'!$H$61))),('Intermediate Pass Calcs'!B11*'Intermediate Pass Calcs'!J11),0))","v":{"$error":"#VALUE!"}},null,{"$f":"IF(OR((ISBLANK('Project Information'!$C$33)),(ISBLANK('Project Information'!$H$40)),(ISBLANK('Project Information'!$G$58))),0,IF(AND((A10>='Project Information'!$C$10),(A10<('Project Information'!$C$8+'Project Cost'!$H$61))),IF(SUM('Freight Calcs'!$G$34:$G$58)>0,'Intermediate Pass Calcs'!B41*'Intermediate Pass Calcs'!B11,'Intermediate Pass Calcs'!B41*'Intermediate Pass Calcs'!B11+('Project Information'!$C$33*HLOOKUP(A10,'BCA Values Passenger'!$D$11:$AC$14,4,FALSE))),0))","v":0},null,{"$f":"IF(OR((ISBLANK('Project Information'!$H$40)),(ISBLANK('Project Information'!$G$44)),(ISBLANK('Project Information'!$C$8))),0,IF(AND((A10>='Project Information'!$C$10),(A10<('Project Information'!$C$8+'Project Cost'!$H$61))),('Intermediate Pass Calcs'!C41*'Intermediate Pass Calcs'!B11)-('Railcar and Passenger Demand'!G8*('Project Information'!$C$44*'Intermediate Pass Calcs'!D41+'Intermediate Pass Calcs'!E41*'Project Information'!$D$44)),0))","v":0},null,{"$f":"IF(OR((ISBLANK('Project Information'!$G$48)),(ISBLANK('Project Information'!$G$56))),0,IF(AND((A10>='Project Information'!$C$10),(A10<('Project Information'!$C$8+'Project Cost'!$H$61))),((('Project Information'!$C$40*'Project Information'!$C$48/60)+('Railcar and Passenger Demand'!G8-'Railcar and Passenger Demand'!$F$2)*'Project Information'!$C$60/60)*'Intermediate Pass Calcs'!K41)+((('Project Information'!$D$40*'Project Information'!$D$48/60)+('Railcar and Passenger Demand'!I8-'Railcar and Passenger Demand'!$H$2)*'Project Information'!$D$60/60)*'Intermediate Pass Calcs'!L41),0))","v":{"$error":"#VALUE!"}}]
[7,null,{"$f":"IF(OR((ISBLANK('Project Information'!$H$40)),(ISBLANK('Project Information'!$C$21)),(ISBLANK('Project Information'!$G$58))),0,IF(AND((A11>='Project Information'!$C$10),(A11<('Project Information'!$C$8+'Project Cost'!$H$61))),('Intermediate Pass Calcs'!B12*'Intermediate Pass Calcs'!J12),0))","v":{"$error":"#VALUE!"}},null,{"$f":"IF(OR((ISBLANK('Project Information'!$C$33)),(ISBLANK('Project Information'!$H$40)),(ISBLANK('Project Information'!$G$58))),0,IF(AND((A11>='Project Information'!$C$10),(A11<('Project Information'!$C$8+'Project Cost'!$H$61))),IF(SUM('Freight Calcs'!$G$34:$G$58)>0,'Intermediate Pass Calcs'!B42*'Intermediate Pass Calcs'!B12,'Intermediate Pass Calcs'!B42*'Intermediate Pass Calcs'!B12+('Project Information'!$C$33*HLOOKUP(A11,'BCA Values Passenger'!$D$11:$AC$14,4,FALSE))),0))","v":0},null,{"$f":"IF(OR((ISBLANK('Project Information'!$H$40)),(ISBLANK('Project Information'!$G$44)),(ISBLANK('Project Information'!$C$8))),0,IF(AND((A11>='Project Information'!$C$10),(A11<('Project Information'!$C$8+'Project Cost'!$H$61))),('Intermediate Pass Calcs'!C42*'Intermediate Pass Calcs'!B12)-('Railcar and Passenger Demand'!G9*('Project Information'!$C$44*'Intermediate Pass Calcs'!D42+'Intermediate Pass Calcs'!E42*'Project Information'!$D$44)),0))","v":0},null,{"$f":"IF(OR((ISBLANK('Project Information'!$G$48)),(ISBLANK('Project Information'!$G$56))),0,IF(AND((A11>='Project Information'!$C$10),(A11<('Project Information'!$C$8+'Project Cost'!$H$61))),((('Project Information'!$C$40*'Project Information'!$C$48/60)+('Railcar and Passenger Demand'!G9-'Railcar and Passenger Demand'!$F$2)*'Project Information'!$C$60/60)*'Intermediate Pass Calcs'!K42)+((('Project Information'!$D$40*'Project Information'!$D$48/60)+('Railcar and Passenger Demand'!I9-'Railcar and Passenger Demand'!$H$2)*'Project Information'!$D$60/60)*'Intermediate Pass Calcs'!L42),0))","v":{"$error":"#VALUE!"}}]
[8,null,{"$f":"IF(OR((ISBLANK('Project Information'!$H$40)),(ISBLANK('Project Information'!$C$21)),(ISBLANK('Project Information'!$G$58))),0,IF(AND((A12>='Project Information'!$C$10),(A12<('Project Information'!$C$8+'Project Cost'!$H$61))),('Intermediate Pass Calcs'!B13*'Intermediate Pass Calcs'!J13),0))","v":{"$error":"#VALUE!"}},null,{"$f":"IF(OR((ISBLANK('Project Information'!$C$33)),(ISBLANK('Project Information'!$H$40)),(ISBLANK('Project Information'!$G$58))),0,IF(AND((A12>='Project Information'!$C$10),(A12<('Project Information'!$C$8+'Project Cost'!$H$61))),IF(SUM('Freight Calcs'!$G$34:$G$58)>0,'Intermediate Pass Calcs'!B43*'Intermediate Pass Calcs'!B13,'Intermediate Pass Calcs'!B43*'Intermediate Pass Calcs'!B13+('Project Information'!$C$33*HLOOKUP(A12,'BCA Values Passenger'!$D$11:$AC$14,4,FALSE))),0))","v":0},null,{"$f":"IF(OR((ISBLANK('Project Information'!$H$40)),(ISBLANK('Project Information'!$G$44)),(ISBLANK('Project Information'!$C$8))),0,IF(AND((A12>='Project Information'!$C$10),(A12<('Project Information'!$C$8+'Project Cost'!$H$61))),('Intermediate Pass Calcs'!C43*'Intermediate Pass Calcs'!B13)-('Railcar and Passenger Demand'!G10*('Project Information'!$C$44*'Intermediate Pass Calcs'!D43+'Intermediate Pass Calcs'!E43*'Project Information'!$D$44)),0))","v":0},null,{"$f":"IF(OR((ISBLANK('Project Information'!$G$48)),(ISBLANK('Project Information'!$G$56))),0,IF(AND((A12>='Project Information'!$C$10),(A12<('Project Information'!$C$8+'Project Cost'!$H$61))),((('Project Information'!$C$40*'Project Information'!$C$48/60)+('Railcar and Passenger Demand'!G10-'Railcar and Passenger Demand'!$F$2)*'Project Information'!$C$60/60)*'Intermediate Pass Calcs'!K43)+((('Project Information'!$D$40*'Project Information'!$D$48/60)+('Railcar and Passenger Demand'!I10-'Railcar and Passenger Demand'!$H$2)*'Project Information'!$D$60/60)*'Intermediate Pass Calcs'!L43),0))","v":{"$error":"#VALUE!"}}]
[9,null,{"$f":"IF(OR((ISBLANK('Project Information'!$H$40)),(ISBLANK('Project Information'!$C$21)),(ISBLANK('Project Information'!$G$58))),0,IF(AND((A13>='Project Information'!$C$10),(A13<('Project Information'!$C$8+'Project Cost'!$H$61))),('Intermediate Pass Calcs'!B14*'Intermediate Pass Calcs'!J14),0))","v":{"$error":"#VALUE!"}},null,{"$f":"IF(OR((ISBLANK('Project Information'!$C$33)),(ISBLANK('Project Information'!$H$40)),(ISBLANK('Project Information'!$G$58))),0,IF(AND((A13>='Project Information'!$C$10),(A13<('Project Information'!$C$8+'Project Cost'!$H$61))),IF(SUM('Freight Calcs'!$G$34:$G$58)>0,'Intermediate Pass Calcs'!B44*'Intermediate Pass Calcs'!B14,'Intermediate Pass Calcs'!B44*'Intermediate Pass Calcs'!B14+('Project Information'!$C$33*HLOOKUP(A13,'BCA Values Passenger'!$D$11:$AC$14,4,FALSE))),0))","v":0},null,{"$f":"IF(OR((ISBLANK('Project Information'!$H$40)),(ISBLANK('Project Information'!$G$44)),(ISBLANK('Project Information'!$C$8))),0,IF(AND((A13>='Project Information'!$C$10),(A13<('Project Information'!$C$8+'Project Cost'!$H$61))),('Intermediate Pass Calcs'!C44*'Intermediate Pass Calcs'!B14)-('Railcar and Passenger Demand'!G11*('Project Information'!$C$44*'Intermediate Pass Calcs'!D44+'Intermediate Pass Calcs'!E44*'Project Information'!$D$44)),0))","v":0},null,{"$f":"IF(OR((ISBLANK('Project Information'!$G$48)),(ISBLANK('Project Information'!$G$56))),0,IF(AND((A13>='Project Information'!$C$10),(A13<('Project Information'!$C$8+'Project Cost'!$H$61))),((('Project Information'!$C$40*'Project Information'!$C$48/60)+('Railcar and Passenger Demand'!G11-'Railcar and Passenger Demand'!$F$2)*'Project Information'!$C$60/60)*'Intermediate Pass Calcs'!K44)+((('Project Information'!$D$40*'Project Information'!$D$48/60)+('Railcar and Passenger Demand'!I11-'Railcar and Passenger Demand'!$H$2)*'Project Information'!$D$60/60)*'Intermediate Pass Calcs'!L44),0))","v":{"$error":"#VALUE!"}}]
[10,null,{"$f":"IF(OR((ISBLANK('Project Information'!$H$40)),(ISBLANK('Project Information'!$C$21)),(ISBLANK('Project Information'!$G$58))),0,IF(AND((A14>='Project Information'!$C$10),(A14<('Project Information'!$C$8+'Project Cost'!$H$61))),('Intermediate Pass Calcs'!B15*'Intermediate Pass Calcs'!J15),0))","v":{"$error":"#VALUE!"}},null,{"$f":"IF(OR((ISBLANK('Project Information'!$C$33)),(ISBLANK('Project Information'!$H$40)),(ISBLANK('Project Information'!$G$58))),0,IF(AND((A14>='Project Information'!$C$10),(A14<('Project Information'!$C$8+'Project Cost'!$H$61))),IF(SUM('Freight Calcs'!$G$34:$G$58)>0,'Intermediate Pass Calcs'!B45*'Intermediate Pass Calcs'!B15,'Intermediate Pass Calcs'!B45*'Intermediate Pass Calcs'!B15+('Project Information'!$C$33*HLOOKUP(A14,'BCA Values Passenger'!$D$11:$AC$14,4,FALSE))),0))","v":0},null,{"$f":"IF(OR((ISBLANK('Project Information'!$H$40)),(ISBLANK('Project Information'!$G$44)),(ISBLANK('Project Information'!$C$8))),0,IF(AND((A14>='Project Information'!$C$10),(A14<('Project Information'!$C$8+'Project Cost'!$H$61))),('Intermediate Pass Calcs'!C45*'Intermediate Pass Calcs'!B15)-('Railcar and Passenger Demand'!G12*('Project Information'!$C$44*'Intermediate Pass Calcs'!D45+'Intermediate Pass Calcs'!E45*'Project Information'!$D$44)),0))","v":0},null,{"$f":"IF(OR((ISBLANK('Project Information'!$G$48)),(ISBLANK('Project Information'!$G$56))),0,IF(AND((A14>='Project Information'!$C$10),(A14<('Project Information'!$C$8+'Project Cost'!$H$61))),((('Project Information'!$C$40*'Project Information'!$C$48/60)+('Railcar and Passenger Demand'!G12-'Railcar and Passenger Demand'!$F$2)*'Project Information'!$C$60/60)*'Intermediate Pass Calcs'!K45)+((('Project Information'!$D$40*'Project Information'!$D$48/60)+('Railcar and Passenger Demand'!I12-'Railcar and Passenger Demand'!$H$2)*'Project Information'!$D$60/60)*'Intermediate Pass Calcs'!L45),0))","v":{"$error":"#VALUE!"}}]
[11,null,{"$f":"IF(OR((ISBLANK('Project Information'!$H$40)),(ISBLANK('Project Information'!$C$21)),(ISBLANK('Project Information'!$G$58))),0,IF(AND((A15>='Project Information'!$C$10),(A15<('Project Information'!$C$8+'Project Cost'!$H$61))),('Intermediate Pass Calcs'!B16*'Intermediate Pass Calcs'!J16),0))","v":{"$error":"#VALUE!"}},null,{"$f":"IF(OR((ISBLANK('Project Information'!$C$33)),(ISBLANK('Project Information'!$H$40)),(ISBLANK('Project Information'!$G$58))),0,IF(AND((A15>='Project Information'!$C$10),(A15<('Project Information'!$C$8+'Project Cost'!$H$61))),IF(SUM('Freight Calcs'!$G$34:$G$58)>0,'Intermediate Pass Calcs'!B46*'Intermediate Pass Calcs'!B16,'Intermediate Pass Calcs'!B46*'Intermediate Pass Calcs'!B16+('Project Information'!$C$33*HLOOKUP(A15,'BCA Values Passenger'!$D$11:$AC$14,4,FALSE))),0))","v":0},null,{"$f":"IF(OR((ISBLANK('Project Information'!$H$40)),(ISBLANK('Project Information'!$G$44)),(ISBLANK('Project Information'!$C$8))),0,IF(AND((A15>='Project Information'!$C$10),(A15<('Project Information'!$C$8+'Project Cost'!$H$61))),('Intermediate Pass Calcs'!C46*'Intermediate Pass Calcs'!B16)-('Railcar and Passenger Demand'!G13*('Project Information'!$C$44*'Intermediate Pass Calcs'!D46+'Intermediate Pass Calcs'!E46*'Project Information'!$D$44)),0))","v":0},null,{"$f":"IF(OR((ISBLANK('Project Information'!$G$48)),(ISBLANK('Project Information'!$G$56))),0,IF(AND((A15>='Project Information'!$C$10),(A15<('Project Information'!$C$8+'Project Cost'!$H$61))),((('Project Information'!$C$40*'Project Information'!$C$48/60)+('Railcar and Passenger Demand'!G13-'Railcar and Passenger Demand'!$F$2)*'Project Information'!$C$60/60)*'Intermediate Pass Calcs'!K46)+((('Project Information'!$D$40*'Project Information'!$D$48/60)+('Railcar and Passenger Demand'!I13-'Railcar and Passenger Demand'!$H$2)*'Project Information'!$D$60/60)*'Intermediate Pass Calcs'!L46),0))","v":{"$error":"#VALUE!"}}]
[12,null,{"$f":"IF(OR((ISBLANK('Project Information'!$H$40)),(ISBLANK('Project Information'!$C$21)),(ISBLANK('Project Information'!$G$58))),0,IF(AND((A16>='Project Information'!$C$10),(A16<('Project Information'!$C$8+'Project Cost'!$H$61))),('Intermediate Pass Calcs'!B17*'Intermediate Pass Calcs'!J17),0))","v":{"$error":"#VALUE!"}},null,{"$f":"IF(OR((ISBLANK('Project Information'!$C$33)),(ISBLANK('Project Information'!$H$40)),(ISBLANK('Project Information'!$G$58))),0,IF(AND((A16>='Project Information'!$C$10),(A16<('Project Information'!$C$8+'Project Cost'!$H$61))),IF(SUM('Freight Calcs'!$G$34:$G$58)>0,'Intermediate Pass Calcs'!B47*'Intermediate Pass Calcs'!B17,'Intermediate Pass Calcs'!B47*'Intermediate Pass Calcs'!B17+('Project Information'!$C$33*HLOOKUP(A16,'BCA Values Passenger'!$D$11:$AC$14,4,FALSE))),0))","v":0},null,{"$f":"IF(OR((ISBLANK('Project Information'!$H$40)),(ISBLANK('Project Information'!$G$44)),(ISBLANK('Project Information'!$C$8))),0,IF(AND((A16>='Project Information'!$C$10),(A16<('Project Information'!$C$8+'Project Cost'!$H$61))),('Intermediate Pass Calcs'!C47*'Intermediate Pass Calcs'!B17)-('Railcar and Passenger Demand'!G14*('Project Information'!$C$44*'Intermediate Pass Calcs'!D47+'Intermediate Pass Calcs'!E47*'Project Information'!$D$44)),0))","v":0},null,{"$f":"IF(OR((ISBLANK('Project Information'!$G$48)),(ISBLANK('Project Information'!$G$56))),0,IF(AND((A16>='Project Information'!$C$10),(A16<('Project Information'!$C$8+'Project Cost'!$H$61))),((('Project Information'!$C$40*'Project Information'!$C$48/60)+('Railcar and Passenger Demand'!G14-'Railcar and Passenger Demand'!$F$2)*'Project Information'!$C$60/60)*'Intermediate Pass Calcs'!K47)+((('Project Information'!$D$40*'Project Information'!$D$48/60)+('Railcar and Passenger Demand'!I14-'Railcar and Passenger Demand'!$H$2)*'Project Information'!$D$60/60)*'Intermediate Pass Calcs'!L47),0))","v":{"$error":"#VALUE!"}}]
[13,null,{"$f":"IF(OR((ISBLANK('Project Information'!$H$40)),(ISBLANK('Project Information'!$C$21)),(ISBLANK('Project Information'!$G$58))),0,IF(AND((A17>='Project Information'!$C$10),(A17<('Project Information'!$C$8+'Project Cost'!$H$61))),('Intermediate Pass Calcs'!B18*'Intermediate Pass Calcs'!J18),0))","v":{"$error":"#VALUE!"}},null,{"$f":"IF(OR((ISBLANK('Project Information'!$C$33)),(ISBLANK('Project Information'!$H$40)),(ISBLANK('Project Information'!$G$58))),0,IF(AND((A17>='Project Information'!$C$10),(A17<('Project Information'!$C$8+'Project Cost'!$H$61))),IF(SUM('Freight Calcs'!$G$34:$G$58)>0,'Intermediate Pass Calcs'!B48*'Intermediate Pass Calcs'!B18,'Intermediate Pass Calcs'!B48*'Intermediate Pass Calcs'!B18+('Project Information'!$C$33*HLOOKUP(A17,'BCA Values Passenger'!$D$11:$AC$14,4,FALSE))),0))","v":0},null,{"$f":"IF(OR((ISBLANK('Project Information'!$H$40)),(ISBLANK('Project Information'!$G$44)),(ISBLANK('Project Information'!$C$8))),0,IF(AND((A17>='Project Information'!$C$10),(A17<('Project Information'!$C$8+'Project Cost'!$H$61))),('Intermediate Pass Calcs'!C48*'Intermediate Pass Calcs'!B18)-('Railcar and Passenger Demand'!G15*('Project Information'!$C$44*'Intermediate Pass Calcs'!D48+'Intermediate Pass Calcs'!E48*'Project Information'!$D$44)),0))","v":0},null,{"$f":"IF(OR((ISBLANK('Project Information'!$G$48)),(ISBLANK('Project Information'!$G$56))),0,IF(AND((A17>='Project Information'!$C$10),(A17<('Project Information'!$C$8+'Project Cost'!$H$61))),((('Project Information'!$C$40*'Project Information'!$C$48/60)+('Railcar and Passenger Demand'!G15-'Railcar and Passenger Demand'!$F$2)*'Project Information'!$C$60/60)*'Intermediate Pass Calcs'!K48)+((('Project Information'!$D$40*'Project Information'!$D$48/60)+('Railcar and Passenger Demand'!I15-'Railcar and Passenger Demand'!$H$2)*'Project Information'!$D$60/60)*'Intermediate Pass Calcs'!L48),0))","v":{"$error":"#VALUE!"}}]
[14,null,{"$f":"IF(OR((ISBLANK('Project Information'!$H$40)),(ISBLANK('Project Information'!$C$21)),(ISBLANK('Project Information'!$G$58))),0,IF(AND((A18>='Project Information'!$C$10),(A18<('Project Information'!$C$8+'Project Cost'!$H$61))),('Intermediate Pass Calcs'!B19*'Intermediate Pass Calcs'!J19),0))","v":{"$error":"#VALUE!"}},null,{"$f":"IF(OR((ISBLANK('Project Information'!$C$33)),(ISBLANK('Project Information'!$H$40)),(ISBLANK('Project Information'!$G$58))),0,IF(AND((A18>='Project Information'!$C$10),(A18<('Project Information'!$C$8+'Project Cost'!$H$61))),IF(SUM('Freight Calcs'!$G$34:$G$58)>0,'Intermediate Pass Calcs'!B49*'Intermediate Pass Calcs'!B19,'Intermediate Pass Calcs'!B49*'Intermediate Pass Calcs'!B19+('Project Information'!$C$33*HLOOKUP(A18,'BCA Values Passenger'!$D$11:$AC$14,4,FALSE))),0))","v":0},null,{"$f":"IF(OR((ISBLANK('Project Information'!$H$40)),(ISBLANK('Project Information'!$G$44)),(ISBLANK('Project Information'!$C$8))),0,IF(AND((A18>='Project Information'!$C$10),(A18<('Project Information'!$C$8+'Project Cost'!$H$61))),('Intermediate Pass Calcs'!C49*'Intermediate Pass Calcs'!B19)-('Railcar and Passenger Demand'!G16*('Project Information'!$C$44*'Intermediate Pass Calcs'!D49+'Intermediate Pass Calcs'!E49*'Project Information'!$D$44)),0))","v":0},null,{"$f":"IF(OR((ISBLANK('Project Information'!$G$48)),(ISBLANK('Project Information'!$G$56))),0,IF(AND((A18>='Project Information'!$C$10),(A18<('Project Information'!$C$8+'Project Cost'!$H$61))),((('Project Information'!$C$40*'Project Information'!$C$48/60)+('Railcar and Passenger Demand'!G16-'Railcar and Passenger Demand'!$F$2)*'Project Information'!$C$60/60)*'Intermediate Pass Calcs'!K49)+((('Project Information'!$D$40*'Project Information'!$D$48/60)+('Railcar and Passenger Demand'!I16-'Railcar and Passenger Demand'!$H$2)*'Project Information'!$D$60/60)*'Intermediate Pass Calcs'!L49),0))","v":{"$error":"#VALUE!"}}]
[15,null,{"$f":"IF(OR((ISBLANK('Project Information'!$H$40)),(ISBLANK('Project Information'!$C$21)),(ISBLANK('Project Information'!$G$58))),0,IF(AND((A19>='Project Information'!$C$10),(A19<('Project Information'!$C$8+'Project Cost'!$H$61))),('Intermediate Pass Calcs'!B20*'Intermediate Pass Calcs'!J20),0))","v":0},null,{"$f":"IF(OR((ISBLANK('Project Information'!$C$33)),(ISBLANK('Project Information'!$H$40)),(ISBLANK('Project Information'!$G$58))),0,IF(AND((A19>='Project Information'!$C$10),(A19<('Project Information'!$C$8+'Project Cost'!$H$61))),IF(SUM('Freight Calcs'!$G$34:$G$58)>0,'Intermediate Pass Calcs'!B50*'Intermediate Pass Calcs'!B20,'Intermediate Pass Calcs'!B50*'Intermediate Pass Calcs'!B20+('Project Information'!$C$33*HLOOKUP(A19,'BCA Values Passenger'!$D$11:$AC$14,4,FALSE))),0))","v":0},null,{"$f":"IF(OR((ISBLANK('Project Information'!$H$40)),(ISBLANK('Project Information'!$G$44)),(ISBLANK('Project Information'!$C$8))),0,IF(AND((A19>='Project Information'!$C$10),(A19<('Project Information'!$C$8+'Project Cost'!$H$61))),('Intermediate Pass Calcs'!C50*'Intermediate Pass Calcs'!B20)-('Railcar and Passenger Demand'!G17*('Project Information'!$C$44*'Intermediate Pass Calcs'!D50+'Intermediate Pass Calcs'!E50*'Project Information'!$D$44)),0))","v":0},null,{"$f":"IF(OR((ISBLANK('Project Information'!$G$48)),(ISBLANK('Project Information'!$G$56))),0,IF(AND((A19>='Project Information'!$C$10),(A19<('Project Information'!$C$8+'Project Cost'!$H$61))),((('Project Information'!$C$40*'Project Information'!$C$48/60)+('Railcar and Passenger Demand'!G17-'Railcar and Passenger Demand'!$F$2)*'Project Information'!$C$60/60)*'Intermediate Pass Calcs'!K50)+((('Project Information'!$D$40*'Project Information'!$D$48/60)+('Railcar and Passenger Demand'!I17-'Railcar and Passenger Demand'!$H$2)*'Project Information'!$D$60/60)*'Intermediate Pass Calcs'!L50),0))","v":0}]
[16,null,{"$f":"IF(OR((ISBLANK('Project Information'!$H$40)),(ISBLANK('Project Information'!$C$21)),(ISBLANK('Project Information'!$G$58))),0,IF(AND((A20>='Project Information'!$C$10),(A20<('Project Information'!$C$8+'Project Cost'!$H$61))),('Intermediate Pass Calcs'!B21*'Intermediate Pass Calcs'!J21),0))","v":0},null,{"$f":"IF(OR((ISBLANK('Project Information'!$C$33)),(ISBLANK('Project Information'!$H$40)),(ISBLANK('Project Information'!$G$58))),0,IF(AND((A20>='Project Information'!$C$10),(A20<('Project Information'!$C$8+'Project Cost'!$H$61))),IF(SUM('Freight Calcs'!$G$34:$G$58)>0,'Intermediate Pass Calcs'!B51*'Intermediate Pass Calcs'!B21,'Intermediate Pass Calcs'!B51*'Intermediate Pass Calcs'!B21+('Project Information'!$C$33*HLOOKUP(A20,'BCA Values Passenger'!$D$11:$AC$14,4,FALSE))),0))","v":0},null,{"$f":"IF(OR((ISBLANK('Project Information'!$H$40)),(ISBLANK('Project Information'!$G$44)),(ISBLANK('Project Information'!$C$8))),0,IF(AND((A20>='Project Information'!$C$10),(A20<('Project Information'!$C$8+'Project Cost'!$H$61))),('Intermediate Pass Calcs'!C51*'Intermediate Pass Calcs'!B21)-('Railcar and Passenger Demand'!G18*('Project Information'!$C$44*'Intermediate Pass Calcs'!D51+'Intermediate Pass Calcs'!E51*'Project Information'!$D$44)),0))","v":0},null,{"$f":"IF(OR((ISBLANK('Project Information'!$G$48)),(ISBLANK('Project Information'!$G$56))),0,IF(AND((A20>='Project Information'!$C$10),(A20<('Project Information'!$C$8+'Project Cost'!$H$61))),((('Project Information'!$C$40*'Project Information'!$C$48/60)+('Railcar and Passenger Demand'!G18-'Railcar and Passenger Demand'!$F$2)*'Project Information'!$C$60/60)*'Intermediate Pass Calcs'!K51)+((('Project Information'!$D$40*'Project Information'!$D$48/60)+('Railcar and Passenger Demand'!I18-'Railcar and Passenger Demand'!$H$2)*'Project Information'!$D$60/60)*'Intermediate Pass Calcs'!L51),0))","v":0}]
[17,null,{"$f":"IF(OR((ISBLANK('Project Information'!$H$40)),(ISBLANK('Project Information'!$C$21)),(ISBLANK('Project Information'!$G$58))),0,IF(AND((A21>='Project Information'!$C$10),(A21<('Project Information'!$C$8+'Project Cost'!$H$61))),('Intermediate Pass Calcs'!B22*'Intermediate Pass Calcs'!J22),0))","v":0},null,{"$f":"IF(OR((ISBLANK('Project Information'!$C$33)),(ISBLANK('Project Information'!$H$40)),(ISBLANK('Project Information'!$G$58))),0,IF(AND((A21>='Project Information'!$C$10),(A21<('Project Information'!$C$8+'Project Cost'!$H$61))),IF(SUM('Freight Calcs'!$G$34:$G$58)>0,'Intermediate Pass Calcs'!B52*'Intermediate Pass Calcs'!B22,'Intermediate Pass Calcs'!B52*'Intermediate Pass Calcs'!B22+('Project Information'!$C$33*HLOOKUP(A21,'BCA Values Passenger'!$D$11:$AC$14,4,FALSE))),0))","v":0},null,{"$f":"IF(OR((ISBLANK('Project Information'!$H$40)),(ISBLANK('Project Information'!$G$44)),(ISBLANK('Project Information'!$C$8))),0,IF(AND((A21>='Project Information'!$C$10),(A21<('Project Information'!$C$8+'Project Cost'!$H$61))),('Intermediate Pass Calcs'!C52*'Intermediate Pass Calcs'!B22)-('Railcar and Passenger Demand'!G19*('Project Information'!$C$44*'Intermediate Pass Calcs'!D52+'Intermediate Pass Calcs'!E52*'Project Information'!$D$44)),0))","v":0},null,{"$f":"IF(OR((ISBLANK('Project Information'!$G$48)),(ISBLANK('Project Information'!$G$56))),0,IF(AND((A21>='Project Information'!$C$10),(A21<('Project Information'!$C$8+'Project Cost'!$H$61))),((('Project Information'!$C$40*'Project Information'!$C$48/60)+('Railcar and Passenger Demand'!G19-'Railcar and Passenger Demand'!$F$2)*'Project Information'!$C$60/60)*'Intermediate Pass Calcs'!K52)+((('Project Information'!$D$40*'Project Information'!$D$48/60)+('Railcar and Passenger Demand'!I19-'Railcar and Passenger Demand'!$H$2)*'Project Information'!$D$60/60)*'Intermediate Pass Calcs'!L52),0))","v":0}]
[18,null,{"$f":"IF(OR((ISBLANK('Project Information'!$H$40)),(ISBLANK('Project Information'!$C$21)),(ISBLANK('Project Information'!$G$58))),0,IF(AND((A22>='Project Information'!$C$10),(A22<('Project Information'!$C$8+'Project Cost'!$H$61))),('Intermediate Pass Calcs'!B23*'Intermediate Pass Calcs'!J23),0))","v":0},null,{"$f":"IF(OR((ISBLANK('Project Information'!$C$33)),(ISBLANK('Project Information'!$H$40)),(ISBLANK('Project Information'!$G$58))),0,IF(AND((A22>='Project Information'!$C$10),(A22<('Project Information'!$C$8+'Project Cost'!$H$61))),IF(SUM('Freight Calcs'!$G$34:$G$58)>0,'Intermediate Pass Calcs'!B53*'Intermediate Pass Calcs'!B23,'Intermediate Pass Calcs'!B53*'Intermediate Pass Calcs'!B23+('Project Information'!$C$33*HLOOKUP(A22,'BCA Values Passenger'!$D$11:$AC$14,4,FALSE))),0))","v":0},null,{"$f":"IF(OR((ISBLANK('Project Information'!$H$40)),(ISBLANK('Project Information'!$G$44)),(ISBLANK('Project Information'!$C$8))),0,IF(AND((A22>='Project Information'!$C$10),(A22<('Project Information'!$C$8+'Project Cost'!$H$61))),('Intermediate Pass Calcs'!C53*'Intermediate Pass Calcs'!B23)-('Railcar and Passenger Demand'!G20*('Project Information'!$C$44*'Intermediate Pass Calcs'!D53+'Intermediate Pass Calcs'!E53*'Project Information'!$D$44)),0))","v":0},null,{"$f":"IF(OR((ISBLANK('Project Information'!$G$48)),(ISBLANK('Project Information'!$G$56))),0,IF(AND((A22>='Project Information'!$C$10),(A22<('Project Information'!$C$8+'Project Cost'!$H$61))),((('Project Information'!$C$40*'Project Information'!$C$48/60)+('Railcar and Passenger Demand'!G20-'Railcar and Passenger Demand'!$F$2)*'Project Information'!$C$60/60)*'Intermediate Pass Calcs'!K53)+((('Project Information'!$D$40*'Project Information'!$D$48/60)+('Railcar and Passenger Demand'!I20-'Railcar and Passenger Demand'!$H$2)*'Project Information'!$D$60/60)*'Intermediate Pass Calcs'!L53),0))","v":0}]
[19,null,{"$f":"IF(OR((ISBLANK('Project Information'!$H$40)),(ISBLANK('Project Information'!$C$21)),(ISBLANK('Project Information'!$G$58))),0,IF(AND((A23>='Project Information'!$C$10),(A23<('Project Information'!$C$8+'Project Cost'!$H$61))),('Intermediate Pass Calcs'!B24*'Intermediate Pass Calcs'!J24),0))","v":0},null,{"$f":"IF(OR((ISBLANK('Project Information'!$C$33)),(ISBLANK('Project Information'!$H$40)),(ISBLANK('Project Information'!$G$58))),0,IF(AND((A23>='Project Information'!$C$10),(A23<('Project Information'!$C$8+'Project Cost'!$H$61))),IF(SUM('Freight Calcs'!$G$34:$G$58)>0,'Intermediate Pass Calcs'!B54*'Intermediate Pass Calcs'!B24,'Intermediate Pass Calcs'!B54*'Intermediate Pass Calcs'!B24+('Project Information'!$C$33*HLOOKUP(A23,'BCA Values Passenger'!$D$11:$AC$14,4,FALSE))),0))","v":0},null,{"$f":"IF(OR((ISBLANK('Project Information'!$H$40)),(ISBLANK('Project Information'!$G$44)),(ISBLANK('Project Information'!$C$8))),0,IF(AND((A23>='Project Information'!$C$10),(A23<('Project Information'!$C$8+'Project Cost'!$H$61))),('Intermediate Pass Calcs'!C54*'Intermediate Pass Calcs'!B24)-('Railcar and Passenger Demand'!G21*('Project Information'!$C$44*'Intermediate Pass Calcs'!D54+'Intermediate Pass Calcs'!E54*'Project Information'!$D$44)),0))","v":0},null,{"$f":"IF(OR((ISBLANK('Project Information'!$G$48)),(ISBLANK('Project Information'!$G$56))),0,IF(AND((A23>='Project Information'!$C$10),(A23<('Project Information'!$C$8+'Project Cost'!$H$61))),((('Project Information'!$C$40*'Project Information'!$C$48/60)+('Railcar and Passenger Demand'!G21-'Railcar and Passenger Demand'!$F$2)*'Project Information'!$C$60/60)*'Intermediate Pass Calcs'!K54)+((('Project Information'!$D$40*'Project Information'!$D$48/60)+('Railcar and Passenger Demand'!I21-'Railcar and Passenger Demand'!$H$2)*'Project Information'!$D$60/60)*'Intermediate Pass Calcs'!L54),0))","v":0}]
[20,null,{"$f":"IF(OR((ISBLANK('Project Information'!$H$40)),(ISBLANK('Project Information'!$C$21)),(ISBLANK('Project Information'!$G$58))),0,IF(AND((A24>='Project Information'!$C$10),(A24<('Project Information'!$C$8+'Project Cost'!$H$61))),('Intermediate Pass Calcs'!B25*'Intermediate Pass Calcs'!J25),0))","v":0},null,{"$f":"IF(OR((ISBLANK('Project Information'!$C$33)),(ISBLANK('Project Information'!$H$40)),(ISBLANK('Project Information'!$G$58))),0,IF(AND((A24>='Project Information'!$C$10),(A24<('Project Information'!$C$8+'Project Cost'!$H$61))),IF(SUM('Freight Calcs'!$G$34:$G$58)>0,'Intermediate Pass Calcs'!B55*'Intermediate Pass Calcs'!B25,'Intermediate Pass Calcs'!B55*'Intermediate Pass Calcs'!B25+('Project Information'!$C$33*HLOOKUP(A24,'BCA Values Passenger'!$D$11:$AC$14,4,FALSE))),0))","v":0},null,{"$f":"IF(OR((ISBLANK('Project Information'!$H$40)),(ISBLANK('Project Information'!$G$44)),(ISBLANK('Project Information'!$C$8))),0,IF(AND((A24>='Project Information'!$C$10),(A24<('Project Information'!$C$8+'Project Cost'!$H$61))),('Intermediate Pass Calcs'!C55*'Intermediate Pass Calcs'!B25)-('Railcar and Passenger Demand'!G22*('Project Information'!$C$44*'Intermediate Pass Calcs'!D55+'Intermediate Pass Calcs'!E55*'Project Information'!$D$44)),0))","v":0},null,{"$f":"IF(OR((ISBLANK('Project Information'!$G$48)),(ISBLANK('Project Information'!$G$56))),0,IF(AND((A24>='Project Information'!$C$10),(A24<('Project Information'!$C$8+'Project Cost'!$H$61))),((('Project Information'!$C$40*'Project Information'!$C$48/60)+('Railcar and Passenger Demand'!G22-'Railcar and Passenger Demand'!$F$2)*'Project Information'!$C$60/60)*'Intermediate Pass Calcs'!K55)+((('Project Information'!$D$40*'Project Information'!$D$48/60)+('Railcar and Passenger Demand'!I22-'Railcar and Passenger Demand'!$H$2)*'Project Information'!$D$60/60)*'Intermediate Pass Calcs'!L55),0))","v":0}]
[21,null,{"$f":"IF(OR((ISBLANK('Project Information'!$H$40)),(ISBLANK('Project Information'!$C$21)),(ISBLANK('Project Information'!$G$58))),0,IF(AND((A25>='Project Information'!$C$10),(A25<('Project Information'!$C$8+'Project Cost'!$H$61))),('Intermediate Pass Calcs'!B26*'Intermediate Pass Calcs'!J26),0))","v":0},null,{"$f":"IF(OR((ISBLANK('Project Information'!$C$33)),(ISBLANK('Project Information'!$H$40)),(ISBLANK('Project Information'!$G$58))),0,IF(AND((A25>='Project Information'!$C$10),(A25<('Project Information'!$C$8+'Project Cost'!$H$61))),IF(SUM('Freight Calcs'!$G$34:$G$58)>0,'Intermediate Pass Calcs'!B56*'Intermediate Pass Calcs'!B26,'Intermediate Pass Calcs'!B56*'Intermediate Pass Calcs'!B26+('Project Information'!$C$33*HLOOKUP(A25,'BCA Values Passenger'!$D$11:$AC$14,4,FALSE))),0))","v":0},null,{"$f":"IF(OR((ISBLANK('Project Information'!$H$40)),(ISBLANK('Project Information'!$G$44)),(ISBLANK('Project Information'!$C$8))),0,IF(AND((A25>='Project Information'!$C$10),(A25<('Project Information'!$C$8+'Project Cost'!$H$61))),('Intermediate Pass Calcs'!C56*'Intermediate Pass Calcs'!B26)-('Railcar and Passenger Demand'!G23*('Project Information'!$C$44*'Intermediate Pass Calcs'!D56+'Intermediate Pass Calcs'!E56*'Project Information'!$D$44)),0))","v":0},null,{"$f":"IF(OR((ISBLANK('Project Information'!$G$48)),(ISBLANK('Project Information'!$G$56))),0,IF(AND((A25>='Project Information'!$C$10),(A25<('Project Information'!$C$8+'Project Cost'!$H$61))),((('Project Information'!$C$40*'Project Information'!$C$48/60)+('Railcar and Passenger Demand'!G23-'Railcar and Passenger Demand'!$F$2)*'Project Information'!$C$60/60)*'Intermediate Pass Calcs'!K56)+((('Project Information'!$D$40*'Project Information'!$D$48/60)+('Railcar and Passenger Demand'!I23-'Railcar and Passenger Demand'!$H$2)*'Project Information'!$D$60/60)*'Intermediate Pass Calcs'!L56),0))","v":0}]
[22,null,{"$f":"IF(OR((ISBLANK('Project Information'!$H$40)),(ISBLANK('Project Information'!$C$21)),(ISBLANK('Project Information'!$G$58))),0,IF(AND((A26>='Project Information'!$C$10),(A26<('Project Information'!$C$8+'Project Cost'!$H$61))),('Intermediate Pass Calcs'!B27*'Intermediate Pass Calcs'!J27),0))","v":0},null,{"$f":"IF(OR((ISBLANK('Project Information'!$C$33)),(ISBLANK('Project Information'!$H$40)),(ISBLANK('Project Information'!$G$58))),0,IF(AND((A26>='Project Information'!$C$10),(A26<('Project Information'!$C$8+'Project Cost'!$H$61))),IF(SUM('Freight Calcs'!$G$34:$G$58)>0,'Intermediate Pass Calcs'!B57*'Intermediate Pass Calcs'!B27,'Intermediate Pass Calcs'!B57*'Intermediate Pass Calcs'!B27+('Project Information'!$C$33*HLOOKUP(A26,'BCA Values Passenger'!$D$11:$AC$14,4,FALSE))),0))","v":0},null,{"$f":"IF(OR((ISBLANK('Project Information'!$H$40)),(ISBLANK('Project Information'!$G$44)),(ISBLANK('Project Information'!$C$8))),0,IF(AND((A26>='Project Information'!$C$10),(A26<('Project Information'!$C$8+'Project Cost'!$H$61))),('Intermediate Pass Calcs'!C57*'Intermediate Pass Calcs'!B27)-('Railcar and Passenger Demand'!G24*('Project Information'!$C$44*'Intermediate Pass Calcs'!D57+'Intermediate Pass Calcs'!E57*'Project Information'!$D$44)),0))","v":0},null,{"$f":"IF(OR((ISBLANK('Project Information'!$G$48)),(ISBLANK('Project Information'!$G$56))),0,IF(AND((A26>='Project Information'!$C$10),(A26<('Project Information'!$C$8+'Project Cost'!$H$61))),((('Project Information'!$C$40*'Project Information'!$C$48/60)+('Railcar and Passenger Demand'!G24-'Railcar and Passenger Demand'!$F$2)*'Project Information'!$C$60/60)*'Intermediate Pass Calcs'!K57)+((('Project Information'!$D$40*'Project Information'!$D$48/60)+('Railcar and Passenger Demand'!I24-'Railcar and Passenger Demand'!$H$2)*'Project Information'!$D$60/60)*'Intermediate Pass Calcs'!L57),0))","v":0}]
[23,null,{"$f":"IF(OR((ISBLANK('Project Information'!$H$40)),(ISBLANK('Project Information'!$C$21)),(ISBLANK('Project Information'!$G$58))),0,IF(AND((A27>='Project Information'!$C$10),(A27<('Project Information'!$C$8+'Project Cost'!$H$61))),('Intermediate Pass Calcs'!B28*'Intermediate Pass Calcs'!J28),0))","v":0},null,{"$f":"IF(OR((ISBLANK('Project Information'!$C$33)),(ISBLANK('Project Information'!$H$40)),(ISBLANK('Project Information'!$G$58))),0,IF(AND((A27>='Project Information'!$C$10),(A27<('Project Information'!$C$8+'Project Cost'!$H$61))),IF(SUM('Freight Calcs'!$G$34:$G$58)>0,'Intermediate Pass Calcs'!B58*'Intermediate Pass Calcs'!B28,'Intermediate Pass Calcs'!B58*'Intermediate Pass Calcs'!B28+('Project Information'!$C$33*HLOOKUP(A27,'BCA Values Passenger'!$D$11:$AC$14,4,FALSE))),0))","v":0},null,{"$f":"IF(OR((ISBLANK('Project Information'!$H$40)),(ISBLANK('Project Information'!$G$44)),(ISBLANK('Project Information'!$C$8))),0,IF(AND((A27>='Project Information'!$C$10),(A27<('Project Information'!$C$8+'Project Cost'!$H$61))),('Intermediate Pass Calcs'!C58*'Intermediate Pass Calcs'!B28)-('Railcar and Passenger Demand'!G25*('Project Information'!$C$44*'Intermediate Pass Calcs'!D58+'Intermediate Pass Calcs'!E58*'Project Information'!$D$44)),0))","v":0},null,{"$f":"IF(OR((ISBLANK('Project Information'!$G$48)),(ISBLANK('Project Information'!$G$56))),0,IF(AND((A27>='Project Information'!$C$10),(A27<('Project Information'!$C$8+'Project Cost'!$H$61))),((('Project Information'!$C$40*'Project Information'!$C$48/60)+('Railcar and Passenger Demand'!G25-'Railcar and Passenger Demand'!$F$2)*'Project Information'!$C$60/60)*'Intermediate Pass Calcs'!K58)+((('Project Information'!$D$40*'Project Information'!$D$48/60)+('Railcar and Passenger Demand'!I25-'Railcar and Passenger Demand'!$H$2)*'Project Information'!$D$60/60)*'Intermediate Pass Calcs'!L58),0))","v":0}]
[24,null,{"$f":"IF(OR((ISBLANK('Project Information'!$H$40)),(ISBLANK('Project Information'!$C$21)),(ISBLANK('Project Information'!$G$58))),0,IF(AND((A28>='Project Information'!$C$10),(A28<('Project Information'!$C$8+'Project Cost'!$H$61))),('Intermediate Pass Calcs'!B29*'Intermediate Pass Calcs'!J29),0))","v":0},null,{"$f":"IF(OR((ISBLANK('Project Information'!$C$33)),(ISBLANK('Project Information'!$H$40)),(ISBLANK('Project Information'!$G$58))),0,IF(AND((A28>='Project Information'!$C$10),(A28<('Project Information'!$C$8+'Project Cost'!$H$61))),IF(SUM('Freight Calcs'!$G$34:$G$58)>0,'Intermediate Pass Calcs'!B59*'Intermediate Pass Calcs'!B29,'Intermediate Pass Calcs'!B59*'Intermediate Pass Calcs'!B29+('Project Information'!$C$33*HLOOKUP(A28,'BCA Values Passenger'!$D$11:$AC$14,4,FALSE))),0))","v":0},null,{"$f":"IF(OR((ISBLANK('Project Information'!$H$40)),(ISBLANK('Project Information'!$G$44)),(ISBLANK('Project Information'!$C$8))),0,IF(AND((A28>='Project Information'!$C$10),(A28<('Project Information'!$C$8+'Project Cost'!$H$61))),('Intermediate Pass Calcs'!C59*'Intermediate Pass Calcs'!B29)-('Railcar and Passenger Demand'!G26*('Project Information'!$C$44*'Intermediate Pass Calcs'!D59+'Intermediate Pass Calcs'!E59*'Project Information'!$D$44)),0))","v":0},null,{"$f":"IF(OR((ISBLANK('Project Information'!$G$48)),(ISBLANK('Project Information'!$G$56))),0,IF(AND((A28>='Project Information'!$C$10),(A28<('Project Information'!$C$8+'Project Cost'!$H$61))),((('Project Information'!$C$40*'Project Information'!$C$48/60)+('Railcar and Passenger Demand'!G26-'Railcar and Passenger Demand'!$F$2)*'Project Information'!$C$60/60)*'Intermediate Pass Calcs'!K59)+((('Project Information'!$D$40*'Project Information'!$D$48/60)+('Railcar and Passenger Demand'!I26-'Railcar and Passenger Demand'!$H$2)*'Project Information'!$D$60/60)*'Intermediate Pass Calcs'!L59),0))","v":0}]
[null,null,null,null,null,null,null,null,null,null,null,null,null,null,null,null,null,null,null,null,null,null,null,null,null,null,null,null,null,null,null,null,null,null,null,null,null,null,null,null,null,null,null,null,"Automobile Trip Length (switching to VRE)","Applicant Supplied Data","D46"]
[null,null,null,null,null,null,null,null,null,null,null,null,null,null,null,null,null,null,null,null,null,null,null,null,null,null,null,null,null,null,null,null,null,null,null,null,null,null,null,null,null,null,null,null,"Projected Number of Railcars Needed for Service","Railcar and Passenger Demand","C"]
[null,null,"Environmental Improvement - (Shift from cars to trains) ",null,"Environmental Improvement - (Distance Reduction) ",null,"Wider Economic Benefits",null,"Savings in Pavement Maintenance",null,"Passenger Totals",null,null,null,null,null,null,null,null,null,null,null,null,null,null,null,null,null,null,null,null,null,null,null,null,null,null,null,null,null,null,null,null,null,"Projected Number of Users Annually (Amtrak)","Railcar and Passenger Demand","F"]
[null,null,"Benefit associated with the reduction in the level of Carbon Dioxide, Volatile Organic Compounds, Nitrogen Oxides and Particulate Matter due do vehicle traffic moving to rail.  The amount of pollution by the same critical pollutants caused by the increase in rail traffic is deducted from the benefit.  ",null,"Benefit associated with the reduction in the level of Carbon Dioxide, Volatile Organic Compounds, Nitrogen Oxides and Particulate Matter due the rail freight network being reduced in length.   ",null,"Improved labor productivity attributable to increased productivity.",null,"When passengers shift from vehicular traffic to rail, the maintenance cost for the highway routes will decrease.  This calculates the reduction in road pavement maintenance costs due to the shift. ",null,null,null,null,null,null,null,null,null,null,null,null,null,null,null,null,null,null,null,null,null,null,null,null,null,null,null,null,null,null,null,null,null,null,null,"Projected Number of Users Annually (VRE)","Railcar and Passenger Demand","H"]
["Year",null,"Reduction in passenger VMT* (Air pollution cost per vehicle mile + Noise pollution cost per vehicle mile) - ((Annual Amtrak Passengers(after) – Annual Amtrak Passengers (before))/(Passengers per Amtrak train) * Amtrak trip length + (Annual VRE Passengers(after) – Annual VRE Passengers (before))/(Passengers per VRE train) * VRE trip length )* Air pollution cost per passenger-train mile",null,"Air pollution cost per passenger-train mile * (Reduced Amtrak miles (after project) * Annual Amtrak passenger trains (existing) + Reduced VRE miles (after project) * Annual VRE passenger trains (existing))",null,"(Total value of travel time savings, Safety benefits and Reduced vehicle operating costs * 0.05)",null,"Total reduction in vehicle VMT * Pavement maintenance cost per vehicle mile"]
[{"$f":"IF('Project Information'!C9>2040, \"No Values Available\", 'Project Information'!C8)","v":0},null,{"$f":"IF(OR((ISBLANK('Project Information'!$C$8)),(ISBLANK('Project Information'!$G$44)),(ISBLANK('Project Information'!$G$58))),0,IF(AND((A34>='Project Information'!$C$10),(A34<('Project Information'!$C$8+'Project Cost'!$H$61))),'Intermediate Pass Calcs'!B5*('Intermediate Pass Calcs'!B65+'Intermediate Pass Calcs'!C65)-('Intermediate Pass Calcs'!D65/'BCA Values Passenger'!$D$5*'Project Information'!$C$44*'Intermediate Pass Calcs'!F65),0))","v":0},null,{"$f":"IF((OR((ISBLANK('Project Information'!$G$45)),(ISBLANK('Project Information'!$H$42)))),0,IF(AND((A34>='Project Information'!$C$10),(A34<('Project Information'!$C$8+'Project Cost'!$H$61))),'Intermediate Pass Calcs'!F65*('Project Information'!$C$45*(IF('Railcar and Passenger Demand'!F2>='Railcar and Passenger Demand'!$F$2,'Project Information'!$C$42,'Railcar and Passenger Demand'!F2/'BCA Values Passenger'!$D$5))+'Project Information'!$D$45*(IF('Railcar and Passenger Demand'!H2>='Railcar and Passenger Demand'!$H$2,'Project Information'!$D$42,'Railcar and Passenger Demand'!H2/'BCA Values Passenger'!$D$6))),0))","v":{"$error":"#N/A"}},null,{"$f":"(SUMIF(E4:I4,\">0\")*0.05)","v":0},null,{"$f":"IF(OR((ISBLANK('Project Information'!$C$8)),(ISBLANK('Project Information'!$C$21)),(ISBLANK('Project Information'!$G$58))),0,IF(AND((A34>='Project Information'!$C$10),(A34<('Project Information'!$C$8+'Project Cost'!$H$61))),'Intermediate Pass Calcs'!B5*('Project Information'!$D$23*HLOOKUP('Passenger Calcs'!A34,'BCA Values Passenger'!$D$73:$AC$77,4,FALSE)+'Project Information'!$C$23*HLOOKUP('Passenger Calcs'!A34,'BCA Values Passenger'!$D$73:$AC$77,5,FALSE)),0))","v":0},null,{"$f":"IFERROR(SUM(C34:I34)+SUM(C4:I4),\"\")","v":""}]
[{"$f":"IFERROR((IF(A34+1>2040,\"No Values Available\",A34+1)),\"No Values Available\")","v":1},null,{"$f":"IF(OR((ISBLANK('Project Information'!$C$8)),(ISBLANK('Project Information'!$G$44)),(ISBLANK('Project Information'!$G$58))),0,IF(AND((A35>='Project Information'!$C$10),(A35<('Project Information'!$C$8+'Project Cost'!$H$61))),'Intermediate Pass Calcs'!B6*('Intermediate Pass Calcs'!B66+'Intermediate Pass Calcs'!C66)-('Intermediate Pass Calcs'!D66/'BCA Values Passenger'!$D$5*'Project Information'!$C$44*'Intermediate Pass Calcs'!F66),0))","v":0},null,{"$f":"IF((OR((ISBLANK('Project Information'!$G$45)),(ISBLANK('Project Information'!$H$42)))),0,IF(AND((A35>='Project Information'!$C$10),(A35<('Project Information'!$C$8+'Project Cost'!$H$61))),'Intermediate Pass Calcs'!F66*('Project Information'!$C$45*(IF('Railcar and Passenger Demand'!F3>='Railcar and Passenger Demand'!$F$2,'Project Information'!$C$42,'Railcar and Passenger Demand'!F3/'BCA Values Passenger'!$D$5))+'Project Information'!$D$45*(IF('Railcar and Passenger Demand'!H3>='Railcar and Passenger Demand'!$H$2,'Project Information'!$D$42,'Railcar and Passenger Demand'!H3/'BCA Values Passenger'!$D$6))),0))","v":{"$error":"#N/A"}},null,{"$f":"(SUMIF(E5:I5,\">0\")*0.05)","v":0},null,{"$f":"IF(OR((ISBLANK('Project Information'!$C$8)),(ISBLANK('Project Information'!$C$21)),(ISBLANK('Project Information'!$G$58))),0,IF(AND((A35>='Project Information'!$C$10),(A35<('Project Information'!$C$8+'Project Cost'!$H$61))),'Intermediate Pass Calcs'!B6*('Project Information'!$D$23*HLOOKUP('Passenger Calcs'!A35,'BCA Values Passenger'!$D$73:$AC$77,4,FALSE)+'Project Information'!$C$23*HLOOKUP('Passenger Calcs'!A35,'BCA Values Passenger'!$D$73:$AC$77,5,FALSE)),0))","v":0},null,{"$f":"IFERROR(SUM(C35:I35)+SUM(C5:I5),\"\")","v":""}]
[{"$f":"IFERROR((IF(A35+1>2040,\"No Values Available\",A35+1)),\"No Values Available\")","v":2},null,{"$f":"IF(OR((ISBLANK('Project Information'!$C$8)),(ISBLANK('Project Information'!$G$44)),(ISBLANK('Project Information'!$G$58))),0,IF(AND((A36>='Project Information'!$C$10),(A36<('Project Information'!$C$8+'Project Cost'!$H$61))),'Intermediate Pass Calcs'!B7*('Intermediate Pass Calcs'!B67+'Intermediate Pass Calcs'!C67)-('Intermediate Pass Calcs'!D67/'BCA Values Passenger'!$D$5*'Project Information'!$C$44*'Intermediate Pass Calcs'!F67),0))","v":0},null,{"$f":"IF((OR((ISBLANK('Project Information'!$G$45)),(ISBLANK('Project Information'!$H$42)))),0,IF(AND((A36>='Project Information'!$C$10),(A36<('Project Information'!$C$8+'Project Cost'!$H$61))),'Intermediate Pass Calcs'!F67*('Project Information'!$C$45*(IF('Railcar and Passenger Demand'!F4>='Railcar and Passenger Demand'!$F$2,'Project Information'!$C$42,'Railcar and Passenger Demand'!F4/'BCA Values Passenger'!$D$5))+'Project Information'!$D$45*(IF('Railcar and Passenger Demand'!H4>='Railcar and Passenger Demand'!$H$2,'Project Information'!$D$42,'Railcar and Passenger Demand'!H4/'BCA Values Passenger'!$D$6))),0))","v":{"$error":"#N/A"}},null,0,null,{"$f":"IF(OR((ISBLANK('Project Information'!$C$8)),(ISBLANK('Project Information'!$C$21)),(ISBLANK('Project Information'!$G$58))),0,IF(AND((A36>='Project Information'!$C$10),(A36<('Project Information'!$C$8+'Project Cost'!$H$61))),'Intermediate Pass Calcs'!B7*('Project Information'!$D$23*HLOOKUP('Passenger Calcs'!A36,'BCA Values Passenger'!$D$73:$AC$77,4,FALSE)+'Project Information'!$C$23*HLOOKUP('Passenger Calcs'!A36,'BCA Values Passenger'!$D$73:$AC$77,5,FALSE)),0))","v":0},null,""]
[3,null,{"$f":"IF(OR((ISBLANK('Project Information'!$C$8)),(ISBLANK('Project Information'!$G$44)),(ISBLANK('Project Information'!$G$58))),0,IF(AND((A37>='Project Information'!$C$10),(A37<('Project Information'!$C$8+'Project Cost'!$H$61))),'Intermediate Pass Calcs'!B8*('Intermediate Pass Calcs'!B68+'Intermediate Pass Calcs'!C68)-('Intermediate Pass Calcs'!D68/'BCA Values Passenger'!$D$5*'Project Information'!$C$44*'Intermediate Pass Calcs'!F68),0))","v":0},null,{"$f":"IF((OR((ISBLANK('Project Information'!$G$45)),(ISBLANK('Project Information'!$H$42)))),0,IF(AND((A37>='Project Information'!$C$10),(A37<('Project Information'!$C$8+'Project Cost'!$H$61))),'Intermediate Pass Calcs'!F68*('Project Information'!$C$45*(IF('Railcar and Passenger Demand'!F5>='Railcar and Passenger Demand'!$F$2,'Project Information'!$C$42,'Railcar and Passenger Demand'!F5/'BCA Values Passenger'!$D$5))+'Project Information'!$D$45*(IF('Railcar and Passenger Demand'!H5>='Railcar and Passenger Demand'!$H$2,'Project Information'!$D$42,'Railcar and Passenger Demand'!H5/'BCA Values Passenger'!$D$6))),0))","v":{"$error":"#N/A"}},null,0,null,{"$f":"IF(OR((ISBLANK('Project Information'!$C$8)),(ISBLANK('Project Information'!$C$21)),(ISBLANK('Project Information'!$G$58))),0,IF(AND((A37>='Project Information'!$C$10),(A37<('Project Information'!$C$8+'Project Cost'!$H$61))),'Intermediate Pass Calcs'!B8*('Project Information'!$D$23*HLOOKUP('Passenger Calcs'!A37,'BCA Values Passenger'!$D$73:$AC$77,4,FALSE)+'Project Information'!$C$23*HLOOKUP('Passenger Calcs'!A37,'BCA Values Passenger'!$D$73:$AC$77,5,FALSE)),0))","v":0},null,""]
[4,null,{"$f":"IF(OR((ISBLANK('Project Information'!$C$8)),(ISBLANK('Project Information'!$G$44)),(ISBLANK('Project Information'!$G$58))),0,IF(AND((A38>='Project Information'!$C$10),(A38<('Project Information'!$C$8+'Project Cost'!$H$61))),'Intermediate Pass Calcs'!B9*('Intermediate Pass Calcs'!B69+'Intermediate Pass Calcs'!C69)-('Intermediate Pass Calcs'!D69/'BCA Values Passenger'!$D$5*'Project Information'!$C$44*'Intermediate Pass Calcs'!F69),0))","v":0},null,{"$f":"IF((OR((ISBLANK('Project Information'!$G$45)),(ISBLANK('Project Information'!$H$42)))),0,IF(AND((A38>='Project Information'!$C$10),(A38<('Project Information'!$C$8+'Project Cost'!$H$61))),'Intermediate Pass Calcs'!F69*('Project Information'!$C$45*(IF('Railcar and Passenger Demand'!F6>='Railcar and Passenger Demand'!$F$2,'Project Information'!$C$42,'Railcar and Passenger Demand'!F6/'BCA Values Passenger'!$D$5))+'Project Information'!$D$45*(IF('Railcar and Passenger Demand'!H6>='Railcar and Passenger Demand'!$H$2,'Project Information'!$D$42,'Railcar and Passenger Demand'!H6/'BCA Values Passenger'!$D$6))),0))","v":{"$error":"#N/A"}},null,0,null,{"$f":"IF(OR((ISBLANK('Project Information'!$C$8)),(ISBLANK('Project Information'!$C$21)),(ISBLANK('Project Information'!$G$58))),0,IF(AND((A38>='Project Information'!$C$10),(A38<('Project Information'!$C$8+'Project Cost'!$H$61))),'Intermediate Pass Calcs'!B9*('Project Information'!$D$23*HLOOKUP('Passenger Calcs'!A38,'BCA Values Passenger'!$D$73:$AC$77,4,FALSE)+'Project Information'!$C$23*HLOOKUP('Passenger Calcs'!A38,'BCA Values Passenger'!$D$73:$AC$77,5,FALSE)),0))","v":0},null,""]
[5,null,{"$f":"IF(OR((ISBLANK('Project Information'!$C$8)),(ISBLANK('Project Information'!$G$44)),(ISBLANK('Project Information'!$G$58))),0,IF(AND((A39>='Project Information'!$C$10),(A39<('Project Information'!$C$8+'Project Cost'!$H$61))),'Intermediate Pass Calcs'!B10*('Intermediate Pass Calcs'!B70+'Intermediate Pass Calcs'!C70)-('Intermediate Pass Calcs'!D70/'BCA Values Passenger'!$D$5*'Project Information'!$C$44*'Intermediate Pass Calcs'!F70),0))","v":0},null,{"$f":"IF((OR((ISBLANK('Project Information'!$G$45)),(ISBLANK('Project Information'!$H$42)))),0,IF(AND((A39>='Project Information'!$C$10),(A39<('Project Information'!$C$8+'Project Cost'!$H$61))),'Intermediate Pass Calcs'!F70*('Project Information'!$C$45*(IF('Railcar and Passenger Demand'!F7>='Railcar and Passenger Demand'!$F$2,'Project Information'!$C$42,'Railcar and Passenger Demand'!F7/'BCA Values Passenger'!$D$5))+'Project Information'!$D$45*(IF('Railcar and Passenger Demand'!H7>='Railcar and Passenger Demand'!$H$2,'Project Information'!$D$42,'Railcar and Passenger Demand'!H7/'BCA Values Passenger'!$D$6))),0))","v":{"$error":"#N/A"}},null,0,null,{"$f":"IF(OR((ISBLANK('Project Information'!$C$8)),(ISBLANK('Project Information'!$C$21)),(ISBLANK('Project Information'!$G$58))),0,IF(AND((A39>='Project Information'!$C$10),(A39<('Project Information'!$C$8+'Project Cost'!$H$61))),'Intermediate Pass Calcs'!B10*('Project Information'!$D$23*HLOOKUP('Passenger Calcs'!A39,'BCA Values Passenger'!$D$73:$AC$77,4,FALSE)+'Project Information'!$C$23*HLOOKUP('Passenger Calcs'!A39,'BCA Values Passenger'!$D$73:$AC$77,5,FALSE)),0))","v":0},null,""]
[6,null,{"$f":"IF(OR((ISBLANK('Project Information'!$C$8)),(ISBLANK('Project Information'!$G$44)),(ISBLANK('Project Information'!$G$58))),0,IF(AND((A40>='Project Information'!$C$10),(A40<('Project Information'!$C$8+'Project Cost'!$H$61))),'Intermediate Pass Calcs'!B11*('Intermediate Pass Calcs'!B71+'Intermediate Pass Calcs'!C71)-('Intermediate Pass Calcs'!D71/'BCA Values Passenger'!$D$5*'Project Information'!$C$44*'Intermediate Pass Calcs'!F71),0))","v":0},null,{"$f":"IF((OR((ISBLANK('Project Information'!$G$45)),(ISBLANK('Project Information'!$H$42)))),0,IF(AND((A40>='Project Information'!$C$10),(A40<('Project Information'!$C$8+'Project Cost'!$H$61))),'Intermediate Pass Calcs'!F71*('Project Information'!$C$45*(IF('Railcar and Passenger Demand'!F8>='Railcar and Passenger Demand'!$F$2,'Project Information'!$C$42,'Railcar and Passenger Demand'!F8/'BCA Values Passenger'!$D$5))+'Project Information'!$D$45*(IF('Railcar and Passenger Demand'!H8>='Railcar and Passenger Demand'!$H$2,'Project Information'!$D$42,'Railcar and Passenger Demand'!H8/'BCA Values Passenger'!$D$6))),0))","v":{"$error":"#N/A"}},null,0,null,{"$f":"IF(OR((ISBLANK('Project Information'!$C$8)),(ISBLANK('Project Information'!$C$21)),(ISBLANK('Project Information'!$G$58))),0,IF(AND((A40>='Project Information'!$C$10),(A40<('Project Information'!$C$8+'Project Cost'!$H$61))),'Intermediate Pass Calcs'!B11*('Project Information'!$D$23*HLOOKUP('Passenger Calcs'!A40,'BCA Values Passenger'!$D$73:$AC$77,4,FALSE)+'Project Information'!$C$23*HLOOKUP('Passenger Calcs'!A40,'BCA Values Passenger'!$D$73:$AC$77,5,FALSE)),0))","v":0},null,""]
[7,null,{"$f":"IF(OR((ISBLANK('Project Information'!$C$8)),(ISBLANK('Project Information'!$G$44)),(ISBLANK('Project Information'!$G$58))),0,IF(AND((A41>='Project Information'!$C$10),(A41<('Project Information'!$C$8+'Project Cost'!$H$61))),'Intermediate Pass Calcs'!B12*('Intermediate Pass Calcs'!B72+'Intermediate Pass Calcs'!C72)-('Intermediate Pass Calcs'!D72/'BCA Values Passenger'!$D$5*'Project Information'!$C$44*'Intermediate Pass Calcs'!F72),0))","v":0},null,{"$f":"IF((OR((ISBLANK('Project Information'!$G$45)),(ISBLANK('Project Information'!$H$42)))),0,IF(AND((A41>='Project Information'!$C$10),(A41<('Project Information'!$C$8+'Project Cost'!$H$61))),'Intermediate Pass Calcs'!F72*('Project Information'!$C$45*(IF('Railcar and Passenger Demand'!F9>='Railcar and Passenger Demand'!$F$2,'Project Information'!$C$42,'Railcar and Passenger Demand'!F9/'BCA Values Passenger'!$D$5))+'Project Information'!$D$45*(IF('Railcar and Passenger Demand'!H9>='Railcar and Passenger Demand'!$H$2,'Project Information'!$D$42,'Railcar and Passenger Demand'!H9/'BCA Values Passenger'!$D$6))),0))","v":{"$error":"#N/A"}},null,0,null,{"$f":"IF(OR((ISBLANK('Project Information'!$C$8)),(ISBLANK('Project Information'!$C$21)),(ISBLANK('Project Information'!$G$58))),0,IF(AND((A41>='Project Information'!$C$10),(A41<('Project Information'!$C$8+'Project Cost'!$H$61))),'Intermediate Pass Calcs'!B12*('Project Information'!$D$23*HLOOKUP('Passenger Calcs'!A41,'BCA Values Passenger'!$D$73:$AC$77,4,FALSE)+'Project Information'!$C$23*HLOOKUP('Passenger Calcs'!A41,'BCA Values Passenger'!$D$73:$AC$77,5,FALSE)),0))","v":0},null,""]
[8,null,{"$f":"IF(OR((ISBLANK('Project Information'!$C$8)),(ISBLANK('Project Information'!$G$44)),(ISBLANK('Project Information'!$G$58))),0,IF(AND((A42>='Project Information'!$C$10),(A42<('Project Information'!$C$8+'Project Cost'!$H$61))),'Intermediate Pass Calcs'!B13*('Intermediate Pass Calcs'!B73+'Intermediate Pass Calcs'!C73)-('Intermediate Pass Calcs'!D73/'BCA Values Passenger'!$D$5*'Project Information'!$C$44*'Intermediate Pass Calcs'!F73),0))","v":0},null,{"$f":"IF((OR((ISBLANK('Project Information'!$G$45)),(ISBLANK('Project Information'!$H$42)))),0,IF(AND((A42>='Project Information'!$C$10),(A42<('Project Information'!$C$8+'Project Cost'!$H$61))),'Intermediate Pass Calcs'!F73*('Project Information'!$C$45*(IF('Railcar and Passenger Demand'!F10>='Railcar and Passenger Demand'!$F$2,'Project Information'!$C$42,'Railcar and Passenger Demand'!F10/'BCA Values Passenger'!$D$5))+'Project Information'!$D$45*(IF('Railcar and Passenger Demand'!H10>='Railcar and Passenger Demand'!$H$2,'Project Information'!$D$42,'Railcar and Passenger Demand'!H10/'BCA Values Passenger'!$D$6))),0))","v":{"$error":"#N/A"}},null,0,null,{"$f":"IF(OR((ISBLANK('Project Information'!$C$8)),(ISBLANK('Project Information'!$C$21)),(ISBLANK('Project Information'!$G$58))),0,IF(AND((A42>='Project Information'!$C$10),(A42<('Project Information'!$C$8+'Project Cost'!$H$61))),'Intermediate Pass Calcs'!B13*('Project Information'!$D$23*HLOOKUP('Passenger Calcs'!A42,'BCA Values Passenger'!$D$73:$AC$77,4,FALSE)+'Project Information'!$C$23*HLOOKUP('Passenger Calcs'!A42,'BCA Values Passenger'!$D$73:$AC$77,5,FALSE)),0))","v":0},null,""]
[9,null,{"$f":"IF(OR((ISBLANK('Project Information'!$C$8)),(ISBLANK('Project Information'!$G$44)),(ISBLANK('Project Information'!$G$58))),0,IF(AND((A43>='Project Information'!$C$10),(A43<('Project Information'!$C$8+'Project Cost'!$H$61))),'Intermediate Pass Calcs'!B14*('Intermediate Pass Calcs'!B74+'Intermediate Pass Calcs'!C74)-('Intermediate Pass Calcs'!D74/'BCA Values Passenger'!$D$5*'Project Information'!$C$44*'Intermediate Pass Calcs'!F74),0))","v":0},null,{"$f":"IF((OR((ISBLANK('Project Information'!$G$45)),(ISBLANK('Project Information'!$H$42)))),0,IF(AND((A43>='Project Information'!$C$10),(A43<('Project Information'!$C$8+'Project Cost'!$H$61))),'Intermediate Pass Calcs'!F74*('Project Information'!$C$45*(IF('Railcar and Passenger Demand'!F11>='Railcar and Passenger Demand'!$F$2,'Project Information'!$C$42,'Railcar and Passenger Demand'!F11/'BCA Values Passenger'!$D$5))+'Project Information'!$D$45*(IF('Railcar and Passenger Demand'!H11>='Railcar and Passenger Demand'!$H$2,'Project Information'!$D$42,'Railcar and Passenger Demand'!H11/'BCA Values Passenger'!$D$6))),0))","v":{"$error":"#N/A"}},null,0,null,{"$f":"IF(OR((ISBLANK('Project Information'!$C$8)),(ISBLANK('Project Information'!$C$21)),(ISBLANK('Project Information'!$G$58))),0,IF(AND((A43>='Project Information'!$C$10),(A43<('Project Information'!$C$8+'Project Cost'!$H$61))),'Intermediate Pass Calcs'!B14*('Project Information'!$D$23*HLOOKUP('Passenger Calcs'!A43,'BCA Values Passenger'!$D$73:$AC$77,4,FALSE)+'Project Information'!$C$23*HLOOKUP('Passenger Calcs'!A43,'BCA Values Passenger'!$D$73:$AC$77,5,FALSE)),0))","v":0},null,""]
[10,null,{"$f":"IF(OR((ISBLANK('Project Information'!$C$8)),(ISBLANK('Project Information'!$G$44)),(ISBLANK('Project Information'!$G$58))),0,IF(AND((A44>='Project Information'!$C$10),(A44<('Project Information'!$C$8+'Project Cost'!$H$61))),'Intermediate Pass Calcs'!B15*('Intermediate Pass Calcs'!B75+'Intermediate Pass Calcs'!C75)-('Intermediate Pass Calcs'!D75/'BCA Values Passenger'!$D$5*'Project Information'!$C$44*'Intermediate Pass Calcs'!F75),0))","v":0},null,{"$f":"IF((OR((ISBLANK('Project Information'!$G$45)),(ISBLANK('Project Information'!$H$42)))),0,IF(AND((A44>='Project Information'!$C$10),(A44<('Project Information'!$C$8+'Project Cost'!$H$61))),'Intermediate Pass Calcs'!F75*('Project Information'!$C$45*(IF('Railcar and Passenger Demand'!F12>='Railcar and Passenger Demand'!$F$2,'Project Information'!$C$42,'Railcar and Passenger Demand'!F12/'BCA Values Passenger'!$D$5))+'Project Information'!$D$45*(IF('Railcar and Passenger Demand'!H12>='Railcar and Passenger Demand'!$H$2,'Project Information'!$D$42,'Railcar and Passenger Demand'!H12/'BCA Values Passenger'!$D$6))),0))","v":{"$error":"#N/A"}},null,0,null,{"$f":"IF(OR((ISBLANK('Project Information'!$C$8)),(ISBLANK('Project Information'!$C$21)),(ISBLANK('Project Information'!$G$58))),0,IF(AND((A44>='Project Information'!$C$10),(A44<('Project Information'!$C$8+'Project Cost'!$H$61))),'Intermediate Pass Calcs'!B15*('Project Information'!$D$23*HLOOKUP('Passenger Calcs'!A44,'BCA Values Passenger'!$D$73:$AC$77,4,FALSE)+'Project Information'!$C$23*HLOOKUP('Passenger Calcs'!A44,'BCA Values Passenger'!$D$73:$AC$77,5,FALSE)),0))","v":0},null,""]
[11,null,{"$f":"IF(OR((ISBLANK('Project Information'!$C$8)),(ISBLANK('Project Information'!$G$44)),(ISBLANK('Project Information'!$G$58))),0,IF(AND((A45>='Project Information'!$C$10),(A45<('Project Information'!$C$8+'Project Cost'!$H$61))),'Intermediate Pass Calcs'!B16*('Intermediate Pass Calcs'!B76+'Intermediate Pass Calcs'!C76)-('Intermediate Pass Calcs'!D76/'BCA Values Passenger'!$D$5*'Project Information'!$C$44*'Intermediate Pass Calcs'!F76),0))","v":0},null,{"$f":"IF((OR((ISBLANK('Project Information'!$G$45)),(ISBLANK('Project Information'!$H$42)))),0,IF(AND((A45>='Project Information'!$C$10),(A45<('Project Information'!$C$8+'Project Cost'!$H$61))),'Intermediate Pass Calcs'!F76*('Project Information'!$C$45*(IF('Railcar and Passenger Demand'!F13>='Railcar and Passenger Demand'!$F$2,'Project Information'!$C$42,'Railcar and Passenger Demand'!F13/'BCA Values Passenger'!$D$5))+'Project Information'!$D$45*(IF('Railcar and Passenger Demand'!H13>='Railcar and Passenger Demand'!$H$2,'Project Information'!$D$42,'Railcar and Passenger Demand'!H13/'BCA Values Passenger'!$D$6))),0))","v":{"$error":"#N/A"}},null,0,null,{"$f":"IF(OR((ISBLANK('Project Information'!$C$8)),(ISBLANK('Project Information'!$C$21)),(ISBLANK('Project Information'!$G$58))),0,IF(AND((A45>='Project Information'!$C$10),(A45<('Project Information'!$C$8+'Project Cost'!$H$61))),'Intermediate Pass Calcs'!B16*('Project Information'!$D$23*HLOOKUP('Passenger Calcs'!A45,'BCA Values Passenger'!$D$73:$AC$77,4,FALSE)+'Project Information'!$C$23*HLOOKUP('Passenger Calcs'!A45,'BCA Values Passenger'!$D$73:$AC$77,5,FALSE)),0))","v":0},null,""]
[12,null,{"$f":"IF(OR((ISBLANK('Project Information'!$C$8)),(ISBLANK('Project Information'!$G$44)),(ISBLANK('Project Information'!$G$58))),0,IF(AND((A46>='Project Information'!$C$10),(A46<('Project Information'!$C$8+'Project Cost'!$H$61))),'Intermediate Pass Calcs'!B17*('Intermediate Pass Calcs'!B77+'Intermediate Pass Calcs'!C77)-('Intermediate Pass Calcs'!D77/'BCA Values Passenger'!$D$5*'Project Information'!$C$44*'Intermediate Pass Calcs'!F77),0))","v":0},null,{"$f":"IF((OR((ISBLANK('Project Information'!$G$45)),(ISBLANK('Project Information'!$H$42)))),0,IF(AND((A46>='Project Information'!$C$10),(A46<('Project Information'!$C$8+'Project Cost'!$H$61))),'Intermediate Pass Calcs'!F77*('Project Information'!$C$45*(IF('Railcar and Passenger Demand'!F14>='Railcar and Passenger Demand'!$F$2,'Project Information'!$C$42,'Railcar and Passenger Demand'!F14/'BCA Values Passenger'!$D$5))+'Project Information'!$D$45*(IF('Railcar and Passenger Demand'!H14>='Railcar and Passenger Demand'!$H$2,'Project Information'!$D$42,'Railcar and Passenger Demand'!H14/'BCA Values Passenger'!$D$6))),0))","v":{"$error":"#N/A"}},null,0,null,{"$f":"IF(OR((ISBLANK('Project Information'!$C$8)),(ISBLANK('Project Information'!$C$21)),(ISBLANK('Project Information'!$G$58))),0,IF(AND((A46>='Project Information'!$C$10),(A46<('Project Information'!$C$8+'Project Cost'!$H$61))),'Intermediate Pass Calcs'!B17*('Project Information'!$D$23*HLOOKUP('Passenger Calcs'!A46,'BCA Values Passenger'!$D$73:$AC$77,4,FALSE)+'Project Information'!$C$23*HLOOKUP('Passenger Calcs'!A46,'BCA Values Passenger'!$D$73:$AC$77,5,FALSE)),0))","v":0},null,""]
[13,null,{"$f":"IF(OR((ISBLANK('Project Information'!$C$8)),(ISBLANK('Project Information'!$G$44)),(ISBLANK('Project Information'!$G$58))),0,IF(AND((A47>='Project Information'!$C$10),(A47<('Project Information'!$C$8+'Project Cost'!$H$61))),'Intermediate Pass Calcs'!B18*('Intermediate Pass Calcs'!B78+'Intermediate Pass Calcs'!C78)-('Intermediate Pass Calcs'!D78/'BCA Values Passenger'!$D$5*'Project Information'!$C$44*'Intermediate Pass Calcs'!F78),0))","v":0},null,{"$f":"IF((OR((ISBLANK('Project Information'!$G$45)),(ISBLANK('Project Information'!$H$42)))),0,IF(AND((A47>='Project Information'!$C$10),(A47<('Project Information'!$C$8+'Project Cost'!$H$61))),'Intermediate Pass Calcs'!F78*('Project Information'!$C$45*(IF('Railcar and Passenger Demand'!F15>='Railcar and Passenger Demand'!$F$2,'Project Information'!$C$42,'Railcar and Passenger Demand'!F15/'BCA Values Passenger'!$D$5))+'Project Information'!$D$45*(IF('Railcar and Passenger Demand'!H15>='Railcar and Passenger Demand'!$H$2,'Project Information'!$D$42,'Railcar and Passenger Demand'!H15/'BCA Values Passenger'!$D$6))),0))","v":{"$error":"#N/A"}},null,0,null,{"$f":"IF(OR((ISBLANK('Project Information'!$C$8)),(ISBLANK('Project Information'!$C$21)),(ISBLANK('Project Information'!$G$58))),0,IF(AND((A47>='Project Information'!$C$10),(A47<('Project Information'!$C$8+'Project Cost'!$H$61))),'Intermediate Pass Calcs'!B18*('Project Information'!$D$23*HLOOKUP('Passenger Calcs'!A47,'BCA Values Passenger'!$D$73:$AC$77,4,FALSE)+'Project Information'!$C$23*HLOOKUP('Passenger Calcs'!A47,'BCA Values Passenger'!$D$73:$AC$77,5,FALSE)),0))","v":0},null,""]
[14,null,{"$f":"IF(OR((ISBLANK('Project Information'!$C$8)),(ISBLANK('Project Information'!$G$44)),(ISBLANK('Project Information'!$G$58))),0,IF(AND((A48>='Project Information'!$C$10),(A48<('Project Information'!$C$8+'Project Cost'!$H$61))),'Intermediate Pass Calcs'!B19*('Intermediate Pass Calcs'!B79+'Intermediate Pass Calcs'!C79)-('Intermediate Pass Calcs'!D79/'BCA Values Passenger'!$D$5*'Project Information'!$C$44*'Intermediate Pass Calcs'!F79),0))","v":0},null,{"$f":"IF((OR((ISBLANK('Project Information'!$G$45)),(ISBLANK('Project Information'!$H$42)))),0,IF(AND((A48>='Project Information'!$C$10),(A48<('Project Information'!$C$8+'Project Cost'!$H$61))),'Intermediate Pass Calcs'!F79*('Project Information'!$C$45*(IF('Railcar and Passenger Demand'!F16>='Railcar and Passenger Demand'!$F$2,'Project Information'!$C$42,'Railcar and Passenger Demand'!F16/'BCA Values Passenger'!$D$5))+'Project Information'!$D$45*(IF('Railcar and Passenger Demand'!H16>='Railcar and Passenger Demand'!$H$2,'Project Information'!$D$42,'Railcar and Passenger Demand'!H16/'BCA Values Passenger'!$D$6))),0))","v":{"$error":"#N/A"}},null,0,null,{"$f":"IF(OR((ISBLANK('Project Information'!$C$8)),(ISBLANK('Project Information'!$C$21)),(ISBLANK('Project Information'!$G$58))),0,IF(AND((A48>='Project Information'!$C$10),(A48<('Project Information'!$C$8+'Project Cost'!$H$61))),'Intermediate Pass Calcs'!B19*('Project Information'!$D$23*HLOOKUP('Passenger Calcs'!A48,'BCA Values Passenger'!$D$73:$AC$77,4,FALSE)+'Project Information'!$C$23*HLOOKUP('Passenger Calcs'!A48,'BCA Values Passenger'!$D$73:$AC$77,5,FALSE)),0))","v":0},null,""]
[15,null,{"$f":"IF(OR((ISBLANK('Project Information'!$C$8)),(ISBLANK('Project Information'!$G$44)),(ISBLANK('Project Information'!$G$58))),0,IF(AND((A49>='Project Information'!$C$10),(A49<('Project Information'!$C$8+'Project Cost'!$H$61))),'Intermediate Pass Calcs'!B20*('Intermediate Pass Calcs'!B80+'Intermediate Pass Calcs'!C80)-('Intermediate Pass Calcs'!D80/'BCA Values Passenger'!$D$5*'Project Information'!$C$44*'Intermediate Pass Calcs'!F80),0))","v":0},null,{"$f":"IF((OR((ISBLANK('Project Information'!$G$45)),(ISBLANK('Project Information'!$H$42)))),0,IF(AND((A49>='Project Information'!$C$10),(A49<('Project Information'!$C$8+'Project Cost'!$H$61))),'Intermediate Pass Calcs'!F80*('Project Information'!$C$45*(IF('Railcar and Passenger Demand'!F17>='Railcar and Passenger Demand'!$F$2,'Project Information'!$C$42,'Railcar and Passenger Demand'!F17/'BCA Values Passenger'!$D$5))+'Project Information'!$D$45*(IF('Railcar and Passenger Demand'!H17>='Railcar and Passenger Demand'!$H$2,'Project Information'!$D$42,'Railcar and Passenger Demand'!H17/'BCA Values Passenger'!$D$6))),0))","v":0},null,0,null,{"$f":"IF(OR((ISBLANK('Project Information'!$C$8)),(ISBLANK('Project Information'!$C$21)),(ISBLANK('Project Information'!$G$58))),0,IF(AND((A49>='Project Information'!$C$10),(A49<('Project Information'!$C$8+'Project Cost'!$H$61))),'Intermediate Pass Calcs'!B20*('Project Information'!$D$23*HLOOKUP('Passenger Calcs'!A49,'BCA Values Passenger'!$D$73:$AC$77,4,FALSE)+'Project Information'!$C$23*HLOOKUP('Passenger Calcs'!A49,'BCA Values Passenger'!$D$73:$AC$77,5,FALSE)),0))","v":0},null,0]
[16,null,{"$f":"IF(OR((ISBLANK('Project Information'!$C$8)),(ISBLANK('Project Information'!$G$44)),(ISBLANK('Project Information'!$G$58))),0,IF(AND((A50>='Project Information'!$C$10),(A50<('Project Information'!$C$8+'Project Cost'!$H$61))),'Intermediate Pass Calcs'!B21*('Intermediate Pass Calcs'!B81+'Intermediate Pass Calcs'!C81)-('Intermediate Pass Calcs'!D81/'BCA Values Passenger'!$D$5*'Project Information'!$C$44*'Intermediate Pass Calcs'!F81),0))","v":0},null,{"$f":"IF((OR((ISBLANK('Project Information'!$G$45)),(ISBLANK('Project Information'!$H$42)))),0,IF(AND((A50>='Project Information'!$C$10),(A50<('Project Information'!$C$8+'Project Cost'!$H$61))),'Intermediate Pass Calcs'!F81*('Project Information'!$C$45*(IF('Railcar and Passenger Demand'!F18>='Railcar and Passenger Demand'!$F$2,'Project Information'!$C$42,'Railcar and Passenger Demand'!F18/'BCA Values Passenger'!$D$5))+'Project Information'!$D$45*(IF('Railcar and Passenger Demand'!H18>='Railcar and Passenger Demand'!$H$2,'Project Information'!$D$42,'Railcar and Passenger Demand'!H18/'BCA Values Passenger'!$D$6))),0))","v":0},null,0,null,{"$f":"IF(OR((ISBLANK('Project Information'!$C$8)),(ISBLANK('Project Information'!$C$21)),(ISBLANK('Project Information'!$G$58))),0,IF(AND((A50>='Project Information'!$C$10),(A50<('Project Information'!$C$8+'Project Cost'!$H$61))),'Intermediate Pass Calcs'!B21*('Project Information'!$D$23*HLOOKUP('Passenger Calcs'!A50,'BCA Values Passenger'!$D$73:$AC$77,4,FALSE)+'Project Information'!$C$23*HLOOKUP('Passenger Calcs'!A50,'BCA Values Passenger'!$D$73:$AC$77,5,FALSE)),0))","v":0},null,0]
[17,null,{"$f":"IF(OR((ISBLANK('Project Information'!$C$8)),(ISBLANK('Project Information'!$G$44)),(ISBLANK('Project Information'!$G$58))),0,IF(AND((A51>='Project Information'!$C$10),(A51<('Project Information'!$C$8+'Project Cost'!$H$61))),'Intermediate Pass Calcs'!B22*('Intermediate Pass Calcs'!B82+'Intermediate Pass Calcs'!C82)-('Intermediate Pass Calcs'!D82/'BCA Values Passenger'!$D$5*'Project Information'!$C$44*'Intermediate Pass Calcs'!F82),0))","v":0},null,{"$f":"IF((OR((ISBLANK('Project Information'!$G$45)),(ISBLANK('Project Information'!$H$42)))),0,IF(AND((A51>='Project Information'!$C$10),(A51<('Project Information'!$C$8+'Project Cost'!$H$61))),'Intermediate Pass Calcs'!F82*('Project Information'!$C$45*(IF('Railcar and Passenger Demand'!F19>='Railcar and Passenger Demand'!$F$2,'Project Information'!$C$42,'Railcar and Passenger Demand'!F19/'BCA Values Passenger'!$D$5))+'Project Information'!$D$45*(IF('Railcar and Passenger Demand'!H19>='Railcar and Passenger Demand'!$H$2,'Project Information'!$D$42,'Railcar and Passenger Demand'!H19/'BCA Values Passenger'!$D$6))),0))","v":0},null,0,null,{"$f":"IF(OR((ISBLANK('Project Information'!$C$8)),(ISBLANK('Project Information'!$C$21)),(ISBLANK('Project Information'!$G$58))),0,IF(AND((A51>='Project Information'!$C$10),(A51<('Project Information'!$C$8+'Project Cost'!$H$61))),'Intermediate Pass Calcs'!B22*('Project Information'!$D$23*HLOOKUP('Passenger Calcs'!A51,'BCA Values Passenger'!$D$73:$AC$77,4,FALSE)+'Project Information'!$C$23*HLOOKUP('Passenger Calcs'!A51,'BCA Values Passenger'!$D$73:$AC$77,5,FALSE)),0))","v":0},null,0]
[18,null,{"$f":"IF(OR((ISBLANK('Project Information'!$C$8)),(ISBLANK('Project Information'!$G$44)),(ISBLANK('Project Information'!$G$58))),0,IF(AND((A52>='Project Information'!$C$10),(A52<('Project Information'!$C$8+'Project Cost'!$H$61))),'Intermediate Pass Calcs'!B23*('Intermediate Pass Calcs'!B83+'Intermediate Pass Calcs'!C83)-('Intermediate Pass Calcs'!D83/'BCA Values Passenger'!$D$5*'Project Information'!$C$44*'Intermediate Pass Calcs'!F83),0))","v":0},null,{"$f":"IF((OR((ISBLANK('Project Information'!$G$45)),(ISBLANK('Project Information'!$H$42)))),0,IF(AND((A52>='Project Information'!$C$10),(A52<('Project Information'!$C$8+'Project Cost'!$H$61))),'Intermediate Pass Calcs'!F83*('Project Information'!$C$45*(IF('Railcar and Passenger Demand'!F20>='Railcar and Passenger Demand'!$F$2,'Project Information'!$C$42,'Railcar and Passenger Demand'!F20/'BCA Values Passenger'!$D$5))+'Project Information'!$D$45*(IF('Railcar and Passenger Demand'!H20>='Railcar and Passenger Demand'!$H$2,'Project Information'!$D$42,'Railcar and Passenger Demand'!H20/'BCA Values Passenger'!$D$6))),0))","v":0},null,0,null,{"$f":"IF(OR((ISBLANK('Project Information'!$C$8)),(ISBLANK('Project Information'!$C$21)),(ISBLANK('Project Information'!$G$58))),0,IF(AND((A52>='Project Information'!$C$10),(A52<('Project Information'!$C$8+'Project Cost'!$H$61))),'Intermediate Pass Calcs'!B23*('Project Information'!$D$23*HLOOKUP('Passenger Calcs'!A52,'BCA Values Passenger'!$D$73:$AC$77,4,FALSE)+'Project Information'!$C$23*HLOOKUP('Passenger Calcs'!A52,'BCA Values Passenger'!$D$73:$AC$77,5,FALSE)),0))","v":0},null,0]
[19,null,{"$f":"IF(OR((ISBLANK('Project Information'!$C$8)),(ISBLANK('Project Information'!$G$44)),(ISBLANK('Project Information'!$G$58))),0,IF(AND((A53>='Project Information'!$C$10),(A53<('Project Information'!$C$8+'Project Cost'!$H$61))),'Intermediate Pass Calcs'!B24*('Intermediate Pass Calcs'!B84+'Intermediate Pass Calcs'!C84)-('Intermediate Pass Calcs'!D84/'BCA Values Passenger'!$D$5*'Project Information'!$C$44*'Intermediate Pass Calcs'!F84),0))","v":0},null,{"$f":"IF((OR((ISBLANK('Project Information'!$G$45)),(ISBLANK('Project Information'!$H$42)))),0,IF(AND((A53>='Project Information'!$C$10),(A53<('Project Information'!$C$8+'Project Cost'!$H$61))),'Intermediate Pass Calcs'!F84*('Project Information'!$C$45*(IF('Railcar and Passenger Demand'!F21>='Railcar and Passenger Demand'!$F$2,'Project Information'!$C$42,'Railcar and Passenger Demand'!F21/'BCA Values Passenger'!$D$5))+'Project Information'!$D$45*(IF('Railcar and Passenger Demand'!H21>='Railcar and Passenger Demand'!$H$2,'Project Information'!$D$42,'Railcar and Passenger Demand'!H21/'BCA Values Passenger'!$D$6))),0))","v":0},null,0,null,{"$f":"IF(OR((ISBLANK('Project Information'!$C$8)),(ISBLANK('Project Information'!$C$21)),(ISBLANK('Project Information'!$G$58))),0,IF(AND((A53>='Project Information'!$C$10),(A53<('Project Information'!$C$8+'Project Cost'!$H$61))),'Intermediate Pass Calcs'!B24*('Project Information'!$D$23*HLOOKUP('Passenger Calcs'!A53,'BCA Values Passenger'!$D$73:$AC$77,4,FALSE)+'Project Information'!$C$23*HLOOKUP('Passenger Calcs'!A53,'BCA Values Passenger'!$D$73:$AC$77,5,FALSE)),0))","v":0},null,0]
[20,null,{"$f":"IF(OR((ISBLANK('Project Information'!$C$8)),(ISBLANK('Project Information'!$G$44)),(ISBLANK('Project Information'!$G$58))),0,IF(AND((A54>='Project Information'!$C$10),(A54<('Project Information'!$C$8+'Project Cost'!$H$61))),'Intermediate Pass Calcs'!B25*('Intermediate Pass Calcs'!B85+'Intermediate Pass Calcs'!C85)-('Intermediate Pass Calcs'!D85/'BCA Values Passenger'!$D$5*'Project Information'!$C$44*'Intermediate Pass Calcs'!F85),0))","v":0},null,{"$f":"IF((OR((ISBLANK('Project Information'!$G$45)),(ISBLANK('Project Information'!$H$42)))),0,IF(AND((A54>='Project Information'!$C$10),(A54<('Project Information'!$C$8+'Project Cost'!$H$61))),'Intermediate Pass Calcs'!F85*('Project Information'!$C$45*(IF('Railcar and Passenger Demand'!F22>='Railcar and Passenger Demand'!$F$2,'Project Information'!$C$42,'Railcar and Passenger Demand'!F22/'BCA Values Passenger'!$D$5))+'Project Information'!$D$45*(IF('Railcar and Passenger Demand'!H22>='Railcar and Passenger Demand'!$H$2,'Project Information'!$D$42,'Railcar and Passenger Demand'!H22/'BCA Values Passenger'!$D$6))),0))","v":0},null,0,null,{"$f":"IF(OR((ISBLANK('Project Information'!$C$8)),(ISBLANK('Project Information'!$C$21)),(ISBLANK('Project Information'!$G$58))),0,IF(AND((A54>='Project Information'!$C$10),(A54<('Project Information'!$C$8+'Project Cost'!$H$61))),'Intermediate Pass Calcs'!B25*('Project Information'!$D$23*HLOOKUP('Passenger Calcs'!A54,'BCA Values Passenger'!$D$73:$AC$77,4,FALSE)+'Project Information'!$C$23*HLOOKUP('Passenger Calcs'!A54,'BCA Values Passenger'!$D$73:$AC$77,5,FALSE)),0))","v":0},null,0]
[21,null,{"$f":"IF(OR((ISBLANK('Project Information'!$C$8)),(ISBLANK('Project Information'!$G$44)),(ISBLANK('Project Information'!$G$58))),0,IF(AND((A55>='Project Information'!$C$10),(A55<('Project Information'!$C$8+'Project Cost'!$H$61))),'Intermediate Pass Calcs'!B26*('Intermediate Pass Calcs'!B86+'Intermediate Pass Calcs'!C86)-('Intermediate Pass Calcs'!D86/'BCA Values Passenger'!$D$5*'Project Information'!$C$44*'Intermediate Pass Calcs'!F86),0))","v":0},null,{"$f":"IF((OR((ISBLANK('Project Information'!$G$45)),(ISBLANK('Project Information'!$H$42)))),0,IF(AND((A55>='Project Information'!$C$10),(A55<('Project Information'!$C$8+'Project Cost'!$H$61))),'Intermediate Pass Calcs'!F86*('Project Information'!$C$45*(IF('Railcar and Passenger Demand'!F23>='Railcar and Passenger Demand'!$F$2,'Project Information'!$C$42,'Railcar and Passenger Demand'!F23/'BCA Values Passenger'!$D$5))+'Project Information'!$D$45*(IF('Railcar and Passenger Demand'!H23>='Railcar and Passenger Demand'!$H$2,'Project Information'!$D$42,'Railcar and Passenger Demand'!H23/'BCA Values Passenger'!$D$6))),0))","v":0},null,0,null,{"$f":"IF(OR((ISBLANK('Project Information'!$C$8)),(ISBLANK('Project Information'!$C$21)),(ISBLANK('Project Information'!$G$58))),0,IF(AND((A55>='Project Information'!$C$10),(A55<('Project Information'!$C$8+'Project Cost'!$H$61))),'Intermediate Pass Calcs'!B26*('Project Information'!$D$23*HLOOKUP('Passenger Calcs'!A55,'BCA Values Passenger'!$D$73:$AC$77,4,FALSE)+'Project Information'!$C$23*HLOOKUP('Passenger Calcs'!A55,'BCA Values Passenger'!$D$73:$AC$77,5,FALSE)),0))","v":0},null,0]
[22,null,{"$f":"IF(OR((ISBLANK('Project Information'!$C$8)),(ISBLANK('Project Information'!$G$44)),(ISBLANK('Project Information'!$G$58))),0,IF(AND((A56>='Project Information'!$C$10),(A56<('Project Information'!$C$8+'Project Cost'!$H$61))),'Intermediate Pass Calcs'!B27*('Intermediate Pass Calcs'!B87+'Intermediate Pass Calcs'!C87)-('Intermediate Pass Calcs'!D87/'BCA Values Passenger'!$D$5*'Project Information'!$C$44*'Intermediate Pass Calcs'!F87),0))","v":0},null,{"$f":"IF((OR((ISBLANK('Project Information'!$G$45)),(ISBLANK('Project Information'!$H$42)))),0,IF(AND((A56>='Project Information'!$C$10),(A56<('Project Information'!$C$8+'Project Cost'!$H$61))),'Intermediate Pass Calcs'!F87*('Project Information'!$C$45*(IF('Railcar and Passenger Demand'!F24>='Railcar and Passenger Demand'!$F$2,'Project Information'!$C$42,'Railcar and Passenger Demand'!F24/'BCA Values Passenger'!$D$5))+'Project Information'!$D$45*(IF('Railcar and Passenger Demand'!H24>='Railcar and Passenger Demand'!$H$2,'Project Information'!$D$42,'Railcar and Passenger Demand'!H24/'BCA Values Passenger'!$D$6))),0))","v":0},null,0,null,{"$f":"IF(OR((ISBLANK('Project Information'!$C$8)),(ISBLANK('Project Information'!$C$21)),(ISBLANK('Project Information'!$G$58))),0,IF(AND((A56>='Project Information'!$C$10),(A56<('Project Information'!$C$8+'Project Cost'!$H$61))),'Intermediate Pass Calcs'!B27*('Project Information'!$D$23*HLOOKUP('Passenger Calcs'!A56,'BCA Values Passenger'!$D$73:$AC$77,4,FALSE)+'Project Information'!$C$23*HLOOKUP('Passenger Calcs'!A56,'BCA Values Passenger'!$D$73:$AC$77,5,FALSE)),0))","v":0},null,0]
[23,null,{"$f":"IF(OR((ISBLANK('Project Information'!$C$8)),(ISBLANK('Project Information'!$G$44)),(ISBLANK('Project Information'!$G$58))),0,IF(AND((A57>='Project Information'!$C$10),(A57<('Project Information'!$C$8+'Project Cost'!$H$61))),'Intermediate Pass Calcs'!B28*('Intermediate Pass Calcs'!B88+'Intermediate Pass Calcs'!C88)-('Intermediate Pass Calcs'!D88/'BCA Values Passenger'!$D$5*'Project Information'!$C$44*'Intermediate Pass Calcs'!F88),0))","v":0},null,{"$f":"IF((OR((ISBLANK('Project Information'!$G$45)),(ISBLANK('Project Information'!$H$42)))),0,IF(AND((A57>='Project Information'!$C$10),(A57<('Project Information'!$C$8+'Project Cost'!$H$61))),'Intermediate Pass Calcs'!F88*('Project Information'!$C$45*(IF('Railcar and Passenger Demand'!F25>='Railcar and Passenger Demand'!$F$2,'Project Information'!$C$42,'Railcar and Passenger Demand'!F25/'BCA Values Passenger'!$D$5))+'Project Information'!$D$45*(IF('Railcar and Passenger Demand'!H25>='Railcar and Passenger Demand'!$H$2,'Project Information'!$D$42,'Railcar and Passenger Demand'!H25/'BCA Values Passenger'!$D$6))),0))","v":0},null,0,null,{"$f":"IF(OR((ISBLANK('Project Information'!$C$8)),(ISBLANK('Project Information'!$C$21)),(ISBLANK('Project Information'!$G$58))),0,IF(AND((A57>='Project Information'!$C$10),(A57<('Project Information'!$C$8+'Project Cost'!$H$61))),'Intermediate Pass Calcs'!B28*('Project Information'!$D$23*HLOOKUP('Passenger Calcs'!A57,'BCA Values Passenger'!$D$73:$AC$77,4,FALSE)+'Project Information'!$C$23*HLOOKUP('Passenger Calcs'!A57,'BCA Values Passenger'!$D$73:$AC$77,5,FALSE)),0))","v":0},null,0]
[24,null,{"$f":"IF(OR((ISBLANK('Project Information'!$C$8)),(ISBLANK('Project Information'!$G$44)),(ISBLANK('Project Information'!$G$58))),0,IF(AND((A58>='Project Information'!$C$10),(A58<('Project Information'!$C$8+'Project Cost'!$H$61))),'Intermediate Pass Calcs'!B29*('Intermediate Pass Calcs'!B89+'Intermediate Pass Calcs'!C89)-('Intermediate Pass Calcs'!D89/'BCA Values Passenger'!$D$5*'Project Information'!$C$44*'Intermediate Pass Calcs'!F89),0))","v":0},null,{"$f":"IF((OR((ISBLANK('Project Information'!$G$45)),(ISBLANK('Project Information'!$H$42)))),0,IF(AND((A58>='Project Information'!$C$10),(A58<('Project Information'!$C$8+'Project Cost'!$H$61))),'Intermediate Pass Calcs'!F89*('Project Information'!$C$45*(IF('Railcar and Passenger Demand'!F26>='Railcar and Passenger Demand'!$F$2,'Project Information'!$C$42,'Railcar and Passenger Demand'!F26/'BCA Values Passenger'!$D$5))+'Project Information'!$D$45*(IF('Railcar and Passenger Demand'!H26>='Railcar and Passenger Demand'!$H$2,'Project Information'!$D$42,'Railcar and Passenger Demand'!H26/'BCA Values Passenger'!$D$6))),0))","v":0},null,0,null,{"$f":"IF(OR((ISBLANK('Project Information'!$C$8)),(ISBLANK('Project Information'!$C$21)),(ISBLANK('Project Information'!$G$58))),0,IF(AND((A58>='Project Information'!$C$10),(A58<('Project Information'!$C$8+'Project Cost'!$H$61))),'Intermediate Pass Calcs'!B29*('Project Information'!$D$23*HLOOKUP('Passenger Calcs'!A58,'BCA Values Passenger'!$D$73:$AC$77,4,FALSE)+'Project Information'!$C$23*HLOOKUP('Passenger Calcs'!A58,'BCA Values Passenger'!$D$73:$AC$77,5,FALSE)),0))","v":0},null,0]

{"sheet":"BCA Values Passenger","index":12,"n_rows":77,"n_cols":29,"rows_kept":77,"cut":false,"hidden":false,"merged":[[70,0,70,3],[2,0,2,3],[0,0,0,1],[8,0,8,3],[18,0,18,3],[28,0,28,3]]}
["Passenger BCA Values"]
[]
["Occupancy"]
["Passenger Car Occupancy (people/vehicle)",null,null,1.54]
["Train Occupancy (passengers/train)","Amtrak",null,282]
["Train Occupancy (passengers/train)","VRE",null,557]
[]
[]
["Safety"]
[]
[null,null,"Year",2015,2016,2017,2018,2019,2020,2021,2022,2023,2024,2025,2026,2027,2028,2029,2030,2031,2032,2033,2034,2035,2036,2037,2038,2039,2040]
[]
["Annual Real Growth",2.2000000000000001E-3]
["Accident, Rail Crossing ($)",null,null,1480.395740908659,{"$f":"+D14*(1+$B$13)","v":1483.652611538658},{"$f":"+E14*(1+$B$13)","v":1486.9166472840429},1490.1878639080678,1493.4662772086656,1496.7519030185247,1500.0447572051653,1503.3448556710166,1506.6522143534928,1509.9668492250705,1513.2887762933656,1516.618011601211,1519.9545712267336,1523.2984712834325,1526.6497279202561,1530.0083573216805,1533.3743757077882,1536.7477993343452,1540.1286444928808,1543.5169275107651,1546.9126647512887,1550.3158726137415,1553.7265675334918,1557.1447659820653,1560.5704844672259,1564.0037395330537]
["Accident, Passenger Car ($/VMT)",null,null,0.10340000000000001,{"$f":"+D15*(1+$B$13)","v":0.10362748000000001},{"$f":"+E15*(1+$B$13)","v":0.10385546045600001},0.10408394246900321,0.10431292714243502,0.10454241558214837,0.1047724088964291,0.10500290819600124,0.10523391459403243,0.1054654292061393,0.10569745315039281,0.10592998754732366,0.10616303351992777,0.1063965921936716,0.10663066469649768,0.10686525215882997,0.1071003557135794,0.10733597649614927,0.1075721156444408,0.10780877429885857,0.10804595360231606,0.10828365470024115,0.10852187874058168,0.10876062687381095,0.10899990025293334,0.10923970003348979]
["Accident, Passenger Train ($/passenger mi)",null,null,2.4799999999999999E-2,{"$f":"+D16*(1+$B$13)","v":2.4854559999999998E-2},{"$f":"+E16*(1+$B$13)","v":2.4909240031999996E-2},2.4964040360070393E-2,2.5018961248862548E-2,2.5074002963610044E-2,2.5129165770129986E-2,2.5184449934824271E-2,2.5239855724680883E-2,2.529538340727518E-2,2.5351033250771184E-2,2.5406805523922878E-2,2.5462700496075508E-2,2.5518718437166875E-2,2.5574859617728641E-2,2.5631124308887643E-2,2.5687512782367194E-2,2.5744025310488403E-2,2.5800662166171478E-2,2.5857423622937054E-2,2.5914309954907514E-2,2.597132143680831E-2,2.6028458343969288E-2,2.608572095232602E-2,2.6143109538421135E-2,2.6200624379405662E-2]
[]
[]
["Passenger Travel Costs"]
[]
[null,null,"Year",2015,2016,2017,2018,2019,2020,2021,2022,2023,2024,2025,2026,2027,2028,2029,2030,2031,2032,2033,2034,2035,2036,2037,2038,2039,2040]
[]
["Annual Real Growth, Cars",-9.9625791045698797E-4]
["Passenger Cars ($/mi)",null,null,0.17299999999999999,{"$f":"D24*($B$23+1)","v":0.17282764738149092},{"$f":"E24*($B$23+1)","v":0.17265546647064145},0.17248345709638643,0.17231161908783119,0.17213995227425127,0.17196845648509237,0.17179713154997003,0.17162597729866955,0.17145499356114582,0.17128418016752317,0.17111353694809514,0.17094306373332432,0.17077276035384226,0.17060262664044917,0.1704326624241139,0.17026286753597364,0.17009324180733384,0.16992378506966802,0.16975449715461757,0.16958537789399164,0.16941642711976693,0.16924764466408751,0.16907903035926469,0.16891058403777687,0.16874230553226932]
["Passenger Train Fare ($/mi)","Amtrak",null,0.40084042205689885,{"$f":"+D25*(1+$B$23)","v":0.40044108161559372},{"$f":"+E25*(1+$B$23)","v":0.40004213902036223},0.39964359387484705,0.3992454457830858,0.39884769434951045,0.39845033917894723,0.39805337987661593,0.39765681604812969,0.39726064729949462,0.39686487323710923,0.39646949346776422,0.3960745075986421,0.3956799152373166,0.3952857159917525,0.39489190947030506,0.39449849528171982,0.39410547303513205,0.39371284234006643,0.3933206028064366,0.39292875404454497,0.39253729566508211,0.3921462272791264,0.3917555484981437,0.39136525893398699,0.39097535819889595]
["Passenger Train Fare ($/mi)","VRE",null,0.41169037729679098,{"$f":"+D26*(1+$B$23)","v":0.41128022750175003},{"$f":"+E26*(1+$B$23)","v":0.41087048632168688},0.41046115334951561,0.41005222817855586,0.40964371040253245,0.40923559961557499,0.40882789541221737,0.40842059738739744,0.40801370513645668,0.40760721825513963,0.40720113633959359,0.40679545898636821,0.40639018579241504,0.40598531635508728,0.40558085027213914,0.40517678714172567,0.40477312656240216,0.40436986813312398,0.40396701145324593,0.40356455612252196,0.40316250174110485,0.40276084790954564,0.40235959422879342,0.40195874030019474,0.40155828572549335]
[]
[]
["Pollution"]
[]
[null,null,"Year",2015,2016,2017,2018,2019,2020,2021,2022,2023,2024,2025,2026,2027,2028,2029,2030,2031,2032,2033,2034,2035,2036,2037,2038,2039,2040]
["Emission Rate - Car, Urban (Gram/Mile)"]
["NOx",null,null,0.154835112799136,{"$f":"D33*(POWER((G33/D33),1/($G$31-$D$31)))","v":0.12057553131805139},{"$f":"E33*(POWER((G33/D33),1/($G$31-$D$31)))","v":9.3896393975511208E-2},7.3120414276660897E-2,{"$f":"AVERAGE(G33,I33)","v":6.23169717737675E-2},5.1513529270874103E-2,{"$f":"AVERAGE(I33,K33)","v":4.4486846041630501E-2},3.7460162812386899E-2,{"$f":"K33*(POWER((N33/K33),1/($N$31-$K$31)))","v":3.2783034618394408E-2},{"$f":"L33*(POWER((N33/K33),1/($N$31-$K$31)))","v":2.868987420512405E-2},2.5107769658517201E-2,{"$f":"AVERAGE(N33,P33)","v":2.2759667546241251E-2},2.0411565433965301E-2,{"$f":"P33*(POWER((S33/P33),1/($S$31-$P$31)))","v":1.8790864223672207E-2},{"$f":"Q33*(POWER((S33/P33),1/($S$31-$P$31)))","v":1.7298848508940107E-2},1.5925300516954E-2,{"$f":"S33*(POWER(($X33/$S33),1/($X$31-$S$31)))","v":1.4956461965064189E-2},1.404656409932524E-2,1.3192021178359338E-2,1.238946560452041E-2,1.16357346528066E-2,{"$f":"X33*(POWER(($AC33/$X33),1/($AC$31-$X$31)))","v":1.1273141821072532E-2},{"$f":"Y33*(POWER(($AC33/$X33),1/($AC$31-$X$31)))","v":1.0921848109295036E-2},{"$f":"Z33*(POWER(($AC33/$X33),1/($AC$31-$X$31)))","v":1.0581501414231528E-2},{"$f":"AA33*(POWER(($AC33/$X33),1/($AC$31-$X$31)))","v":1.0251760604882733E-2},9.9322951805755899E-3]
["THC",null,null,1.3247721604914499E-2,{"$f":"D34*(POWER((G34/D34),1/($G$31-$D$31)))","v":1.0995269321725669E-2},{"$f":"E34*(POWER((G34/D34),1/($G$31-$D$31)))","v":9.1257916691450513E-3},7.5741731422697602E-3,{"$f":"AVERAGE(G34,I34)","v":6.7284756816466751E-3},5.88277822102359E-3,5.3427002448285799E-3,4.8026222686335697E-3,{"$f":"K34*(POWER((N34/K34),1/($N$31-$K$31)))","v":4.4287697892667561E-3},{"$f":"L34*(POWER((N34/K34),1/($N$31-$K$31)))","v":4.0840192605658392E-3},3.7661052875440199E-3,3.5398367021809299E-3,3.3135681168178399E-3,{"$f":"P34*(POWER((S34/P34),1/($S$31-$P$31)))","v":3.1447390150367792E-3},{"$f":"Q34*(POWER((S34/P34),1/($S$31-$P$31)))","v":2.9845118989712174E-3},2.8324484901640101E-3,2.7266472451306402E-3,2.6247980237578887E-3,2.526753204994518E-3,2.432370681919933E-3,2.3415136557733101E-3,{"$f":"X34*(POWER(($AC34/$X34),1/($AC$31-$X$31)))","v":2.2904942796846718E-3},2.2405865677240884E-3,2.1917662977777603E-3,2.1440097755089224E-3,2.0972938228580799E-3]
["CO",null,null,1.48860933014899,1.3997741607861338,1.3162403738316075,1.2376916007160601,1.1841028073579301,1.1305140139998,1.0749466545399451,1.01937929508009,0.96305550695282272,0.90984377841349917,0.85957215876063198,0.80772369206996042,0.75587522537928897,0.70635359177985035,0.66007639868066292,0.616831084552662,0.58790414526589552,0.56033376507197552,0.5340563267124655,0.50901119632684522,0.48514058354294298,0.47484484805327309,0.46476761040292874,0.45490423359382093,0.44525017903501818,0.43580100445433301]
["PM 2.5",null,null,3.8586872776041501E-3,3.4949552594237127E-3,3.165509767082643E-3,2.8671188446480699E-3,2.6635063805950151E-3,2.4598939165419598E-3,2.2867400782710448E-3,2.1135862400001302E-3,1.983283984878203E-3,1.8610148430348041E-3,1.74628357431553E-3,1.6583497101834098E-3,1.5704158460512899E-3,1.4974688127307838E-3,1.4279102256512161E-3,1.3615826888582201E-3,1.3138962523683876E-3,1.2678799283467196E-3,1.2234752247803576E-3,1.1806256982104387E-3,1.1392768819859999E-3,1.1227498633217508E-3,1.1064625952837519E-3,1.090411599908799E-3,1.0745934496870623E-3,1.05900476683018E-3]
["PM 10",null,null,4.3619753918354301E-3,3.950802363967448E-3,3.5783877525643018E-3,3.2410780717574E-3,3.0109078680074651E-3,2.7807376642575302E-3,2.5849995819271451E-3,2.38926149959676E-3,2.2419636202893238E-3,2.1037466495605968E-3,1.9740507497469102E-3,1.8746484244355501E-3,1.77524609912419E-3,1.6927844314126247E-3,1.6141531772111228E-3,1.5391744106049499E-3,1.4852677607521726E-3,1.4332490885569811E-3,1.3830522712006642E-3,1.3346135016901969E-3,1.28787120775086E-3,1.2691889610360423E-3,1.2507777246056478E-3,1.2326335671030589E-3,1.2147526142010975E-3,1.19713104777474E-3]
["VOC(HC)",null,null,1.29334911286302E-2,1.0719014886998824E-2,8.8837019336071021E-3,7.3626318161846603E-3,6.4914021697263851E-3,5.6201725232681099E-3,5.0719490581113344E-3,4.5237255929545597E-3,4.1563003158553583E-3,3.8187179926394963E-3,3.5085547239402399E-3,3.29744042715046E-3,3.0863261303606801E-3,2.9368458625348816E-3,2.794605383871177E-3,2.6592540491113402E-3,2.5676640942470523E-3,2.4792286780906574E-3,2.3938391521066871E-3,2.3113906098295453E-3,2.2317817579792401E-3,2.1879692867524778E-3,2.1450169052849998E-3,2.1029077290146414E-3,2.0616252048428281E-3,2.02115310462756E-3]
["CO2",null,null,326.10679721832201,318.8623395974879,311.77881749430549,304.85265572865802,296.41482734680153,287.97699896494498,278.86817471186248,269.75935045877998,259.8941800485191,250.38978151533303,241.23296133677101,232.7173775037125,224.20179367065401,217.42613132944797,210.85523809115764,204.48292557398401,200.60004574729911,196.79089704367084,193.05407939955106,189.38821933688033,185.791969458262,184.4214832541395,183.06110638058263,181.71076426656381,180.37038289112539,179.03988877932201]
[]
["Emission Rate - Car, Rural (Gram/Mile)"]
["NOx",null,null,0.186178238571689,{"$f":"D42*(POWER((G42/D42),1/($G$31-$D$31)))","v":0.14522577027556385},{"$f":"E42*(POWER((G42/D42),1/($G$31-$D$31)))","v":0.11328136152716806},8.8363565537295102E-2,{"$f":"AVERAGE(G42,I42)","v":7.5640728842698707E-2},6.2917892148102297E-2,{"$f":"AVERAGE(I42,K42)","v":5.4579766530566745E-2},4.62416409130312E-2,{"$f":"K42*(POWER((N42/K42),1/($N$31-$K$31)))","v":4.0789774790398831E-2},{"$f":"L42*(POWER((N42/K42),1/($N$31-$K$31)))","v":3.5980680931731047E-2},3.1738576811553301E-2,{"$f":"AVERAGE(N42,P42)","v":2.9012265689615853E-2},2.6285954567678401E-2,{"$f":"P42*(POWER((S42/P42),1/($S$31-$P$31)))","v":2.4438632553796833E-2},{"$f":"Q42*(POWER((S42/P42),1/($S$31-$P$31)))","v":2.2721136474681495E-2},2.1124342434654601E-2,{"$f":"S42*(POWER(($X42/$S42),1/($X$31-$S$31)))","v":2.0030265938593774E-2},1.8992854088210581E-2,1.800917209596381E-2,1.7076437173461089E-2,1.6192010659086199E-2,{"$f":"X42*(POWER(($AC42/$X42),1/($AC$31-$X$31)))","v":1.5774893840684857E-2},1.5368522225202189E-2,1.4972619009160923E-2,1.4586914519722974E-2,1.4211146030999501E-2]
["THC",null,null,1.5962146319647399E-2,1.3156074337971172E-2,1.0843296917606941E-2,8.9370951412179392E-3,{"$f":"AVERAGE(G43,I43)","v":7.9035292370203247E-3},6.8699633328227101E-3,6.2042634192277452E-3,5.5385635056327803E-3,5.0945826353336462E-3,4.6861920427285573E-3,4.3105387493423703E-3,4.0471740271587299E-3,3.7838093049750898E-3,3.5868453791294526E-3,3.4001342924090631E-3,3.2231423394174798E-3,3.1010432920966693E-3,2.9835695997204197E-3,2.8705460446368939E-3,2.7618040467876676E-3,2.65718141226248E-3,2.6007580716372316E-3,2.5455328401635152E-3,2.491480276853203E-3,2.438575480939295E-3,2.38679408040471E-3]
["CO",null,null,1.64002300067477,1.5364307768113565,1.4393819665711376,1.34846325455024,1.291427163761905,1.2343910729735701,1.1752890016838702,1.1161869303941701,1.0570441925625447,1.0010352160597544,0.94799395412458798,0.89325454443723995,0.83851513474989203,0.78556365992464172,0.7359560229980423,0.689481063621315,0.65864545428288856,0.62918890356324142,0.6010497359283129,0.57416903415427667,0.54849051596784104,0.53682714783863983,0.52541179522138826,0.51423918419405223,0.50330415298183162,0.49260164957240699]
["PM 2.5",null,null,3.3913262260512E-3,3.0960358877857898E-3,2.8264571378668747E-3,2.5803512109518999E-3,2.4193613879598752E-3,2.2583715649678502E-3,2.1197115655032404E-3,1.9810515660386302E-3,1.8733938130455277E-3,1.7715865850858044E-3,1.6753119427429799E-3,1.5962074658801748E-3,1.5171029890173699E-3,1.4495499091171033E-3,1.3850048112965289E-3,1.32333375708526E-3,1.2774956719424631E-3,1.2332453419961981E-3,1.1905277700414931E-3,1.1492898638852834E-3,1.1094803703599601E-3,1.0933883034482238E-3,1.0775296382481445E-3,1.0619009894668754E-3,1.0464990209123567E-3,1.0313204447811499E-3]
["PM 10",null,null,3.8336566712284001E-3,3.4998519738014449E-3,3.1951123663343053E-3,2.9169070891915299E-3,2.73491918123151E-3,2.5529312732714901E-3,2.39618604652491E-3,2.2394408197783299E-3,2.1177410503773254E-3,2.0026549113707709E-3,1.89382299281722E-3,1.8044007364750249E-3,1.71497848013283E-3,1.6386145898075173E-3,1.56565100089308E-3,1.49593630609956E-3,1.4441192833876335E-3,1.3940971257590533E-3,1.345807661740068E-3,1.29919087338489E-3,1.2541888216806699E-3,1.2359985574611934E-3,1.2180721177206585E-3,1.2004056760519912E-3,1.1829954615448293E-3,1.16583775798062E-3]
["VOC(HC)",null,null,1.5725044767740198E-2,1.2931288970465251E-2,1.0633879706385517E-2,8.7446346507411808E-3,7.6694067615898356E-3,6.5941788724384904E-3,5.9110687658890746E-3,5.2279586593396597E-3,4.7874711765606634E-3,4.3840974575139694E-3,4.0147104406774497E-3,3.7678191208236748E-3,3.5209278009698999E-3,3.3462303685354612E-3,3.1802008766622513E-3,3.0224092492322301E-3,2.9171936797669296E-3,2.8156408558615564E-3,2.717623270673682E-3,2.6230178561062411E-3,2.53170582828672E-3,2.483885002715651E-3,2.4369674540311568E-3,2.3909361204380035E-3,2.3457742624173939E-3,2.3014654566395599E-3]
["CO2",null,null,307.75531133015897,300.97480564799537,294.34368896291238,287.85866991678802,279.92013549804653,271.98160107930499,263.39570713043202,254.80981318155901,245.49996617596102,236.53026796677489,227.888290723164,219.847103118896,211.805915514628,205.4061485512145,199.19975209441071,193.18088340759201,189.51272803647203,185.91422429748732,182.38404963219415,178.92090659514014,175.52352237701399,174.22877340678502,172.94357515017671,171.66785715636593,170.40154949420995,169.144582748413]
[]
["Emission Rate - Train (Gram/Mile)"]
["NOx",null,null,0.2458676131355759,0.22716070908188848,0.21080889275045667,0.19671798255082087,0.18479650851568083,0.17495564590200599,0.16362770963703771,0.15260024643969056,0.14186679090359544,0.13142100397813428,0.12125667063248362,0.11136769756130743,0.10333792516467692,9.5523988207994043E-2,8.7921218326849598E-2,8.0525038644792685E-2,8.0525038644792685E-2,8.0525038644792685E-2,8.0525038644792685E-2,8.0525038644792685E-2,8.0525038644792685E-2,8.0525038644792685E-2,8.0525038644792685E-2,8.0525038644792685E-2,8.0525038644792685E-2,8.0525038644792685E-2]
["CO",null,null,6.054237288135593E-2,5.9898305084745758E-2,5.9254237288135593E-2,5.8610169491525421E-2,5.7966101694915256E-2,5.7322033898305084E-2,5.6677966101694913E-2,5.6033898305084741E-2,5.5389830508474576E-2,5.4745762711864404E-2,5.4101694915254232E-2,5.345762711864406E-2,5.2813559322033903E-2,5.2169491525423731E-2,5.1525423728813559E-2,5.0881355932203387E-2,5.0881355932203387E-2,5.0881355932203387E-2,5.0881355932203387E-2,5.0881355932203387E-2,5.0881355932203387E-2,5.0881355932203387E-2,5.0881355932203387E-2,5.0881355932203387E-2,5.0881355932203387E-2,5.0881355932203387E-2]
["PM",null,null,6.480231664038434E-3,5.8198198194533415E-3,5.3626823594414407E-3,4.917949563770522E-3,4.4853521484388556E-3,4.06462611691529E-3,3.8295846936327979E-3,3.4292190211166413E-3,3.208891699009897E-3,2.8280469210484591E-3,2.6217658515131593E-3,2.4210369035066832E-3,2.2257399266238103E-3,2.0357571257441352E-3,1.6967252659567467E-3,1.5193403517885413E-3,1.5193403517885413E-3,1.5193403517885413E-3,1.5193403517885413E-3,1.5193403517885413E-3,1.5193403517885413E-3,1.5193403517885413E-3,1.5193403517885413E-3,1.5193403517885413E-3,1.5193403517885413E-3,1.5193403517885413E-3]
["VOC(HC)",null,null,1.0863917789711493E-2,9.5745422836167864E-3,8.5063237425622856E-3,7.6501437658652565E-3,6.9971493515646136E-3,6.3620234873456721E-3,5.9184490719779593E-3,5.4867504337866259E-3,5.0666711036998378E-3,4.6579596346680496E-3,4.260369508708884E-3,4.0350615058444717E-3,3.65657273659626E-3,3.2885307415866805E-3,3.0849550290122664E-3,2.8867466683982282E-3,2.8867466683982282E-3,2.8867466683982282E-3,2.8867466683982282E-3,2.8867466683982282E-3,2.8867466683982282E-3,2.8867466683982282E-3,2.8867466683982282E-3,2.8867466683982282E-3,2.8867466683982282E-3,2.8867466683982282E-3]
["CO2",null,null,19.278689200514339,18.989508862506629,18.704666229569025,18.424096236125489,18.147734792583609,17.875518770694853,17.607385989134432,17.343275199297413,17.083126071307952,16.826879180238333,16.574475992534754,16.325858852646736,16.080970969857031,15.839756405309176,15.602160059229536,15.368127658341095,15.368127658341095,15.368127658341095,15.368127658341095,15.368127658341095,15.368127658341095,15.368127658341095,15.368127658341095,15.368127658341095,15.368127658341095,15.368127658341095]
[]
["Emission Cost ($/Gram)"]
["NOx",null,null,4.0816893415009641E-3,{"$f":"D58*E$63/D$63","v":4.0697890389605777E-3},{"$f":"E58*F$63/E$63","v":4.1644352956805913E-3},4.2590815524006049E-3,4.3537278091206185E-3,4.4483740658406322E-3,4.5430203225606458E-3,4.6376665792806594E-3,4.732312836000673E-3,4.8269590927206866E-3,5.016251606160713E-3,5.016251606160713E-3,5.1108978628807266E-3,5.2055441196007411E-3,5.3001903763207547E-3,5.3948366330407683E-3,5.4894828897607811E-3,5.5841291464807956E-3,5.6787754032008083E-3,5.7734216599208219E-3,5.8680679166408347E-3,5.9627141733608491E-3,6.1520066868008738E-3,6.2466529435208883E-3,6.3412992002409019E-3,6.4359454569609164E-3]
["CO",null,null,3.3309055978895908E-4,{"$f":"D59*E$63/D$63","v":3.321194230602198E-4},3.3984313057324822E-4,3.4756683808627654E-4,3.5529054559930491E-4,3.6301425311233322E-4,3.7073796062536164E-4,3.7846166813839001E-4,3.8618537565141838E-4,3.939090831644467E-4,4.0935649819050343E-4,4.0935649819050343E-4,4.1708020570353186E-4,4.2480391321656028E-4,4.3252762072958865E-4,4.4025132824261696E-4,4.4797503575564528E-4,4.5569874326867375E-4,4.6342245078170207E-4,4.7114615829473044E-4,4.7886986580775881E-4,4.8659357332078728E-4,5.0204098834684397E-4,5.0976469585987234E-4,5.174884033729007E-4,5.2521211088592918E-4]
["PM 2.5",null,null,7.5651478769310707E-2,{"$f":"D60*E$63/D$63","v":7.5430914338836114E-2},7.7185121649041608E-2,7.8939328959247101E-2,8.0693536269452595E-2,8.2447743579658089E-2,8.4201950889863583E-2,8.5956158200069077E-2,8.7710365510274571E-2,8.9464572820480051E-2,9.2972987440891039E-2,9.2972987440891039E-2,9.4727194751096533E-2,9.6481402061302041E-2,9.8235609371507521E-2,9.9989816681713015E-2,0.10174402399191849,0.103498231302124,0.10525243861232948,0.10700664592253498,0.10876085323274046,0.11051506054294596,0.11402347516335692,0.11577768247356243,0.11753188978376793,0.11928609709397343]
["PM 10",null,null,2.3659401905858284E-2,{"$f":"D61*E$63/D$63","v":2.3590422123947505E-2},2.413903659194629E-2,2.4687651059945068E-2,2.5236265527943846E-2,2.5784879995942624E-2,2.6333494463941405E-2,2.6882108931940183E-2,2.7430723399938961E-2,2.7979337867937739E-2,2.9076566803935295E-2,2.9076566803935295E-2,2.9625181271934076E-2,3.0173795739932858E-2,3.0722410207931639E-2,3.1271024675930417E-2,3.1819639143929192E-2,3.236825361192798E-2,3.2916868079926755E-2,3.3465482547925529E-2,3.4014097015924311E-2,3.4562711483923099E-2,3.5659940419920648E-2,3.6208554887919436E-2,3.6757169355918218E-2,3.7305783823916999E-2]
["VOC(HC)",null,null,5.1864896761897369E-3,{"$f":"D62*E$63/D$63","v":5.1713682911196639E-3},5.2916326699829121E-3,5.4118970488461595E-3,5.5321614277094068E-3,5.652425806572655E-3,5.7726901854359032E-3,5.8929545642991505E-3,6.0132189431623987E-3,6.1334833220256461E-3,6.3740120797521416E-3,6.3740120797521416E-3,6.4942764586153907E-3,6.6145408374786397E-3,6.7348052163418871E-3,6.8550695952051344E-3,6.9753339740683809E-3,7.0955983529316299E-3,7.2158627317948773E-3,7.3361271106581255E-3,7.4563914895213728E-3,7.5766558683846227E-3,7.8171846261111174E-3,7.9374490049743673E-3,8.0577133838376155E-3,8.1779777627008655E-3]
["CO2",null,null,4.2657127868852451E-5,4.2532759578012215E-5,4.3521893521686923E-5,4.4511027465361624E-5,4.5500161409036325E-5,4.6489295352711026E-5,4.7478429296385734E-5,4.8467563240060435E-5,4.9456697183735136E-5,5.0445831127409838E-5,5.242409901475924E-5,5.242409901475924E-5,5.3413232958433948E-5,5.4402366902108656E-5,5.5391500845783357E-5,5.6380634789458058E-5,5.7369768733132752E-5,5.8358902676807467E-5,5.9348036620482161E-5,6.0337170564156862E-5,6.1326304507831563E-5,6.2315438451506278E-5,6.4293706338855667E-5,6.5282840282530381E-5,6.6271974226205082E-5,6.7261108169879797E-5]
[]
["Noise Pollution"]
["Annual Real Growth",2.2000000000000001E-3]
["Passenger Car ($/VMT) Urban",null,null,{"$f":"0.001235347","v":1.2353469999999999E-3},{"$f":"+D67*(1+$B$66)","v":1.2380647634E-3},{"$f":"+E67*(1+$B$66)","v":1.2407885058794801E-3},1.2435182405924148E-3,1.2462539807217181E-3,1.2489957394793058E-3,1.2517435301061602E-3,1.2544973658723936E-3,1.2572572600773129E-3,1.260023226049483E-3,1.2627952771467918E-3,1.2655734267565148E-3,1.2683576882953791E-3,1.271148075209629E-3,1.2739446009750902E-3,1.2767472790972353E-3,1.2795561231112491E-3,1.2823711465820939E-3,1.2851923631045745E-3,1.2880197863034046E-3,1.2908534298332721E-3,1.2936933073789052E-3,1.2965394326551387E-3,1.29939181940698E-3,1.3022504814096754E-3,1.3051154324687766E-3]
["Rail ($/ton-mile)",null,null,{"$f":"0.000617000691085003*1.03111602268793","v":6.3619929858727236E-4},{"$f":"+D68*(1+$B$66)","v":6.3759893704416434E-4},6.3900165470566147E-4,6.4040745834601388E-4,6.418163547543751E-4,6.4322835073483476E-4,6.4464345310645142E-4,6.4606166870328564E-4,6.474830043744328E-4,6.4890746698405657E-4,6.5033506341142145E-4,6.5176580055092655E-4,6.5319968531213856E-4,6.546367246198253E-4,6.5607692541398894E-4,6.5752029464989973E-4,6.5896683929812946E-4,6.6041656634458531E-4,6.6186948279054337E-4,6.6332559565268254E-4,6.6478491196311838E-4,6.6624743876943725E-4,6.6771318313473005E-4,6.6918215213762644E-4,6.7065435287232925E-4,6.7212979244864841E-4]
["Passenger Car ($/VMT) Rural",null,null,1.3726100000000001E-4,{"$f":"+D69*(1+$B$66)","v":1.375629742E-4},{"$f":"+E69*(1+$B$66)","v":1.3786561274324E-4},1.3816891709127514E-4,1.3847288870887594E-4,1.3877752906403545E-4,1.3908283962797634E-4,1.3938882187515788E-4,1.3969547728328322E-4,1.4000280733330643E-4,1.4031081350943971E-4,1.4061949729916046E-4,1.4092886019321862E-4,1.412389036856437E-4,1.4154962927375212E-4,1.4186103845815437E-4,1.4217313274276231E-4,1.4248591363479637E-4,1.4279938264479293E-4,1.4311354128661148E-4,1.4342839107744202E-4,1.437439335378124E-4,1.4406017019159557E-4,1.4437710256601707E-4,1.4469473219166232E-4,1.4501306060248396E-4]
[]
["Pavement Maintenance"]
[]
[null,null,"Year",2015,2016,2017,2018,2019,2020,2021,2022,2023,2024,2025,2026,2027,2028,2029,2030,2031,2032,2033,2034,2035,2036,2037,2038,2039,2040]
[]
["Annual Real Growth",{"$f":"B66","v":2.2000000000000001E-3}]
["Vehicle ($/mi) Urban",null,null,3.4784170000000001E-3,{"$f":"+D76*(1+$B75)","v":3.4860695174000001E-3},{"$f":"+E76*(1+$B75)","v":3.4937388703382799E-3},3.5014250958530242E-3,3.5091282310639009E-3,3.5168483131722415E-3,3.5245853794612205E-3,3.532339467296035E-3,3.5401106141240862E-3,3.5478988574751593E-3,3.5557042349616047E-3,3.5635267842785202E-3,3.5713665432039327E-3,3.5792235495989812E-3,3.587097841408099E-3,3.5949894566591968E-3,3.6028984334638471E-3,3.6108248100174675E-3,3.6187686245995059E-3,3.6267299155736247E-3,3.6347087213878864E-3,3.6427050805749395E-3,3.6507190317522044E-3,3.6587506136220591E-3,3.6667998649720277E-3,3.6748668246749661E-3]
["Vehicle ($/mi) Rural",null,null,0,{"$f":"+D77*(1+$B75)","v":0},{"$f":"+E77*(1+$B75)","v":0},0,0,0,0,0,0,0,0,0,0,0,0,0,0,0,0,0,0,0,0,0,0,0]

{"sheet":"BCA Values Passenger VOT ","index":13,"n_rows":702,"n_cols":29,"rows_kept":702,"cut":false,"hidden":false,"merged":[[0,0,0,1],[2,0,2,3],[4,2,4,28]]}
["Passenger BCA Values (continued)"]
[]
["Passenger Value of Time"]
["Annual Real Growth",2.2000000000000001E-3]
[null,null,"Congestion ($/mi)"]
["Region","Purpose","Year",2015,2016,2017,2018,2019,2020,2021,2022,2023,2024,2025,2026,2027,2028,2029,2030,2031,2032,2033,2034,2035,2036,2037,2038,2039,2040]
["State","Local Personal VOT",null,17.208973847118465,{"$f":"+D7*(1+$B$4)","v":17.246833589582124},{"$f":"+E7*(1+$B$4)","v":17.284776623479203},17.322803132050858,17.360913298941369,17.399107308199039,17.437385344277075,17.475747592034484,17.514194236736959,17.552725464057779,17.591341460078706,17.63004241129088,17.668828504595719,17.707699927305828,17.746656867145902,17.785699512253622,17.824828051180578,17.864042672893174,17.90334356677354,17.942730922620441,17.982204930650205,18.021765781497635,18.061413666216929,18.101148776282606,18.140971303590426,18.180881440458325]
["State","Intercity Personal VOT",null,24.092563385965839,{"$f":"+D8*(1+$B$4)","v":24.145567025414962},24.198687272870874,24.251924384871188,24.305278618517903,24.358750231478641,24.412339481987892,24.466046628848265,24.51987193143173,24.573815649680878,24.627878044110176,24.682059375807217,24.736359906433993,24.790779898228148,24.84531961400425,24.899979317155058,24.954759271652797,25.009659742050435,25.064680993482945,25.119823291668606,25.175086902910277,25.23047209409668,25.285979132703691,25.341608286795637,25.397359825026587,25.453234016641645]
["State","Business VOT",null,19.733812267775274,{"$f":"+D9*(1+$B$4)","v":19.77722665476438},19.82073655340486,19.864342173822351,19.90804372660476,19.951841422803291,19.995735473933458,20.03972609197611,20.083813489378457,20.127997879055091,20.172279474389011,20.216658489232668,20.26113513790898,20.305709635212381,20.350382196409846,20.395153037241947,20.440022373923878,20.48499042314651,20.530057402077432,20.575223528362002,20.620489020124399,20.665854095968673,20.711318974979804,20.756883876724761,20.802549021253554,20.848314629100312]
["State","Aggregated local VOT",null,17.325116414468678,{"$f":"+D10*(1+$B$4)","v":17.363231670580507},17.401430780255783,17.439713927972345,17.478081298613883,17.516533077470832,17.555069450241266,17.593690603031796,17.632396722358465,17.671187995147651,17.710064608736975,17.749026750876194,17.78807460972812,17.827208373869521,17.866428232292034,17.905734374403075,17.945126990026761,17.984606269404821,18.024172403197511,18.063825582484544,18.103565998766008,18.143393843963292,18.183309310420011,18.223312590902935,18.263403878602922,18.303583367135847]
["State","Aggregated intercity VOT",null,23.159790646673052,{"$f":"+D11*(1+$B$4)","v":23.210742186095732},23.261805818905142,23.312981791706733,23.364270351648486,23.415671746422113,23.467186224264243,23.518814033957625,23.570555424832332,23.622410646766962,23.674379950189849,23.726463586080264,23.778661805969641,23.830974861942774,23.88340300663905,23.935946493253656,23.988605575538813,24.041380507804998,24.094271544922169,24.147278942320998,24.200402955994104,24.25364384249729,24.307001858950784,24.360477263040476,24.414070313019163,24.467781267707807]
["North","Local Personal VOT",null,22.214867266330234,{"$f":"+D12*(1+$B$4)","v":22.263739974316159},22.312720202259655,22.361808186704625,22.411004164715376,22.460308373877748,22.509721052300279,22.559242438615339,22.608872771980291,22.658612292078647,22.70846123912122,22.758419853847286,22.808488377525748,22.858667051956303,22.908956119470606,22.959355822933439,23.009866405743892,23.060488111836527,23.111221185682567,23.162065872291066,23.213022417210105,23.264091066527968,23.315272066874329,23.366565665421451,23.417972109885376,23.469491648527125]
["North","Intercity Personal VOT",null,31.100814172862339,{"$f":"+D13*(1+$B$4)","v":31.169235964042635},31.237808283163528,31.306531461386488,31.375405830601537,31.44443172342886,31.513609473220402,31.582939414061485,31.652421880772419,31.722057208910119,31.791845734769719,31.861787795386213,31.931883728536061,32.002133872738838,32.07253856725886,32.14309815210683,32.213812968041466,32.284683356571158,32.355709659955615,32.426892221207517,32.498231384094176,32.569727493139183,32.641380893624088,32.71319193159006,32.785160953839558,32.857288307938006]
["North","Business VOT",null,22.142966072182212,{"$f":"+D14*(1+$B$4)","v":22.191680597541012},22.240502294855602,22.289431399904284,22.338468148984074,22.387612778911837,22.436865527025443,22.486226631184898,22.535696329773504,22.585274861699006,22.634962466394743,22.684759383820811,22.734665854465216,22.784682119345039,22.834808420007597,22.885044998531615,22.935392097528386,22.985849960142946,23.036418830055261,23.087098951481384,23.137890569174644,23.188793928426829,23.239809275069369,23.29093685547452,23.342176916556564,23.393529705772988]
["North","Aggregated local VOT",null,22.211559811399443,{"$f":"+D15*(1+$B$4)","v":22.260425242984521},22.309398178519086,22.358478854511826,22.407667507991754,22.456964376509333,22.506369698137654,22.555883711473555,22.605506655638795,22.655238770281201,22.705080295575819,22.755031472226086,22.805092541464983,22.855263745056206,22.905545325295328,22.955937525010977,23.006440587566001,23.057054756858644,23.107780277323734,23.158617393933845,23.2095663522005,23.260627398175341,23.311800778451325,23.363086740163919,23.41448553099228,23.465997399160464]
["North","Aggregated intercity VOT",null,29.183834679316792,{"$f":"+D16*(1+$B$4)","v":29.248039115611288},29.312384801665633,29.376872048229298,29.441501166735403,29.506272469302221,29.571186268734685,29.636242878525902,29.70144261285866,29.766785786606949,29.832272715337485,29.897903715311227,29.96367910348491,30.029599197512578,30.095664315747104,30.161874777241746,30.228230901751676,30.294733009735531,30.361381422356949,30.428176461486135,30.495118449701405,30.562207710290746,30.629444567253387,30.696829345301342,30.764362369861004,30.832043967074696]
["South","Local Personal VOT",null,13.675133823804098,{"$f":"+D17*(1+$B$4)","v":13.705219118216466},13.735370600276541,13.765588415597149,13.795872710111462,13.826223630073708,13.85664132205987,13.887125932968402,13.917677610020933,13.948296500762979,13.978982753064656,14.009736515121398,14.040557935454665,14.071447162912664,14.102404346671072,14.133429636233748,14.164523181433461,14.195685132432615,14.226915639723966,14.258214854131358,14.289582926810446,14.321020009249429,14.352526253269778,14.384101811026971,14.41574683501123,14.447461478048254]
["South","Intercity Personal VOT",null,19.145187353325735,{"$f":"+D18*(1+$B$4)","v":19.187306765503052},19.229518840387158,19.271823781836009,19.314221794156047,19.356713082103191,19.399297850883819,19.441976306155762,19.484748654029303,19.527615101068168,19.570575854290517,19.613631121169956,19.65678110963653,19.70002602807773,19.743366085339499,19.786801490727246,19.830332454006847,19.87395918540566,19.917681895613551,19.961500795783902,20.005416097534628,20.049428012949203,20.093536754577691,20.137742535437763,20.182045569015724,20.22644606926756]
["South","Business VOT",null,17.807267314591645,{"$f":"+D19*(1+$B$4)","v":17.846443302683745},17.885705477949649,17.925054030001139,17.964489148867141,18.00401102499465,18.043619849249637,18.083315812917988,18.123099107706405,18.162969925743358,18.202928459579994,18.242974902191069,18.283109446975889,18.323332287759236,18.363643618792306,18.404043634753648,18.444532530750106,18.485110502317756,18.525777745422854,18.566534456462783,18.607380832267001,18.648317070097988,18.689343367652203,18.730459923061037,18.771666934891773,18.812964602148533]
["South","Aggregated local VOT",null,13.865211964380322,{"$f":"+D20*(1+$B$4)","v":13.895715430701959},13.926286004649503,13.956923833859731,13.987629066294222,14.018401850240069,14.049242334310597,14.08015066744608,14.111126998914461,14.142171478312072,14.173284255564358,14.204465480926599,14.235715304984637,14.267033878655603,14.298421353188646,14.329877880165661,14.361403611502025,14.392998699447329,14.424663296586113,14.456397555838603,14.488201630461447,14.520075674048462,14.552019840531369,14.584034284180538,14.616119159605734,14.648274621756867]
["South","Aggregated intercity VOT",null,18.85887246503664,{"$f":"+D21*(1+$B$4)","v":18.900361984459721},18.941942780825531,18.983615054943346,19.02537900806422,19.067234841881962,19.109182758534104,19.15122296060288,19.193355651116207,19.235581033548662,19.27789931182247,19.320310690308478,19.362815373827157,19.405413567649575,19.448105477498402,19.490891309548896,19.533771270429902,19.576745567224847,19.619814407472742,19.662977999169183,19.706236550767354,19.749590271179041,19.793039369775634,19.836584056389139,19.880224541313193,19.923961035304082]
["West","Local Personal VOT",null,10.221152242495952,{"$f":"+D22*(1+$B$4)","v":10.243638777429442},10.266174782739787,10.288760367261814,10.31139564006979,10.334080710477943,10.356815688040994,10.379600682554685,10.402435804056305,10.425321162825229,10.448256869383444,10.471243034496087,10.494279769171978,10.517367184664156,10.540505392470417,10.563694504333851,10.586934632243386,10.610225888434321,10.633568385388877,10.656962235836732,10.680407552755572,10.703904449371635,10.727453039160253,10.751053435846405,10.774705753405266,10.798410106062757]
["West","Intercity Personal VOT",null,14.309613139494337,{"$f":"+D23*(1+$B$4)","v":14.341094288401225},14.372644695835707,14.404264514166545,14.435953896097711,14.467712994669126,14.499541963257398,14.531440955576564,14.563410125678832,14.595449627955325,14.627559617136827,14.659740248294527,14.691991676840775,14.724314058529824,14.756707549458589,14.789172306067398,14.821708485140746,14.854316243808055,14.886995739544433,14.91974713017143,14.952570573857807,14.985466229120295,15.01843425482436,15.051474810184974,15.08458805476738,15.117774148487868]
["West","Business VOT",null,17.115313805212782,{"$f":"+D24*(1+$B$4)","v":17.152967495584249},17.190704024074535,17.228523572927497,17.266426324787936,17.304412462702469,17.342482170120416,17.38063563089468,17.418873029282647,17.457194549947069,17.495600377956951,17.534090698788457,17.572665698325793,17.61132556286211,17.650070479100407,17.688900634154429,17.727816215549566,17.766817411223776,17.80590440952847,17.845077399229432,17.884336569507735,17.923682109960652,17.963114210602566,18.00263306186589,18.042238854601994,18.081931780082119]
["West","Aggregated local VOT",null,10.53828367438093,{"$f":"+D25*(1+$B$4)","v":10.561467898464567},10.584703127841189,10.607989474722439,10.631327051566828,10.654715971080275,10.678156346216651,10.701648290178328,10.725191916416721,10.748787338632837,10.77243467077783,10.796134027053542,10.81988552191306,10.843689270061269,10.867545386455403,10.891453986305605,10.915415185075476,10.939429098482641,10.963495842499302,10.9876155333528,11.011788287526176,11.036014221758734,11.060293453046603,11.084626098643305,11.109012276060319,11.133452103067652]
["West","Aggregated intercity VOT",null,14.910033081958082,{"$f":"+D26*(1+$B$4)","v":14.94283515473839},14.975709392078814,15.008655952741387,15.041674995837418,15.07476668082826,15.107931167526083,15.141168616094639,15.174479187050046,15.207863041261556,15.241320339952331,15.274851244700226,15.308455917438566,15.342134520456931,15.375887216401935,15.409714168278018,15.44361553944823,15.477591493635016,15.511642194921013,15.545767807749838,15.579968496926888,15.614244427620127,15.648595765360891,15.683022676044684,15.717525325931982,15.752103881649033]
["Accomack County","Local Personal VOT",null,9.6017601008827231,{"$f":"+D27*(1+$B$4)","v":9.6228839731046651},9.6440543178454945,9.6652712373447542,9.6865348340669133,9.7078452107018602,9.7292024701654043,9.7506067155997673,9.7720580503740866,9.7935565780849085,9.8151024025566951,9.8366956278423192,9.8583363582235712,9.8800246982116633,9.9017607525477285,9.9235446262033324,9.9453764243809797,9.967256252514618,9.9891842162701501,10.011160421545943,10.033184974473345,10.055257981417187,10.077379548976305,10.099549783984052,10.121768793508817,10.144036684854536]
["Accomack County","Intercity Personal VOT",null,13.442464141235813,{"$f":"+D28*(1+$B$4)","v":13.472037562346532},13.501676044983695,13.531379732282659,13.56114876769368,13.590983294982607,13.620883458231567,13.650849401839677,13.680881270523724,13.710979209318875,13.741143363579376,13.771373878979251,13.801670901513004,13.832034577496332,13.862465053566824,13.892962476684671,13.923526994133377,13.954158753520471,13.984857902778215,14.015624590164327,14.046458964262689,14.077361173984066,14.10833136856683,14.139369697577678,14.170476310912349,14.201651358796356]
["Accomack County","Business VOT",null,16.788735160992552,{"$f":"+D29*(1+$B$4)","v":16.825670378346736},16.862686853179099,16.899784764256093,16.936964290737457,16.974225612177079,17.01156890852387,17.048994360122624,17.086502147714892,17.124092452439864,17.16176545583523,17.199521339838068,17.237360286785712,17.275282479416642,17.313288100871357,17.351377334693275,17.389550364829599,17.427807375632224,17.466148551858613,17.5045740786727,17.543084141645778,17.581678926757398,17.620358620396264,17.659123409361136,17.69797348086173,17.736909022519626]
["Accomack County","Aggregated local VOT",null,9.9323609536477733,{"$f":"+D30*(1+$B$4)","v":9.9542121477457979},9.9761114144708376,9.9980588595826738,10.020054589073755,10.042098709169718,10.06419132632989,10.086332547247816,10.108522478851761,10.130761228305234,10.153048903007505,10.175385610594121,10.197771458937428,10.22020655614709,10.242691010570613,10.265224930793869,10.287808425641614,10.310441604178026,10.333124575707217,10.355857449773772,10.378640336163274,10.401473344902833,10.424356586261618,10.447290170751394,10.470274209127046,10.493308812387125]
["Accomack County","Aggregated intercity VOT",null,14.158566139463757,{"$f":"+D31*(1+$B$4)","v":14.189714984970577},14.220932357937512,14.252218409124975,14.28357328962505,14.314997150862224,14.346490144594121,14.378052422912228,14.409684138242635,14.441385443346769,14.473156491322133,14.504997435603041,14.536908429961368,14.568889628507282,14.600941185689997,14.633063256298515,14.66525599546237,14.697519558652388,14.729854101681424,14.762259780705122,14.794736752222674,14.827285173077563,14.859905200458334,14.892596991899342,14.92536070528152,14.958196498833139]
["Albemarle County","Local Personal VOT",{"$f":"'Detailed Location'!$G$155","v":{"$error":"#DIV/0!"}},16.534764107818411,{"$f":"+D32*(1+$B$4)","v":16.571140588855613},16.607597098151096,16.644133811767027,16.680750906152912,16.717448558146447,16.75422694497437,16.791086244253314,16.828026633990671,16.865048292585449,16.902151398829137,16.939336131906561,16.976602671396755,17.013951197273826,17.051381889907827,17.088894930065624,17.126490498911767,17.164168778009373,17.201929949320991,17.239774195209499,17.27770169843896,17.315712642175527,17.353807209988311,17.391985585850286,17.430247954139155,17.468594499638261]
["Albemarle County","Intercity Personal VOT",null,23.148669750945771,{"$f":"+D33*(1+$B$4)","v":23.199596824397851},23.250635937411527,23.301787336473833,23.353051268614074,23.404427981405025,23.455917722964116,23.507520741954636,23.559237287586935,23.611067609619624,23.663011958360787,23.715070584669181,23.767243739955454,23.819531676183356,23.871934645870958,23.924452902091872,23.977086698476473,24.029836289213122,24.082701929049392,24.135683873293299,24.188782377814544,24.241997699045736,24.295330093983637,24.348779820190401,24.40234713579482,24.456032299493568]
["Albemarle County","Business VOT",null,21.426219277138355,{"$f":"+D34*(1+$B$4)","v":21.47335695954806},21.520598344859064,21.567943661217754,21.615393137272431,21.66294700217443,21.710605485579215,21.75836881764749,21.806237229046314,21.854210950950215,21.902290215042306,21.9504752535154,21.998766299073132,22.047163584931091,22.09566734481794,22.14427781297654,22.192995224165088,22.24181981365825,22.290751817248296,22.33979147124624,22.388939012482982,22.438194678310445,22.487558706602726,22.537031335757252,22.586612804695918,22.63630335286625]
["Albemarle County","Aggregated local VOT",null,16.759771045607128,{"$f":"+D35*(1+$B$4)","v":16.796642541907463},16.833595155499658,16.870629064841758,16.90774444878441,16.944941486571736,16.982220357842195,17.019581242629446,17.05702432136323,17.094549774870227,17.132157784374943,17.169848531500566,17.207622198269867,17.24547896710606,17.283419020833694,17.321442542679527,17.35954971627342,17.397740725649221,17.436015755245649,17.47437498990719,17.512818614884985,17.551346815837732,17.589959778832576,17.628657690346007,17.667440737264766,17.706309106886749]
["Albemarle County","Aggregated intercity VOT",null,22.780065349550988,{"$f":"+D36*(1+$B$4)","v":22.830181493319998},22.880407892605302,22.930744789969033,22.981192428506965,23.031751051849678,23.082420904163747,23.133202230152907,23.184095275059242,23.235100284664373,23.286217505290633,23.337447183802272,23.388789567606636,23.440244904655369,23.491813443445611,23.543495433021192,23.595291122973837,23.647200763444378,23.699224605123955,23.751362899255227,23.803615897633588,23.855983852608382,23.908467017084121,23.961065644521707,24.013779988939653,24.066610304915319]
["Alleghany County","Local Personal VOT",{"$f":"'Detailed Location'!$G$157+'Detailed Location'!$G$174","v":{"$error":"#DIV/0!"}},10.949444085750315,{"$f":"+D37*(1+$B$4)","v":10.973532862738965},10.99767463503699,11.021869519234071,11.046117632176387,11.070419090967174,11.094774012967301,11.11918251579583,11.143644717330581,11.168160735708708,11.192730689327268,11.217354696843788,11.242032877176845,11.266765349506635,11.291552233275549,11.316393648188756,11.341289714214771,11.366240551586042,11.391246280799532,11.416307022617291,11.441422898067049,11.466594028442797,11.49182053530537,11.517102540483043,11.542440166072105,11.567833534437463]
["Alleghany County","Intercity Personal VOT",null,15.329221720050439,{"$f":"+D38*(1+$B$4)","v":15.36294600783455},15.396744489051786,15.430617326927699,15.464564685046939,15.498586727354043,15.532683618154222,15.56685552211416,15.601102604262811,15.63542502999219,15.669822965058172,15.704296575581299,15.738846028047577,15.773471489309282,15.808173126585762,15.84295110746425,15.877805599900672,15.912736772220454,15.947744793119337,15.982829831664199,16.01799205729386,16.053231639819906,16.08854874942751,16.123943556676249,16.159416232500938,16.194966948212439]
["Alleghany County","Business VOT",null,19.186855727712071,{"$f":"+D39*(1+$B$4)","v":19.229066810313039},19.271370757295728,19.313767772961778,19.356258062062295,19.398841829798833,19.441519281824391,19.484290624244405,19.527156063617742,19.570115806957702,19.613170061733008,19.656319035868819,19.699562937747729,19.742901976210774,19.786336360558437,19.829866300551664,19.873492006412878,19.917213688826987,19.961031558942405,20.00494582837208,20.048956709194499,20.093064413954728,20.137269155665429,20.181571147807894,20.225970604333071,20.270467739662603]
["Alleghany County","Aggregated local VOT",null,11.328365021280554,{"$f":"+D40*(1+$B$4)","v":11.353287424327371},11.378264656660891,11.403296838905545,11.428384091951138,11.453526536953429,11.478724295334727,11.503977488784463,11.529286239259788,11.554650668986159,11.58007090045793,11.605547056438937,11.631079259963101,11.656667634335021,11.682312303130557,11.708013390197443,11.733771019655878,11.75958531589912,11.785456403594097,11.811384407682004,11.837369453378905,11.863411666176338,11.889511171841926,11.915668096419978,11.941882566232101,11.968154707877812]
["Alleghany County","Aggregated intercity VOT",null,16.154755397690028,{"$f":"+D41*(1+$B$4)","v":16.190295859564944},16.225914510455986,16.261611522378988,16.297387067728224,16.333241319277224,16.369174450179635,16.405186633970029,16.441278044564761,16.477448856262804,16.513699243746583,16.550029382082826,16.586439446723407,16.622929613506198,16.659500058655912,16.696150958784955,16.73288249089428,16.769694832374245,16.806588161005468,16.84356265495968,16.88061849280059,16.917755853484749,16.954974916362417,16.992275861178413,17.029658868073007,17.067124117582768]
["Amelia County","Local Personal VOT",null,12.911642670239598,{"$f":"+D42*(1+$B$4)","v":12.940048284114125},12.968516390339175,12.997047126397922,13.025640630075998,13.054297039462165,13.083016492948982,13.11179912923347,13.140645087317782,13.169554506509881,13.198527526424202,13.227564286982336,13.256664928413697,13.285829591256206,13.315058416356969,13.344351544872953,13.373709118271673,13.403131278331871,13.4326181671442,13.462169927111917,13.491786700951563,13.521468631693656,13.551215862683382,13.581028537581284,13.610906800363963,13.640850795324765]
["Amelia County","Intercity Personal VOT",null,18.076299738335432,{"$f":"+D43*(1+$B$4)","v":18.11606759775977},18.155922946474842,18.195865976957087,18.235896882106392,18.276015855247024,18.316223090128567,18.356518780926848,18.396903122244886,18.437376309113823,18.477938536993872,18.518590001775259,18.559330899779162,18.600161427758675,18.641081782899743,18.682092162822123,18.723192765580333,18.76438378966461,18.80566543400187,18.847037897956675,18.88850138133218,18.93005608437111,18.971702207756724,19.01343995261379,19.05526952050954,19.097191113454659]
["Amelia County","Business VOT",null,18.065948809262878,{"$f":"+D44*(1+$B$4)","v":18.105693896643256},18.14552642321587,18.185446581346945,18.225454563825906,18.265550563866324,18.305734775106828,18.346007391612062,18.386368607873607,18.426818618810927,18.467357619772311,18.50798580653581,18.54870337531019,18.589510522735871,18.63040744588589,18.67139434226684,18.712471409819827,18.753638846921429,18.794896852384657,18.836245625459902,18.877685365835912,18.91921627364075,18.960838549442759,19.002552394251531,19.044358009518884,19.086255597139825]
["Amelia County","Aggregated local VOT",null,13.148740752634666,{"$f":"+D45*(1+$B$4)","v":13.177667982290462},13.2066588518515,13.235713501325574,13.26483207102849,13.294014701584752,13.323261533928237,13.35257270930288,13.381948369263347,13.411388655675726,13.440893710718212,13.470463676881792,13.500098696970932,13.529798914104267,13.559564471715296,13.58939551355307,13.619292183682887,13.649254626486989,13.67928298666526,13.709377409235923,13.739538039536242,13.769765023223222,13.800058506274313,13.830418634988117,13.86084555598509,13.891339416208258]
["Amelia County","Aggregated intercity VOT",null,18.074084639513909,{"$f":"+D46*(1+$B$4)","v":18.11384762572084},18.153698090497425,18.193636226296519,18.233662225994372,18.273776282891561,18.313978590713923,18.354269343613492,18.39464873616944,18.435116963389014,18.47567422070847,18.51632070399403,18.557056609542816,18.597882134083811,18.638797474778794,18.679802829223306,18.720898395447598,18.762084371917581,18.803360957535798,18.844728351642377,18.886186754015991,18.927736364874825,18.96937738487755,19.011110015124281,19.052934457157555,19.094850912963302]
["Amherst County","Local Personal VOT",{"$f":"'Detailed Location'!$G$158","v":{"$error":"#DIV/0!"}},10.973126213745271,{"$f":"+D47*(1+$B$4)","v":10.997267091415511},11.021461079016625,11.045708293390462,11.070008851635921,11.094362871109519,11.118770469425959,11.143231764458696,11.167746874340505,11.192315917464054,11.216939012482474,11.241616278309936,11.266347834122218,11.291133799357286,11.315974293715872,11.340869437162047,11.365819349923802,11.390824152493634,11.415883965629119,11.440998910353503,11.466169107956281,11.491394679993785,11.516675748289771,11.542012434936009,11.567404862292868,11.592853152989912]
["Amherst County","Intercity Personal VOT",null,15.362376699243377,{"$f":"+D48*(1+$B$4)","v":15.396173927981712},15.430045510623271,15.463991610746643,15.498012392290285,15.532108019553323,15.566278657196341,15.600524470242172,15.634845624076705,15.669242284449673,15.703714617475462,15.738262789633907,15.772886967771102,15.807587319100199,15.842364011202219,15.877217212026864,15.912147089893322,15.947153813491088,15.982237551880768,16.017398474494904,16.052636751138792,16.087952551991297,16.123346047605676,16.158817408910409,16.19436680721001,16.229994414185871]
["Amherst County","Business VOT",null,16.593791559748894,{"$f":"+D49*(1+$B$4)","v":16.630297901180342},16.666884556562938,16.703551702587376,16.740299516333067,16.777128175268999,16.81403785725459,16.851028740540549,16.888101003769737,16.92525482597803,16.962490386595181,16.999807865445689,17.037207442749668,17.074689299123719,17.112253615581789,17.149900573536069,17.187630354797847,17.225443141578403,17.263339116489874,17.301318462546153,17.339381363163753,17.377528002162713,17.415758563767469,17.454073232607758,17.492472193719493,17.530955632545677]
["Amherst County","Aggregated local VOT",null,11.231676819661438,{"$f":"+D50*(1+$B$4)","v":11.256386508664692},11.281150558983754,11.305969090213518,11.330842222211988,11.355770075100855,11.380752769266076,11.405790425358461,11.430883164294249,11.456031107255695,11.481234375691658,11.506493091318179,11.531807376119078,11.557177352346539,11.582603142521702,11.608084869435249,11.633622656148006,11.659216625991531,11.684866902568713,11.710573609754363,11.736336871695823,11.762156812813553,11.788033557801741,11.813967231628904,11.839957959538488,11.866005867049472]
["Amherst County","Aggregated intercity VOT",null,15.62589947939156,{"$f":"+D51*(1+$B$4)","v":15.660276458246221},15.694729066454363,15.729257470400562,15.763861836835442,15.79854233287648,15.833299126008807,15.868132384086026,15.903042275331016,15.938028968336743,15.973092632067084,16.008233435857633,16.04345154941652,16.078747142825236,16.114120386539451,16.149571451389836,16.185100508582892,16.220707729701772,16.256393286707116,16.29215735193787,16.328000098112135,16.363921698327982,16.399922326064303,16.436002155181644,16.472161359923042,16.508400114914874]
["Appomattox County","Local Personal VOT",{"$f":"'Detailed Location'!$G$159","v":{"$error":"#DIV/0!"}},12.248054795081966,{"$f":"+D52*(1+$B$4)","v":12.275000515631147},12.302005516765535,12.329069928902419,12.356193882746004,12.383377509288044,12.410620939808478,12.437924305876056,12.465287739348982,12.492711372375549,12.520195337394775,12.547739767137044,12.575344794624744,12.603010553172918,12.630737176389898,12.658524798177956,12.686373552733947,12.714283574549961,12.742254998413971,12.770287959410481,12.798382592921184,12.826539034625611,12.854757420501787,12.883037886826891,12.91138057017791,12.939785607432301]
["Appomattox County","Intercity Personal VOT",null,17.147276713114749,{"$f":"+D53*(1+$B$4)","v":17.185000721883601},17.222807723471742,17.260697900463381,17.298671435844401,17.336728513003258,17.374869315731864,17.413094028226475,17.451402835088572,17.489795921325769,17.528273472352684,17.566835673991861,17.605482712474643,17.644214774442087,17.683032046945858,17.721934717449138,17.760922973827526,17.799997004369946,17.839156997779558,17.878403143174673,17.917735630089656,17.957154648475854,17.996660388702502,18.036253041557647,18.075932798249074,18.115699850405221]
["Appomattox County","Business VOT",null,19.71777142028553,{"$f":"+D54*(1+$B$4)","v":19.761150517410158},19.804625048548459,19.848195223655264,19.891861253147304,19.93562334790423,19.979481719269618,20.02343657905201,20.067488139525924,20.111636613432882,20.155882213982434,20.200225154853193,20.24466565019387,20.289203914624295,20.333840163236466,20.378574611595585,20.423407475741094,20.468338972187723,20.513369317926536,20.558498730425974,20.603727427632911,20.649055627973702,20.694483550355244,20.740011414166027,20.78563943927719,20.831367846043598]
["Appomattox County","Aggregated local VOT",null,12.59166175984133,{"$f":"+D55*(1+$B$4)","v":12.61936341571298},12.647126015227549,12.67494969246105,12.702834581784463,12.730780817864389,12.75878853566369,12.78685787044215,12.814988957757123,12.843181933464189,12.87143693371781,12.899754094971989,12.928133553980928,12.956575447799686,12.985079913784846,13.013647089595173,13.042277113192283,13.070970122841306,13.099726257111557,13.128545654877202,13.157428455317932,13.186374797919632,13.215384822475054,13.244458669084498,13.273596478156483,13.302798390408427]
["Appomattox County","Aggregated intercity VOT",null,17.697362580449298,{"$f":"+D56*(1+$B$4)","v":17.736296778126285},17.775316631038162,17.814422327626446,17.853614056747222,17.892892007672067,17.932256370088947,17.971707334103144,18.01124509023817,18.050869829436692,18.090581743061453,18.130381022896188,18.170267861146559,18.210242450441083,18.250304983832052,18.290455654796482,18.330694657237032,18.371022185482953,18.411438434291014,18.451943598846455,18.492537874763919,18.533221458088398,18.573994545296191,18.614857333295841,18.65581001942909,18.696852801471834]
["Arlington County","Local Personal VOT",{"$f":"'Detailed Location'!$G$160","v":{"$error":"#DIV/0!"}},25.197784186633037,{"$f":"+D57*(1+$B$4)","v":25.25321931184363},25.308776394329684,25.364455702397208,25.42025750494248,25.476182071453351,25.532229672010548,25.588400577288969,25.644695058559005,25.701113387687833,25.757655837140746,25.814322679982453,25.871114189878416,25.928030641096147,25.985072308506556,26.042239467585269,26.099532394413956,26.156951365681667,26.214496658686166,26.272168551335273,26.32996732214821,26.387893250256937,26.4459466154075,26.504127697961398,26.562436778896913,26.620874139810486]
["Arlington County","Intercity Personal VOT",null,35.276897861286251,{"$f":"+D58*(1+$B$4)","v":35.354507036581083},35.43228695206156,35.510237983356092,35.588360506919472,35.666654900034693,35.745121540814772,35.823760808204561,35.902573081982609,35.981558742762971,36.060718171997046,36.140051751975442,36.219559865829787,36.299242897534612,36.379101231909189,36.45913525461939,36.539345352179552,36.619731911954347,36.700295322160642,36.781035971869393,36.861954251007504,36.943050550359722,37.02432526157051,37.105778777145964,37.187411490455688,37.269223795734689]
["Arlington County","Business VOT",null,27.495308142973364,{"$f":"+D59*(1+$B$4)","v":27.555797820887904},27.616420576093855,27.677176701361262,27.738066490104256,27.799090236382483,27.860248234902524,27.92154078101931,27.982968170737553,28.044530700713175,28.106228668254744,28.168062371324904,28.230032108541817,28.292138179180608,28.354380883174805,28.416760521117791,28.479277394264248,28.541931804531629,28.604724054501599,28.667654447421501,28.730723287205826,28.793930878437678,28.85727752637024,28.920763536928252,28.984389216709495,29.048154872986256]
["Arlington County","Aggregated local VOT",null,25.303470288624691,{"$f":"+D60*(1+$B$4)","v":25.359137923259667},25.414928026690838,25.470840868349558,25.526876718259928,25.583035847040097,25.639318525903587,25.695725026660575,25.752255621719229,25.808910584087009,25.865690187372,25.922594705784217,25.979624414136943,26.036779587848045,26.094060502941311,26.151467436047781,26.209000664407085,26.266660465868782,26.324447118893694,26.382360902555259,26.440402096540879,26.498570981153268,26.556867837311806,26.615292946553893,26.673846591036313,26.732529053536592]
["Arlington County","Aggregated intercity VOT",null,33.611637661567293,{"$f":"+D61*(1+$B$4)","v":33.685583264422739},33.759691547604469,33.833962869009198,33.908397587321019,33.982996062013122,34.057758653349552,34.132685722386917,34.207777630976167,34.283034741764311,34.358457418196188,34.434046024516221,34.509800925770158,34.585722487806848,34.661811077280021,34.738067061650035,34.814490809185664,34.891082688965874,34.967843070881599,35.044772325637538,35.121870824753941,35.199138940568396,35.276577046237648,35.354185515739367,35.431964723873996,35.509915046266521]
["Augusta County","Local Personal VOT",{"$f":"'Detailed Location'!$G$161","v":{"$error":"#DIV/0!"}},12.702165703026482,{"$f":"+D62*(1+$B$4)","v":12.730110467573141},12.758116710601801,12.786184567365124,12.814314173413328,12.842505664594837,12.870759177056945,12.899074847246469,12.927452811910412,12.955893208096613,12.984396173154426,13.012961844735365,13.041590360793782,13.070281859587528,13.09903647967862,13.127854359933913,13.156735639525767,13.185680457932722,13.214688954940174,13.243761270641041,13.272897545436452,13.302097920036411,13.331362535460491,13.360691533038503,13.390085054411188,13.419543241530892]
["Augusta County","Intercity Personal VOT",null,17.783031984237073,{"$f":"+D63*(1+$B$4)","v":17.822154654602393},17.861363394842517,17.900658394311169,17.940039842778653,17.979507930432764,18.019062847879717,18.05870478614505,18.098433936674567,18.138250491335253,18.178154642416189,18.218146582629505,18.258226505111288,18.298394603422533,18.338651071550064,18.378996103907475,18.419429895336073,18.459952641105811,18.500564536916244,18.541265778897458,18.582056563611033,18.622937088050978,18.663907549644691,18.704968146253908,18.746119076175667,18.787360538143254]
["Augusta County","Business VOT",null,17.020008242917829,{"$f":"+D64*(1+$B$4)","v":17.057452261052248},17.094978656026562,17.132587609069819,17.170279301809774,17.208053916273755,17.245911634889556,17.283852640486312,17.321877116295383,17.359985245951233,17.398177213492325,17.436453203362007,17.474813400409403,17.513257989890302,17.551787157468059,17.590401089214488,17.62909997161076,17.667883991548305,17.706753336329712,17.745708193669635,17.784748751695709,17.823875198949438,17.863087724387125,17.902386517380776,17.941771767719015,17.981243665607995]
["Augusta County","Aggregated local VOT",null,12.900786459861482,{"$f":"+D65*(1+$B$4)","v":12.929168190073177},12.957612360091337,12.986119107283537,13.01468856931956,13.043320884172063,13.072016190117241,13.100774625735498,13.129596329912117,13.158481441837923,13.187430101009966,13.216442447232188,13.245518620616098,13.274658761581453,13.303863010856931,13.333131509480816,13.362464398801674,13.391861820479036,13.42132391648409,13.450850829100354,13.480442700924375,13.510099674866408,13.539821894151114,13.569609502318245,13.599462643223346,13.629381461038436]
["Augusta County","Aggregated intercity VOT",null,17.619744903594757,{"$f":"+D66*(1+$B$4)","v":17.658508342382664},17.697357060735904,17.736291246269523,17.775311087011318,17.81441677140274,17.853608488299827,17.892886426974087,17.932250777113431,17.971701728823081,18.011239472626492,18.050864199466272,18.090576100705096,18.130375368126646,18.170262193936523,18.210236770763181,18.250299291658859,18.290449950100509,18.330688939990729,18.371016455658708,18.411432691861158,18.451937843783252,18.492532107039576,18.533215677675063,18.573988752165949,18.614851527420715]
["Bath County","Local Personal VOT",null,12.540541283102144,{"$f":"+D67*(1+$B$4)","v":12.568130473924969},12.595780360967604,12.623491077761733,12.651262758132809,12.6790955362007,12.706989546380342,12.734944923382379,12.76296180221382,12.791040318178689,12.819180606878682,12.847382804213815,12.875647046383085,12.903973469885127,12.932362211518875,12.960813408384215,12.989327197882661,13.017903717718003,13.046543105896982,13.075245500729954,13.10401104083156,13.13283986512139,13.161732112824657,13.19068792347287,13.21970743690451,13.2487907932657]
["Bath County","Intercity Personal VOT",null,17.556757796343,{"$f":"+D68*(1+$B$4)","v":17.595382663494956},17.634092505354644,17.672887508866424,17.71176786138593,17.750733750680979,17.789785364932477,17.828922892735328,17.868146523099345,17.907456445450162,17.946852849630151,17.986335925899336,18.025905864936316,18.065562857839176,18.10530709612642,18.145138771737898,18.18505807703572,18.225065204805198,18.265160348255769,18.305343701021933,18.345615457164179,18.385975811169939,18.426424957954513,18.466963092862013,18.50759041166631,18.548307110571976]
["Bath County","Business VOT",null,17.672103668031014,{"$f":"+D69*(1+$B$4)","v":17.710982296100681},17.749946457152102,17.788996339357837,17.828132131304425,17.867354021993293,17.906662200841676,17.946056857683526,17.98553818277043,18.025106366772526,18.064761600779427,18.10450407630114,18.144333985269004,18.184251520036597,18.224256873380678,18.264350238502114,18.30453180902682,18.34480177900668,18.385160342920493,18.425607695674916,18.466144032605399,18.506769549477131,18.547484442485981,18.58828890825945,18.62918314385762,18.670167346774107]
["Bath County","Aggregated local VOT",null,12.776593152808873,{"$f":"+D70*(1+$B$4)","v":12.804701657745053},12.832872001392092,12.861104319795155,12.889398749298705,12.917755426547162,12.946174488485566,12.974656072360235,13.003200315719427,13.03180735641401,13.06047733259812,13.089210382729837,13.118006645571842,13.1468662601921,13.175789365964523,13.204776102569644,13.233826609995297,13.262941028537288,13.292119498800069,13.321362161697429,13.350669158453163,13.38004063060176,13.409476719989083,13.438977568773058,13.468543319424359,13.498174114727092]
["Bath County","Aggregated intercity VOT",null,17.581441812884236,{"$f":"+D71*(1+$B$4)","v":17.620120984872582},17.658885251039301,17.697734798591586,17.736669815148488,17.775690488741816,17.814797007817049,17.853989561234247,17.89326833826896,17.932633528613152,17.972085322376103,18.01162391008533,18.051249482687517,18.09096223154943,18.130762348458838,18.170650025625445,18.210625455681821,18.250688831684322,18.290840347114028,18.331080195877679,18.37140857230861,18.411825671167687,18.452331687644257,18.492926817357073,18.533611256355258,18.574385201119238]
["Bedford County","Local Personal VOT",{"$f":"'Detailed Location'!$G$163","v":{"$error":"#DIV/0!"}},14.061812824716268,{"$f":"+D72*(1+$B$4)","v":14.092748812930644},14.12375286031909,14.154825116611791,14.185965731868336,14.217174856478445,14.248452641162698,14.279799236973256,14.311214795294596,14.342699467844245,14.374253406673501,14.405876764168182,14.437569693049351,14.46933234637406,14.501164877536082,14.533067440266661,14.565040188635248,14.597083277050245,14.629196860259755,14.661381093352327,14.693636131757701,14.725962131247568,14.758359247936312,14.790827638281771,14.82336745908599,14.855978867495979]
["Bedford County","Intercity Personal VOT",null,19.686537954602773,{"$f":"+D73*(1+$B$4)","v":19.729848338102897},19.773254004446724,19.816755163256506,19.860352024615668,19.904044799069823,19.947833697627775,19.991718931762556,20.035700713412432,20.07977925498194,20.123954769342898,20.16822746983545,20.212597570269089,20.25706528492368,20.301630828550511,20.346294416373322,20.391056264089343,20.435916587870338,20.480875604363654,20.525933530693255,20.57109058446078,20.616346983746592,20.661702947110832,20.707158693594476,20.752714442720382,20.798370414494368]
["Bedford County","Business VOT",null,18.000158970177353,{"$f":"+D74*(1+$B$4)","v":18.039759319911742},18.079446790415545,18.119221573354459,18.159083860815837,18.199033845309632,18.239071719769314,18.279197677552805,18.319411912443421,18.359714618650795,18.400105990811827,18.440586223991613,18.481155513684392,18.521814055814499,18.562562046737291,18.603399683240113,18.644327162543242,18.685344682300837,18.7264524406019,18.767650635971222,18.808939467370358,18.850319134198571,18.891789836293807,18.933351773933651,18.975005147836306,19.016750159161546]
["Bedford County","Aggregated local VOT",null,14.242976747407479,{"$f":"+D75*(1+$B$4)","v":14.274311296251774},14.305714781103529,14.337187353621957,14.368729165799925,14.400340369964685,14.432021118778607,14.46377156523992,14.495591862683447,14.52748216478135,14.55944262554387,14.591473399320066,14.623574640798569,14.655746505008326,14.687989147319344,14.720302723443446,14.752687389435021,14.785143301691777,14.817670616955498,14.850269492312799,14.882940085195887,14.915682553383318,14.948497055000761,14.981383748521763,15.014342792768511,15.047374346912601]
["Bedford County","Aggregated intercity VOT",null,19.325652851935732,{"$f":"+D76*(1+$B$4)","v":19.368169288209991},19.410779260644052,19.453482975017469,19.496280637562506,19.539172454965144,19.582158634366067,19.625239383361674,19.668414910005069,19.711685422807079,19.755051130737254,19.798512243224874,19.842068970159968,19.885721521894318,19.929470109242484,19.973314943482816,20.017256236358477,20.061294200078464,20.105429047318637,20.149660991222738,20.193990245403427,20.238417023943313,20.282941541395989,20.327564012787061,20.372284653615193,20.417103679853145]
["Bland County","Local Personal VOT",null,10.288053521437577,{"$f":"+D77*(1+$B$4)","v":10.310687239184739},10.333370751110946,10.356104166763391,10.378887595930269,10.401721148641316,10.424604935168327,10.447539066025698,10.470523651970954,10.493558804005289,10.516644633374101,10.539781251567524,10.562968770320973,10.586207301615678,10.609496957679232,10.632837850986126,10.656230094258296,10.679673800465665,10.703169082826689,10.726716054808907,10.750314830129486,10.773965522755772,10.797668246905834,10.821423117049028,10.845230247906535,10.869089754451929]
["Bland County","Intercity Personal VOT",null,14.403274930012609,{"$f":"+D78*(1+$B$4)","v":14.434962134858637},14.466719051555325,14.498545833468746,14.530442634302377,14.562409608097841,14.594446909235655,14.626554692435974,14.658733112759332,14.690982325607402,14.723302486723739,14.755693752194531,14.788156278449359,14.820690222261947,14.853295740750923,14.885972991380575,14.918722131961612,14.951543320651927,14.984436715957361,15.017402476732467,15.050440762181278,15.083551731858076,15.116735545668163,15.149992363868632,15.183322347069144,15.216725656232695]
["Bland County","Business VOT",null,16.66027112400835,{"$f":"+D79*(1+$B$4)","v":16.69692372048117},16.733656952666227,16.770470997962093,16.80736603415761,16.844342239432756,16.881399792359506,16.918538871902697,16.955759657420884,16.993062328667211,17.030447065790277,17.067914049335016,17.105463460243552,17.143095479856086,17.180810289911769,17.218608072549575,17.256489010309185,17.294453286131866,17.332501083361354,17.370632585744747,17.408847977433386,17.447147442983738,17.485531167358303,17.52399933592649,17.562552134465527,17.60118974916135]
["Bland County","Aggregated local VOT",null,10.581175531155832,{"$f":"+D80*(1+$B$4)","v":10.604454117324375},10.627783916382489,10.65116504099853,10.674597604088726,10.69808171881772,10.72161749859912,10.745205057096037,10.768844508221648,10.792535966139734,10.816279545265242,10.840075360264827,10.863923526057409,10.887824157814736,10.911777370961929,10.935783281178045,10.959842004396636,10.983953656806309,11.008118354851282,11.032336215231954,11.056607354905465,11.080931891086257,11.105309941246647,11.12974162311739,11.154227054688247,11.178766354208561]
["Bland County","Aggregated intercity VOT",null,14.886272115527698,{"$f":"+D81*(1+$B$4)","v":14.919021914181858},14.951843762393057,14.984737818670322,15.017704241871396,15.050743191203512,15.08385482622416,15.117039306841853,15.150296793316905,15.183627446262202,15.217031426643979,15.250508895782596,15.284060015353317,15.317684947387095,15.351383854271345,15.385156898750742,15.419004243927994,15.452926053264635,15.486922490581817,15.520993720061096,15.55513990624523,15.58936121403897,15.623657808709856,15.658029855889017,15.692477521571973,15.727000972119431]
["Botetourt County","Local Personal VOT",{"$f":"'Detailed Location'!$G$164","v":{"$error":"#DIV/0!"}},16.097743395334174,{"$f":"+D82*(1+$B$4)","v":16.13315843080391},16.16865137935168,16.204222412386255,16.239871701693502,16.275599419437228,16.311405738159991,16.347290830783944,16.383254870611669,16.419298031327013,16.455420486995934,16.491622412067326,16.527903981373875,16.564265370132897,16.60070675394719,16.637228308805874,16.673830211085246,16.710512637549634,16.747275765352242,16.784119772036018,16.821044835534497,16.858051134172673,16.895138846667852,16.932308152130521,16.969559230065208,17.006892260371352]
["Botetourt County","Intercity Personal VOT",null,22.536840753467839,{"$f":"+D83*(1+$B$4)","v":22.586421803125468},22.636111931092344,22.685911377340748,22.735820382370896,22.785839187212112,22.835968033423978,22.886207163097509,22.936556818856324,22.987017243857807,23.037588681794293,23.088271376894241,23.139065573923407,23.189971518186038,23.240989455526048,23.292119632328205,23.343362295519327,23.394717692569468,23.44618607149312,23.497767680850405,23.549462769748274,23.601271587841719,23.65319438533497,23.705231412982705,23.757382922091267,23.809649164519868]
["Botetourt County","Business VOT",null,18.926100147858843,{"$f":"+D84*(1+$B$4)","v":18.967737568184134},19.00946659083414,19.051287417333974,19.093200249652106,19.135205290201341,19.177302741839785,19.219492807871834,19.261775692049152,19.304151598571661,19.346620732088518,19.389183297699113,19.431839500954052,19.474589547856151,19.517433644861434,19.560371998880129,19.603404817277664,19.646532307875674,19.689754678953001,19.733072139246698,19.77648489795304,19.819993164728537,19.863597149690939,19.907297063420259,19.951093116959782,19.994985521817092]
["Botetourt County","Aggregated local VOT",null,16.227847805950308,{"$f":"+D85*(1+$B$4)","v":16.2635490711234},16.299328879079869,16.335187402613844,16.371124814899595,16.407141289492372,16.443237000329255,16.479412121729979,16.515666828397784,16.552001295420258,16.588415698270182,16.624910212806377,16.66148501527455,16.698140282308152,16.734876190929231,16.771692918549274,16.808590642970081,16.845569542384617,16.882629795377863,16.919771580927694,16.956995078405736,16.994300467578228,17.0316879286069,17.069157642049834,17.106709788862343,17.14434455039784]
["Botetourt County","Aggregated intercity VOT",null,21.764142263867512,{"$f":"+D86*(1+$B$4)","v":21.812023376848021},21.860009828277086,21.908101849899296,21.956299673969074,22.004603533251807,22.053013661024959,22.101530291079214,22.150153657719589,22.198883995766572,22.247721540557258,22.296666527946485,22.345719194307968,22.394879776535443,22.444148512043821,22.493525638770318,22.543011395175611,22.592606020244997,22.642309753489535,22.692122834947213,22.742045505184098,22.792078005295501,22.842220576907149,22.892473462176344,22.942836903793133,22.993311144981476]
["Brunswick County","Local Personal VOT",{"$f":"'Detailed Location'!$G$166","v":{"$error":"#DIV/0!"}},8.8607780548549808,{"$f":"+D87*(1+$B$4)","v":8.8802717665756621},8.8998083644621282,8.9193879428639455,8.939010596338246,8.9586764196501907,8.9783855077734209,8.9981379558905221,9.0179338593934819,9.0377733138841467,9.0576564151746926,9.0775832592880761,9.097553942458509,9.1175685611319182,9.137627211966409,9.1577299918327348,9.1778769978147672,9.1980683272099597,9.2183040775298206,9.2385843465003852,9.2589092320626865,9.2792788323732243,9.2996932458044448,9.3201525709452149,9.3406569066012946,9.3612063517958166]
["Brunswick County","Intercity Personal VOT",null,12.405089276796971,{"$f":"+D88*(1+$B$4)","v":12.432380473205924},12.459731710246977,12.48714312000952,12.514614834873541,12.542146987510263,12.569739710882786,12.597393138246728,12.625107403150871,12.652882639437802,12.680718981244565,12.708616563003304,12.73657551944191,12.764595985584682,12.792678096752969,12.820821988565825,12.849027796940669,12.877295658093939,12.905625708541745,12.934018085100536,12.962472924887757,12.99099036532251,13.01957054412622,13.048213599323297,13.076919669241809,13.10568889251414]
["Brunswick County","Business VOT",null,15.534614276816679,{"$f":"+D89*(1+$B$4)","v":15.568790428225675},15.603041767167772,15.637368459055541,15.671770669665463,15.706248565138727,15.740802311982032,15.775432077068391,15.810138027637942,15.844920331298745,15.879779156027602,15.914714670170863,15.949727042445238,15.984816441938618,16.019983038110883,16.055227000794726,16.090548500196473,16.125947706896905,16.161424791852077,16.196979926394153,16.232613282232219,16.268325031453131,16.304115346522327,16.339984400284674,16.375932365965301,16.411959417170426]
["Brunswick County","Aggregated local VOT",null,9.1677745210652191,{"$f":"+D90*(1+$B$4)","v":9.1879436250115631},9.2081571009865879,9.2284150466087578,9.2487175597112969,9.2690647383426619,9.2894566807670156,9.309893485464702,9.3303752511327236,9.350902076685216,9.3714740612539238,9.392091304188682,9.4127539050578974,9.4334619636490249,9.4542155799690519,9.4750148542449839,9.4958598869243218,9.5167507786755543,9.5376876303886409,9.558670543175495,9.5796996183704817,9.6007749575308967,9.6218966624374644,9.643064835094826,9.6642795777320352,9.6855409928030447]
["Brunswick County","Aggregated intercity VOT",null,13.07480762680119,{"$f":"+D91*(1+$B$4)","v":13.103572203580153},13.132400062428029,13.16129134256537,13.190246183519013,13.219264725122756,13.248347107518025,13.277493471154564,13.306703956791104,13.335978705496045,13.365317858648135,13.39472155793716,13.424189945364622,13.453723163244424,13.483321354203563,13.512984661182809,13.542713227437412,13.572507196537774,13.602366712370157,13.632291919137371,13.662282961359473,13.692339983874463,13.722463131838987,13.752652550729033,13.782908386340637,13.813230784790585]
["Buchanan County","Local Personal VOT",{"$f":"'Detailed Location'!$G$167","v":{"$error":"#DIV/0!"}},7.2872593442622939,{"$f":"+D92*(1+$B$4)","v":7.3032913148196705},7.3193585557122738,7.3354611445348405,7.3515991590528174,7.3677726772027334,7.3839817770925791,7.4002265370021822,7.4165070353835869,7.4328233508614305,7.4491755622333251,7.4655637484702382,7.481987988716873,7.4984483622920504,7.5149449486890925,7.5314778275762082,7.5480470787968761,7.5646527823702288,7.5812950184914429,7.597973867532124,7.6146894100406941,7.6314417267427839,7.6482308985416179,7.6650570065184089,7.681920131932749,7.6988203562230009]
["Buchanan County","Intercity Personal VOT",null,10.202163081967214,{"$f":"+D93*(1+$B$4)","v":10.224607840747542},10.247101977997186,10.269645602348779,10.292238822673946,10.314881748083829,10.337574487929613,10.360317151803057,10.383109849537023,10.405952691206004,10.428845787126656,10.451789247858335,10.474783184203623,10.497827707208872,10.520922928164731,10.544068958606694,10.567265910315628,10.590513895318322,10.613813025888023,10.637163414544975,10.660565174056973,10.684018417439898,10.707523257958265,10.731079809125772,10.754688184705849,10.778348498712202]
["Buchanan County","Business VOT",null,21.73545132150522,{"$f":"+D94*(1+$B$4)","v":21.783269314412532},21.831192506904241,21.879221130419431,21.927355416906352,21.975595598823546,22.023941909140959,22.072394581341069,22.120953849420019,22.169619947888741,22.218393111774095,22.267273576619996,22.316261578488557,22.365357353961233,22.414561140139948,22.463873174648256,22.513293695632481,22.562822941762871,22.612461152234747,22.662208566769664,22.712065425616558,22.762031969552915,22.812108439885932,22.86229507845368,22.912592127626279,22.962999830307055]
["Buchanan County","Aggregated local VOT",null,7.9518761752154701,{"$f":"+D95*(1+$B$4)","v":7.9693703028009439},7.9869029174671056,8.0044741038855332,8.0220839469140817,8.0397325315972932,8.0574199431668063,8.0751462670417737,8.0929115888292653,8.1107159943246891,8.1285595695122037,8.1464424005651299,8.1643645738463722,8.1823261759088339,8.2003272934958336,8.2183680135415234,8.2364484231713142,8.2545686097022912,8.2727286606436365,8.2909286636970521,8.3091687067571858,8.327448877912051,8.3457692654434581,8.3641299578274335,8.3825310437346534,8.4009726120308699]
["Buchanan County","Aggregated intercity VOT",null,12.670286765228349,{"$f":"+D96*(1+$B$4)","v":12.698161396111852},12.726097351183297,12.7540947653559,12.782153773839683,12.810274512142129,12.838457116068842,12.866701721724192,12.895008465511985,12.923377484136111,12.951808914601211,12.980302894213333,13.008859560580602,13.037479051613879,13.066161505527429,13.094907060839589,13.123715856373435,13.152588031257457,13.181523724926222,13.21052307712106,13.239586227890726,13.268713317592086,13.297904486890788,13.327159876761948,13.356479628490824,13.385863883673503]
["Buckingham County","Local Personal VOT",null,9.4357410592686008,{"$f":"+D97*(1+$B$4)","v":9.4564996895989921},9.477303988916109,9.4981540576917247,9.5190499966186461,9.5399919066112062,9.5609798888057504,9.5820140445611237,9.6030944754591587,9.6242212833051681,9.64539457012844,9.666614438182723,9.6878809899467253,9.7091943281246085,9.7305545556464832,9.7519617756689048,9.7734160915753758,9.794917606976842,9.816466425712191,9.8380626518487571,9.8597063896828239,9.8813977437401253,9.9031368187763533,9.9249237197776612,9.946758551961171,9.9686414207754854]
["Buckingham County","Intercity Personal VOT",null,13.210037482976039,{"$f":"+D98*(1+$B$4)","v":13.239099565438586},13.268225584482551,13.297415680768411,13.326669995266101,13.355988669255687,13.38537184432805,13.414819662385572,13.444332265642819,13.473909796627233,13.503552398179812,13.533260213455808,13.56303338592541,13.592872059374445,13.622776377905069,13.65274648593646,13.68278252820552,13.712884649767572,13.74305299599706,13.773287712588253,13.803588945555948,13.833956841236171,13.864391546286891,13.894893207688721,13.925461972745635,13.956097989085675]
["Buckingham County","Business VOT",null,17.94515464249621,{"$f":"+D99*(1+$B$4)","v":17.984633982709703},18.024200177471663,18.063853417862099,18.103593895381394,18.143421801951234,18.183337329915528,18.223340672041342,18.263432021519833,18.303611571967178,18.343879517425506,18.384236052363843,18.424681371679043,18.465215670696736,18.505839145172267,18.546551991291647,18.587354405672489,18.62824658536497,18.669228727852772,18.710301031054048,18.751463693322368,18.792716913447677,18.834060890657263,18.87549582461671,18.917021915430865,18.958639363644814]
["Buckingham County","Aggregated local VOT",null,9.8271740840970701,{"$f":"+D100*(1+$B$4)","v":9.8487938670820832},9.8704612135896639,9.8921762282595616,9.9139390159617324,9.9357496817968478,9.9576083310968002,9.9795150694252133,10.001470002577948,10.023473236583619,10.045524877704104,10.067625032435052,10.089773807506408,10.111971309882922,10.134217646764665,10.156512925587547,10.178857254023839,10.201250739982692,10.223693491610653,10.246185617292197,10.26872722565024,10.29131842554667,10.313959326082873,10.336650036600256,10.359390666680776,10.382181326147473]
["Buckingham County","Aggregated intercity VOT",null,14.223352555113358,{"$f":"+D101*(1+$B$4)","v":14.254643930734607},14.286004147382224,14.317433356506465,14.348931709890779,14.380499359652539,14.412136458243774,14.44384315845191,14.475619613400504,14.507465976549984,14.539382401698393,14.571369042982129,14.603426054876689,14.635553592197418,14.667751810100253,14.700020864082473,14.732360909983454,14.764772103985417,14.797254602614185,14.829808562739936,14.862434141577964,14.895131496689435,14.927900785982152,14.960742167711311,14.993655800480276,15.026641843241332]
["Campbell County","Local Personal VOT",{"$f":"'Detailed Location'!$G$168","v":{"$error":"#DIV/0!"}},11.5143971185372,{"$f":"+D102*(1+$B$4)","v":11.539728792197982},11.565116195540817,11.590559451171007,11.616058681963583,11.641614011063902,11.667225561888243,11.692893458124397,11.71861782373227,11.744398782944481,11.770236460266959,11.796130980479546,11.822082468636602,11.848091050067602,11.87415685037775,11.90027999544858,11.926460611438566,11.952698824783731,11.978994762198255,12.005348550675091,12.031760317486576,12.058230190185046,12.084758296603454,12.11134476485598,12.137989723338663,12.164693300730008]
["Campbell County","Intercity Personal VOT",null,16.12015596595208,{"$f":"+D103*(1+$B$4)","v":16.155620309077175},16.191162673757145,16.226783231639409,16.262482154749016,16.298259615489464,16.33411578664354,16.370050841374155,16.406064953225179,16.442158296122276,16.478331044373746,16.514583372671368,16.550915456091243,16.587327470094642,16.62381959052885,16.660391993628014,16.697044856013996,16.733778354697225,16.770592667077558,16.807487970945129,16.844464444481208,16.881522266259065,16.918661615244833,16.955882670798371,16.993185612674125,17.030570621022008]
["Campbell County","Business VOT",null,17.706613398831436,{"$f":"+D104*(1+$B$4)","v":17.745567948308864},17.784608197795144,17.823734335830292,17.862946551369117,17.90224503378213,17.94162997285645,17.981101558796734,18.020659982226086,18.060305434186983,18.100038106142193,18.139858189975705,18.179765877993653,18.219761362925237,18.259844837923673,18.300016496567103,18.340276532859551,18.380625141231842,18.421062516542552,18.461588854078943,18.502204349557918,18.542909199126946,18.583703599365023,18.624587747283627,18.665561840327651,18.70662607637637]
["Campbell County","Aggregated local VOT",null,11.799239067430735,{"$f":"+D105*(1+$B$4)","v":11.825197393379081},11.851212827644515,11.877285495865333,11.903415523956237,11.92960303810894,11.95584816479278,11.982151030755324,12.008511763022986,12.034930488901637,12.06140733597722,12.087942432116369,12.114535905467026,12.141187884459054,12.167898497804863,12.194667874500034,12.221496143823934,12.248383435340347,12.275329878898097,12.302335604631672,12.329400742961862,12.356525424596379,12.383709780530491,12.410953942047659,12.438258040720163,12.465622208409746]
["Campbell County","Aggregated intercity VOT",null,16.459657856588262,{"$f":"+D106*(1+$B$4)","v":16.495869103872757},16.532160015901276,16.568530767936259,16.604981535625718,16.641512495004093,16.678123822493102,16.714815694902587,16.751588289431371,16.788441783668119,16.825376355592191,16.862392183574492,16.899489446378357,16.93666832316039,16.973928993471343,17.011271637256979,17.048696434858943,17.086203567015634,17.123793214863067,17.161465559935767,17.199220784167625,17.237059069892794,17.274980599846558,17.312985557166218,17.351074125391985,17.389246488467847]
["Caroline County","Local Personal VOT",{"$f":"'Detailed Location'!$G$169","v":{"$error":"#DIV/0!"}},13.969525769230769,{"$f":"+D107*(1+$B$4)","v":14.000258725923077},14.031059295120107,14.061927625569371,14.092863866345624,14.123868166851585,14.154940676818658,14.186081546307658,14.217290925709534,14.248568965746095,14.279915817470735,14.311331632269171,14.342816561860163,14.374370758296255,14.405994373964507,14.437687561587229,14.46945047422272,14.501283265266009,14.533186088449593,14.565159097844182,14.59720244785944,14.629316293244729,14.661500789089867,14.693756090825865,14.726082354225682,14.758479735404977]
["Caroline County","Intercity Personal VOT",null,19.557336076923072,{"$f":"+D108*(1+$B$4)","v":19.600362216292304},19.643483013168147,19.686698675797118,19.73000941288387,19.773415433592213,19.816916947546115,19.860514164830715,19.904207295993341,19.947996552044525,19.991882144459023,20.035864285176832,20.079943186604222,20.124119061614749,20.168392123550301,20.212762586222112,20.257230663911802,20.301796571372407,20.346460523829425,20.391222736981849,20.436083427003208,20.481042810542615,20.526101104725807,20.571258527156203,20.616515295915946,20.66187162956696]
["Caroline County","Business VOT",null,18.136401999296762,{"$f":"+D109*(1+$B$4)","v":18.176302083695216},18.216289948279346,18.25636578616556,18.296529790895125,18.336782156435095,18.377123077179252,18.417552747949046,18.458071363994534,18.498679120995323,18.539376215061512,18.580162842734648,18.621039200988665,18.662005487230839,18.703061899302746,18.744208635481211,18.78544589447927,18.826773875447124,18.868192777973107,18.909702802084649,18.951304148249235,18.992997017375384,19.03478161081361,19.076658130357398,19.118626778244185,19.160687757156321]
["Caroline County","Aggregated local VOT",null,14.161202075813803,{"$f":"+D110*(1+$B$4)","v":14.192356720380593},14.22357990516543,14.254871780956794,14.286232498874899,14.317662210372424,14.349161067235244,14.380729221583161,14.412366825870643,14.444074032887558,14.475850995759911,14.507697867950583,14.539614803260074,14.571601955827246,14.603659480130066,14.635787530986352,14.667986263554521,14.70025583333434,14.732596396167676,14.765008108239245,14.797491126077372,14.830045606554741,14.862671706889161,14.895369584644317,14.928139397730535,14.960981304405541]
["Caroline County","Aggregated intercity VOT",null,19.253256184311041,{"$f":"+D111*(1+$B$4)","v":19.295613347916525},19.338063697281942,19.380607437415961,19.423244773778276,19.465975912280587,19.508801059287606,19.55172042161804,19.594734206545599,19.637842621800001,19.68104587556796,19.72434417649421,19.767737733682498,19.811226756696598,19.854811455561329,19.898492040763564,19.942268723253243,19.9861417144444,20.030111226216178,20.074177470913853,20.118340661349862,20.162601010804831,20.2069587330286,20.251414042241262,20.295967153134193,20.340618280871087]
["Carroll County","Local Personal VOT",{"$f":"'Detailed Location'!$G$170","v":{"$error":"#DIV/0!"}},8.0209170208070617,{"$f":"+D112*(1+$B$4)","v":8.0385630382528372},8.0562478769369932,8.0739716222662548,8.0917343598352396,8.1095361754268769,8.127377155012816,8.1452573847538439,8.1631769510003025,8.1811359402925028,8.1991344393611456,8.2171725351277392,8.23525031470502,8.2533678653973706,8.2715252747012453,8.2897226303055884,8.3079600200922599,8.3262375321364619,8.3445552547071618,8.362913276267518,8.3813116854753069,8.3997505711833522,8.4182300224399551,8.4367501284893223,8.4553109787719993,8.4739126629252972]
["Carroll County","Intercity Personal VOT",null,11.229283829129885,{"$f":"+D113*(1+$B$4)","v":11.25398825355397},11.278747027711789,11.303560271172755,11.328428103769335,11.353350645597628,11.378328017017942,11.403360338655382,11.428447731400423,11.453590316409503,11.478788215105604,11.504041549178837,11.529350440587029,11.55471501155632,11.580135384581745,11.605611682427824,11.631144028129166,11.656732544991049,11.682377356590029,11.708078586774526,11.73383635966543,11.759650799656693,11.785522031415939,11.811450179885053,11.837435370280801,11.863477728095418]
["Carroll County","Business VOT",null,14.932774265865218,{"$f":"+D114*(1+$B$4)","v":14.965626369250121},14.99855074726247,15.031547558906448,15.064616963536041,15.09775912085582,15.130974190921702,15.164262334141728,15.19762371127684,15.231058483441648,15.264566812105219,15.29814885909185,15.331804786581852,15.365534757112332,15.39933893357798,15.433217479231851,15.467170557686162,15.50119833291307,15.535300969245478,15.569478631377818,15.603731484366849,15.638059693632455,15.672463424958446,15.706942844493353,15.741498118751238,15.776129414612491]
["Carroll County","Aggregated local VOT",null,8.3388624540797363,{"$f":"+D115*(1+$B$4)","v":8.3572079514787116},8.3755938089719653,8.3940201153517027,8.4124869596054754,8.4309944309166074,8.4495426186646245,8.4681316124256867,8.4867615019730227,8.5054323772773639,8.5241443285073739,8.5428974460300893,8.5616918204113546,8.5805275424162595,8.5994047030095757,8.6183233933561958,8.6372837048215789,8.6562857289721862,8.6753295575759246,8.6944152826025913,8.7135429962243176,8.7327127908160112,8.7519247589558056,8.771178993425508,8.7904755872110432,8.8098146335029082]
["Carroll County","Aggregated intercity VOT",null,12.021830782591246,{"$f":"+D116*(1+$B$4)","v":12.048278810312947},12.074785023695636,12.101349550747766,12.12797251975941,12.154654059302882,12.181394298233348,12.208193365689461,12.235051391093977,12.261968504154384,12.288944834863523,12.315980513500223,12.343075670629924,12.37023043710531,12.39744494406694,12.424719322943888,12.452053705454365,12.479448223606363,12.506903009698297,12.534418196319633,12.561993916351536,12.589630302967509,12.617327489634036,12.645085610111231,12.672904798453475,12.700785189010071]
["Charles City County","Local Personal VOT",null,11.82348551071879,{"$f":"+D117*(1+$B$4)","v":11.849497178842372},11.875566072635824,11.901692317995622,11.927876041095212,11.954117368385621,11.980416426596069,12.006773342734579,12.033188244088596,12.05966125822559,12.086192512993687,12.112782136522274,12.139430257222623,12.166137003788512,12.192902505196846,12.219726890708278,12.246610289867837,12.273552832505546,12.300554648737057,12.327615868964278,12.354736623875999,12.381917044448526,12.409157261946312,12.436457407922594,12.463817614220023,12.491238012971307]
["Charles City County","Intercity Personal VOT",null,16.552879715006302,{"$f":"+D118*(1+$B$4)","v":16.589296050379314},16.62579250169015,16.662369245193869,16.699026457533297,16.735764315739868,16.772582997234494,16.80948267982841,16.846463541724031,16.883525761515823,16.920669518191158,16.957894991131177,16.995202360111666,17.032591805303912,17.070063507275581,17.107617646991585,17.145254405814967,17.18297396550776,17.220776508231875,17.258662216549986,17.296631273426396,17.334683862227934,17.372820166724836,17.41104037109163,17.449344659908032,17.487733218159828]
["Charles City County","Business VOT",null,17.864014400406546,{"$f":"+D119*(1+$B$4)","v":17.90331523208744},17.942702525598033,17.98217647115435,18.021737259390889,18.06138508136155,18.101120128540543,18.140942592823333,18.180852666527542,18.220850542393901,18.260936413587167,18.301110473697058,18.341372916739193,18.381723937156018,18.422163729817761,18.462692490023361,18.503310413501413,18.544017696411117,18.58481453534322,18.625701127320976,18.666677669801082,18.707744360674646,18.748901398268128,18.790148981344316,18.831487309103274,18.872916581183301]
["Charles City County","Aggregated local VOT",null,12.101349839644426,{"$f":"+D120*(1+$B$4)","v":12.127972809291643},12.154654349472084,12.181394589040922,12.208193657136812,12.235051683182514,12.261968796885515,12.288945128238662,12.315980807520788,12.343075965297333,12.370230732420987,12.397445240032313,12.424719619560385,12.452054002723417,12.479448521529408,12.506903308276772,12.534418495554981,12.561994216245202,12.589630603520941,12.617327790848687,12.645085911988554,12.672905100994928,12.700785492217117,12.728727220299994,12.756730420184654,12.784795227109059]
["Charles City County","Aggregated intercity VOT",null,16.833462537681957,{"$f":"+D121*(1+$B$4)","v":16.870496155264856},16.907611246806439,16.944807991549414,16.982086569130821,17.01944715958291,17.056889943333992,17.094415101209325,17.132022814431984,17.169713264623734,17.207486633805907,17.245343104400281,17.28328285922996,17.321306081520266,17.359412954899611,17.397603663400389,17.43587839145987,17.474237323921081,17.512680646033708,17.551208543454983,17.589821202250583,17.628518808895535,17.667301550275106,17.706169613685709,17.745123186835819,17.784162457846858]
["Charlotte County","Local Personal VOT",null,8.0604686160151306,{"$f":"+D122*(1+$B$4)","v":8.0782016469703635},8.0959736905936985,8.1137848327130051,8.1316351593449738,8.1495247566955324,8.1674537111602632,8.185422109324815,8.2034300379653295,8.2214775840488539,8.2395648347337609,8.2576918773701742,8.2758587995003889,8.2940656888592894,8.3123126333747805,8.3305997211682055,8.3489270405547753,8.3672946800439956,8.3857027283400924,8.4041512743424409,8.4226404071459946,8.4411702160417157,8.4597407905170066,8.4783522202561432,8.4970045951407069,8.515698005250016]
["Charlotte County","Intercity Personal VOT",null,11.284656062421185,{"$f":"+D123*(1+$B$4)","v":11.309482305758511},11.33436316683118,11.359298765798208,11.384289223082964,11.409334659373746,11.434435195624369,11.459590953054743,11.484802053151464,11.510068617668397,11.535390768627266,11.560768628318247,11.586202319300547,11.611691964403008,11.637237686724694,11.662839609635489,11.688497856776687,11.714212552061595,11.73998381967613,11.765811784079418,11.791696570004392,11.817638302458402,11.84363710672381,11.869693108358602,11.89580643319699,11.921977207350023]
["Charlotte County","Business VOT",null,15.752291860158044,{"$f":"+D124*(1+$B$4)","v":15.786946902250392},15.821678185435342,15.8564858774433,15.891370146373674,15.926331160695696,15.961369089249226,15.996484101245574,16.031676366268314,16.066946054274105,16.102293335593508,16.137718380931812,16.173221361369862,16.208802448364874,16.244461813751276,16.280199629741528,16.31601606892696,16.351911304278598,16.38788550914801,16.423938857268134,16.460071522754124,16.496283680104181,16.532575504200409,16.568947170309649,16.605398854084331,16.641930731563317]
["Charlotte County","Aggregated local VOT",null,8.4142924852457064,{"$f":"+D125*(1+$B$4)","v":8.4328039287132466},8.451356097356415,8.4699490807705988,8.4885829687482932,8.5072578512795385,8.5259738185523535,8.544730960953169,8.5635293690672665,8.5823691336792152,8.6012503457733089,8.6201730965340104,8.6391374773463845,8.6581435797965458,8.6771914956720977,8.6962813169625761,8.7154131358598939,8.7345870447587863,8.7538031362572557,8.773061503157022,8.7923622384639675,8.8117054353885873,8.8310911873464413,8.8505195879586029,8.8699907310521109,8.8895047106604252]
["Charlotte County","Aggregated intercity VOT",null,12.240730123136874,{"$f":"+D126*(1+$B$4)","v":12.267659729407775},12.294648580812472,12.321696807690259,12.348804540667178,12.375971910656645,12.40319904886009,12.430486086767582,12.45783315615847,12.485240389102019,12.512707917958043,12.540235875377551,12.567824394303381,12.595473607970849,12.623183649908384,12.650954653938182,12.678786754176846,12.706680085036036,12.734634781223114,12.762650977741805,12.790728809892837,12.8188684132746,12.847069923783804,12.875333477616129,12.903659211266884,12.932047261531672]
["Chesterfield County","Local Personal VOT",{"$f":"'Detailed Location'!$G$173","v":{"$error":"#DIV/0!"}},17.59997157629256,{"$f":"+D127*(1+$B$4)","v":17.638691513760403},17.677496635090677,17.716387127687877,17.755363179368789,17.794424978363399,17.833572713315796,17.872806573285089,17.912126747746317,17.951533426591357,17.991026800129859,18.030607059090144,18.070274394620142,18.110028998288307,18.149871062084539,18.189800778421127,18.229818340133654,18.269923940481949,18.31011777315101,18.35040003225194,18.390770912322893,18.431230608330004,18.471779315668329,18.5124172301628,18.553144548069159,18.593961466074912]
["Chesterfield County","Intercity Personal VOT",null,24.639960206809583,{"$f":"+D128*(1+$B$4)","v":24.694168119264564},24.748495289126947,24.802941978763027,24.857508451116306,24.912194969708761,24.967001798642119,25.021929202599132,25.07697744684485,25.132146797227907,25.18743752018181,25.242849882726208,25.298384152468206,25.354040597603635,25.409819486918362,25.465721089789582,25.52174567618712,25.577893516674731,25.634164882411415,25.690560045152719,25.747079277252055,25.803722851662009,25.860491041935664,25.917384122227922,25.974402367296822,26.031546052504876]
["Chesterfield County","Business VOT",null,20.017891916859718,{"$f":"+D129*(1+$B$4)","v":20.061931279076809},20.106067527890779,20.150300876452139,20.194631538380332,20.239059727764769,20.283585659165851,20.328209547616016,20.372931608620771,20.417752058159735,20.462671112687687,20.507688989135598,20.552805904911697,20.598022077902503,20.643337726473888,20.688753069472131,20.734268326224971,20.779883716542667,20.825599460719062,20.871415779532644,20.917332894247615,20.963351026614959,21.009470398873511,21.05569123375103,21.102013754465283,21.148438184725105]
["Chesterfield County","Aggregated local VOT",null,17.711195911958647,{"$f":"+D130*(1+$B$4)","v":17.750160542964956},17.789210896159478,17.828347160131027,17.867569523883315,17.906878176835857,17.946273308824896,17.985755110104311,18.025323771346539,18.064979483643501,18.104722438507515,18.144552827872232,18.18447084409355,18.224476679950556,18.264570528646445,18.304752583809467,18.345023039493846,18.38538209018073,18.425829930779127,18.46636675662684,18.506992763491418,18.5477081475711,18.588513105495757,18.629407834327846,18.670392531563369,18.711467395132807]
["Chesterfield County","Aggregated intercity VOT",null,23.650837592760311,{"$f":"+D131*(1+$B$4)","v":23.702869435464383},23.755015748222405,23.807276782868495,23.859652791790804,23.912144027932744,23.964750744794195,24.017473196432743,24.070311637464894,24.123266323067316,24.176337508978065,24.229525451497818,24.282830407491112,24.336252634387591,24.389792390183242,24.443449933441645,24.497225523295217,24.551119419446465,24.605131882169246,24.65926317231002,24.7135135512891,24.767883281101938,24.822372624320362,24.876981844093866,24.931711204150872,24.986560968800003]
["Clarke County","Local Personal VOT",null,18.944969959016394,{"$f":"+D132*(1+$B$4)","v":18.98664889292623},19.028419520490665,19.070282043435743,19.112236663931302,19.154283584591951,19.196423008478053,19.238655139096704,19.280980180402715,19.323398336799599,19.365909813140558,19.408514814729468,19.451213547321874,19.494006217125982,19.536893030803657,19.579874195471426,19.622949918701462,19.666120408522605,19.709385873421354,19.752746522342882,19.796202564692035,19.839754210334355,19.883401669597092,19.927145153270203,19.970984872607396,20.014921039327131]
["Clarke County","Intercity Personal VOT",null,26.522957942622948,{"$f":"+D133*(1+$B$4)","v":26.581308450096717},26.639787328686928,26.698394860810041,26.757131329503821,26.815997018428728,26.874992211869269,26.934117194735382,26.993372252563798,27.052757671519437,27.11227373839678,27.171920740621253,27.231698966250619,27.291608703976369,27.351650243125118,27.411823873659991,27.472129886182042,27.532568571931641,27.593140222789891,27.653845131280029,27.714683590568846,27.775655894468098,27.836762337435928,27.898003214578285,27.959378821650358,28.020889455057986]
["Clarke County","Business VOT",null,20.908910599816789,{"$f":"+D134*(1+$B$4)","v":20.954910203136386},21.001011005583287,21.04721322979557,21.09351709890112,21.139922836518704,21.186430666759044,21.233040814225912,21.279753504017208,21.326568961726046,21.373487413441843,21.420509085751416,21.467634205740069,21.514863000992698,21.562195699594881,21.60963253013399,21.657173721700286,21.704819503888025,21.752570106796579,21.80042576103153,21.848386697705799,21.896453148440752,21.944625345367321,21.992903521127129,22.04128790887361,22.089778742273133]
["Clarke County","Aggregated local VOT",null,19.03531122849321,{"$f":"+D135*(1+$B$4)","v":19.077188913195894},19.119158728804923,19.161220878008294,19.203375563939911,19.245622990180578,19.287963360758976,19.330396880152644,19.37292375328898,19.415544185546214,19.458258382754416,19.501066551196473,19.543968897609105,19.586965629183844,19.630056953568047,19.673243078865898,19.716524213639403,19.759900566909408,19.803372348156607,19.846939767322553,19.890603034810663,19.934362361487246,19.978217958682517,20.022170038191618,20.06621881227564,20.110364493662647]
["Clarke County","Aggregated intercity VOT",null,25.321551811262431,{"$f":"+D136*(1+$B$4)","v":25.377259225247208},25.433089195542752,25.489041991772947,25.545117884154848,25.601317143499987,25.657640041215686,25.714086849306359,25.770657840374831,25.827353287623655,25.884173464856428,25.941118646479111,25.998189107501364,26.055385123537867,26.112706970809651,26.170154926145432,26.227729266982951,26.285430271370313,26.343258217967328,26.401213386046855,26.459296055496157,26.517506506818247,26.575845021133247,26.634311880179741,26.692907366316135,26.751631762522031]
["Craig County","Local Personal VOT",null,11.671626916771752,{"$f":"+D137*(1+$B$4)","v":11.69730449598865},11.723038565879826,11.748829250724761,11.774676675076355,11.800580963761522,11.826542241881798,11.852560634813937,11.878636268210528,11.904769268000591,11.930959760390191,11.95720787186305,11.983513729181148,12.009877459385345,12.036299189795992,12.062779048013542,12.089317161919173,12.115913659675394,12.14256866972668,12.169282320800079,12.196054741905838,12.222886062338031,12.249776411675175,12.27672591978086,12.303734716804378,12.330802933181348]
["Craig County","Intercity Personal VOT",null,16.340277683480451,{"$f":"+D138*(1+$B$4)","v":16.376226294384107},16.412253992231751,16.44836095101466,16.484547345106893,16.520813349266128,16.557159138634514,16.59358488873951,16.630090775494736,16.666676975200826,16.703343664546267,16.740091020608268,16.776919220853607,16.813828443139485,16.850818865714391,16.887890667218961,16.925044026686844,16.962279123545557,16.999596137617356,17.036995249120114,17.074476638668177,17.112040487273248,17.149686976345247,17.187416287693207,17.22522860352613,17.263124106453887]
["Craig County","Business VOT",null,19.063971876326185,{"$f":"+D139*(1+$B$4)","v":19.105912614454102},19.147945622205899,19.190071102574752,19.232289259000417,19.274600295370217,19.31700441602003,19.359501825735272,19.402092729751889,19.444777333757344,19.487555843891609,19.53042846674817,19.573395409375014,19.616456879275638,19.659613084410044,19.702864233195747,19.746210534508776,19.789652197684696,19.833189432519603,19.876822449271145,19.920551458659542,19.964376671868592,20.008298300546702,20.052316556807906,20.096431653232884,20.140643802869995]
["Craig County","Aggregated local VOT",null,12.011674784911255,{"$f":"+D140*(1+$B$4)","v":12.03810046943806},12.064584290470824,12.091126375909861,12.117726853936862,12.144385853015523,12.171103501892157,12.197879929596319,12.22471526544143,12.251609639025402,12.278563180231258,12.305576019227766,12.332648286470068,12.359780112700301,12.386971628948242,12.414222966531927,12.441534257058297,12.468905632423825,12.496337224815157,12.523829166709751,12.551381590876511,12.578994630376439,12.606668418563267,12.634403089084106,12.662198775880091,12.690055613187027]
["Craig County","Aggregated intercity VOT",null,16.923148240749441,{"$f":"+D141*(1+$B$4)","v":16.96037916687909},16.997692001046225,17.035086923448528,17.072564114680116,17.110123755732413,17.147766027995026,17.185491113256614,17.223299193705778,17.261190451931931,17.299165070926183,17.33722323408222,17.375365125197202,17.413590928472637,17.451900828515274,17.490295010338009,17.528773659360752,17.567336961411346,17.60598510272645,17.644718269952449,17.683536650146344,17.722440430776665,17.761429799724372,17.800504945283766,17.839666056163392,17.878913321486952]
["Culpeper County","Local Personal VOT",{"$f":"'Detailed Location'!$G$177","v":{"$error":"#DIV/0!"}},15.728595173392181,{"$f":"+D142*(1+$B$4)","v":15.763198082773643},15.797877118555745,15.832632448216566,15.867464239602642,15.902372660929768,15.937357880783813,15.972420068121536,16.007559392271403,16.042776022934401,16.078070130184855,16.113441884471261,16.148891456617097,16.184419017821654,16.220024739660861,16.255708794088115,16.291471353435107,16.327312590412664,16.363232678111572,16.399231790003416,16.435310099941422,16.471467782161291,16.507705011282045,16.544021962306864,16.580418810623939,16.616895732007311]
["Culpeper County","Intercity Personal VOT",null,22.020033242749054,{"$f":"+D143*(1+$B$4)","v":22.068477315883101},22.117027965978043,22.165685427503195,22.214449935443703,22.26332172530168,22.312301033097341,22.361388095370156,22.410583149179971,22.459886432108167,22.509298182258803,22.558818638259773,22.608448039263944,22.658186624950325,22.708034635525216,22.75799231172337,22.808059894809162,22.858237626577743,22.908525749356215,22.958924506004799,23.00943413991801,23.060054895025829,23.110787015794884,23.161630747229633,23.212586334873539,23.263654024810261]
["Culpeper County","Business VOT",null,18.043428868881705,{"$f":"+D144*(1+$B$4)","v":18.083124412393243},18.122907286100506,18.162777682129928,18.202735793030612,18.242781811775281,18.282915931761185,18.32313834681106,18.363449251174043,18.403848839526624,18.444337306973583,18.484914849048923,18.525581661716831,18.566337941372609,18.607183884843629,18.648119689390285,18.689145552706943,18.730261672922897,18.771468248603327,18.812765478750254,18.854153562803504,18.89563270064167,18.937203092583083,18.978864939386764,19.020618442253415,19.062463802826372]
["Culpeper County","Aggregated local VOT",null,15.835077523384697,{"$f":"+D145*(1+$B$4)","v":15.869914693936144},15.904828506262803,15.93981912897658,15.974886731060328,16.010031481868662,16.045253551128773,16.080553108941256,16.115930325780926,16.151385372497643,16.186918420317138,16.222529640841834,16.258219206051685,16.293987288304997,16.32983406033927,16.365759695272015,16.401764366601611,16.437848248208134,16.474011514354192,16.510254339685773,16.546576899233081,16.582979368411394,16.619461923021898,16.656024739252548,16.692667993678903,16.729391863264997]
["Culpeper County","Aggregated intercity VOT",null,21.169039906741443,{"$f":"+D146*(1+$B$4)","v":21.215611794536272},21.262286140484253,21.309063169993319,21.355943108967303,21.402926183807029,21.450012621411403,21.497202649178508,21.544496495006701,21.591894387295714,21.639396554947762,21.687003227368645,21.734714634468855,21.782531006664687,21.830452574879349,21.878479570544084,21.926612225599278,21.974850772495596,22.023195444195085,22.071646474172315,22.120204096415495,22.16886854542761,22.217640056227552,22.266518864351251,22.315505205852823,22.3645993173057]
["Cumberland County","Local Personal VOT",null,9.9018151040353075,{"$f":"+D147*(1+$B$4)","v":9.9235990972641854},9.9454310152781673,9.9673109635117783,9.9892390476315036,10.011215373536293,10.033240047358072,10.05531317546226,10.077434864448277,10.099605221150062,10.121824352636592,10.144092366212393,10.16640936941806,10.18877547003078,10.211190776064848,10.233655395772191,10.256169437642889,10.278733010405704,10.301346223028595,10.324009184719259,10.34672200492564,10.369484793336476,10.392297659881816,10.415160714733556,10.438074068305969,10.461037831256242]
["Cumberland County","Intercity Personal VOT",null,13.862541145649432,{"$f":"+D148*(1+$B$4)","v":13.89303873616986},13.923603421389434,13.954235348916489,13.984934666684104,14.01570152295081,14.046536066301302,14.077438445647164,14.108408810227587,14.139447309610087,14.17055409369123,14.201729312697351,14.232973117185285,14.264285658043093,14.295667086490788,14.327117554081067,14.358637212700044,14.390226214567983,14.421884712240033,14.453612858606961,14.485410806895896,14.517278710671066,14.549216723834542,14.581225000626977,14.613303695628357,14.645452963758739]
["Cumberland County","Business VOT",null,17.735220682129647,{"$f":"+D149*(1+$B$4)","v":17.774238167630333},17.813341491599118,17.852530842880636,17.891806410734972,17.931168384838589,17.970616955285234,18.010152312586861,18.049774647674553,18.089484151899438,18.129281017033616,18.16916543527109,18.209137599228686,18.24919770194699,18.289345936891273,18.329582497952433,18.369907579447929,18.410321376122713,18.450824083150184,18.491415896133116,18.532097011104607,18.572867624529039,18.613727933303004,18.654678134756271,18.695718426652736,18.73684900719137]
["Cumberland County","Aggregated local VOT",null,10.262151760627647,{"$f":"+D150*(1+$B$4)","v":10.284728494501028},10.307354897188929,10.330031077962746,10.352757146334264,10.375533212056199,10.398359385122722,10.421235775769992,10.444162494476686,10.467139651964533,10.490167359198855,10.513245727389092,10.536374867989348,10.559554892698925,10.582785913462862,10.606068042472479,10.629401392165919,10.652786075228684,10.676222204594188,10.699709893444295,10.723249255209872,10.746840403571333,10.770483452459191,10.7941785160546,10.81792570878992,10.841725145349258]
["Cumberland County","Aggregated intercity VOT",null,14.6912945664562,{"$f":"+D151*(1+$B$4)","v":14.723615414502403},14.756007368414307,14.788470584624818,14.821005219910992,14.853611431394796,14.886289376543864,14.91903921317226,14.951861099441238,14.984755193860009,15.0177216552865,15.050760642928131,15.083872316342573,15.117056835438527,15.150314360476491,15.183645052069538,15.217049071184091,15.250526579140695,15.284077737614805,15.317702708637556,15.351401654596559,15.385174738236671,15.419022122660792,15.452943971330646,15.486940448067573,15.521011717053321]
["Dickenson County","Local Personal VOT",null,8.1344447477931912,{"$f":"+D152*(1+$B$4)","v":8.1523405262383353},8.1702756753960593,8.1882502818819312,8.2062644325020706,8.2243182142535751,8.2424117143249322,8.2605450200964476,8.278718219140659,8.2969313992227676,8.3151846483010576,8.333478054527319,8.351811706247279,8.3701856920010229,8.3886001005234245,8.4070550207445756,8.4255505417902139,8.4440867529821517,8.4626637438387124,8.4812816040751571,8.4999404236041229,8.5186402925360518,8.5373813011796305,8.5561635400422258,8.5749870998303184,8.5938520714499447]
["Dickenson County","Intercity Personal VOT",null,11.388222646910465,{"$f":"+D153*(1+$B$4)","v":11.413276736733668},11.438385945554481,11.463550394634701,11.488770205502897,11.514045499955003,11.539376400054904,11.564763028135024,11.590205506796922,11.615703958911874,11.64125850762148,11.666869276338247,11.692536388746191,11.718259968801434,11.744040140732796,11.769877029042409,11.795770758506302,11.821721454175016,11.8477292413742,11.873794245705223,11.899916593045775,11.926096409550476,11.952333821651488,11.97862895605912,12.00498193976245,12.031392900029926]
["Dickenson County","Business VOT",null,21.661772773468467,{"$f":"+D154*(1+$B$4)","v":21.709428673570098},21.757189416651951,21.805055233368584,21.853026354881994,21.901103012862734,21.949285439491032,21.997573867457913,22.04596852996632,22.094469660732244,22.143077493985853,22.191792264472621,22.24061420745446,22.289543558710861,22.338580554540023,22.387725431760011,22.436978427709882,22.486339780250844,22.535809727767397,22.585388509168485,22.635076363888654,22.68487353188921,22.734780253659366,22.784796770217415,22.834923323111894,22.885160154422739]
["Dickenson County","Aggregated local VOT",null,8.7567018369742513,{"$f":"+D155*(1+$B$4)","v":8.7759665810155951},8.7952737074938288,8.8146233096503153,8.8340154809315461,8.8534503149895958,8.8729279056825732,8.8924483470750744,8.9120117334386393,8.9316181592522046,8.9512677192025585,8.9709605081848043,8.9906966213028099,9.0104761538696767,9.0302992014081891,9.0501658596512868,9.0700762245425199,9.090030392236514,9.1100284590994338,9.1300705217094524,9.1501566768572129,9.170287021546299,9.1904616529937009,9.2106806686302871,9.2309441661012741,9.2512522432666966]
["Dickenson County","Aggregated intercity VOT",null,13.58676237399388,{"$f":"+D156*(1+$B$4)","v":13.616653251216666},13.646609888369342,13.676632430123755,13.706721021470027,13.736875807717261,13.767096934494239,13.797384547750125,13.827738793755175,13.858159819101436,13.888647770703459,13.919202795799006,13.949825041949763,13.980514657042052,14.011271789287544,14.042096587223977,14.07298919971587,14.103949775955245,14.134978465462346,14.166075418086363,14.197240784006153,14.228474713730966,14.259777358101173,14.291148868288996,14.322589395799232,14.35409909246999]
["Dinwiddie County","Local Personal VOT",{"$f":"'Detailed Location'!$G$179","v":{"$error":"#DIV/0!"}},12.702165703026482,{"$f":"+D157*(1+$B$4)","v":12.730110467573141},12.758116710601801,12.786184567365124,12.814314173413328,12.842505664594837,12.870759177056945,12.899074847246469,12.927452811910412,12.955893208096613,12.984396173154426,13.012961844735365,13.041590360793782,13.070281859587528,13.09903647967862,13.127854359933913,13.156735639525767,13.185680457932722,13.214688954940174,13.243761270641041,13.272897545436452,13.302097920036411,13.331362535460491,13.360691533038503,13.390085054411188,13.419543241530892]
["Dinwiddie County","Intercity Personal VOT",null,17.783031984237073,{"$f":"+D158*(1+$B$4)","v":17.822154654602393},17.861363394842517,17.900658394311169,17.940039842778653,17.979507930432764,18.019062847879717,18.05870478614505,18.098433936674567,18.138250491335253,18.178154642416189,18.218146582629505,18.258226505111288,18.298394603422533,18.338651071550064,18.378996103907475,18.419429895336073,18.459952641105811,18.500564536916244,18.541265778897458,18.582056563611033,18.622937088050978,18.663907549644691,18.704968146253908,18.746119076175667,18.787360538143254]
["Dinwiddie County","Business VOT",null,20.381200349799609,{"$f":"+D159*(1+$B$4)","v":20.426038990569168},20.47097627634842,20.516012424156386,20.561147651489531,20.606382176322807,20.651716217110717,20.697149992788361,20.742683722772494,20.788317626962591,20.83405192574191,20.879886839978543,20.925822591026495,20.971859400726753,21.017997491408352,21.064237085889449,21.110578407478407,21.157021679974857,21.203567127670802,21.250214975351678,21.296965448297453,21.343818772283708,21.390775173582732,21.437834878964612,21.484998115698332,21.532265111552867]
["Dinwiddie County","Aggregated local VOT",null,13.055401296778046,{"$f":"+D160*(1+$B$4)","v":13.084123179630957},13.112908250626145,13.141756648777521,13.170668513404832,13.199643984134322,13.228683200899418,13.257786303941396,13.286953433810067,13.31618473136445,13.34548033777345,13.374840394516552,13.404265043384488,13.433754426479933,13.463308686218188,13.492927965327867,13.522612406851588,13.55236215414666,13.582177350885782,13.61205814105773,13.642004668968056,13.672017079239785,13.702095516814111,13.732240126951103,13.762451055230395,13.792728447551902]
["Dinwiddie County","Aggregated intercity VOT",null,18.339040014467457,{"$f":"+D161*(1+$B$4)","v":18.379385902499287},18.419820551484786,18.460344156698053,18.500956913842789,18.541659019053242,18.582450668895159,18.623332060366728,18.664303390899533,18.705364858359513,18.746516661047902,18.787758997702209,18.829092067497154,18.870516070045646,18.912031205399746,18.953637674051624,18.995335676934538,19.037125415423795,19.079007091337726,19.120980906938669,19.163047064933934,19.205205768476787,19.247457221167437,19.289801627054004,19.332239190633523,19.374770116852915]
["Essex County","Local Personal VOT",null,10.95847747477932,{"$f":"+D162*(1+$B$4)","v":10.982586125223834},11.006747814699327,11.030962659891665,11.055230777743427,11.079552285454461,11.103927300482461,11.128355940543521,11.152838323612716,11.177374567924664,11.201964791974099,11.226609114516442,11.251307654568379,11.276060531408429,11.300867864577528,11.325729773879598,11.350646379382132,11.375617801416773,11.40064416057989,11.425725577733166,11.450862174004179,11.476054070786988,11.50130138974272,11.526604252800153,11.551962782156313,11.577377100277056]
["Essex County","Intercity Personal VOT",null,15.341868464691046,{"$f":"+D163*(1+$B$4)","v":15.375620575313366},15.409446940579056,15.44334772384833,15.477323088840796,15.511373199636246,15.545498220675446,15.579698316760933,15.613973653057807,15.648324395094534,15.682750708763741,15.717252760323021,15.75183071639573,15.786484743971801,15.821215010408539,15.856021683431438,15.890904931134987,15.925864921983484,15.960901824811847,15.996015808826433,16.03120704360585,16.066475699101783,16.101821945639806,16.137245953920214,16.172747895018837,16.208327940387878]
["Essex County","Business VOT",null,13.872571343838127,{"$f":"+D164*(1+$B$4)","v":13.90309100079457},13.933677800996318,13.964331892158508,13.995053422321257,14.025842539850364,14.056699393438034,14.087624132103597,14.118616905194225,14.149677862385651,14.180807153682899,14.212004929421001,14.243271340265727,14.274606537214311,14.306010671596182,14.337483895073694,14.369026359642856,14.40063821763407,14.432319621712864,14.464070724880632,14.495891680475369,14.527782642172415,14.559743763985194,14.591775200265962,14.623877105706548,14.656049635339102]
["Essex County","Aggregated local VOT",null,11.092525792756023,{"$f":"+D165*(1+$B$4)","v":11.116929349500086},11.141386594068987,11.165897644575939,11.190462619394005,11.215081637156672,11.239754816758417,11.264482277355285,11.289264138365466,11.31410051946987,11.338991540612703,11.363937322002052,11.388937984110456,11.413993647675499,11.439104433700384,11.464270463454525,11.489491858474125,11.514768740562767,11.540101231792004,11.565489454501947,11.59093353130185,11.616433585070714,11.64198973895787,11.667602116383577,11.69327084103962,11.718996036889907]
["Essex County","Aggregated intercity VOT",null,15.02743888082852,{"$f":"+D166*(1+$B$4)","v":15.060499246366343},15.093632344708348,15.126838335866706,15.160117380205612,15.193469638442064,15.226895271646637,15.260394441244259,15.293967309014995,15.327614037094827,15.361334787976435,15.395129724509983,15.428999009903904,15.462942807725693,15.496961281902689,15.531054596722875,15.565222916835666,15.599466407252704,15.633785233348659,15.668179560862026,15.702649555895922,15.737195384918893,15.771817214765715,15.8065152126382,15.841289546106003,15.876140383107435]
["Fairfax County","Local Personal VOT",{"$f":"'Detailed Location'!$G$182","v":{"$error":"#DIV/0!"}},26.927311967213114,{"$f":"+D167*(1+$B$4)","v":26.986552053540983},27.045922468058773,27.105423497488502,27.165055429182978,27.224818551127179,27.284713151939659,27.344739520873926,27.404897947819848,27.465188723305051,27.525612138496321,27.586168485201011,27.646858055868453,27.707681143591362,27.768638042107263,27.829729045799898,27.890954449700658,27.952314549489998,28.013809641498874,28.075440022710172,28.137205990760133,28.199107843939807,28.261145881196473,28.323320402135106,28.385631707019805,28.448080096775247]
["Fairfax County","Intercity Personal VOT",null,37.69823675409836,{"$f":"+D168*(1+$B$4)","v":37.781172874957377},37.864291455282284,37.947592896483904,38.031077600856165,38.114745971578046,38.198598412715519,38.282635329223496,38.366857126947785,38.451264212627066,38.535856993894846,38.620635879281416,38.705601278215831,38.790753601027902,38.876093258950164,38.961620664119856,39.047336229580921,39.133240369286,39.219333498098429,39.305616031794244,39.392088387064192,39.478750981515731,39.565604233675067,39.65264856298915,39.739884389827722,39.827312135485343]
["Fairfax County","Business VOT",null,24.759503182229867,{"$f":"+D169*(1+$B$4)","v":24.813974089230772},24.868564832227079,24.92327567485798,24.978106881342665,25.033058716481619,25.088131445657879,25.143325334838327,25.198640650574969,25.254077660006235,25.309636630858247,25.365317831446134,25.421121530675315,25.477047998042799,25.533097503638494,25.589270318146497,25.645566712846417,25.701986959614679,25.75853133092583,25.815200099853868,25.871993540073547,25.928911925861708,25.985955532098604,26.043124634269219,26.100419508464611,26.157840431383232]
["Fairfax County","Aggregated local VOT",null,26.827592763103883,{"$f":"+D170*(1+$B$4)","v":26.886613467182713},26.945764016810514,27.005044697647499,27.064455795982322,27.123997598733482,27.183670393450694,27.243474468316286,27.303410112146583,27.363477614393304,27.423677265144967,27.484009355128286,27.544474175709567,27.605072018896127,27.665803177337697,27.72666794432784,27.78766661380536,27.84879948035573,27.910066839212512,27.971468986258778,28.033006218028547,28.094678831708208,28.156487125137964,28.218431396813266,28.280511945886253,28.342729072167202]
["Fairfax County","Aggregated intercity VOT",null,34.929347769718504,{"$f":"+D171*(1+$B$4)","v":35.006192334811885},35.083205957948472,35.160389011055955,35.237741866880278,35.315264898987415,35.392958481765184,35.47082299042507,35.548858801004002,35.627066290366209,35.705445836205016,35.783997817044664,35.862722612242159,35.941620601989094,36.02069216731347,36.099937690081561,36.17935755299974,36.258952139616341,36.338721834323493,36.418667022359003,36.498788089808194,36.579085423605768,36.6595594115377,36.740210442243082,36.821038905216014,36.902045190807492]
["Fauquier County","Local Personal VOT",{"$f":"'Detailed Location'!$G$184","v":{"$error":"#DIV/0!"}},21.58467272068096,{"$f":"+D172*(1+$B$4)","v":21.632159000666459},21.679749750467924,21.727445199918954,21.775245579358774,21.823151119633362,21.871162052096555,21.919278608611165,21.96750102155011,22.015829523797521,22.064264348749877,22.112805730317127,22.161453902923824,22.210209101510255,22.259071561533577,22.308041518968952,22.357119210310685,22.406304872573369,22.455598743293031,22.505001060528276,22.554512062861438,22.604131989399733,22.653861079776412,22.703699574151919,22.753647713215052,22.803705738184124]
["Fauquier County","Intercity Personal VOT",null,30.21854180895334,{"$f":"+D173*(1+$B$4)","v":30.285022600933036},30.351649650655087,30.418423279886529,30.485343811102279,30.552411567486704,30.619626872935175,30.686990052055631,30.754501430170151,30.822161333316526,30.889970088249822,30.957928022443969,31.026035464093347,31.094292742114352,31.162700186147003,31.231258126556526,31.299966894434949,31.368826821602706,31.437838240610233,31.507001484739575,31.576316888006001,31.645784785159613,31.715405511686964,31.785179403812673,31.855106798501062,31.925188033457765]
["Fauquier County","Business VOT",null,20.917833604296835,{"$f":"+D174*(1+$B$4)","v":20.963852838226288},21.009973314470386,21.056195255762219,21.102518885324894,21.148944426872607,21.195472104611728,21.242102143241873,21.288834767957006,21.335670204446512,21.382608678896293,21.429650417989865,21.476795648909444,21.524044599337046,21.571397497455585,21.618854571949988,21.666416052008277,21.714082167322694,21.761853148090804,21.809729225016603,21.85771062931164,21.905797592696125,21.953990347400055,22.002289126164335,22.050694162241896,22.099205689398829]
["Fauquier County","Aggregated local VOT",null,21.553998121327286,{"$f":"+D175*(1+$B$4)","v":21.601416917194207},21.648940034412036,21.696567702487741,21.744300151433212,21.792137611766364,21.84008031451225,21.888128491204174,21.936282373884822,21.98454219510737,22.032908187936606,22.081380585950065,22.129959623239156,22.178645534410283,22.227438554585984,22.276338919406072,22.325346865028767,22.37446262813183,22.42368644591372,22.473018556094729,22.522459196918138,22.572008607151357,22.621667026087088,22.67143469354448,22.721311849870279,22.771298735939993]
["Fauquier County","Aggregated intercity VOT",null,28.228190253156846,{"$f":"+D176*(1+$B$4)","v":28.290292271713792},28.352530914711561,28.414906482723925,28.477419276985916,28.540069599395284,28.602857752513952,28.665784039569481,28.728848764456533,28.792052231738335,28.855394746648159,28.918876615090785,28.982498143643983,29.046259639559999,29.110161410767031,29.174203765870718,29.238387014155634,29.302711465586775,29.367177430811065,29.431785221158847,29.496535148645396,29.561427525972416,29.626462666529555,29.69164088439592,29.75696249434159,29.82242781182914]
["Floyd County","Local Personal VOT",{"$f":"'Detailed Location'!$G$185","v":{"$error":"#DIV/0!"}},10.893290586380832,{"$f":"+D177*(1+$B$4)","v":10.917255825670869},10.941273788487345,10.965344590822017,10.989468348921825,11.013645179289453,11.03787519868389,11.062158524120994,11.08649527287406,11.110885562474383,11.135329510711827,11.159827235635392,11.18437885555379,11.208984489036009,11.233644254911889,11.258358272272694,11.283126660471694,11.307949539124731,11.332827028110806,11.35775924757265,11.382746317917309,11.407788359816728,11.432885494208325,11.458037842295584,11.483245525548634,11.508508665704841]
["Floyd County","Intercity Personal VOT",null,15.250606820933163,{"$f":"+D178*(1+$B$4)","v":15.284158155939215},15.317783303882281,15.351482427150822,15.385255688490554,15.419103251005232,15.453025278157444,15.487021933769389,15.521093382023682,15.555239787464135,15.589461314996555,15.623758129889547,15.658130397775304,15.692578284650409,15.727101956876639,15.761701581181768,15.796377324660368,15.831129354774619,15.865957839355124,15.900862946601706,15.93584484508423,15.970903703743415,16.006039691891651,16.041252979213812,16.076543735768084,16.111912131986774]
["Floyd County","Business VOT",null,15.032021619880178,{"$f":"+D179*(1+$B$4)","v":15.065092067443913},15.098235269992291,15.131451387586273,15.164740580638963,15.198103009916368,15.231538836538183,15.265048221978567,15.29863132806692,15.332288316988667,15.366019351286042,15.39982459385887,15.433704207965359,15.467658357222883,15.501687205608773,15.535790917461112,15.569969657479525,15.604223590725979,15.638552882625577,15.672957698967354,15.707438205905081,15.741994569958072,15.776626958011979,15.811335537319605,15.846120475501708,15.880981940547812]
["Floyd County","Aggregated local VOT",null,11.083672213921801,{"$f":"+D180*(1+$B$4)","v":11.108056292792428},11.132494016636571,11.156985503473171,11.181530871580811,11.20613023949829,11.230783726025185,11.25549145022244,11.28025353141293,11.305070089182038,11.329941243378238,11.35486711411367,11.37984782176472,11.404883486972603,11.429974230643943,11.455120173951359,11.480321438334052,11.505578145498387,11.530890417418483,11.556258376336803,11.581682144764743,11.607161845483226,11.632697601543288,11.658289536266683,11.68393777324647,11.709642436347611]
["Floyd County","Aggregated intercity VOT",null,15.203829587907824,{"$f":"+D181*(1+$B$4)","v":15.237278013001221},15.270800024629823,15.304395784684008,15.338065455410312,15.371809199412215,15.405627179650923,15.439519559446154,15.473486502476936,15.507528172782385,15.541644734762505,15.575836353178982,15.610103193155975,15.644445420180919,15.678863200105317,15.713356699145548,15.747926083883668,15.782571521268212,15.817293178615001,15.852091223607953,15.886965824299891,15.92191714911335,15.956945366841399,15.992050646648449,16.027233158071077,16.062493071018832]
["Fluvanna County","Local Personal VOT",{"$f":"'Detailed Location'!$G$186","v":{"$error":"#DIV/0!"}},16.672218108448927,{"$f":"+D182*(1+$B$4)","v":16.708896988287513},16.745656561661747,16.782497006097401,16.819418499510814,16.856421220209736,16.893505346894198,16.930671058657364,16.96791853498641,17.00524795576338,17.042659501266058,17.080153352168843,17.117729689543612,17.155388694860608,17.193130549989302,17.230955437199277,17.268863539161117,17.306855038947273,17.344930120032956,17.383088966297027,17.421331762022881,17.459658691899332,17.498069941021509,17.536565694891756,17.575146139420518,17.613811460927241]
["Fluvanna County","Intercity Personal VOT",null,23.341105351828496,{"$f":"+D183*(1+$B$4)","v":23.392455783602518},23.443919186326443,23.495495808536361,23.547185899315142,23.598989708293637,23.650907485651882,23.702939482120314,23.755085948980977,23.807347138068735,23.859723301772487,23.912214693036386,23.964821565361067,24.017544172804861,24.070382769985031,24.123337612078998,24.176408954825572,24.229597054526188,24.282902168046146,24.336324552815846,24.389864466832041,24.443522168659072,24.497297917430121,24.551191972848468,24.605204595188734,24.659336045298151]
["Fluvanna County","Business VOT",null,20.824937097327826,{"$f":"+D184*(1+$B$4)","v":20.870751958941948},20.916667613251619,20.962684282000772,21.008802187421175,21.055021552233502,21.101342599648415,21.147765553367641,21.194290637585048,21.240918076987736,21.28764809675711,21.334480922569973,21.381416780599626,21.428455897516944,21.475598500491479,21.52284481719256,21.570195075790384,21.617649504957122,21.665208333868026,21.712871792202534,21.760640110145381,21.808513518387702,21.856492248128156,21.904576531074039,21.952766599442402,22.001062685961173]
["Fluvanna County","Aggregated local VOT",null,16.863243181937356,{"$f":"+D185*(1+$B$4)","v":16.900342316937618},16.937523070034882,16.974785620788957,17.012130149154693,17.049556835482832,17.087065860520894,17.124657405414041,17.162331651705951,17.200088781339705,17.237928976658651,17.275852420407301,17.313859295732197,17.351949786182807,17.390124075712411,17.428382348678976,17.466724789846069,17.505151584383729,17.543662917869373,17.582258976288685,17.620939946036518,17.659706013917798,17.698557367148418,17.737494193356145,17.77651668058153,17.815625017278808]
["Fluvanna County","Aggregated intercity VOT",null,22.802645345365352,{"$f":"+D186*(1+$B$4)","v":22.852811165125157},22.90308734968843,22.953474141857743,23.003971784969831,23.054580522896764,23.105300600047137,23.15613226136724,23.207075752342249,23.2581313189974,23.309299207899194,23.360579666156571,23.411972941422114,23.463479281893243,23.515098936313407,23.566832153973298,23.61867918471204,23.670640278918405,23.722715687532027,23.774905662044596,23.827210454501092,23.879630317500993,23.932165504199496,23.984816268308734,24.037582864099011,24.090465546400029]
["Franklin County","Local Personal VOT",{"$f":"'Detailed Location'!$G$187","v":{"$error":"#DIV/0!"}},11.138901109709961,{"$f":"+D187*(1+$B$4)","v":11.163406692151323},11.187966186874055,11.212579712485178,11.237247387852646,11.261969332105922,11.286745664636555,11.311576505098756,11.336461973409973,11.361402189751475,11.386397274568928,11.411447348572979,11.436552532739839,11.461712948311867,11.486928716798152,11.512199959975108,11.537526799887052,11.562909358846804,11.588347759436267,11.613842124507027,11.639392577180942,11.66499924085074,11.690662239180611,11.716381696106808,11.742157735838243,11.767990482857087]
["Franklin County","Intercity Personal VOT",null,15.594461553593945,{"$f":"+D188*(1+$B$4)","v":15.628769369011851},15.663152661623677,15.697611597479249,15.732146342993703,15.766757064948289,15.801443930491175,15.836207107138256,15.871046762773959,15.905963065652061,15.940956184396496,15.976026288002169,16.011173545835774,16.046398127636614,16.081700203517414,16.117079943965152,16.152537519841875,16.188073102385527,16.223686863210776,16.25937897430984,16.295149608053322,16.33099893719104,16.366927134852862,16.402934374549538,16.439020830173547,16.475186675999929]
["Franklin County","Business VOT",null,18.072868694644356,{"$f":"+D189*(1+$B$4)","v":18.112629005772572},18.152476789585272,18.192412238522358,18.232435545447107,18.27254690364709,18.312746506835111,18.353034549150149,18.393411225158278,18.433876729853626,18.474431258659305,18.515075007428354,18.555808172444696,18.596630950424075,18.637543538515008,18.67854613429974,18.719638935795199,18.76082214145395,18.80209595016515,18.843460561255512,18.884916174490275,18.926462990074153,18.968101208652318,19.009831031311354,19.051652659580238,19.093566295431316]
["Franklin County","Aggregated local VOT",null,11.457863618616942,{"$f":"+D190*(1+$B$4)","v":11.4830709185779},11.50833367459877,11.533652008682887,11.559026043101989,11.584455900396813,11.609941703377686,11.635483575125116,11.661081638990391,11.68673601859617,11.712446837837081,11.738214220880323,11.76403829216626,11.789919176409025,11.815856998597125,11.841851883994039,11.867903958138825,11.89401334684673,11.920180176209792,11.946404572597453,11.972686662657168,11.999026573315014,12.025424431776306,12.051880365526214,12.078394502330372,12.104966970235498]
["Franklin County","Aggregated intercity VOT",null,16.124840681778732,{"$f":"+D191*(1+$B$4)","v":16.160315331278646},16.19586802500746,16.231498934662476,16.267208232318733,16.302996090429833,16.338862681828779,16.374808179728802,16.410832757724204,16.446936589791196,16.483119850288737,16.519382713959374,16.555725355930083,16.592147951713127,16.628650677206895,16.66523370869675,16.701897222855884,16.738641396746168,16.77546640781901,16.812372433916213,16.849359653270827,16.886428244508021,16.923578386645939,16.960810259096561,16.998124041666575,17.03551991455824]
["Frederick County","Local Personal VOT",{"$f":"'Detailed Location'!$G$188","v":{"$error":"#DIV/0!"}},16.705421916771751,{"$f":"+D192*(1+$B$4)","v":16.742173844988649},16.779006627447625,16.815920442028009,16.852915467000471,16.889991881027871,16.927149863166132,16.964389592865096,17.0017112499694,17.039115014719332,17.076601067751714,17.114169590100769,17.151820763198991,17.189554768878029,17.22737178936956,17.265272007306173,17.303255605722246,17.341322768054834,17.379473678144553,17.41770852023647,17.456027478980989,17.494430739434748,17.532918487061504,17.57149090773304,17.610148187730051,17.648890513743055]
["Frederick County","Intercity Personal VOT",null,23.38759068348045,{"$f":"+D193*(1+$B$4)","v":23.439043382984107},23.490609278426671,23.542288618839208,23.594081653800654,23.645988633439014,23.69800980843258,23.750145430011131,23.802395749957153,23.854761020607057,23.907241494852393,23.959837426141068,24.012549068478577,24.065376676429231,24.118320505117374,24.171380810228634,24.224557848011138,24.277851875276763,24.331263149402371,24.384791928331055,24.438438470573381,24.492203035208643,24.5460858818861,24.600087270826247,24.654207462822065,24.708446719240271]
["Frederick County","Business VOT",null,19.25615364905293,{"$f":"+D194*(1+$B$4)","v":19.298517187080847},19.340973924892424,19.383524067527187,19.426167820475747,19.468905389680792,19.511736981538089,19.554662802897472,19.597683061063847,19.640797963798189,19.684007719318544,19.727312536301046,19.770712623880907,19.814208191653446,19.857799449675085,19.901486608464371,19.945269879002993,19.989149472736798,20.03312560157682,20.077198477900289,20.12136831455167,20.165635324843684,20.20999972255834,20.254461721947969,20.299021537736255,20.343679385119273]
["Frederick County","Aggregated local VOT",null,16.822755576456682,{"$f":"+D195*(1+$B$4)","v":16.859765638724888},16.896857123130083,16.934030208800969,16.971285075260329,17.008621902425901,17.046040870611236,17.08354216052658,17.121125953279737,17.158792430376952,17.19654177372378,17.234374165625972,17.272289788790349,17.310288826325689,17.348371461743604,17.386537878959437,17.424788262293148,17.463122796470191,17.501541666622426,17.540045058288996,17.578633157417233,17.61730615036355,17.656064223894351,17.694907565186917,17.733836361830328,17.772850801826355]
["Frederick County","Aggregated intercity VOT",null,22.503463158112961,{"$f":"+D196*(1+$B$4)","v":22.552970777060811},22.602587312770343,22.652313004858438,22.702148093469127,22.752092819274758,22.802147423477162,22.85231214780881,22.902587234533989,22.952972926449963,23.003469466888152,23.054077099715304,23.104796069334679,23.155626620687215,23.206568999252728,23.257623451051082,23.308790222643392,23.360069561133209,23.4114617141677,23.462966929938869,23.514585457184733,23.56631754519054,23.618163443789957,23.670123403366294,23.7221976748537,23.774386509738378]
["Giles County","Local Personal VOT",{"$f":"'Detailed Location'!$G$191","v":{"$error":"#DIV/0!"}},11.020978761034048,{"$f":"+D197*(1+$B$4)","v":11.045224914308323},11.069524409119801,11.093877362819864,11.118283893018067,11.142744117582707,11.167258154641388,11.191826122581599,11.216448140051279,11.241124325959392,11.265854799476502,11.290639680035349,11.315479087331427,11.340373141323557,11.365321962234468,11.390325670551384,11.415384387026597,11.440498232678054,11.465667328789946,11.490891796913283,11.516171758866493,11.541507336735998,11.566898652876818,11.592345829913146,11.617848990738954,11.64340825851858]
["Giles County","Intercity Personal VOT",null,15.429370265447664,{"$f":"+D198*(1+$B$4)","v":15.463314880031648},15.497334172767717,15.531428307947806,15.56559745022529,15.599841764615785,15.634161416497939,15.668556571614234,15.703027396071786,15.737574056343144,15.772196719267098,15.806895552049486,15.841670722263995,15.876522397852975,15.911450747128251,15.946455938771933,15.98153814183723,16.016697525749272,16.05193426030592,16.087248515678592,16.122640462413084,16.158110271430392,16.193658114027539,16.2292841618784,16.264988587034534,16.300771561926009]
["Giles County","Business VOT",null,18.458865905002749,{"$f":"+D199*(1+$B$4)","v":18.499475409993757},18.540174255895742,18.580962639258711,18.62184075706508,18.662808806730624,18.703866986105432,18.745015493474863,18.786254527560509,18.827584287521141,18.869004972953686,18.910516783894185,18.952119920818753,18.993814584644554,19.03560097673077,19.077479298879577,19.119449753337111,19.161512542794451,19.2036678703886,19.245915939703455,19.288256954770802,19.330691120071297,19.373218640535452,19.415839721544629,19.458554568932026,19.501363388983677]
["Giles County","Aggregated local VOT",null,11.363121569656606,{"$f":"+D200*(1+$B$4)","v":11.388120437109849},11.413174302071491,11.438283285536048,11.463447508764228,11.488667093283508,11.513942160888732,11.539272833642686,11.5646592338767,11.590101484191228,11.615599707456449,11.641154026812853,11.666764565671841,11.692431447716318,11.718154796901294,11.743934737454476,11.769771393876875,11.795664890943403,11.821615353703478,11.847622907481625,11.873687677878085,11.899809790769416,11.925989372309107,11.952226548928188,11.978521447335829,12.004874194519967]
["Giles County","Aggregated intercity VOT",null,16.077682332312452,{"$f":"+D201*(1+$B$4)","v":16.113053233443541},16.148501950557115,16.184028654848341,16.219633517889008,16.255316711628364,16.291078408393947,16.326918780892413,16.362838002210378,16.398836245815239,16.434913685556033,16.471070495664257,16.50730685075472,16.54362292582638,16.580018896263198,16.616494937834975,16.653051226698214,16.689687939396951,16.726405252863625,16.763203344419924,16.800082391777647,16.837042573039557,16.874084066700245,16.911207051646986,16.948411707160609,16.985698212916361]
["Gloucester County","Local Personal VOT",null,14.775450558007565,{"$f":"+D202*(1+$B$4)","v":14.807956549235181},14.840534053643498,14.873183228561514,14.90590423166435,14.93869722097401,14.971562354860152,15.004499792040844,15.037509691583335,15.070592212904817,15.103747515773208,15.136975760307909,15.170277106980587,15.203651716615944,15.237099750392499,15.270621369843361,15.304216736857017,15.337886013678101,15.371629362908193,15.40544694750659,15.439338930791104,15.473305476438844,15.507346748487009,15.54146291133368,15.575654129738613,15.609920568824037]
["Gloucester County","Intercity Personal VOT",null,20.685630781210591,{"$f":"+D203*(1+$B$4)","v":20.731139168929253},20.776747675100896,20.822456519986119,20.868265924330089,20.914176109363616,20.960187296804214,21.006299708857185,21.052513568216671,21.098829098066748,21.145246522082495,21.191766064431075,21.238387949772822,21.285112403262321,21.331939650549497,21.378869917780705,21.425903431599821,21.473040419149338,21.520281108071465,21.56762572650922,21.61507450310754,21.662627667014377,21.710285447881809,21.758048075867148,21.805915781634056,21.853888796353651]
["Gloucester County","Business VOT",null,17.363317902259762,{"$f":"+D204*(1+$B$4)","v":17.401517201644733},17.439800539488353,17.478168100675227,17.51662007049671,17.555156634651802,17.593777979248035,17.632484290802381,17.671275756242146,17.710152562905879,17.749114898544271,17.788162951321066,17.82729690981397,17.86651696301556,17.905823300334195,17.945216111594931,17.984695587040438,18.024261917331927,18.063915293550057,18.103655907195865,18.143483950191694,18.183399614882116,18.223403094034857,18.263494580841733,18.303674268919586,18.34394235231121]
["Gloucester County","Aggregated local VOT",null,14.894492455843167,{"$f":"+D205*(1+$B$4)","v":14.927260339246022},14.960100311992363,14.993012532678746,15.025997160250638,15.059054354003189,15.092184273581996,15.125387078983875,15.158662930557639,15.192011989004866,15.225434415380677,15.258930371094515,15.292500017910923,15.326143517950326,15.359861033689816,15.393652727963934,15.427518763965454,15.461459305246178,15.495474515717719,15.529564559652298,15.563729601683534,15.597969806807237,15.632285340382213,15.666676368131053,15.701143056140941,15.735685570864451]
["Gloucester County","Aggregated intercity VOT",null,19.974655825115111,{"$f":"+D206*(1+$B$4)","v":20.018600067930365},20.06264098807981,20.106778798253586,20.151013711609743,20.195345941775283,20.23977570284719,20.284303209393453,20.328928676454119,20.373652319542316,20.418474354645308,20.463394998225528,20.508414467221623,20.55353297904951,20.598750751603419,20.644068003256944,20.68948495286411,20.735001819760409,20.780618823763881,20.82633618517616,20.872154124783549,20.918072863858072,20.96409262415856,21.010213627931709,21.056436097913156,21.102760257328566]
["Goochland County","Local Personal VOT",{"$f":"'Detailed Location'!$G$192","v":{"$error":"#DIV/0!"}},19.769938108448926,{"$f":"+D207*(1+$B$4)","v":19.813431972287514},19.857021522626546,19.900706969976323,19.94448852531027,19.988366400065953,20.032340806146099,20.076411955919621,20.120580062222643,20.164845338359534,20.209207998103924,20.253668255699754,20.298226325862291,20.342882423779187,20.387636765111502,20.432489565994747,20.477441043039935,20.522491413334624,20.567640894443958,20.612889704411735,20.658238061761441,20.703686185497315,20.74923429510541,20.794882610554641,20.840631352297862,20.886480741272916]
["Goochland County","Intercity Personal VOT",null,27.677913351828494,{"$f":"+D208*(1+$B$4)","v":27.738804761202516},27.799830131677162,27.860989757966852,27.922283935434379,27.983712960092333,28.045277128604535,28.106976738287464,28.168812087111696,28.23078347370334,28.292891197345487,28.355135557979647,28.4175168562072,28.480035393290855,28.542691471156093,28.605485392392637,28.668417460255899,28.731487978668461,28.794697252221532,28.85804558617642,28.921533286466008,28.985160659696234,29.048928013147567,29.112835654776489,29.176883893216996,29.241073037782073]
["Goochland County","Business VOT",null,21.409724236167996,{"$f":"+D209*(1+$B$4)","v":21.456825629487565},21.504030645872437,21.551339513293357,21.598752460222602,21.646269715635093,21.693891509009489,21.741618070329309,21.789449630084032,21.837386419270217,21.88542866939261,21.933576612465274,21.981830481012697,22.030190508070923,22.078656927188678,22.127229972428491,22.175909878367833,22.22469688010024,22.273591213236461,22.32259311390558,22.371702818756173,22.420920564957438,22.470246590200343,22.519681132698782,22.569224431190719,22.618876724939337]
["Goochland County","Aggregated local VOT",null,19.845368270324006,{"$f":"+D210*(1+$B$4)","v":19.889028080518717},19.932783942295856,19.976636066968908,20.020584666316239,20.064629952582134,20.108772138477814,20.153011437182464,20.197348062344265,20.241782228081423,20.286314148983202,20.330944040110964,20.375672116999208,20.420498595656607,20.46542369256705,20.510447624690698,20.555570609465018,20.60079286480584,20.646114609108412,20.691536061248449,20.737057440583197,20.782678966952478,20.828400860679771,20.874223342573266,20.920146633926926,20.966170956521566]
["Goochland County","Aggregated intercity VOT",null,26.336520881077146,{"$f":"+D211*(1+$B$4)","v":26.394461227015515},26.45252904171495,26.510724605606722,26.569048199739058,26.627500105778484,26.686080606011195,26.744789983344418,26.803628521307775,26.86259650405465,26.921694216363569,26.980921943639569,27.040279971915574,27.099768587853788,27.159388078747067,27.21913873252031,27.279020837731853,27.339034683574862,27.399180559878726,27.459458757110458,27.519869566376101,27.580413279422128,27.641090188636856,27.701900587051856,27.762844768343371,27.823923026833725]
["Grayson County","Local Personal VOT",{"$f":"'Detailed Location'!$G$193","v":{"$error":"#DIV/0!"}},7.4977128940731399,{"$f":"+D212*(1+$B$4)","v":7.5142078624401005},7.5307391197374685,7.5473067458008911,7.5639108206416532,7.5805514244470649,7.597228637580848,7.6139425405835253,7.6306932141728092,7.6474807392439894,7.664305196870326,7.6811666683034403,7.6980652349737078,7.7150009784906501,7.7319739806433292,7.7489843234007445,7.7660320889122261,7.7831173595078331,7.8002402176987502,7.8174007461776869,7.8345990278192774,7.8518351456804796,7.8691091830009761,7.8864212232035777,7.9037713498946252,7.9211596468643934]
["Grayson County","Intercity Personal VOT",null,10.496798051702395,{"$f":"+D213*(1+$B$4)","v":10.51989100741614},10.543034767632456,10.566229444121246,10.589475148898313,10.612771994225888,10.636120092613185,10.659519556816933,10.682970499841931,10.706473034941583,10.730027275618454,10.753633335624814,10.777291328963189,10.801001369886908,10.824763572900659,10.84857805276104,10.872444924477113,10.896364303310962,10.920336304778246,10.944361044648758,10.968438638946985,10.992569203952668,11.016752856201363,11.040989712485006,11.065279889852473,11.089623505610149]
["Grayson County","Business VOT",null,16.863347941325333,{"$f":"+D214*(1+$B$4)","v":16.900447306796249},16.937628290871199,16.974891073111117,17.012235833471962,17.049662752305601,17.087172010360671,17.124763788783465,17.162438269118788,17.200195633310848,17.238036063704133,17.275959743044282,17.313966854478981,17.352057581558835,17.390232108238266,17.428490618876388,17.466833298237916,17.505260331494039,17.543771904223327,17.582368202412617,17.621049412457925,17.659815721165334,17.698667315751898,17.737604383846552,17.776627113491013,17.815735693140692]
["Grayson County","Aggregated local VOT",null,7.92853210624674,{"$f":"+D215*(1+$B$4)","v":7.9459748768804825},7.9634560216096197,7.9809756248571606,7.9985337712318465,8.0161305455285561,8.0337660327287193,8.0514403180007221,8.0691534867003227,8.0869056243710631,8.1046968167446796,8.1225271497415186,8.1403967094709504,8.1583055822317867,8.1762538545126962,8.1942416129926237,8.2122689445412078,8.2303359362191983,8.2484426752788806,8.2665892491644932,8.2847757455126541,8.3030022521527815,8.3212688571075173,8.3395756485931543,8.3579227150200595,8.3763101449931039]
["Grayson County","Aggregated intercity VOT",null,11.859239728081706,{"$f":"+D216*(1+$B$4)","v":11.885330055483486},11.91147778160555,11.937683032725081,11.963945935397076,11.990266616454949,12.01664520301115,12.043081822457774,12.06957660246718,12.096129670992607,12.122741156268789,12.14941118681258,12.176139891423567,12.202927399184698,12.229773839462904,12.256679341909722,12.283644036461924,12.310668053342139,12.337751523059492,12.364894576410222,12.392097344478325,12.419359958636177,12.446682550545177,12.474065252156375,12.50150819571112,12.529011513741684]
["Greene County","Local Personal VOT",{"$f":"'Detailed Location'!$G$194","v":{"$error":"#DIV/0!"}},14.491997459016392,{"$f":"+D217*(1+$B$4)","v":14.523879853426228},14.555832389103765,14.587855220359792,14.619948501844583,14.652112388548641,14.684347035803448,14.716652599282215,14.749029235000636,14.781477099317637,14.813996348936136,14.846587140903795,14.879249632613783,14.911983981805534,14.944790346565506,14.977668885327951,15.010619756875672,15.043643120340798,15.076739135205548,15.109907961303,15.143149758817867,15.176464688287265,15.209852910601496,15.24331458700482,15.276849879096231,15.310458948830242]
["Greene County","Intercity Personal VOT",null,20.288796442622949,{"$f":"+D218*(1+$B$4)","v":20.33343179479672},20.378165344745273,20.422997308503714,20.467927902582421,20.5129573439681,20.558085850124829,20.603313638995104,20.648640929000894,20.694067939044697,20.739594888510595,20.785221997265317,20.8309494856593,20.87677757452775,20.922706485191711,20.968736439459132,21.014867659625942,21.061100368477117,21.107434789287765,21.153871145824198,21.20040966234501,21.247050563602169,21.293794074842094,21.340640421806746,21.387589830734722,21.434642528362339]
["Greene County","Business VOT",null,20.110576722416795,{"$f":"+D219*(1+$B$4)","v":20.154819991206111},20.199160595186765,20.243598748496176,20.288134665742867,20.332768562007502,20.377500652843917,20.422331154280172,20.467260282819588,20.512288255441792,20.557415289603764,20.60264160324089,20.647967414768019,20.693392943080507,20.738918407555285,20.784544028051908,20.83027002491362,20.876096618968429,20.92202403153016,20.968052484399525,21.014182199865203,21.060413400704906,21.106746310186455,21.153181152068864,21.199718150603417,21.246357530534745]
["Greene County","Aggregated local VOT",null,14.750452105132814,{"$f":"+D220*(1+$B$4)","v":14.782903099764106},14.815425486583587,14.848019422654071,14.88068506538391,14.913422572527754,14.946232102187315,14.979113812812127,15.012067863200313,15.045094412499353,15.07819362020685,15.111365646171304,15.144610650592881,15.177928794024185,15.211320237371037,15.244785141893253,15.278323669205419,15.311935981277671,15.345622240436482,15.379382609365441,15.413217251106046,15.447126329058479,15.481110006982407,15.515168448997768,15.549301819585562,15.58351028358865]
["Greene County","Aggregated intercity VOT",null,20.250657422498836,{"$f":"+D221*(1+$B$4)","v":20.295208868828333},20.339858328339755,20.384606016662101,20.429452149898758,20.474396944628534,20.519440617906717,20.564583387266111,20.609825470718096,20.655167086753675,20.700608454344533,20.746149792944092,20.791791322488567,20.837533263398043,20.883375836577518,20.929319263417987,20.975363765797507,21.021509566082262,21.067756887127643,21.114105952279324,21.160556985374338,21.207110210742162,21.253765853205795,21.300524138082849,21.34738529118663,21.394349538827239]
["Greensville County","Local Personal VOT",{"$f":"'Detailed Location'!$G$195","v":{"$error":"#DIV/0!"}},9.6918498455233308,{"$f":"+D222*(1+$B$4)","v":9.7131719151834819},9.7345408933968862,9.7559568833623587,9.7774199885057556,9.7989303124804685,9.8204879591679255,9.8420930326780951,9.8637456373499859,9.8854458777521561,9.9071938586832111,9.9289896851723132,9.9508334624796912,9.9727252960971455,9.994665291748559,10.016653555390405,10.038690193212265,10.060775311637332,10.082909017322935,10.105091417161045,10.127322618278798,10.149602728039012,10.171931854040698,10.194310104119587,10.21673758634865,10.239214409038617]
["Greensville County","Intercity Personal VOT",null,13.56858978373266,{"$f":"+D223*(1+$B$4)","v":13.598440681256871},13.628357250755636,13.658339636707298,13.688387983908054,13.718502437472651,13.748683142835091,13.778930245749327,13.809243892289976,13.839624228853014,13.870071402156491,13.900585559241234,13.931166847471564,13.961815414536002,13.992531408447981,14.023314977546566,14.054166270497168,14.085085436292262,14.116072624252105,14.14712798402546,14.178251665590315,14.209443819254613,14.240704595656974,14.272034145767419,14.303432620888108,14.334900172654061]
["Greensville County","Business VOT",null,14.685581140600062,{"$f":"+D224*(1+$B$4)","v":14.717889419109381},14.750268775831422,14.782719367138251,14.815241349745955,14.847834880715396,14.88050011745297,14.913237217711366,14.94604633959033,14.978927641537428,15.01188128234881,15.044907421169977,15.078006217496551,15.111177831175043,15.144422422403627,15.177740151732914,15.211131180066726,15.244595668662873,15.278133779133931,15.311745673448025,15.34543151392961,15.379191463260254,15.413025684479425,15.44693434098528,15.480917596535447,15.514975615247824]
["Greensville County","Aggregated local VOT",null,9.9215614850968592,{"$f":"+D225*(1+$B$4)","v":9.9433889203640717},9.9652643759888733,9.9871879576160492,10.009159771122805,10.031179922619275,10.053248518449037,10.075365665189624,10.09753146965304,10.119746038886277,10.142009480171826,10.164321901028204,10.186683409210467,10.20909411271073,10.231554119758693,10.254063538822162,10.276622478607571,10.299231048060507,10.32188935636624,10.344597512950246,10.367355627478737,10.390163809859191,10.413022170240881,10.435930819015411,10.458889866817245,10.481899424524242]
["Greensville County","Aggregated intercity VOT",null,13.807625934102283,{"$f":"+D226*(1+$B$4)","v":13.838002711157309},13.868446317121855,13.898956899019522,13.929534604197364,13.960179580326598,13.990891975403315,14.021671937749202,14.052519616012249,14.083435159167475,14.114418716517644,14.145470437693982,14.176590472656908,14.207778971696753,14.239036085434485,14.27036196482244,14.301756761145048,14.333220626019568,14.36475371139681,14.396356169561884,14.428028153134919,14.459769815071816,14.491581308664973,14.523462787544036,14.555414405676633,14.587436317369121]
["Halifax County","Local Personal VOT",{"$f":"'Detailed Location'!$G$196","v":{"$error":"#DIV/0!"}},8.4618440636822196,{"$f":"+D227*(1+$B$4)","v":8.48046012062232},8.4991171328876884,8.5178151905800412,8.5365543839993165,8.555334803644115,8.5741565402121314,8.5930196846005984,8.6119243279067188,8.6308705614281127,8.6498584766632547,8.6688881653119143,8.6879597192756002,8.7070732306580059,8.726228791765454,8.7454264951073384,8.7646664333965738,8.7839486995500469,8.8032733866890567,8.8226405881397731,8.842050397433681,8.8615029083080348,8.8809982147063131,8.9005364107786669,8.9201175908823789,8.9397418495823207]
["Halifax County","Intercity Personal VOT",null,11.846581689155109,{"$f":"+D228*(1+$B$4)","v":11.872644168871249},11.898763986042765,11.924941266812059,11.951176137599045,11.977468725101764,12.003819156296988,12.03022755844084,12.056694059069409,12.083218785999362,12.10980186732856,12.136443431436684,12.163143606985845,12.189902522921214,12.21672030847164,12.243597093150278,12.270533006755208,12.297528179370069,12.324582741364683,12.351696823395685,12.378870556407154,12.406104071631249,12.433397500588837,12.460750975090132,12.48816462723533,12.515638589415246]
["Halifax County","Business VOT",null,17.932172081495331,{"$f":"+D229*(1+$B$4)","v":17.971622860074621},18.011160430366786,18.050784983313594,18.090496710276884,18.130295803039495,18.170182453806181,18.210156855204556,18.250219200286004,18.290369682526634,18.330608495828194,18.370935834519017,18.411351893354958,18.451856867520338,18.492450952628882,18.533134344724665,18.573907240283059,18.614769836211682,18.655722329851347,18.696764918977021,18.73789780179877,18.779121176962725,18.820435243552044,18.861840201087858,18.903336249530252,18.944923589279217]
["Halifax County","Aggregated local VOT",null,8.8974791525016226,{"$f":"+D230*(1+$B$4)","v":8.9170536066371255},8.9366711245717276,8.9563318010457849,8.9760357310080856,8.9957830096163036,9.0155737322374598,9.0354079944483825,9.055285892036169,9.0752075209986476,9.0951729775448449,9.1151823580954439,9.1352357592832529,9.1553332779536767,9.1754750111651742,9.1956610561897367,9.2158915105133534,9.2361664718364818,9.256486038074522,9.276850307358286,9.2972593780344734,9.3177133486661496,9.3382123180332144,9.358756385132887,9.3793456491801788,9.3999802096083744]
["Halifax County","Aggregated intercity VOT",null,13.148898033115916,{"$f":"+D231*(1+$B$4)","v":13.177825608788771},13.206816825128106,13.235871822143388,13.264990740152102,13.294173719780437,13.323420901963953,13.352732427948274,13.382108439289759,13.411549077856197,13.441054485827481,13.470624805696302,13.500260180268834,13.529960752665424,13.559726666321287,13.589558064987195,13.619455092730167,13.649417893934173,13.679446613300827,13.709541395850088,13.739702386920959,13.769929732172184,13.800223577582962,13.830584069453645,13.861011354406441,13.891505579386136]
["Hanover County","Local Personal VOT",{"$f":"'Detailed Location'!$G$198","v":{"$error":"#DIV/0!"}},18.328013902900377,{"$f":"+D232*(1+$B$4)","v":18.368335533486757},18.408745871660429,18.449245112578083,18.489833451825756,18.530511085419771,18.571278209807694,18.612135021869271,18.653081718917385,18.694118498699002,18.735245559396137,18.77646309962681,18.817771318445988,18.859170415346568,18.90066059026033,18.942242043558903,18.983914976054731,19.025679589002049,19.067536084097853,19.109484663482867,19.151525529742528,19.193658885907961,19.235884935456959,19.278203882314962,19.320615930856054,19.363121285903937]
["Hanover County","Intercity Personal VOT",null,25.659219464060527,{"$f":"+D233*(1+$B$4)","v":25.71566974688146},25.772244220324598,25.828943157609313,25.885766832556055,25.942715519587676,25.99978949373077,26.056989030616975,26.114314406484333,26.171765898178599,26.22934378315459,26.287048339477529,26.34487984582438,26.402838581485192,26.460924826364458,26.519138860982459,26.577480966476621,26.635951424602869,26.694550517736996,26.753278528876017,26.812135741639544,26.871122440271151,26.930238909639748,26.989485435240955,27.048862303198483,27.108369800265518]
["Hanover County","Business VOT",null,20.357567625374841,{"$f":"+D234*(1+$B$4)","v":20.402354274150664},20.447239453553795,20.492223380351614,20.537306271788388,20.582488345586324,20.627769819946614,20.673150913550497,20.718631845560306,20.76421283562054,20.809894103858905,20.855675870887396,20.901558357803349,20.947541786190516,20.993626378120137,21.039812356152002,21.086099943335537,21.132489363210876,21.178980839809938,21.22557459765752,21.272270861772366,21.319069857668264,21.365971811355134,21.412976949340116,21.460085498628665,21.507297686725646]
["Hanover County","Aggregated local VOT",null,18.421373374134202,{"$f":"+D235*(1+$B$4)","v":18.461900395557297},18.502516576427524,18.543222112895666,18.584017201544036,18.624902039387432,18.665876823874086,18.70694175288661,18.748097024742961,18.789342838197395,18.830679392441429,18.872106887104799,18.913625522256428,18.955235498405393,18.996937016501885,19.038730277938189,19.080615484549654,19.122592838615663,19.164662542860619,19.20682480045491,19.249079815015911,19.291427790608946,19.333868931748285,19.376403443398129,19.419031530973605,19.461753400341745]
["Hanover County","Aggregated intercity VOT",null,24.524665970581793,{"$f":"+D236*(1+$B$4)","v":24.578620235717072},24.63269320023565,24.686885125276167,24.741196272551775,24.795626904351387,24.850177283540958,24.904847673564749,24.959638338446592,25.014549542791173,25.069581551785312,25.124734631199239,25.180009047387877,25.235405067292131,25.290922958440174,25.34656298894874,25.402325427524428,25.458210543464983,25.514218606660606,25.57034988759526,25.626604657347968,25.682983187594132,25.739485750606839,25.796112619258174,25.852864067020541,25.909740367967984]
["Henrico County","Local Personal VOT",{"$f":"'Detailed Location'!$G$200","v":{"$error":"#DIV/0!"}},14.904603606557377,{"$f":"+D237*(1+$B$4)","v":14.937393734491803},14.970256000707684,15.003190563909241,15.036197583149841,15.06927721783277,15.102429627712002,15.135654972892969,15.168953413833332,15.202325111343765,15.23577022658872,15.269288921087215,15.302881356713607,15.336547695698377,15.370288100628914,15.404102734450296,15.437991760466087,15.471955342339111,15.505993644092257,15.540106830109259,15.5742950651355,15.608558514278798,15.64289734301021,15.677311717164832,15.711801802942594,15.746367766909067]
["Henrico County","Intercity Personal VOT",null,20.866445049180324,{"$f":"+D238*(1+$B$4)","v":20.912351228288522},20.958358400990758,21.004466789472936,21.050676616409774,21.096988104965874,21.143401478796797,21.189916962050148,21.236534779366657,21.283255155881264,21.330078317224203,21.377004489522097,21.424033899399046,21.471166773977725,21.518403340880475,21.565743828230413,21.61318846465252,21.660737479274754,21.708391101729159,21.756149562152963,21.804013091189699,21.851981919990315,21.900056280214294,21.948236404030766,21.996522524119634,22.044914873672695]
["Henrico County","Business VOT",null,19.074677741084926,{"$f":"+D239*(1+$B$4)","v":19.116642032115312},19.158698644585964,19.200847781604054,19.243089646723583,19.285424443946376,19.327852377723058,19.370373652954047,19.412988474990545,19.455697049635525,19.498499583144724,19.541396282227641,19.584387354048541,19.627473006227447,19.670653446841147,19.713928884424195,19.757299527969927,19.800765586931462,19.84432727122271,19.887984791219399,19.931738357760082,19.975588182147153,20.019534476147875,20.0635774519954,20.107717322389789,20.151954300499046]
["Henrico County","Aggregated local VOT",null,15.096427016745643,{"$f":"+D240*(1+$B$4)","v":15.129639156182483},15.162924362326084,15.196282795923201,15.229714618074231,15.263219990233994,15.296799074212508,15.330452032175776,15.364179026646562,15.397980220505184,15.431855776990295,15.465805859699673,15.499830632591012,15.533930259982712,15.568104906554675,15.602354737349096,15.636679917771263,15.671080613590359,15.705556990940257,15.740109216320326,15.774737456596229,15.80944187900074,15.844222651134542,15.879079940967038,15.914013916837165,15.949024747454207]
["Henrico County","Aggregated intercity VOT",null,20.48300684524791,{"$f":"+D241*(1+$B$4)","v":20.528069460307456},20.573231213120131,20.618492321788995,20.663853004896932,20.709313481507706,20.754873971167022,20.80053469390359,20.846295870230175,20.892157721144681,20.938120468131199,20.984184333161089,21.030349538694043,21.076616307679171,21.122984863556063,21.169455430255887,21.216028232202451,21.262703494313296,21.309481442000784,21.356362301173185,21.403346298235764,21.450433660091882,21.497624614144083,21.544919388295199,21.592318210949447,21.639821311013534]
["Henry County","Local Personal VOT",{"$f":"'Detailed Location'!$G$201","v":{"$error":"#DIV/0!"}},8.5411913997477935,{"$f":"+D242*(1+$B$4)","v":8.5599820208272384},8.5788139812730577,8.5976873720318583,8.6166022842503285,8.635558809275679,8.6545570386560851,8.6735970641411289,8.69267897768224,8.7118028714331412,8.7309688377502948,8.7501769691933458,8.7694273585255704,8.788720098714327,8.8080552829314982,8.8274330045539475,8.8468533571639654,8.8663164345497254,8.885822330705734,8.9053711398332869,8.9249629563409201,8.9445978748448702,8.9642759901695293,8.9839973973479026,9.0037621916220676,9.0235704684436353]
["Henry County","Intercity Personal VOT",null,11.957667959646912,{"$f":"+D243*(1+$B$4)","v":11.983974829158136},12.010339573782284,12.036762320844606,12.063243197950463,12.089782332985953,12.116379854118522,12.143035889797583,12.169750568755138,12.196524020006398,12.223356372850413,12.250247756870683,12.277198301935799,12.304208138200059,12.331277396104099,12.358406206375527,12.385594700029554,12.412843008369618,12.440151262988032,12.467519595766605,12.494948138877291,12.522437024782821,12.549986386237343,12.577596356287065,12.605267068270896,12.632998655821092]
["Henry County","Business VOT",null,15.575125691358474,{"$f":"+D244*(1+$B$4)","v":15.609390967879463},15.643731628008798,15.678147837590418,15.712639762833117,15.74720757031135,15.781851426966034,15.81657150010536,15.851367957405591,15.886240966911883,15.921190697039089,15.956217316572575,15.991320994669035,16.026501900857308,16.061760205039196,16.097096077490281,16.132509688860761,16.168001210176254,16.203570812838642,16.239218668626886,16.274944949697865,16.310749828587198,16.346633478210091,16.382596071862153,16.418637783220248,16.454758786343334]
["Henry County","Aggregated local VOT",null,8.8647523771618832,{"$f":"+D245*(1+$B$4)","v":8.8842548323916386},8.9038001930228994,8.9233885534475501,8.943020008265135,8.962694652283318,8.982412580518341,9.0021738881954807,9.02197867074951,9.0418270238251583,9.0617190432775736,9.0816548251727838,9.1016344657881643,9.1216580616128979,9.1417257093484459,9.1618375059090127,9.1819935484220121,9.202193934228541,9.2224387608838434,9.2427281261577878,9.2630621280353349,9.2834408647170132,9.3038644346193902,9.3243329363755532,9.3448464688355788,9.3654051310670177]
["Henry County","Aggregated intercity VOT",null,12.731803914233186,{"$f":"+D246*(1+$B$4)","v":12.759813882844499},12.787885473386757,12.816018821428207,12.844214062835348,12.872471333773586,12.900790770707887,12.929172510403445,12.957616689926333,12.98612344664417,13.014692918226787,13.043325242646885,13.072020558180707,13.100779003408704,13.129600717216203,13.158485838794078,13.187434507639425,13.216446863556232,13.245523046656055,13.274663197358699,13.303867456392888,13.333135964796952,13.362468863919505,13.391866295420128,13.421328401270051,13.450855323752844]
["Highland County","Local Personal VOT",null,12.115727853089533,{"$f":"+D247*(1+$B$4)","v":12.142382454366329},12.169095695765934,12.195867706296619,12.222698615250472,12.249588552204022,12.276537647018872,12.303546029842312,12.330613831107966,12.357741181536403,12.384928212135783,12.412175054202482,12.439481839321727,12.466848699368235,12.494275766506846,12.521763173193161,12.549311052174186,12.576919536488969,12.604588759469245,12.632318854740076,12.660109956220504,12.68796219812419,12.715875714960063,12.743850641532974,12.771887112944347,12.799985264592824]
["Highland County","Intercity Personal VOT",null,16.962018994325348,{"$f":"+D248*(1+$B$4)","v":16.999335436112862},17.036733974072309,17.074214788815269,17.111778061350662,17.149423973085632,17.187152705826421,17.224964441779239,17.262859363551154,17.300837654150968,17.338899496990098,17.377045075883476,17.415274575050418,17.453588179115528,17.491986073109583,17.530468442470426,17.569035473043861,17.607687351084557,17.646424263256943,17.685246396636106,17.724153938708707,17.763147077373866,17.802226000944088,17.841390898146166,17.880641958122087,17.919979370429957]
["Highland County","Business VOT",null,14.917291073332645,{"$f":"+D249*(1+$B$4)","v":14.950109113693976},14.982999353744102,15.015961952322339,15.048997068617448,15.082104862168405,15.115285492865176,15.148539120949479,15.181865907015569,15.215266012011002,15.248739597237426,15.282286824351349,15.315907855364921,15.349602852646724,15.383371978922547,15.417215397276177,15.451133271150184,15.485125764346714,15.519193041028277,15.553335265718539,15.58755260330312,15.621845219030387,15.656213278512254,15.690656947724982,15.725176393009976,15.759771781074598]
["Highland County","Aggregated local VOT",null,12.244599761220714,{"$f":"+D250*(1+$B$4)","v":12.2715378806954},12.29853526403293,12.325592041613803,12.352708344105352,12.379884302462383,12.407120047927799,12.434415712033241,12.461771426599714,12.489187323738234,12.516663535850459,12.54420019562933,12.571797436059715,12.599455390419045,12.627174192277968,12.654953975500979,12.682794874247081,12.710697022970425,12.73866055642096,12.766685609645085,12.794772317986304,12.822920817085874,12.851131242883463,12.879403731617806,12.907738419827366,12.936135444350986]
["Highland County","Aggregated intercity VOT",null,16.524447219232911,{"$f":"+D251*(1+$B$4)","v":16.560801003115223},16.597234765322078,16.633748681805788,16.670342928905761,16.707017683349353,16.743773122252723,16.780609423121678,16.817526763852545,16.854525322733021,16.891605278443034,16.92876681005561,16.966010097037731,17.003335319251214,17.040742656953565,17.078232290798862,17.11580440183862,17.153459171522666,17.191196781700015,17.229017414619754,17.266921252931919,17.304908479688368,17.342979278343684,17.381133832756039,17.4193723271881,17.457694946307914]
["Isle of Wight County","Local Personal VOT",{"$f":"'Detailed Location'!$G$201","v":{"$error":"#DIV/0!"}},15.611161116015134,{"$f":"+D252*(1+$B$4)","v":15.645505670470367},15.679925782945402,15.714421619667881,15.748993347231151,15.78364113259506,15.818365143086769,15.853165546401559,15.888042510603642,15.922996204126969,15.958026795776048,15.993134454726755,16.028319350527156,16.063581653098314,16.09892153273513,16.134339160107146,16.16983470625938,16.205408342613151,16.241060240966899,16.276790573497024,16.312599512758716,16.348487231686786,16.384453903596498,16.420499702184411,16.456624801529216,16.49282937609258]
["Isle of Wight County","Intercity Personal VOT",null,21.855625562421185,{"$f":"+D253*(1+$B$4)","v":21.90370793865851},21.951896096123559,22.000190267535029,22.048590686123607,22.09709758563308,22.145711200321472,22.194431764962179,22.243259514845096,22.292194685777755,22.341237514086465,22.390388236617454,22.439647090738013,22.489014314337638,22.538490145829179,22.588074824150002,22.63776858876313,22.687571679658408,22.737484337353656,22.787506802895834,22.837639317862205,22.8878821243615,22.938235465035095,22.988699583058171,23.039274722140899,23.089961126529609]
["Isle of Wight County","Business VOT",null,18.467931964558794,{"$f":"+D254*(1+$B$4)","v":18.508561414880823},18.549280249993561,18.590088666543547,18.630986861609944,18.671975032705486,18.713053377777438,18.754222095208547,18.795481383818007,18.836831442862408,18.878272472036706,18.919804671475188,18.961428241752433,19.003143383884289,19.044950299328836,19.086849189987358,19.128840258205329,19.17092370677338,19.213099738928282,19.255368558353922,19.2977303691823,19.340185375994501,19.382733783821688,19.425375798146096,19.468111624902015,19.510941470476798]
["Isle of Wight County","Aggregated local VOT",null,15.74257257504814,{"$f":"+D255*(1+$B$4)","v":15.777206234713246},15.811916088429614,15.846702303824159,15.881565048892572,15.916504492000135,15.951520801882534,15.986614147646675,16.021784698771498,16.057032625108796,16.092358096884034,16.127761284697179,16.163242359523512,16.198801492714463,16.234438855998434,16.27015462148163,16.305948961648891,16.341822049364517,16.377774057873118,16.41380516080044,16.449915532154201,16.486105346324941,16.522374778086856,16.558724002598648,16.595153195404365,16.631662532434255]
["Isle of Wight County","Aggregated intercity VOT",null,21.130659132478634,{"$f":"+D256*(1+$B$4)","v":21.177146582570085},21.223736305051737,21.270428524922849,21.317223467677678,21.364121359306569,21.411122426297045,21.458226895634898,21.505434994805295,21.552746951793868,21.600162995087814,21.647683353677007,21.695308257055096,21.743037935220617,21.790872618678101,21.838812538439193,21.886857926023758,21.935009013461009,21.983266033290622,22.031629218563861,22.080098802844702,22.128675020210959,22.177358105255422,22.226148293086982,22.275045819331773,22.324050920134301]
["James City County","Local Personal VOT",{"$f":"'Detailed Location'!$G$203","v":{"$error":"#DIV/0!"}},18.789449180327868,{"$f":"+D257*(1+$B$4)","v":18.830785968524587},18.87221369765534,18.913732567790181,18.95534277943932,18.997044533554085,19.038838031527902,19.080723475197264,19.122701066842698,19.164771009189753,19.206933505409971,19.249188759121871,19.291536974391938,19.333978355735599,19.376513108118218,19.419141436956078,19.461863548117382,19.50467964792324,19.547589943148669,19.590594641023596,19.633693949233848,19.676888075922161,19.720177229689188,19.763561619594505,19.807041455157613,19.850616946358958]
["James City County","Intercity Personal VOT",null,26.305228852459013,{"$f":"+D258*(1+$B$4)","v":26.363100355934421},26.421099176717476,26.479225594906254,26.537479891215046,26.595862346975718,26.654373244139062,26.713012865276166,26.771781493579773,26.830679412865649,26.889706907573952,26.948864262770613,27.008151764148707,27.067569698029832,27.127118351365496,27.1867980117385,27.246608967364324,27.306551507092525,27.366625920408129,27.426832497433026,27.487171528927377,27.547643306291015,27.608248121564856,27.668986267432299,27.729858037220648,27.790863724902533]
["James City County","Business VOT",null,21.92537877351252,{"$f":"+D259*(1+$B$4)","v":21.973614606814248},22.021956558949238,22.070404863378926,22.118959754078357,22.16762146553733,22.216390232761512,22.265266291273587,22.314249877114388,22.363341226844039,22.412540577543094,22.461848166813688,22.511264232780679,22.560789014092794,22.610422749923799,22.66016567997363,22.710018044469571,22.759980084167402,22.81005204035257,22.860234154841343,22.910526669981994,22.960929828655953,23.011443874278996,23.06206905080241,23.112805602714175,23.163653775040146]
["James City County","Aggregated local VOT",null,18.933701941614363,{"$f":"+D260*(1+$B$4)","v":18.975356085885913},19.01710186927486,19.058939493387264,19.100869160272715,19.142891072425314,19.185005432784649,19.227212444736775,19.269512312115197,19.311905239201849,19.354391430728093,19.396971091875695,19.43964442827782,19.482411646020029,19.525272951641274,19.568228552134883,19.611278654949579,19.654423467990469,19.697663199620049,19.740998058659212,19.784428254388263,19.827953996547919,19.871575495340323,19.915292961430072,19.95910660594522,20.0030166404783]
["James City County","Aggregated intercity VOT",null,25.367940935564462,{"$f":"+D261*(1+$B$4)","v":25.423750405622705},25.479682656515074,25.535737958359405,25.591916581867796,25.648218798347905,25.704644879704269,25.761195098439618,25.817869727656184,25.874669041057029,25.931593312947353,25.988642818235835,26.045817832435954,26.103118631667314,26.160545492656983,26.218098692740828,26.275778509864857,26.33358522258656,26.391519110076249,26.449580452118415,26.507769529113073,26.566086622077123,26.624532012645691,26.68310598307351,26.741808816236272,26.800640795631992]
["King and Queen County","Local Personal VOT",null,11.809813354350569,{"$f":"+D262*(1+$B$4)","v":11.835794943730139},11.861833692606345,11.887929726730079,11.914083172128885,11.940294155107569,11.966562802248806,11.992889240413753,12.019273596742662,12.045715998655496,12.072216573852538,12.098775450315014,12.125392756305706,12.152068620369578,12.17880317133439,12.205596538311326,12.232448850695611,12.259360238167142,12.28633083069111,12.31336075851863,12.340450152187371,12.367599142522183,12.394807860635732,12.42207643792913,12.449405006092574,12.476793697105977]
["King and Queen County","Intercity Personal VOT",null,16.533738696090793,{"$f":"+D263*(1+$B$4)","v":16.570112921222194},16.606567169648883,16.643101617422111,16.679716440980439,16.716411817150597,16.753187923148328,16.790044936579253,16.826983035439728,16.864002398117695,16.901103203393554,16.938285630441019,16.975549858827989,17.01289606851741,17.050324439868149,17.087835153635858,17.125428390973855,17.163104333433999,17.200863162967554,17.238705061926083,17.276630213062319,17.314638799531057,17.352731004890025,17.390907013100783,17.429167008529603,17.467511175948367]
["King and Queen County","Business VOT",null,16.601326161816239,{"$f":"+D264*(1+$B$4)","v":16.637849079372234},16.674452347346854,16.711136142511016,16.74790064202454,16.784746023436995,16.821672464688557,16.85868014411087,16.895769240427914,16.932939932756856,16.970192400608919,17.007526823890259,17.044943382902819,17.082442258345203,17.120023631313561,17.157687683302452,17.195434596205718,17.233264552317369,17.271177734332468,17.309174325348,17.347254508863767,17.385418468783268,17.423666389414592,17.461998455471303,17.500414852073341,17.538915764747902]
["King and Queen County","Aggregated local VOT",null,12.030222943493989,{"$f":"+D265*(1+$B$4)","v":12.056689433969675},12.083214150724407,12.109797221856001,12.136438775744084,12.16313894105072,12.189897846721031,12.216715621983818,12.243592396352183,12.270528299624157,12.29752346188333,12.324578013499472,12.351692085129171,12.378865807716455,12.406099312493431,12.433392730980916,12.460746194989074,12.488159836618049,12.515633788258608,12.543168182592776,12.570763152594481,12.598418831530187,12.626135352959553,12.653912850736063,12.681751459007682,12.709651312217499]
["King and Queen County","Aggregated intercity VOT",null,16.548202413756041,{"$f":"+D266*(1+$B$4)","v":16.584608459066303},16.621094597676247,16.657661005791134,16.694307860003875,16.731035337295882,16.767843615037933,16.804732870991014,16.841703283307194,16.878755030530471,16.915888291597636,16.953103245839149,16.990400072979995,17.027778953140551,17.065240066837461,17.102783594984505,17.140409718893469,17.178118620275036,17.215910481239639,17.253785484298366,17.291743812363823,17.329785648751024,17.367911177178275,17.406120581768068,17.444414047047957,17.48279175795146]
["King George County","Local Personal VOT",null,19.959639278058006,{"$f":"+D267*(1+$B$4)","v":20.003550484469734},20.047558295535566,20.091662923785744,20.135864582218073,20.180163484298951,20.224559843964407,20.269053875621129,20.313645794147494,20.358335814894616,20.403124153687383,20.448011026825494,20.492996651084511,20.538081243716896,20.583265022453073,20.628548205502469,20.673931011554572,20.719413659779992,20.764996369831508,20.810679361845136,20.856462856441194,20.902347074725363,20.948332238289758,20.994418569213995,21.040606290066265,21.086895623904411]
["King George County","Intercity Personal VOT",null,27.943494989281209,{"$f":"+D268*(1+$B$4)","v":28.004970678257628},28.066581613749793,28.128328093300041,28.190210415105302,28.252228878018531,28.31438378155017,28.376675425869578,28.43910411180649,28.501670140852465,28.564373815162341,28.627215437555698,28.69019531151832,28.753313741203659,28.816571031434307,28.87996748770346,28.943503416176409,29.007179123691998,29.070994917764121,29.134951106583202,29.199047999017683,29.263285904615522,29.327665133605674,29.392185996899606,29.456848806092786,29.521653873466189]
["King George County","Business VOT",null,23.632106729585491,{"$f":"+D269*(1+$B$4)","v":23.684097364390578},23.736202378592235,23.788422023825138,23.840756552277554,23.893206216692565,23.945771270369288,23.998451967164101,24.05124856149186,24.104161308327143,24.157190463205463,24.210336282224514,24.263599022045408,24.316978939893907,24.370476293561673,24.424091341407507,24.477824342358602,24.531675555911789,24.585645242134795,24.639733661667492,24.69394107572316,24.748267746089752,24.802713935131148,24.857279905788435,24.911965921581167,24.966772246608645]
["King George County","Aggregated local VOT",null,20.128572780828268,{"$f":"+D270*(1+$B$4)","v":20.172855640946089},20.217235923356171,20.261713842387554,20.306289612840807,20.350963449989056,20.395735569579031,20.440606187832106,20.485575521445337,20.530643787592517,20.57581120392522,20.621077988573855,20.666444360148716,20.711910537741044,20.757476740924073,20.803143189754106,20.848910104771566,20.894777707002063,20.940746217957468,20.986815859636973,21.032986854528176,21.079259425608136,21.125633796344474,21.172110190696429,21.218688833115962,21.265369948548816]
["King George County","Aggregated intercity VOT",null,27.020857901706325,{"$f":"+D271*(1+$B$4)","v":27.080303789090078},27.139880457426074,27.199588194432412,27.259427288460163,27.319398028494774,27.379500704157461,27.439735605706606,27.500103024039159,27.560603250692044,27.621236577843565,27.682003298314822,27.742903705571113,27.803938093723367,27.86510675752956,27.926409992396124,27.987848094379395,28.049421360187029,28.11113008717944,28.172974573371235,28.234955117432651,28.297072018691004,28.359325577132125,28.421716093401816,28.484243868807301,28.546909205318677]
["King William County","Local Personal VOT",null,15.300607849936947,{"$f":"+D272*(1+$B$4)","v":15.334269187206807},15.368004579418661,15.401814189493383,15.435698180710268,15.469656716707831,15.503689961484588,15.537798079399852,15.571981235174531,15.606239593891916,15.640573320998477,15.674982582304674,15.709467543985744,15.744028372582513,15.778665235002194,15.813378298519199,15.848167730775941,15.883033699783647,15.917976373923171,15.952995921945801,15.988092512974081,16.023266316502625,16.058517502398931,16.09384624090421,16.129252702634197,16.164737058579991]
["King William County","Intercity Personal VOT",null,21.420850989911727,{"$f":"+D273*(1+$B$4)","v":21.467976862089532},21.515206411186128,21.562539865290738,21.609977452994379,21.657519403390967,21.705165946078427,21.752917311159798,21.800773729244348,21.848735431448684,21.89680264939787,21.944975615226543,21.993254561580041,22.041639721615518,22.090131329003071,22.138729617926877,22.187434823086317,22.236247179697106,22.28516692349244,22.334194290724124,22.383329518163716,22.432572843103674,22.481924503358503,22.531384737265892,22.580953783687878,22.63063188201199]
["King William County","Business VOT",null,18.385340485430326,{"$f":"+D274*(1+$B$4)","v":18.425788234498274},18.46632496861417,18.50695088354512,18.547666175488917,18.588471041074992,18.629365677365357,18.670350281855558,18.71142505247564,18.752590187591085,18.793845886003787,18.835192346952994,18.876629770116288,18.918158355610544,18.959778303992888,19.001489816261671,19.043293093857447,19.085188338663933,19.127175753008995,19.169255539665613,19.211427901852876,19.25369304323695,19.29605116793207,19.338502480501521,19.381047185958625,19.423685489767735]
["King William County","Aggregated local VOT",null,15.442505551169642,{"$f":"+D275*(1+$B$4)","v":15.476479063382214},15.510527317321655,15.544650477419761,15.578848708470085,15.613122175628719,15.647471044415102,15.681895480712814,15.716395650770382,15.750971721202076,15.785623858988719,15.820352231478495,15.855157006387747,15.890038351801801,15.924996436175764,15.96003142833535,15.995143497477688,16.030332813172137,16.065599545361117,16.100943864360911,16.136365940862504,16.171865945932399,16.20744405101345,16.243100427925679,16.278835248867114,16.314648686414621]
["King William County","Aggregated intercity VOT",null,20.771251741952707,{"$f":"+D276*(1+$B$4)","v":20.816948495785002},20.862745782475731,20.908643823197178,20.954642839608212,21.000743053855349,21.046944688573831,21.093247966888693,21.139653112415846,21.186160349263162,21.232769902031539,21.279481995816006,21.326296856206802,21.373214709290458,21.420235781650899,21.46736030037053,21.514588493031344,21.561920587716013,21.60935681300899,21.656897397997611,21.704542572273205,21.752292565932205,21.800147609577255,21.848107934318325,21.896173771773825,21.944345354071725]
["Lancaster County","Local Personal VOT",null,12.023684943253468,{"$f":"+D277*(1+$B$4)","v":12.050137050128624},12.076647351638908,12.103215975812512,12.1298430509593,12.156528705671411,12.183273068823887,12.2100762695753,12.236938437368366,12.263859701930576,12.290840193274823,12.317880041700027,12.344979377791766,12.372138332422908,12.399357036754239,12.426635622235098,12.453974220604016,12.481372963889344,12.5088319844099,12.536351414775602,12.563931387888108,12.591572036941461,12.619273495422732,12.647035897112662,12.67485937608631,12.7027440667137]
["Lancaster County","Intercity Personal VOT",null,16.833158920554855,{"$f":"+D278*(1+$B$4)","v":16.870191870180076},16.907306292294471,16.94450236613752,16.981780271343023,17.019140187939978,17.056582296353447,17.094106777405425,17.131713812315716,17.16940358270281,17.207176270584757,17.245032058380044,17.282971128908478,17.320993665392077,17.359099851455941,17.397289871129143,17.435563908845626,17.473922149445087,17.512364778173865,17.550891980685847,17.589503943043354,17.628200851718049,17.666982893591829,17.705850255957731,17.744803126520839,17.783841693399186]
["Lancaster County","Business VOT",null,18.558600219546204,{"$f":"+D279*(1+$B$4)","v":18.599429140029205},18.64034788413727,18.681356649482371,18.722455634111231,18.763645036506276,18.80492505558659,18.84629589070888,18.887757741668441,18.929310808700112,18.970955292479253,19.012691394122708,19.054519315189779,19.096439257683198,19.1384514240501,19.180556017183008,19.222753240420811,19.265043297549738,19.307426392804349,19.349902730868518,19.392472516876428,19.435135956413557,19.477893255517667,19.520744620679807,19.563690258845302,19.60673037741476]
["Lancaster County","Aggregated local VOT",null,12.324291045962935,{"$f":"+D280*(1+$B$4)","v":12.351404486264054},12.378577576133834,12.405810446801327,12.43310322978429,12.460456056889816,12.487869060214974,12.515342372147447,12.542876125366172,12.570470452841978,12.59812548783823,12.625841363911473,12.653618214912077,12.681456174984884,12.709355378569851,12.737315960402706,12.765338055515592,12.793421799237725,12.821567327196048,12.849774775315879,12.878044279821573,12.906375977237181,12.934770004387103,12.963226498396754,12.991745596693226,13.020327437005951]
["Lancaster County","Aggregated intercity VOT",null,17.202403358539005,{"$f":"+D281*(1+$B$4)","v":17.240248645927789},17.278177192948828,17.316189182773314,17.354284798975414,17.392464225533161,17.430727646829332,17.469075247652356,17.50750721319719,17.546023729066224,17.584624981270171,17.623311156228965,17.662082440772668,17.700939022142368,17.73988108799108,17.778908826384662,17.818022425802706,17.857222075139472,17.896507963704778,17.935880281224929,17.975339217843622,18.014884964122878,18.054517711043946,18.094237650008242,18.134044972838261,18.173939871778504]
["Lee County","Local Personal VOT",{"$f":"'Detailed Location'!$G$204","v":{"$error":"#DIV/0!"}},7.6437119924337953,{"$f":"+D282*(1+$B$4)","v":7.6605281588171499},7.6773813207665471,7.6942715596722335,7.7111989571035124,7.7281635948091401,7.7451655547177198,7.7622049189380986,7.7792817697597627,7.7963961896532341,7.813548261270471,7.8307380674452656,7.8479656911936448,7.865231215714271,7.882534724388842,7.8998763007824975,7.9172560286442186,7.9346739919072355,7.9521302746894316,7.9696249612937482,7.9871581362085946,8.0047298841082526,8.0223402898532914,8.0399894384909683,8.0576774152556485,8.0754043055692115]
["Lee County","Intercity Personal VOT",null,10.701196789407314,{"$f":"+D283*(1+$B$4)","v":10.72473942234401},10.748333849073166,10.771980183541126,10.795678539944916,10.819429032732794,10.843231776604807,10.867086886513336,10.890994477663666,10.914954665514525,10.938967565778658,10.96303329442337,10.987151967671101,11.011323701999977,11.035548614144377,11.059826821095495,11.084158440101906,11.108543588670129,11.132982384565203,11.157474945811247,11.18202139069203,11.206621837751552,11.231276405794604,11.255985213887353,11.280748381357904,11.305566027796891]
["Lee County","Business VOT",null,18.609660047317945,{"$f":"+D284*(1+$B$4)","v":18.650601299422043},18.691632622280771,18.732754214049788,18.773966273320696,18.815268999122001,18.85666259092007,18.898147248620095,18.93972317256706,18.981390563546707,19.023149622786509,19.06500055195664,19.106943553170943,19.148978828987918,19.191106582411692,19.233327016892996,19.275640336330159,19.318046745070085,19.36054644790924,19.403139650094641,19.44582655732485,19.488607375750963,19.531482311977616,19.574451573063968,19.617515366524707,19.660673900331062]
["Lee County","Aggregated local VOT",null,8.1481456029584649,{"$f":"+D285*(1+$B$4)","v":8.1660715232849732},8.1840368806361994,8.2020417617735983,8.2200862536494999,8.2381704434075278,8.2562944183830247,8.2744582661034674,8.292662074288895,8.3109059308523303,8.3291899239002056,8.3475141417327858,8.3658786728445982,8.3842836059248569,8.4027290298578912,8.4212150337235787,8.4397417067977702,8.4583091385527247,8.4769174186575409,8.4955666369785874,8.5142568835799395,8.5329882487238145,8.5517608228710067,8.570574696681323,8.5894299610140212,8.6083267069282527]
["Lee County","Aggregated intercity VOT",null,12.39360792660019,{"$f":"+D286*(1+$B$4)","v":12.420873864038709},12.448199786539595,12.475585826069981,12.503032114887334,12.530538785540086,12.558105970868274,12.585733804004184,12.613422418372993,12.641171947693413,12.668982525978338,12.696854287535491,12.724787366968068,12.752781899175398,12.780838019353583,12.808955862996161,12.837135565894751,12.86537726413972,12.893681094120828,12.922047192527893,12.950475696351454,12.978966742883427,13.00752046971777,13.036137014751148,13.064816516183599,13.093559112519204]
["Loudoun County","Local Personal VOT",null,29.843875895334172,{"$f":"+D287*(1+$B$4)","v":29.909532422303908},29.975333393632976,30.041279127098967,30.107369941178586,30.173606155049178,30.239988088590287,30.306516062385185,30.373190397722432,30.440011416597422,30.506979441713934,30.574094796485703,30.64135780503797,30.708768792209053,30.776328083551913,30.844036005335727,30.911892884547466,30.979899048893468,31.048054826801035,31.116360547419998,31.184816540624322,31.253423137013694,31.322180667915124,31.391089465384535,31.460149862208382,31.529362191905239]
["Loudoun County","Intercity Personal VOT",null,41.781426253467842,{"$f":"+D288*(1+$B$4)","v":41.87334539122547},41.965466751086169,42.057790777938557,42.150317917650021,42.243048617068851,42.335983324026401,42.429122487339257,42.522466556811402,42.616015983236387,42.70977121839951,42.803732715079988,42.897900927053165,42.992276309092681,43.086859316972685,43.181650407470023,43.276650038366455,43.371858668450862,43.467276757521454,43.562904766388002,43.658743156874053,43.754792391819173,43.851052935081171,43.947525251538352,44.044209807091733,44.141107068667331]
["Loudoun County","Business VOT",null,25.448376006759915,{"$f":"+D289*(1+$B$4)","v":25.504362433974787},25.560472031329532,25.616705069798456,25.673061820952011,25.729542556958105,25.786147550583411,25.842877075194693,25.899731404760121,25.956710813850592,26.013815577641061,26.071045971911872,26.128402273050078,26.185884758050786,26.243493704518496,26.301229390668436,26.359092095327906,26.417082097937627,26.475199678553089,26.533445117845904,26.591818697105165,26.650320698238797,26.708951403774922,26.767711096863227,26.826600061276327,26.885618581411133]
["Loudoun County","Aggregated local VOT",null,29.641682900459756,{"$f":"+D290*(1+$B$4)","v":29.706894602840766},29.772249770967015,29.837748720463143,29.903391767648163,29.969179229536987,30.035111423841968,30.101188668974419,30.167411284046164,30.233779588871066,30.300293903966583,30.36695455055531,30.43376185056653,30.500716126637776,30.567817702116379,30.635066901061034,30.702464048243368,30.770009469149503,30.837703489981632,30.905546437659591,30.973538639822443,31.041680424830052,31.109972121764677,31.178414060432559,31.24700657136551,31.315749985822514]
["Loudoun County","Aggregated intercity VOT",null,38.286153500672341,{"$f":"+D291*(1+$B$4)","v":38.370383038373816},38.454797881058241,38.539398436396567,38.624185112956638,38.709158320205141,38.794318468509594,38.879665969140312,38.965201234272421,39.050924676987819,39.136836711277191,39.222937752042,39.309228215096489,39.395708517169702,39.482379075907474,39.569240309874466,39.656292638556188,39.743536482361009,39.830972262622204,39.918600401599974,40.00642132248349,40.094435449392954,40.182643207381616,40.271045022437853,40.359641321487217,40.448432532394492]
["Louisa County","Local Personal VOT",{"$f":"'Detailed Location'!$G$205","v":{"$error":"#DIV/0!"}},13.310332515762926,{"$f":"+D292*(1+$B$4)","v":13.339615247297605},13.36896240084166,13.398374118123511,13.427850541183384,13.457391812373986,13.486998074361209,13.516669470124803,13.546406142959079,13.576208236473589,13.606075894593831,13.636009261561936,13.666008481937371,13.696073700597633,13.726205062738948,13.756402713876973,13.786666799847502,13.816997466807166,13.847394861234141,13.877859129928856,13.908390420014699,13.938988878938732,13.969654654472397,14.000387894712235,14.031188748080602,14.06205736332638]
["Louisa County","Intercity Personal VOT",null,18.634465522068094,{"$f":"+D293*(1+$B$4)","v":18.675461346216643},18.716547361178318,18.757723765372909,18.798990757656728,18.840348537323571,18.881797304105682,18.923337258174715,18.964968600142701,19.006691531063016,19.048506252431356,19.090412966186705,19.132411874712314,19.17450318083668,19.216687087834522,19.258963799427757,19.3013335197865,19.343796453530029,19.386352805727796,19.429002781900397,19.471746588020579,19.514584430514223,19.557516516261355,19.600543052597128,19.643664247312842,19.686880308656928]
["Louisa County","Business VOT",null,17.976219947677301,{"$f":"+D294*(1+$B$4)","v":18.015767631562191},18.055402320351629,18.095124205456401,18.134933478708405,18.174830332361562,18.214814959092756,18.25488755200276,18.295048304617165,18.335297410887321,18.375635065191272,18.416061462334692,18.456576797551829,18.497181266506441,18.537875065292756,18.578658390436399,18.619531438895358,18.660494408060927,18.70154749575866,18.742690900249329,18.783924820229878,18.825249454834385,18.866665003635021,18.908171666643018,18.949769644309633,18.991459137527112]
["Louisa County","Aggregated local VOT",null,13.524963337630989,{"$f":"+D295*(1+$B$4)","v":13.554718256973777},13.584538637139119,13.614424622140824,13.644376356309534,13.674393984293415,13.704477651058861,13.73462750189119,13.76484368239535,13.795126338496619,13.825475616441311,13.855891662797482,13.886374624455637,13.91692464862944,13.947541882856424,13.978226474998708,14.008978573243706,14.039798326104842,14.070685882422273,14.101641391363602,14.132665002424602,14.163756865429935,14.194917130533881,14.226145948221054,14.257443469307141,14.288809844939616]
["Louisa County","Aggregated intercity VOT",null,18.493600969148464,{"$f":"+D296*(1+$B$4)","v":18.53428689128059},18.575062322441408,18.615927459550779,18.656882499961789,18.697927641461703,18.739063082272917,18.780289021053918,18.821605656900235,18.863013189345416,18.904511818361975,18.94610174436237,18.987783168199968,19.029556291170007,19.071421315010582,19.113378441903606,19.155427874475794,19.197569815799639,19.239804469394397,19.282132039227065,19.324552729713364,19.367066745718734,19.409674292559316,19.452375576002947,19.495170802270152,19.538060178035145]
["Lunenburg County","Local Personal VOT",null,8.6029602490542239,{"$f":"+D297*(1+$B$4)","v":8.6218867616021431},8.6408549124776677,8.6598647932851183,8.6789164958303449,8.698010112121171,8.717145734367838,8.736323454983447,8.7555433665844102,8.7748055619908953,8.7941101342272745,8.813457176522574,8.8328467823109236,8.8522790452320077,8.8717540591315185,8.8912719180616069,8.9108327162813428,8.9304365482571608,8.9500835086633259,8.9697736923823843,8.9895071945056255,9.009284110333537,9.0291045353762698,9.0489685653540981,9.0688762961978764,9.0888278240495115]
["Lunenburg County","Intercity Personal VOT",null,12.044144348675914,{"$f":"+D298*(1+$B$4)","v":12.070641466243002},12.097196877468736,12.123810710599168,12.150483094162485,12.177214156969642,12.204004028114975,12.230852836976828,12.257760713218177,12.284727786787258,12.31175418791819,12.33884004713161,12.3659854952353,12.393190663324818,12.420455682784132,12.447780685286256,12.475165802793885,12.502611167560032,12.530116912128664,12.557683169335347,12.585310072307884,12.612997754466962,12.640746349526788,12.668555991495747,12.696426814677038,12.724358953669327]
["Lunenburg County","Business VOT",null,16.62720684587957,{"$f":"+D299*(1+$B$4)","v":16.663786700940506},16.700447031682575,16.737188015152277,16.774009828785612,16.810912650408941,16.84789665823984,16.884962030887966,16.92210894735592,16.959337587040103,16.996648129731589,17.034040755616999,17.071515645279355,17.109072979698968,17.146712940254307,17.184435708722866,17.222241467282057,17.260130398510078,17.298102685386802,17.336158511294652,17.374298060019498,17.412521515751539,17.450829063086193,17.489220887024981,17.527697172976435,17.566258106756983]
["Lunenburg County","Aggregated local VOT",null,8.9720755925081903,{"$f":"+D300*(1+$B$4)","v":8.9918141588117084},9.0115961499610933,9.0314216614910077,9.0512907891462877,9.0712036288824098,9.091160276865951,9.1111608294750557,9.1312053832998998,9.1512940351431595,9.1714268820204747,9.19160402116092,9.2118255500074735,9.2320915662174894,9.2524021676631669,9.2727574524320264,9.2931575188273765,9.3136024653687972,9.334092390792609,9.3546273940523523,9.3752075743192673,9.3958330309827698,9.4165038636509308,9.4372201721509619,9.4579820565296941,9.4787896170540584]
["Lunenburg County","Aggregated intercity VOT",null,13.024919723077495,{"$f":"+D301*(1+$B$4)","v":13.053574546468266},13.082292410470496,13.11107345377353,13.139917815371831,13.168825634565648,13.197797050961691,13.226832204473807,13.255931235323649,13.28509428404136,13.31432149146625,13.343612998747476,13.37296894734472,13.402389479028878,13.431874735882742,13.461424860301683,13.491039994994347,13.520720282983335,13.550465867605899,13.580276892514632,13.610153501678164,13.640095839381855,13.670104050228495,13.700178279138997,13.730318671353103,13.760525372430079]
["Madison County","Local Personal VOT",{"$f":"'Detailed Location'!$G$207","v":{"$error":"#DIV/0!"}},13.051782273013872,{"$f":"+D302*(1+$B$4)","v":13.080496194014502},13.109273285641335,13.138113686869746,13.167017536980859,13.195984975562217,13.225016142508453,13.254111178021972,13.28327022261362,13.31249341710337,13.341780902620998,13.371132820606764,13.4005493128121,13.430030521300285,13.459576588447145,13.489187656941729,13.518863869787001,13.548605370300532,13.578412302115193,13.608284809179846,13.638223035760042,13.668227126438714,13.698297226116878,13.728433480014335,13.758636033670365,13.78890503294444]
["Madison County","Intercity Personal VOT",null,18.272495182219416,{"$f":"+D303*(1+$B$4)","v":18.312694671620299},18.352982599897864,18.393359161617639,18.433824551773196,18.474378965787096,18.515022599511827,18.555755649230754,18.596578311659062,18.637490783944713,18.678493263669392,18.719585948849463,18.760769037936932,18.802042729820393,18.843407223825999,18.884862719718416,18.926409417701798,18.968047518420743,19.009777222961269,19.051598732851783,19.093512250064055,19.135517977014196,19.177616116563627,19.219806872020065,19.262090447138508,19.304467046122213]
["Madison County","Business VOT",null,16.953908566962586,{"$f":"+D304*(1+$B$4)","v":16.991207165809904},17.028587821574686,17.066050714782151,17.103596026354669,17.141223937612651,17.1789346302754,17.216728286462004,17.25460508869222,17.292565219887344,17.330608863371097,17.368736202870512,17.406947422516826,17.445242706846361,17.483622240801424,17.522086209731185,17.560634799392595,17.599268195951257,17.63798658598235,17.676790156471512,17.715679094815748,17.754653588824343,17.793713826719756,17.832859997138538,17.872092289132244,17.911410892168334]
["Madison County","Aggregated local VOT",null,13.231280082535509,{"$f":"+D305*(1+$B$4)","v":13.260388898717087},13.289561754294265,13.318798790153712,13.348100147492051,13.377465967816534,13.406896392945729,13.43639156501021,13.465951626453231,13.495576720031428,13.525266988815497,13.555022576190892,13.584843625858511,13.614730281835399,13.644682688455436,13.674700990370038,13.704785332548852,13.734935860280459,13.765152719173075,13.795436055155255,13.825786014476597,13.856202743708446,13.886686389744604,13.917237099802042,13.947855021421606,13.978540302468733]
["Madison County","Aggregated intercity VOT",null,17.990317646554455,{"$f":"+D306*(1+$B$4)","v":18.029896345376876},18.069562117336705,18.109315153994846,18.149155647333632,18.189083789757767,18.229099774095232,18.269203793598241,18.309396041944158,18.349676713236434,18.390046002005555,18.430504103209966,18.471051212237029,18.511687524903952,18.55241323745874,18.593228546581148,18.634133649383628,18.675128743412273,18.71621402664778,18.757389697506405,18.798655954840918,18.840012997941567,18.881461026537039,18.923000240795421,18.964630841325171,19.006353029176086]
["Mathews County","Local Personal VOT",null,13.474886683480454,{"$f":"+D307*(1+$B$4)","v":13.504531434184111},13.534241403339315,13.564016734426662,13.593857571242401,13.623764057899134,13.653736338826512,13.68377455877193,13.713878862801227,13.74404939629939,13.774286304971248,13.804589734842185,13.834959832258837,13.865396743889807,13.895900616726365,13.926471598083163,13.957109835598946,13.987815477237262,14.018588671287183,14.049429566364015,14.080338311410015,14.111315055695117,14.142359948817646,14.173473140705044,14.204654781614595,14.235905022134146]
["Mathews County","Intercity Personal VOT",null,18.864841356872635,{"$f":"+D308*(1+$B$4)","v":18.906344007857754},18.947937964675042,18.989623428197326,19.03140059973936,19.073269681058786,19.115230874357113,19.1572843822807,19.199430407921717,19.241669154819146,19.284000826959748,19.326425628779059,19.368943765162374,19.411555441445731,19.454260863416913,19.497060237316429,19.539953769838526,19.582941668132172,19.626024139802063,19.669201392909628,19.712473635974028,19.755841077973169,19.79930392834471,19.842862396987069,19.88651669426044,19.930267030987814]
["Mathews County","Business VOT",null,21.103771991906001,{"$f":"+D309*(1+$B$4)","v":21.150200290288193},21.196730730926827,21.243363538534865,21.290098938319641,21.336937155983943,21.383878417727107,21.430922950246106,21.478070980736646,21.525322736894267,21.572678446915436,21.620138339498649,21.667702643845544,21.715371589662006,21.763145407159261,21.811024327055012,21.859008580574532,21.907098399451794,21.955294015930587,22.003595662765633,22.052003573223718,22.10051798108481,22.149139120643195,22.19786722670861,22.246702534607369,22.295645280183503]
["Mathews County","Aggregated local VOT",null,13.82581540766803,{"$f":"+D310*(1+$B$4)","v":13.856232201564898},13.886715912408341,13.917266687415639,13.947884674127954,13.978570020411034,14.009322874455938,14.040143384779741,14.071031700226255,14.101987969966753,14.133012343500679,14.16410497065638,14.195266001591824,14.226495586795325,14.257793877086275,14.289161023615865,14.320597177867819,14.352102491659128,14.383677117140778,14.415321206798486,14.447034913453443,14.47881839026304,14.510671790721618,14.542595268661206,14.57458897825226,14.606653074004415]
["Mathews County","Aggregated intercity VOT",null,19.343972512769778,{"$f":"+D311*(1+$B$4)","v":19.386529252297869},19.429179616652924,19.47192381180956,19.514762044195543,19.557694520692774,19.600721448638296,19.643843035825299,19.687059490504115,19.730371021383224,19.773777837630266,19.817280148873053,19.860878165200575,19.904572097164017,19.948362155777776,19.992248552520486,20.036231499336029,20.080311208634569,20.124487893293566,20.168761766658811,20.213133042545461,20.257601935239062,20.302168659496587,20.346833430547481,20.391596464094686,20.436457976315694]
["Mecklenburg County","Local Personal VOT",{"$f":"'Detailed Location'!$G$209","v":{"$error":"#DIV/0!"}},8.8529653940731379,{"$f":"+D312*(1+$B$4)","v":8.8724419179400993},8.8919612901595677,8.9115236049979192,8.9311289569289141,8.9507774406341571,8.9704691510035524,8.9902041831357593,9.0099826323386569,9.0298045941298017,9.049670164236888,9.0695794385982094,9.0895325133631246,9.1095294848925228,9.1295704497592869,9.1496555047487576,9.1697847468592038,9.1899582733022935,9.2101761815035577,9.2304385691028656,9.2507455339548912,9.2710971741295918,9.2914935879126759,9.3119348738060843,9.3324211305284575,9.3529524570156202]
["Mecklenburg County","Intercity Personal VOT",null,12.394151551702395,{"$f":"+D313*(1+$B$4)","v":12.421418685116139},12.448745806223394,12.476133046997086,12.503580539700479,12.531088416887821,12.558656811404974,12.586285856390065,12.613975685274122,12.641726431781725,12.669538229931645,12.697411214037494,12.725345518708377,12.753341278849534,12.781398629663004,12.809517706648261,12.837698645602886,12.865941582623213,12.894246654104984,12.922613996744015,12.951043747536852,12.979536043781433,13.008091023077752,13.036708823328523,13.065389582739845,13.094133439821872]
["Mecklenburg County","Business VOT",null,16.427079152175573,{"$f":"+D314*(1+$B$4)","v":16.463218726310359},16.49943780750824,16.535736570684758,16.572115191140263,16.60857384456077,16.645112707018804,16.681731954974246,16.718431765275188,16.755212315158794,16.792073782252142,16.829016344573098,16.866040180531158,16.903145468928326,16.940332388959966,16.977601120215677,17.014951842680151,17.052384736734048,17.089899983154861,17.127497763117802,17.165178258196661,17.202941650364693,17.240788121995493,17.278717855863881,17.31673103514678,17.354827843424104]
["Mecklenburg County","Aggregated local VOT",null,9.2013746269458494,{"$f":"+D315*(1+$B$4)","v":9.2216176511251309},9.241905209957606,9.2622374014195117,9.2826143237026351,9.3030360752147807,9.3235027545802538,9.3440144606403308,9.3645712924537392,9.385173349297137,9.4058207306655905,9.4265135362730543,9.4472518660528557,9.4680358201581711,9.4888654989625181,9.5097410030602347,9.5306624332669667,9.5516298906201538,9.5726434763795183,9.5937032920275538,9.6148094392700134,9.6359620200364073,9.6571611364804877,9.6784068909807441,9.6996993861409013,9.7210387247904109]
["Mecklenburg County","Aggregated intercity VOT",null,13.257198058203656,{"$f":"+D316*(1+$B$4)","v":13.286363893931703},13.315593894498353,13.344888201066249,13.374246955108594,13.403670298409834,13.433158373066336,13.462711321487081,13.492329286394352,13.522012410824418,13.551760838128232,13.581574711972113,13.611454176338452,13.641399375526396,13.671410454152554,13.701487557151689,13.731630829777423,13.761840417602933,13.792116466521659,13.822459122748006,13.852868532818052,13.883344843590251,13.913888202246149,13.94449875629109,13.97517665355493,14.005922042192751]
["Middlesex County","Local Personal VOT",null,13.015160425598992,{"$f":"+D317*(1+$B$4)","v":13.04379377853531},13.072490124848088,13.101249603122753,13.130072352249623,13.158958511424572,13.187908220149707,13.216921618234036,13.24599884579415,13.275140043254897,13.304345351350058,13.333614911123028,13.3629488639275,13.392347351428139,13.421810515601281,13.451338498735604,13.480931443432821,13.510589492608373,13.540312789492111,13.570101477628993,13.599955700879777,13.629875603421713,13.659861329749241,13.689913024674688,13.720030833328972,13.750214901162295]
["Middlesex County","Intercity Personal VOT",null,18.221224595838589,{"$f":"+D318*(1+$B$4)","v":18.261311289949433},18.301486174787321,18.341749444371853,18.382101293149471,18.422541915994401,18.463071508209588,18.503690265527649,18.544398384111808,18.585196060556854,18.626083491890078,18.667060875572236,18.708128409498496,18.749286291999393,18.790534721841791,18.831873898229844,18.87330402080595,18.914825289651723,18.956437905288958,18.998142068680593,19.039937981231692,19.081825844790401,19.12380586164894,19.165878234544568,19.208043166660566,19.25030086162722]
["Middlesex County","Business VOT",null,16.521560714718387,{"$f":"+D319*(1+$B$4)","v":16.557908148290768},16.594335546217007,16.630843084418682,16.667430939204404,16.704099287270655,16.740848305702649,16.777678171975193,16.814589063953537,16.851581159894234,16.888654638446003,16.925809678650584,16.963046459943616,17.000365162155493,17.037765965512236,17.075249050636362,17.112814598547761,17.150462790664566,17.188193808804026,17.226007835183395,17.2639050524208,17.301885643536124,17.339949791951902,17.378097681494197,17.416329496393484,17.454645421285548]
["Middlesex County","Aggregated local VOT",null,13.176454838898483,{"$f":"+D320*(1+$B$4)","v":13.205443039544059},13.234495014231056,13.263610903262364,13.292790847249542,13.32203498711349,13.35134346408514,13.380716419706127,13.41015399582948,13.439656334620304,13.469223578556468,13.498855870429292,13.528553353344236,13.558316170721593,13.58814446629718,13.618038384123034,13.647998068568105,13.678023664318955,13.708115316380457,13.738273170076495,13.768497371050662,13.798788065266974,13.829145399010562,13.859569518888385,13.89006057182994,13.920618705087966]
["Middlesex County","Aggregated intercity VOT",null,17.857496525278865,{"$f":"+D321*(1+$B$4)","v":17.89678301763448},17.936155940273274,17.975615483341876,18.015161837405227,18.054795193447518,18.094515742873103,18.134323677507425,18.174219189597942,18.214202471815057,18.254273717253049,18.294433119431005,18.334680872293752,18.3750171702128,18.415442207987269,18.45595618084484,18.4965592844427,18.537251714868475,18.578033668641186,18.618905342712196,18.659866934466162,18.700918641721987,18.742060662733774,18.783293196191789,18.824616441223409,18.866030597394101]
["Montgomery County","Local Personal VOT",{"$f":"'Detailed Location'!$G$210","v":{"$error":"#DIV/0!"}},11.119125312105927,{"$f":"+D322*(1+$B$4)","v":11.143587387792561},11.168103280045704,11.192673107261804,11.217296988097779,11.241975041471594,11.266707386562832,11.291494142813269,11.316335429927458,11.341231367873299,11.36618207688262,11.391187677451761,11.416248290342155,11.441364036580907,11.466535037461385,11.491761414543801,11.517043289655797,11.542380784893039,11.567774022619803,11.593223125469565,11.618728216345598,11.644289418421558,11.669906855142084,11.695580650223397,11.721310927653887,11.747097811694726]
["Montgomery County","Intercity Personal VOT",null,15.566775436948296,{"$f":"+D323*(1+$B$4)","v":15.601022342909582},15.635344592063984,15.669742350166525,15.70421578333689,15.738765058060231,15.773390341187964,15.808091799938577,15.842869601898441,15.877723915022617,15.912654907635666,15.947662748432464,15.982747606479014,16.017909651213269,16.053149052445939,16.08846598036132,16.123860605518114,16.159333098850254,16.194883631667725,16.230512375657394,16.266219502883839,16.302005185790183,16.337869597198921,16.373812910312758,16.409835298715446,16.445936936372618]
["Montgomery County","Business VOT",null,13.564648417514919,{"$f":"+D324*(1+$B$4)","v":13.594490644033451},13.624398523450324,13.654372200201914,13.684411819042358,13.714517525044251,13.744689463599348,13.774927780419267,13.80523262153619,13.835604133303569,13.866042462396837,13.89654775581411,13.927120160876902,13.957759825230831,13.988466896846338,14.019241524019399,14.050083855372241,14.08099403985406,14.111972226741738,14.143018565640569,14.174133206484978,14.205316299539245,14.23656799539823,14.267888444988106,14.299277799567079,14.330736210726126]
["Montgomery County","Aggregated local VOT",null,11.231619374954739,{"$f":"+D325*(1+$B$4)","v":11.25632893757964},11.281092861242316,11.305911265537048,11.33078427032123,11.355711995715936,11.380694562106511,11.405732090143145,11.430824700741459,11.45597251508309,11.481175654616273,11.506434241056429,11.531748396386753,11.557118242858804,11.582543902993093,11.608025499579677,11.633563155678752,11.659156994621245,11.684807140009411,11.710513715717433,11.736276845892011,11.762096654952973,11.78797326759387,11.813906808782576,11.839897403761897,11.865945178050174]
["Montgomery County","Aggregated intercity VOT",null,15.138320254789557,{"$f":"+D326*(1+$B$4)","v":15.171624559350093},15.205002133380663,15.238453138074101,15.271977734977863,15.305576085994813,15.339248353384002,15.372994699761447,15.406815288100923,15.440710281734745,15.474679844354561,15.508724140012141,15.542843333120167,15.577037588453031,15.611307071147627,15.645651946704151,15.6800723809869,15.71456854022507,15.749140591013564,15.783788700313794,15.818513035454483,15.853313764132483,15.888191054413575,15.923145074733284,15.958175993897697,15.993283981084272]
["Nelson County","Local Personal VOT",{"$f":"'Detailed Location'!$G$211","v":{"$error":"#DIV/0!"}},11.911622090163934,{"$f":"+D327*(1+$B$4)","v":11.937827658762295},11.964090879611572,11.990411879546716,12.016790785681719,12.043227725410219,12.069722826406121,12.096276216624215,12.122888024300789,12.14955837795425,12.176287406385748,12.203075238679796,12.229922004204891,12.256827832614141,12.283792853845892,12.310817198124353,12.337900995960226,12.365044378151339,12.392247475783272,12.419510420229994,12.4468333431545,12.474216376509441,12.501659652537761,12.529163303773343,12.556727463041645,12.584352263460335]
["Nelson County","Intercity Personal VOT",null,16.676270926229506,{"$f":"+D328*(1+$B$4)","v":16.71295872226721},16.749727231456198,16.786576631365403,16.823507099954405,16.860518815574306,16.897611956968568,16.934786703273897,16.9720432340211,17.009381729135946,17.046802368940046,17.084305334151715,17.121890805886849,17.159558965659802,17.197309995384252,17.235144077374098,17.273061394344321,17.311062129411876,17.349146466096581,17.387314588321992,17.425566680416299,17.463902927113214,17.502323513552863,17.540828625282678,17.579418448258298,17.618093168844467]
["Nelson County","Business VOT",null,18.852435928888738,{"$f":"+D329*(1+$B$4)","v":18.893911287932294},18.935477892765746,18.977135944129831,19.018885643206914,19.060727191621968,19.102660791443537,19.144686645184713,19.186804955804117,19.229015926706886,19.271319761745641,19.313716665221481,19.356206841884969,19.398790496937117,19.441467836030377,19.484239065269644,19.527104391213236,19.570064020873904,19.613118161719825,19.656267021675607,19.699510809123293,19.742849732903363,19.78628400231575,19.829813827120844,19.87343941754051,19.917160984259098]
["Nelson County","Aggregated local VOT",null,12.230899526745276,{"$f":"+D330*(1+$B$4)","v":12.257807505704115},12.284774682216664,12.31180118651754,12.338887149127878,12.366032700855959,12.393237972797841,12.420503096337997,12.447828203149941,12.47521342519687,12.502658894732303,12.530164744300713,12.557731106738174,12.585358115172998,12.613045903026379,12.640794604013037,12.668604352141864,12.696475281716577,12.724407527336353,12.752401223896493,12.780456506589065,12.80857351090356,12.836752372627547,12.864993227847327,12.893296212948592,12.921661464617078]
["Nelson County","Aggregated intercity VOT",null,17.141970236798581,{"$f":"+D331*(1+$B$4)","v":17.179682571319539},17.217477872976442,17.25535632429699,17.293318108210443,17.331363408048507,17.369492407546215,17.407705290842816,17.44600224248267,17.484383447416132,17.522849091000445,17.561399359000646,17.600034437590448,17.638754513353145,17.677559773282521,17.716450404783743,17.755426595674265,17.794488534184747,17.833636408959954,17.872870409059665,17.912190723959597,17.951597543552307,17.991091058148122,18.030671458476046,18.070338935684692,18.110093681343198]
["New Kent County","Local Personal VOT",{"$f":"'Detailed Location'!$G$212","v":{"$error":"#DIV/0!"}},17.241077471626735,{"$f":"+D332*(1+$B$4)","v":17.279007842064313},17.317021659316854,17.355119106967351,17.393300369002677,17.431565629814482,17.469915074200074,17.508348887363315,17.546867254915515,17.585470362876329,17.624158397674655,17.66293154614954,17.701789995551067,17.740733933541279,17.779763548195071,17.818879028001099,17.8580805618627,17.897368339098797,17.936742549444816,17.976203383053594,18.015751030496311,18.055385682763404,18.095107531265484,18.134916767834266,18.174813584723502,18.214798174609893]
["New Kent County","Intercity Personal VOT",null,24.137508460277427,{"$f":"+D333*(1+$B$4)","v":24.190610978890039},24.243830323043596,24.297166749754293,24.350620516603751,24.404191881740278,24.457881103880105,24.511688442308639,24.565614156881718,24.619658508026859,24.673821756744516,24.728104164609352,24.78250599377149,24.837027506957789,24.891668967473095,24.946430639201534,25.001312786607777,25.056315674738315,25.111439569222739,25.166684736275027,25.222051442694831,25.277539955868757,25.333150543771669,25.388883474967965,25.444739018612893,25.500717444453841]
["New Kent County","Business VOT",null,18.281349672388249,{"$f":"+D334*(1+$B$4)","v":18.321568641667504},18.361876092679172,18.402272220083066,18.442757218967248,18.483331284848976,18.523994613675644,18.564747401825731,18.605589846109748,18.64652214377119,18.687544492487486,18.728657090370959,18.769860135969775,18.811153828268907,18.8525383666911,18.894013951097818,18.935580781790232,18.977239059510172,19.018988985441094,19.060830761209065,19.102764588883723,19.144790670979265,19.186909210455418,19.229120410718419,19.271424475621998,19.313821609468366]
["New Kent County","Aggregated local VOT",null,17.288929992861764,{"$f":"+D335*(1+$B$4)","v":17.326965638846058},17.365084963251519,17.40328815017067,17.441575384101046,17.479946849946067,17.518402733015947,17.556943219028582,17.595568494110445,17.634278744797488,17.673074158036041,17.711954921183718,17.750921222010323,17.789973248698747,17.829111189845882,17.868335234463544,17.907645571979362,17.947042392237716,17.986525885500637,18.026096242448737,18.065753654182124,18.105498312221325,18.145330408508212,18.185250135406928,18.225257685704822,18.265353252613373]
["New Kent County","Aggregated intercity VOT",null,22.884290479669147,{"$f":"+D336*(1+$B$4)","v":22.934635918724418},22.985092117745612,23.035659320404651,23.086337770909541,23.13712771400554,23.188029394976351,23.239043059645297,23.290168954376515,23.341407326076144,23.392758422193513,23.444222490722339,23.495799780201928,23.547490539718371,23.59929501890575,23.651213467947343,23.703246137576826,23.755393279079495,23.80765514429347,23.860031985610917,23.912524055979262,23.965131608902414,24.017854898442,24.07069417921857,24.123649706412852,24.176721735766961]
["Northampton County","Local Personal VOT",null,8.2118389186633038,{"$f":"+D337*(1+$B$4)","v":8.2299049642843638},8.2480107552057884,8.2661563788672403,8.2843419229007473,8.3025674751311289,8.320833123576417,8.3391389564482843,8.3574850621524703,8.3758715292892063,8.394298446653643,8.4127659032362807,8.4312739882234009,8.4498227909974926,8.4684124011376873,8.4870429084201895,8.5057144028187146,8.5244269745049159,8.5431807138488267,8.5619757114192936,8.5808120579844154,8.59968984451198,8.618609162169907,8.6375701023266807,8.6565727565517996,8.6756172166162138]
["Northampton County","Intercity Personal VOT",null,11.496574486128624,{"$f":"+D338*(1+$B$4)","v":11.521866949998108},11.547215057288103,11.572618930414137,11.598078692061048,11.623594465183581,11.649166373006985,11.6747945390276,11.700479087013461,11.726220141004891,11.752017825315102,11.777872264530796,11.803783583512763,11.82975190739649,11.855777361592763,11.881860071788266,11.9080001639462,11.934197764306882,11.960452999388357,11.98676599598701,12.013136881178182,12.039565782316775,12.066052827037872,12.092598143257355,12.11920185917252,12.145864103262699]
["Northampton County","Business VOT",null,17.099803219682091,{"$f":"+D339*(1+$B$4)","v":17.137422786765391},17.175125116896275,17.212910392153447,17.250778795016185,17.288730508365219,17.326765715483621,17.364884600057685,17.403087346177813,17.441374138339405,17.479745161443752,17.518200600798927,17.556740642120683,17.595365471533349,17.634075275570723,17.672870241176977,17.711750555707567,17.750716406930124,17.789767983025371,17.828905472588026,17.86812906462772,17.907438948569901,17.946835314256756,17.986318351948121,18.025888252322407,18.065545206477516]
["Northampton County","Aggregated local VOT",null,8.6206852765101676,{"$f":"+D340*(1+$B$4)","v":8.6396507841184906},8.6586580158435513,8.6777070634784064,8.6967980190180594,8.7159309746598996,8.7351060228041515,8.7543232560543203,8.7735827672176399,8.7928846493055186,8.8122289955339905,8.8316158993241647,8.8510454543026782,8.8705177543021438,8.8900328933616084,8.9095909657270038,8.9291920658516037,8.9488362883964765,8.9685237282309487,8.9882544804330564,9.0080286402900089,9.0278463032986469,9.0477075651659042,9.0676125218092682,9.0875612693572485,9.1075539041498335]
["Northampton County","Aggregated intercity VOT",null,12.695665435109067,{"$f":"+D341*(1+$B$4)","v":12.723595899066307},12.751587810044253,12.779641303226351,12.807756514093448,12.835933578424454,12.864172632296988,12.892473812088042,12.920837254474636,12.94926309643448,12.977751475246636,13.006302528492178,13.034916394054861,13.06359321012178,13.092333115184049,13.121136248037454,13.150002747783136,13.178932753828258,13.207926405886679,13.23698384397963,13.266105208436384,13.295290639894944,13.324540279302713,13.353854267917178,13.383232747306597,13.412675859350671]
["Northumberland County","Local Personal VOT",null,12.534925933165194,{"$f":"+D342*(1+$B$4)","v":12.562502770218158},12.590140276312638,12.617838584920525,12.64559782980735,12.673418145032926,12.701299664951998,12.729242524214893,12.757246857768166,12.785312800855255,12.813440489017136,12.841630058092974,12.869881644220779,12.898195383838065,12.926571413682508,12.955009870792608,12.983510892508352,13.012074616471871,13.040701180628108,13.06939072322549,13.098143382816586,13.126959298258782,13.155838608714951,13.184781453654123,13.213787972852161,13.242858306392437]
["Northumberland County","Intercity Personal VOT",null,17.548896306431271,{"$f":"+D343*(1+$B$4)","v":17.587503878305419},17.626196386837691,17.664974018888735,17.703836961730289,17.742785403046096,17.781819530932797,17.820939533900848,17.86014560087543,17.899437921197357,17.93881668462399,17.978282081330164,18.01783430190909,18.057473537373291,18.097199979155512,18.137013819109654,18.176915249511694,18.216904463060619,18.25698165287935,18.297147012515683,18.337400735943216,18.377743017562292,18.418174052200929,18.458694035115769,18.499303161993023,18.540001628949408]
["Northumberland County","Business VOT",null,20.275693168040014,{"$f":"+D344*(1+$B$4)","v":20.320299693009702},20.365004352334321,20.409807361909454,20.454708938105654,20.499709297769485,20.544808658224579,20.590007237272673,20.635305253194673,20.680702924751699,20.726200471186154,20.771798112222761,20.817496068069651,20.863294559419405,20.909193807450126,20.955194033826515,21.001295460700934,21.047498310714477,21.093802806998049,21.140209173173446,21.186717633354426,21.233328412147806,21.280041734654532,21.326857826470771,21.373776913689007,21.42079922289912]
["Northumberland County","Aggregated local VOT",null,12.891001225969436,{"$f":"+D345*(1+$B$4)","v":12.919361428666569},12.947784023809636,12.976269148662016,13.004816940789073,13.03342753805881,13.062101078642538,13.090837701015552,13.119637543957786,13.148500746554493,13.177427448196912,13.206417788582945,13.235471907717827,13.264589945914805,13.293772043795817,13.323018342292167,13.35232898264521,13.381704106407028,13.411143855441123,13.440648371923093,13.470217798341324,13.499852277497673,13.529551952508168,13.559316966803685,13.589147464130653,13.61904358855174]
["Northumberland County","Aggregated intercity VOT",null,18.132430834815541,{"$f":"+D346*(1+$B$4)","v":18.172322182652135},18.212301291453969,18.252368354295168,18.292523564674617,18.332767116516901,18.37309920417324,18.413520022422421,18.454029766471752,18.49462863195799,18.535316814948299,18.576094511941186,18.616961919867457,18.657919236091164,18.698966658410566,18.74010438505907,18.781332614706198,18.822651546458552,18.864061379860761,18.905562314896454,18.947154551989225,18.988838292003599,19.030613736246007,19.072481086465746,19.11444054485597,19.156492314054653]
["Nottoway County","Local Personal VOT",{"$f":"'Detailed Location'!$G$216","v":{"$error":"#DIV/0!"}},8.9374397887767962,{"$f":"+D347*(1+$B$4)","v":8.9571021563121054},8.9768077810559923,8.9965567581743144,9.0163491830422977,9.0361851512449913,9.0560647585777296,9.075988101046601,9.0959552748689028,9.1159663764736134,9.1360215025018547,9.1561207498073589,9.1762642154569356,9.196451996730941,9.2166841911237487,9.23696089634422,9.2572822103161769,9.2776482311788726,9.2980590572874657,9.3185147872134984,9.3390155197453684,9.3595613538888074,9.3801523888673621,9.4007887241228705,9.4214704593159411,9.4421976943264365]
["Nottoway County","Intercity Personal VOT",null,12.512415704287514,{"$f":"+D348*(1+$B$4)","v":12.539943018836947},12.567530893478388,12.59517946144404,12.622888856259216,12.650659211742987,12.678490662008821,12.706383341465241,12.734337384816463,12.762352927063059,12.790430103502597,12.818569049730304,12.846769901639711,12.875032795423317,12.903357867573249,12.931745254881909,12.960195094442648,12.988707523650422,13.017282680202452,13.045920702098897,13.074621727643514,13.10338589544433,13.132213344414307,13.161104213772019,13.190058643042317,13.21907677205701]
["Nottoway County","Business VOT",null,16.829916594972456,{"$f":"+D349*(1+$B$4)","v":16.866942411481396},16.904049684786656,16.941238594093186,16.978509319000189,17.015862039501989,17.053296935988893,17.090814189248068,17.128413980464412,17.166096491221435,17.203861903502123,17.241710399689826,17.279642162569143,17.317657375326796,17.355756221552515,17.39393888523993,17.432205550787458,17.47055640299919,17.508991627085788,17.547511408665375,17.586115933764439,17.624805388818721,17.663579960674124,17.702439836587608,17.741385204228102,17.780416251677405]
["Nottoway County","Aggregated local VOT",null,9.3004937218617965,{"$f":"+D350*(1+$B$4)","v":9.3209548080498923},9.3414609086276013,9.3620121226265827,9.3826085492963607,9.4032502881048128,9.4239374387386423,9.444670101103867,9.4654483753262948,9.4862723617520128,9.5071421609478666,9.5280578737019521,9.5490196010240957,9.5700274441463478,9.5910815045234692,9.6121818838334203,9.6333286839778545,9.6545220070826048,9.6757619554981869,9.697048631800282,9.7183821387902416,9.7397625794955793,9.7611900571704702,9.7826646752962443,9.8041865375818951,9.8257557479645747]
["Nottoway County","Aggregated intercity VOT",null,13.436360894894094,{"$f":"+D351*(1+$B$4)","v":13.465920888862859},13.495545914818358,13.525236115830959,13.554991635285786,13.584812616883415,13.614699204640559,13.644651542890768,13.674669776285128,13.704754049792955,13.734904508702499,13.765121298621644,13.795404565478611,13.825754455522663,13.856171115324813,13.886654691778526,13.917205332100439,13.94782318383106,13.978508394835488,14.009261113304126,14.040081487753394,14.070969667026452,14.101925800293909,14.132950037054556,14.164042527136075,14.195203420695774]
["Orange County","Local Personal VOT",null,14.718808767339217,{"$f":"+D352*(1+$B$4)","v":14.751190146627364},14.783642764949944,14.816166779032834,14.848762345946705,14.881429623107786,14.914168768278623,14.946979939568836,14.979863295435887,15.012818994685846,15.045847196474154,15.078948060306397,15.112121746039071,15.145368413880357,15.178688224390893,15.212081338484552,15.245547917429217,15.279088122847561,15.312702116717826,15.346390061374604,15.380152119509628,15.413988454172548,15.447899228771728,15.481884607075026,15.51594475321059,15.550079831667652]
["Orange County","Intercity Personal VOT",null,20.606332274274905,{"$f":"+D353*(1+$B$4)","v":20.65166620527831},20.697099870929922,20.742633490645968,20.788267284325389,20.834001472350906,20.879836275590076,20.925771915396375,20.971808613610246,21.01794659256019,21.064186075063823,21.110527284428962,21.156970444454704,21.203515779432504,21.250163514147253,21.296913873878378,21.343767084400909,21.390723371986592,21.437782963404963,21.484946085924452,21.532212967313487,21.579583835841575,21.627058920280426,21.674638449905043,21.722322654494832,21.770111764334722]
["Orange County","Business VOT",null,19.22393551558616,{"$f":"+D354*(1+$B$4)","v":19.266228173720449},19.308613875702633,19.351092826229177,19.393665230446882,19.436331293953863,19.479091222800562,19.521945223490722,19.5648935029824,19.60793626868896,19.651073728480075,19.69430609068273,19.73763356408223,19.781056357923212,19.824574681910644,19.868188746210848,19.911898761452512,19.955704938727706,19.999607489592908,20.043606626070012,20.087702560647365,20.131895506280788,20.176185676394606,20.220573284882676,20.265058546109419,20.309641674910861]
["Orange County","Aggregated local VOT",null,14.926044597758578,{"$f":"+D355*(1+$B$4)","v":14.958881895873647},14.991791436044569,15.024773377203866,15.057827878633715,15.090955099966708,15.124155201186634,15.157428342629244,15.190774684983028,15.224194389289989,15.257687616946427,15.291254529703709,15.324895289669056,15.358610059306327,15.392399001436802,15.426262279239962,15.460200056254291,15.494212496378049,15.528299763870081,15.562462023350594,15.596699439801965,15.631012178569529,15.665400405362382,15.699864286254179,15.734403987683939,15.769019676456843]
["Orange County","Aggregated intercity VOT",null,20.310499367915511,{"$f":"+D356*(1+$B$4)","v":20.355182466524926},20.399963867951282,20.444843788460773,20.489822444795387,20.534900054173935,20.580076834293116,20.625353003328559,20.670728779935882,20.716204383251739,20.761780032894894,20.807455948967263,20.853232352054992,20.899109463229511,20.945087504048615,20.991166696557521,21.037347263289949,21.083629427269187,21.13001341200918,21.176499441515599,21.223087740286932,21.269778533315563,21.316572046088858,21.363468504590251,21.410468135300349,21.457571165198008]
["Page County","Local Personal VOT",null,10.475313234552333,{"$f":"+D357*(1+$B$4)","v":10.498358923668349},10.521455313300418,10.544602514989679,10.567800640522655,10.591049801931804,10.614350111496055,10.637701681741346,10.661104625441176,10.684559055617147,10.708065085539504,10.731622828727691,10.755232398950891,10.778893910228582,10.802607476831085,10.826373213280114,10.85019123434933,10.874061655064898,10.89798459070604,10.921960156805593,10.945988469150565,10.970069643782697,10.994203796999019,11.018391045352416,11.042631505652192,11.066925294964626]
["Page County","Intercity Personal VOT",null,14.665438528373265,{"$f":"+D358*(1+$B$4)","v":14.697702493135687},14.730037438620585,14.762443520985549,14.794920896731718,14.827469722704526,14.860090156094476,14.892782354437884,14.925546475617647,14.958382677864005,14.991291119755306,15.024271960218767,15.057325358531248,15.090451474320016,15.12365046756352,15.156922498592159,15.190267728089061,15.223686317090857,15.257178426988457,15.290744219527831,15.324383856810792,15.358097501295775,15.391885315798627,15.425747463493384,15.459684107913068,15.493695412950476]
["Page County","Business VOT",null,15.746458333049832,{"$f":"+D359*(1+$B$4)","v":15.781100541382541},15.815818962573582,15.850613764291243,15.885485114572683,15.920433181824743,15.955458134824758,15.990560142721371,16.025739375035357,16.060996001660435,16.096330192864087,16.131742119288386,16.167231951950821,16.202799862245111,16.23844602194205,16.274170603190321,16.309973778517339,16.345855720830077,16.381816603415903,16.417856599943416,16.45397588446329,16.490174631409108,16.526453015598207,16.562811212232521,16.599249396899431,16.635767745572611]
["Page County","Aggregated local VOT",null,10.717785909083215,{"$f":"+D360*(1+$B$4)","v":10.741365038083197},10.764996041166979,10.788679032457546,10.812414126328953,10.836201437406876,10.860041080569172,10.883933170946424,10.907877823922506,10.931875155135135,10.955925280476432,10.980028316093479,11.004184378388885,11.028393584021341,11.052656049906188,11.076971893215982,11.101341231381056,11.125764182090094,11.150240863290692,11.174771393189932,11.199355890254949,11.22399447321351,11.248687261054579,11.273434373028898,11.298235928649563,11.323092047692592]
["Page County","Aggregated intercity VOT",null,14.89677676657405,{"$f":"+D361*(1+$B$4)","v":14.929549675460512},14.962394684746524,14.995311953052965,15.028301639349682,15.06136390295625,15.094498903542753,15.127706801130547,15.160987756093034,15.194341929156439,15.227769481400582,15.261270574259663,15.294845369523035,15.328494029335985,15.362216716200525,15.396013592976166,15.429884822880712,15.46383056949105,15.49785099674393,15.531946268936766,15.566116550728426,15.600362007140028,15.634682803555735,15.669079105723558,15.703551079756149,15.738098892131612]
["Patrick County","Local Personal VOT",{"$f":"'Detailed Location'!$G$217","v":{"$error":"#DIV/0!"}},8.5118939218158882,{"$f":"+D362*(1+$B$4)","v":8.5306200884438823},8.5493874526384595,8.5681961050342643,8.5870461364653394,8.6059376379655639,8.6248707007690886,8.6438454163107803,8.662861876226664,8.6819201723543618,8.7010203967335418,8.7201626416063558,8.7393469994178901,8.7585735628166095,8.7778424246548052,8.797153677989046,8.8165074160806221,8.8359037323959999,8.8553427206072701,8.8748244745926055,8.8943490884367087,8.9139166564312688,8.9335272730754181,8.9531810330761843,8.9728780313489516,8.9926183630179199]
["Patrick County","Intercity Personal VOT",null,11.916651490542243,{"$f":"+D363*(1+$B$4)","v":11.942868123821436},11.969142433693843,11.995474547047969,12.021864591051475,12.048312693151788,12.074818981076721,12.101383582835089,12.128006626717326,12.154688241296103,12.181428555426955,12.208227698248894,12.235085799185041,12.262002987943248,12.288979394516723,12.316015149184659,12.343110382512865,12.370265225354393,12.397479808850171,12.424754264429641,12.452088723811386,12.479483319003771,12.506938182305579,12.534453446306651,12.562029243888526,12.58966570822508]
["Patrick County","Business VOT",null,18.500929626051132,{"$f":"+D364*(1+$B$4)","v":18.541631671228444},18.582423260905145,18.623304592079137,18.664275862181711,18.705337269078509,18.74648901107048,18.787731286894836,18.829064295726003,18.870488237176598,18.912003311298385,18.953609718583241,18.995307659964123,19.037097336816043,19.078978950957037,19.120952704649142,19.163018800599371,19.205177441960689,19.247428832333004,19.289773175764136,19.332210676750815,19.374741540239668,19.417365971628197,19.460084176765779,19.502896361954665,19.545802733950964]
["Patrick County","Aggregated local VOT",null,8.9713895642107087,{"$f":"+D365*(1+$B$4)","v":8.991126621251972},9.0109070998187271,9.0307310954383286,9.0505987038482925,9.0705100209967586,9.0904651430429517,9.1104641663576462,9.1305071875236337,9.1505943033361863,9.170725610803526,9.1909012071472933,9.2111211898030163,9.2313856564205832,9.2516947048647076,9.2720484332154101,9.2924469397684835,9.3128903230359743,9.3333786817466535,9.3539121148464961,9.3744907214991589,9.3951146010864566,9.4157838532088469,9.4364985776859065,9.4572588745568158,9.4780648440808406]
["Patrick County","Aggregated intercity VOT",null,13.325687011541145,{"$f":"+D366*(1+$B$4)","v":13.355003522966536},13.384384530717062,13.413830176684639,13.443340603073345,13.472915952400106,13.502556367495385,13.532261991503875,13.562032967885182,13.591869440414529,13.621771553183441,13.651739450600445,13.681773277391766,13.711873178602028,13.742039299594952,13.772271786054061,13.802570783983379,13.832936439708142,13.8633688998755,13.893868311455225,13.924434821740427,13.955068578348255,13.985769729220621,14.016538422624906,14.04737480715468,14.078279031730421]
["Pittsylvania County","Local Personal VOT",{"$f":"'Detailed Location'!$G$219","v":{"$error":"#DIV/0!"}},10.289030104035307,{"$f":"+D367*(1+$B$4)","v":10.311665970264185},10.334351635398766,10.357087208996644,10.379872800856436,10.402708521018321,10.425594479764561,10.448530787620042,10.471517555352806,10.494554893974582,10.517642914741327,10.540781729153757,10.563971448957895,10.587212186145603,10.610504052955124,10.633847161871625,10.657241625627742,10.680687557204124,10.704185069829972,10.727734276983597,10.751335292392961,10.774988230036225,10.798693204142305,10.822450329191417,10.846259719915638,10.870121491299452]
["Pittsylvania County","Intercity Personal VOT",null,14.404642145649429,{"$f":"+D368*(1+$B$4)","v":14.436332358369858},14.468092289558271,14.499922092595298,14.531821921199008,14.563791929425646,14.595832271670382,14.627943102668057,14.660124577493926,14.692376851564413,14.724700080637854,14.757094420815257,14.78956002854105,14.82209706060384,14.854705674137168,14.88738602662027,14.920138275878834,14.952962580085767,14.985859097761956,15.018827987777032,15.051869409350141,15.084983522050711,15.118170485799222,15.15143046086798,15.184763607881889,15.218170087819228]
["Pittsylvania County","Business VOT",null,16.774225915633256,{"$f":"+D369*(1+$B$4)","v":16.81112921264765},16.848113696915476,16.88517954704869,16.922326942052198,16.959556061324712,16.996867084659627,17.034260192245878,17.071735564668817,17.109293382911087,17.14693382835349,17.184657082775868,17.222463328357975,17.260352747680361,17.298325523725257,17.336381839877454,17.374521879925183,17.412745828061016,17.451053868882749,17.489446187394289,17.527922969006557,17.566484399538371,17.605130665217356,17.643861952680833,17.682678448976731,17.721580341564479]
["Pittsylvania County","Aggregated local VOT",null,10.587349111368814,{"$f":"+D370*(1+$B$4)","v":10.610641279413825},10.633984690228536,10.657379456547037,10.680825691351441,10.704323507872413,10.727873019589731,10.751474340232829,10.775127583781341,10.798832864465659,10.822590296767483,10.846399995420372,10.870262075410297,10.894176651976199,10.918143840610547,10.942163757059889,10.96623651732542,10.990362237663536,11.014541034586395,11.038773024862484,11.063058325517181,11.087397053833319,11.111789327351753,11.136235263871926,11.160734981452444,11.18528859841164]
["Pittsylvania County","Aggregated intercity VOT",null,14.911733072425969,{"$f":"+D371*(1+$B$4)","v":14.944538885185306},14.977416870732714,15.010367187848326,15.043389995661592,15.076485453652047,15.109653721650082,15.142894959837712,15.176209328749355,15.209596989272603,15.243058102649002,15.276592830474829,15.310201334701874,15.343883777638219,15.377640321949022,15.41147113065731,15.445376367144755,15.479356195152473,15.513410778781807,15.547540282495127,15.581744871116616,15.616024709833072,15.650379964194704,15.684810800115931,15.719317383876186,15.753899882120713]
["Powhatan County","Local Personal VOT",null,18.688861172761662,{"$f":"+D372*(1+$B$4)","v":18.729976667341738},18.771182616009888,18.812479217765109,18.853866672044191,18.895345178722689,18.93691493811588,18.978576150979734,19.020329018511887,19.062173742352613,19.104110524585789,19.146139567739876,19.188261074788905,19.230475249153439,19.272782294701578,19.31518241574992,19.357675817064571,19.400262703862111,19.442943281810606,19.485717757030589,19.528586336096055,19.571549226035465,19.614606634332741,19.657758768928272,19.701005838219913,19.744348051063998]
["Powhatan County","Intercity Personal VOT",null,26.164405641866328,{"$f":"+D373*(1+$B$4)","v":26.221967334278432},26.279655662413845,26.337470904871154,26.395413340861868,26.453483250211764,26.51168091336223,26.570006611371628,26.628460625916645,26.687043239293661,26.745754734420107,26.804595394835829,26.863565504704468,26.922665348814817,26.981895212582209,27.04125538204989,27.100746143890401,27.160367785406958,27.220120594534851,27.280004859842826,27.340020870534481,27.400168916449655,27.460449288065842,27.520862276499585,27.581408173507885,27.642087271489601]
["Powhatan County","Business VOT",null,21.285994618297302,{"$f":"+D374*(1+$B$4)","v":21.332823806457554},21.37975601883176,21.426791482073188,21.473930423333748,21.521173070265082,21.568519651019663,21.615970394251907,21.663525529119262,21.711185285283324,21.758949892910948,21.806819582675352,21.854794585757237,21.902875133845903,21.951061459140362,21.999353794350469,22.047752372698039,22.096257427917973,22.144869194259392,22.193587906486762,22.242413799881032,22.291347110240771,22.3403880738833,22.389536927645842,22.438793908886662,22.488159255486213]
["Powhatan County","Aggregated local VOT",null,18.808329311256298,{"$f":"+D375*(1+$B$4)","v":18.849707635741062},18.891176992539691,18.932737581923277,18.974389604603509,19.016133261733636,19.057968754909449,19.099896286170249,19.141916057999822,19.184028273327421,19.226233135528741,19.268530848426902,19.310921616293442,19.353405643849285,19.395983136265752,19.438654299165535,19.481419338623699,19.52427846116867,19.567231873783239,19.610279783905561,19.653422399430152,19.696659928708897,19.739992580552055,19.783420564229271,19.826944089470576,19.870563366467412]
["Powhatan County","Aggregated intercity VOT",null,25.12042568282256,{"$f":"+D376*(1+$B$4)","v":25.175690619324769},25.231077138687283,25.286585508392395,25.342215996510859,25.397968871703181,25.453844403220927,25.509842860908012,25.565964515202008,25.622209637135452,25.678578498337149,25.735071371033492,25.791688528049765,25.848430242811474,25.905296789345659,25.962288442282219,26.019405476855241,26.07664816890432,26.134016794875908,26.191511631824635,26.249132957414648,26.30688104992096,26.364756188230785,26.422758651844891,26.480888720878948,26.539146676064881]
["Prince Edward County","Local Personal VOT",{"$f":"'Detailed Location'!$G$221","v":{"$error":"#DIV/0!"}},9.1398365321563677,{"$f":"+D377*(1+$B$4)","v":9.159944172527112},9.1800960497066715,9.2002922610160258,9.2205329039902608,9.2408180763790391,9.2611478761470725,9.2815224014745965,9.301941750757841,9.322406022609508,9.3429153158592495,9.36346972955414,9.3840693629591598,9.4047143155576691,9.4254046870518966,9.4461405773634102,9.466922086633609,9.4877493152242032,9.5086223637176968,9.5295413329178746,9.5505063238502945,9.5715174377627648,9.5925747761258435,9.6136784406333202,9.6348285332027128,9.6560251559757582]
["Prince Edward County","Intercity Personal VOT",null,12.795771145018913,{"$f":"+D378*(1+$B$4)","v":12.823921841537954},12.852134469589338,12.880409165422433,12.908746065586362,12.937145306930653,12.9656070266059,12.994131362064433,13.022718451060975,13.051368431653309,13.080081442202946,13.108857621375792,13.137697108142818,13.166600041780733,13.195566561872649,13.224596808308769,13.253690921287049,13.282849041313881,13.312071309204772,13.341357866085021,13.370708853390408,13.400124412867866,13.429604686576175,13.459149816886642,13.488759946483793,13.518435218366056]
["Prince Edward County","Business VOT",null,11.383780415101855,{"$f":"+D379*(1+$B$4)","v":11.408824732015079},11.433924146425511,11.459078779547648,11.484288752862652,11.509554188118949,11.53487520733281,11.560251932788942,11.585684487041078,11.611172992912568,11.636717573496975,11.662318352158668,11.687975452533417,11.71368899852899,11.739459114325754,11.76528592437727,11.791169553410899,11.817110126428403,11.843107768706545,11.869162605797699,11.895274763530454,11.921444368010221,11.947671545619842,11.973956423020205,12.00029912715085,12.026699785230582]
["Prince Edward County","Aggregated local VOT",null,9.2430579507718598,{"$f":"+D380*(1+$B$4)","v":9.2633926782635569},9.2837721421557369,9.3041964408684787,9.324665673038389,9.3451799375190738,9.3657393333816152,9.3863439599150542,9.4069939166268668,9.4276893032434455,9.4484302197105805,9.4692167661939433,9.4900490430795692,9.5109271509743447,9.5318511907064885,9.5528212633260434,9.5738374701053601,9.5948999125395922,9.6160086923471795,9.6371639114703438,9.6583656720755791,9.6796140765541452,9.7009092275225637,9.7222512278231132,9.7436401805243236,9.7650761889214763]
["Prince Edward County","Aggregated intercity VOT",null,12.493605128816665,{"$f":"+D381*(1+$B$4)","v":12.52109106010006},12.54863746043228,12.576244462845231,12.60391220066349,12.631640807504949,12.65943041728146,12.687281164199479,12.715193182760718,12.743166607762792,12.771201574299869,12.799298217763329,12.827456673842409,12.855677078524863,12.883959568097618,12.912304279147433,12.940711348561557,12.969180913528392,12.997713111538154,13.026308080383538,13.054965958160382,13.083686883268335,13.112470994411526,13.141318430599231,13.170229331146549,13.199203835675071]
["Prince George County","Local Personal VOT",{"$f":"'Detailed Location'!$G$222","v":{"$error":"#DIV/0!"}},15.399242692307691,{"$f":"+D382*(1+$B$4)","v":15.433121026230769},15.467073892488475,15.50110145505195,15.535203878253064,15.569381326785221,15.603633965704148,15.637961960428697,15.672365476741641,15.706844680790471,15.741399739088211,15.776030818514204,15.810738086314934,15.845521710104826,15.880381857867057,15.915318697954364,15.950332399089863,15.98542313036786,16.02059106125467,16.055836361589432,16.091159201584929,16.126559751828417,16.162038183282441,16.19759466728566,16.233229375553687,16.268942480179906]
["Prince George County","Intercity Personal VOT",null,21.558939769230768,{"$f":"+D383*(1+$B$4)","v":21.606369436723075},21.653903449483863,21.701542037072727,21.749285429554288,21.797133857499308,21.845087551985806,21.893146744600173,21.941311667438292,21.989582553106654,22.037959634723489,22.08644314591988,22.135033320840904,22.183730394146753,22.232534601013874,22.281446177136104,22.330465358725803,22.379592382515,22.428827485756532,22.478170906225195,22.527622882218889,22.577183652559771,22.626853456595402,22.676632534199911,22.72652112577515,22.776519472251856]
["Prince George County","Business VOT",null,18.739194089899268,{"$f":"+D384*(1+$B$4)","v":18.780420316897047},18.821737241594221,18.863145063525728,18.904643982665483,18.946234199427348,18.987915914666086,19.029689329678352,19.071554646203644,19.11351206642529,19.155561792971426,19.197704028915961,19.239938977779577,19.282266843530692,19.324687830586459,19.367202143813749,19.409809988530139,19.452511570504903,19.495307095960012,19.538196771571123,19.58118080446858,19.624259402238412,19.667432772923338,19.710701125023768,19.75406466749882,19.797523609767318]
["Prince George County","Aggregated local VOT",null,15.552880456596904,{"$f":"+D385*(1+$B$4)","v":15.587096793601416},15.621388406547339,15.655755461041743,15.690198123056033,15.724716558926756,15.759310935356394,15.793981419414179,15.82872817853689,15.863551380529671,15.898451193566837,15.933427786192684,15.968481327322309,16.003611986242419,16.038819932612153,16.074105336463898,16.109468368204119,16.144909198614169,16.180427998851119,16.216024940448591,16.251700195317579,16.287453935747276,16.323286334405921,16.359197564341613,16.395187798983166,16.431257212140927]
["Prince George County","Aggregated intercity VOT",null,20.955514193853826,{"$f":"+D386*(1+$B$4)","v":21.001616325080306},21.047819880995483,21.094125084733673,21.140532159920085,21.18704133067191,21.233652821599389,21.280366857806907,21.327183664894083,21.37410346895685,21.421126496588556,21.46825297488105,21.515483131425789,21.562817194314924,21.610255392142417,21.65779795400513,21.705445109503941,21.753197088744848,21.801054122340087,21.849016441409233,21.897084277580333,21.94525786299101,21.993537430289589,22.041923212636224,22.090415443704025,22.139014357680175]
["Prince William County","Local Personal VOT",{"$f":"'Detailed Location'!$G$223","v":{"$error":"#DIV/0!"}},23.943607985498108,{"$f":"+D387*(1+$B$4)","v":23.996283923066205},24.04907574769695,24.101983714341884,24.155008078513436,24.208149096286164,24.261407024297991,24.314782119751445,24.368274640414899,24.421884844623811,24.475612991281984,24.529459339862804,24.583424150410501,24.637507683541404,24.691710200445193,24.746031962886171,24.800473233204521,24.855034274317571,24.909715349721068,24.964516723490455,25.019438660282134,25.074481425334753,25.129645284470488,25.184930504096322,25.240337351205334,25.295866093377985]
["Prince William County","Intercity Personal VOT",null,33.521051179697345,{"$f":"+D388*(1+$B$4)","v":33.594797492292678},33.668706046775718,33.742777200078621,33.81701130991879,33.891408734800613,33.965969834017173,34.040694967652009,34.115584496580844,34.190638782473322,34.265858187794763,34.34124307580791,34.416793810574688,34.492510756957955,34.568394280623259,34.644444748040627,34.720662526486315,34.797047984044582,34.873601489609477,34.950323412886618,35.027214124394966,35.104273995468631,35.181503398258663,35.258902705734833,35.33647229168745,35.414212530729159]
["Prince William County","Business VOT",null,20.645392006288183,{"$f":"+D389*(1+$B$4)","v":20.690811868702017},20.73633165481316,20.781951584453747,20.827671877939544,20.873492756071009,20.919414440134364,20.965437151902659,21.011561113636844,21.057786548086845,21.104113678492634,21.150542728585318,21.197073922588206,21.2437074852179,21.290443641685378,21.337282617697085,21.384224639456018,21.431269933662822,21.478418727516878,21.525671248717416,21.573027725464595,21.620488386460618,21.66805346091083,21.715723178524833,21.763497769517588,21.811377464610526]
["Prince William County","Aggregated local VOT",null,23.791890050454448,{"$f":"+D390*(1+$B$4)","v":23.844232208565447},23.896689519424292,23.949262236367026,24.001950613287033,24.054754904636262,24.107675365426463,24.1607122512304,24.213865818183105,24.267136322983109,24.320524022893672,24.374029175744038,24.427652039930674,24.481392874418521,24.535251938742242,24.589229493007473,24.643325797892089,24.69754111464745,24.751875705099675,24.806329831650892,24.860903757280525,24.915597745546542,24.970412060586742,25.025346967120033,25.080402730447695,25.135579616454677]
["Prince William County","Aggregated intercity VOT",null,30.765660116587785,{"$f":"+D391*(1+$B$4)","v":30.833344568844279},30.901177926895734,30.969160518334903,31.037292671475239,31.105574715352482,31.174006979726258,31.242589795081656,31.311323492630834,31.380208404314622,31.449244862804115,31.518433201502283,31.587773754545587,31.657266856805588,31.72691284389056,31.796712052147118,31.866664818661842,31.936771481262898,32.007032378521679,32.077447849754428,32.148018235023891,32.218743875140945,32.289625111666254,32.360662286911918,32.431855743943125,32.503205826579801]
["Pulaski County","Local Personal VOT",{"$f":"'Detailed Location'!$G$224","v":{"$error":"#DIV/0!"}},10.818582017654476,{"$f":"+D392*(1+$B$4)","v":10.842382898093316},10.866236140469121,10.890141859978153,10.914100172070103,10.938111192448657,10.962175037072043,10.986291822153602,11.010461664162339,11.034684679823496,11.058960986119107,11.083290700288568,11.107673939829203,11.132110822496827,11.15660146630632,11.181145989532194,11.205744510709165,11.230397148632726,11.255104022359717,11.279865251208909,11.304680954761569,11.329551252862045,11.354476265618342,11.379456113402702,11.404490916852188,11.429580796869262]
["Pulaski County","Intercity Personal VOT",null,15.146014824716266,{"$f":"+D393*(1+$B$4)","v":15.179336057330641},15.212730596656767,15.246198603969411,15.279740240898143,15.313355669428118,15.34704505190086,15.380808551015042,15.414646329827274,15.448558551752894,15.48254538056675,15.516606980403996,15.550743515760884,15.584955151495556,15.619242052828847,15.653604385345069,15.688042314992828,15.722556008085812,15.757145631303601,15.791811351692468,15.826553336666191,15.861371754006855,15.896266771865671,15.931238558763775,15.966287283593056,16.001413115616959]
["Pulaski County","Business VOT",null,19.087035068093595,{"$f":"+D394*(1+$B$4)","v":19.129026545243402},19.171110403642938,19.213286846530952,19.255556077593319,19.297918300964024,19.340373721226143,19.382922543412839,19.425564973008346,19.468301215948962,19.511131478624048,19.554055967877019,19.597074891006347,19.640188455766559,19.683396870369243,19.726700343484055,19.770099084239718,19.813593302225044,19.857183207489939,19.900869010546415,19.944650922369618,19.988529154398829,20.032503918538506,20.076575427159291,20.120743893099043,20.165009529663859]
["Pulaski County","Aggregated local VOT",null,11.198930857974675,{"$f":"+D395*(1+$B$4)","v":11.22356850586222},11.248260356575116,11.273006529359581,11.297807143724171,11.322662319440363,11.347572176543132,11.372536835331527,11.397556416369255,11.422631040485268,11.447760828774335,11.472945902597639,11.498186383583354,11.523482393627237,11.548834054893216,11.574241489813982,11.599704821091573,11.625224171697974,11.650799664875709,11.676431424138435,11.70211957327154,11.727864236332737,11.753665537652669,11.779523601835505,11.805438553759544,11.831410518577814]
["Pulaski County","Aggregated intercity VOT",null,15.989393156799016,{"$f":"+D396*(1+$B$4)","v":16.024569821743974},16.05982387535181,16.095155487877584,16.130564829950913,16.166052072576804,16.201617387136473,16.237260945388172,16.272982919468024,16.308783481890853,16.34466280555101,16.380621063723222,16.416658430063414,16.452775078609552,16.488971183782493,16.525246920386813,16.561602463611663,16.59803798903161,16.634553672607478,16.671149690687212,16.707826220006723,16.744583437690736,16.781421521253655,16.818340648600412,16.855340998027334,16.892422748222994]
["Rappahannock County","Local Personal VOT",null,13.779092162673392,{"$f":"+D397*(1+$B$4)","v":13.809406165431273},13.839786858995222,13.870234390085011,13.900748905743198,13.931330553335833,13.961979480553172,13.992695835410389,14.023479766248292,14.054331421734037,14.085250950861852,14.116238502953747,14.147294227660245,14.178418274961096,14.209610795166011,14.240871938915376,14.27220185718099,14.303600701266788,14.335068622809574,14.366605773779755,14.398212306482069,14.429888373556329,14.461634127978153,14.493449723059705,14.525335312450435,14.557291050137826]
["Rappahannock County","Intercity Personal VOT",null,19.290729027742746,{"$f":"+D398*(1+$B$4)","v":19.33316863160378},19.375701602593306,19.418328146119013,19.461048468040474,19.503862774670161,19.546771272774436,19.58977416957454,19.632871672747601,19.676063990427647,19.719351331206585,19.762733904135239,19.806211918724337,19.849785584945529,19.89345511323241,19.937220714481519,19.981082600053377,20.025040981773493,20.069096071933394,20.113248083291648,20.157497229074888,20.201843722978854,20.246287779169407,20.290829612283581,20.335469437430604,20.38020747019295]
["Rappahannock County","Business VOT",null,18.136307922410865,{"$f":"+D399*(1+$B$4)","v":18.176207799840167},18.216195456999817,18.256271087005217,18.296434883396628,18.336687040140102,18.377027751628411,18.417457212681992,18.457975618549892,18.498583164910702,18.539280047873504,18.580066463978824,18.620942610199577,18.661908683942016,18.70296488304669,18.744111405789393,18.785348450882129,18.82667621747407,18.868094905152514,18.90960471394385,18.951205844314526,18.992898497172018,19.034682873865794,19.076559176188297,19.11852760637591,19.160588367109938]
["Rappahannock County","Aggregated local VOT",null,13.979524087621316,{"$f":"+D400*(1+$B$4)","v":14.010279040614083},14.041101654503434,14.071992078143341,14.102950460715256,14.13397695172883,14.165071701022633,14.196234858764882,14.227466575454164,14.258767001920162,14.290136289324387,14.3215745891609,14.353082053257053,14.384658833774218,14.41630508320852,14.448020954391579,14.479806600491241,14.51166217501232,14.543587831797348,14.575583725027302,14.607650009222361,14.63978683924265,14.671994370288983,14.704272757903619,14.736622157971006,14.769042726718542]
["Rappahannock County","Aggregated intercity VOT",null,19.043682911201724,{"$f":"+D401*(1+$B$4)","v":19.085579013606367},19.1275672874363,19.16964793546866,19.211821160926689,19.254087167480726,19.296446159249182,19.338898340799531,19.381443917149291,19.42408309376702,19.466816076573309,19.50964307194177,19.552564286700044,19.595579928130782,19.638690203972669,19.681895322421408,19.725195492130734,19.76859092221342,19.812081822242288,19.855668402251219,19.899350872736171,19.94312944465619,19.987004329434434,20.030975738959189,20.075043885584897,20.119208982133184]
["Richmond County","Local Personal VOT",null,11.49510961223203,{"$f":"+D402*(1+$B$4)","v":11.520398853378939},11.545743730856373,11.571144367064257,11.596600884671798,11.622113406618075,11.647682056112634,11.673306956636083,11.698988231940682,11.72472600605095,11.750520403264263,11.776371548151443,11.802279565557376,11.828244580601602,11.854266718678925,11.880346105460019,11.906482866892031,11.932677129199194,11.958929018883431,11.985238662724974,12.011606187782968,12.038031721396091,12.064515391183162,12.091057325043765,12.117657651158861,12.14431649799141]
["Richmond County","Intercity Personal VOT",null,16.093153457124842,{"$f":"+D403*(1+$B$4)","v":16.128558394730515},16.164041223198922,16.199602113889959,16.235241238540517,16.270958769265306,16.30675487855769,16.342629739290516,16.378583524716955,16.414616408471332,16.450728564569967,16.48692016741202,16.523191391780326,16.559542412842241,16.595973406150492,16.632484547644022,16.669076013648837,16.705747980878865,16.742500626436797,16.779334127814959,16.81624866289615,16.85324440995452,16.89032154765642,16.927480255061262,16.964720711622398,17.002043097187968]
["Richmond County","Business VOT",null,17.553386448680293,{"$f":"+D404*(1+$B$4)","v":17.592003898867389},17.630706307444896,17.669493861321275,17.708366747816182,17.747325154661379,17.786369270001632,17.825499282395636,17.864715380816907,17.904017754654703,17.943406593714943,17.982882088221118,18.022444428815202,18.062093806558597,18.101830412933026,18.141654439841478,18.18156607960913,18.221565524984271,18.261652969139238,18.301828605671343,18.342092628603819,18.382445232386747,18.422886611897997,18.463416962444171,18.504036479761549,18.544745360017025]
["Richmond County","Aggregated local VOT",null,11.773790346708649,{"$f":"+D405*(1+$B$4)","v":11.799692685471408},11.825652009379445,11.851668443800079,11.877742114376439,11.903873147028067,11.930061667951529,11.956307803621023,11.982611680788988,12.008973426486724,12.035393168024996,12.061871032994651,12.088407149267239,12.115001644995626,12.141654648614617,12.168366288841568,12.19513669467702,12.221965995405309,12.2488543205952,12.27580180010051,12.302808564060731,12.329874742901664,12.357000467336047,12.384185868364186,12.411431077274587,12.438736225644591]
["Richmond County","Aggregated intercity VOT",null,16.405643317317711,{"$f":"+D406*(1+$B$4)","v":16.441735732615811},16.477907551227567,16.514158947840269,16.550490097525518,16.586901175740074,16.623392358326701,16.659963821515021,16.696615741922354,16.733348296554585,16.770161662807006,16.807056018465179,16.844031541705803,16.881088411097554,16.918226805601968,16.955446904574291,16.992748887764353,17.030132935317436,17.067599227775133,17.105147946076237,17.142779271557604,17.180493385955032,17.218290471404131,17.256170710441221,17.294134286004191,17.332181381433401]
["Roanoke County","Local Personal VOT",{"$f":"'Detailed Location'!$G$227","v":{"$error":"#DIV/0!"}},14.842834757250946,{"$f":"+D407*(1+$B$4)","v":14.875488993716898},14.908215069503076,14.941013142655981,14.973883371569825,15.006825914987278,15.039840932000249,15.072928582050649,15.10608902493116,15.139322420786009,15.172628930111738,15.206008713757983,15.239461932928251,15.272988749180692,15.30658932442889,15.340263820942633,15.374012401348706,15.407835228631672,15.441732466134662,15.475704277560158,15.509750826970791,15.543872278790126,15.578068797803464,15.612340549158631,15.64668769836678,15.681110411303186]
["Roanoke County","Intercity Personal VOT",null,20.779968660151322,{"$f":"+D408*(1+$B$4)","v":20.825684591203654},20.8715010973043,20.917418399718368,20.963436720197748,21.009556280982181,21.05577730480034,21.102100014870899,21.148524634903616,21.195051389100403,21.241680502156424,21.288412199261167,21.335246706099539,21.382184248852958,21.429225054200433,21.476369349319675,21.523617361888178,21.57096932008433,21.618425452588514,21.665985988584207,21.713651157759092,21.761421190306162,21.809296316924836,21.857276768822071,21.905362777713478,21.953554575824448]
["Roanoke County","Business VOT",null,20.056258746752377,{"$f":"+D409*(1+$B$4)","v":20.100382515995232},20.144603357530421,20.188921484916989,20.233337112183804,20.277850453830609,20.322461724829036,20.367171140623661,20.411978917133034,20.456885270750725,20.501890418346377,20.546994577266741,20.592197965336727,20.637500800860469,20.682903302622361,20.728405689888131,20.774008182405886,20.819711000407178,20.865514364608075,20.91141849621021,20.95742361690187,21.003529948859054,21.049737714746545,21.096047137718987,21.142458441421969,21.188971849993095]
["Roanoke County","Aggregated local VOT",null,15.082652260768009,{"$f":"+D410*(1+$B$4)","v":15.115834095741699},15.149088930752329,15.182416926399984,15.215818243638063,15.249293043774067,15.282841488470369,15.316463739745004,15.350159959972443,15.383930311884381,15.417774958570526,15.45169406347938,15.485687790419034,15.519756303557955,15.553899767425783,15.588118346914118,15.622412207277328,15.656781514133337,15.691226433464431,15.725747131618052,15.760343775307611,15.795016531613287,15.829765567982836,15.864591052232399,15.89949315254731,15.934472037482914]
["Roanoke County","Aggregated intercity VOT",null,20.625094738683948,{"$f":"+D411*(1+$B$4)","v":20.670469947109051},20.715944980992692,20.761520059950875,20.807195404082766,20.852971233971747,20.898847770686483,20.944825235781995,20.990903851300715,21.037083839773576,21.083365424221078,21.129748828154366,21.176234275576306,21.222821990982574,21.269512199362737,21.316305126201335,21.363200997478977,21.41020003967343,21.457302479760713,21.504508545216186,21.55181846401566,21.599232464636493,21.646750776058692,21.694373627766019,21.742101249747105,21.789933872496547]
["Rockbridge County","Local Personal VOT",{"$f":"'Detailed Location'!$G$228","v":{"$error":"#DIV/0!"}},11.795408761034047,{"$f":"+D412*(1+$B$4)","v":11.821358660308322},11.847365649361,11.873429853789595,11.899551399467931,11.925730412546761,11.951967019454363,11.978261346897163,12.004613521860337,12.03102367160843,12.057491923685969,12.084018405918078,12.110603246411097,12.137246573553201,12.163948516015017,12.19070920275025,12.217528762996301,12.244407326274892,12.271345022392698,12.298341981441961,12.325398333801134,12.352514210135496,12.379689741397794,12.406925058828868,12.434220293958292,12.461575578605]
["Rockbridge County","Intercity Personal VOT",null,16.513572265447664,{"$f":"+D413*(1+$B$4)","v":16.549902124431647},16.586311909105397,16.622801795305428,16.6593719592551,16.696022577565461,16.732753827236106,16.769565885656025,16.806458930604467,16.843433140251797,16.880488693160352,16.917625768285305,16.954844544975533,16.992145202974477,17.029527922421021,17.066992883850347,17.104540268194818,17.142170256784844,17.179883031349771,17.21767877401874,17.255557667321582,17.293519894189689,17.331565637956906,17.369695082360412,17.407908411541605,17.446205810046997]
["Rockbridge County","Business VOT",null,15.763102096399189,{"$f":"+D414*(1+$B$4)","v":15.797780921011267},15.832536039037491,15.867367618323373,15.902275827083685,15.937260833903268,15.972322807737855,16.007461917914878,16.04267833413429,16.077972226469385,16.113343765367617,16.148793121651426,16.184320466519058,16.219925971545401,16.255609808682799,16.2913721502619,16.327213168992476,16.363133037964257,16.399131930647776,16.435210020895202,16.471367482941172,16.507604491403644,16.54392122128473,16.580317847971557,16.616794547237095,16.653351495241015]
["Rockbridge County","Aggregated local VOT",null,11.977922654460844,{"$f":"+D415*(1+$B$4)","v":12.004274084300658},12.030683487286119,12.057150990958148,12.083676723138256,12.110260811929159,12.136903385715403,12.163604573163976,12.190364503224936,12.21718330513203,12.24406110840332,12.270998042841807,12.297994238536059,12.325049825860839,12.352164935477733,12.379339698335784,12.406574245672122,12.4338687090126,12.461223220172428,12.488637911256808,12.516112914661573,12.543648363073828,12.571244389472589,12.598901127129428,12.626618709609113,12.654397270770254]
["Rockbridge County","Aggregated intercity VOT",null,16.352971649271289,{"$f":"+D416*(1+$B$4)","v":16.388948186899686},16.425003872910864,16.461138881431268,16.497353386970417,16.533647564421752,16.570021589063479,16.60647563655942,16.643009882959852,16.679624504702364,16.71631967861271,16.753095581905658,16.78995239218585,16.826890287448659,16.863909446081045,16.901010046862424,16.938192268965523,16.975456291957247,17.012802295799553,17.050230460850312,17.087740967864182,17.125333997993483,17.163009732789067,17.200768354201202,17.238610044580444,17.27653498667852]
["Rockingham County","Local Personal VOT",{"$f":"'Detailed Location'!$G$229","v":{"$error":"#DIV/0!"}},12.743182172131148,{"$f":"+D417*(1+$B$4)","v":12.771217172909836},12.799313850690238,12.827472341161757,12.855692780312312,12.883975304428999,12.912320050098742,12.940727154208959,12.96919675394822,12.997728986806905,13.026323990577881,13.054981903357152,13.083702863544538,13.112487009844335,13.141334481265993,13.170245417124779,13.199219957042454,13.228258240947946,13.257360409078032,13.286526601978004,13.315756960502355,13.34505162581546,13.374410739392253,13.403834443018916,13.433322878793557,13.462876189126902]
["Rockingham County","Intercity Personal VOT",null,17.840455040983603,{"$f":"+D418*(1+$B$4)","v":17.879704042073765},17.919039390966326,17.958461277626451,17.997969892437229,18.03756542620059,18.077248070138232,18.117018015892537,18.156875455527501,18.196820581529661,18.236853586809026,18.276974664700006,18.317184008962347,18.357481813782062,18.397868273772382,18.438343583974682,18.478907939859425,18.519561537327117,18.560304572709235,18.601137242769195,18.642059744703285,18.683072276141633,18.724175035149145,18.765368220226474,18.806652030310971,18.848026664777656]
["Rockingham County","Business VOT",null,15.461268568420037,{"$f":"+D419*(1+$B$4)","v":15.495283359270561},15.529372982660956,15.563537603222809,15.597777385949898,15.632092496198988,15.666483099690625,15.700949362509943,15.735491451107466,15.770109532299902,15.804803773270962,15.839574341572158,15.874421405123616,15.909345132214888,15.944345691505761,15.979423252027074,16.014577983181532,16.04981005474453,16.085119636864967,16.120506900066069,16.155972015246213,16.191515153679756,16.227136487017852,16.262836187289292,16.298614426901327,16.334471378640512]
["Rockingham County","Aggregated local VOT",null,12.868214146360437,{"$f":"+D420*(1+$B$4)","v":12.89652421748243},12.924896570760891,12.953331343216565,12.981828672171641,13.010388695250418,13.03901155037997,13.067697375790805,13.096446310017544,13.125258491899583,13.154134060581761,13.183073155515041,13.212075916457174,13.241142483473379,13.27027299693702,13.299467597530281,13.328726426244847,13.358049624382586,13.387437333556228,13.416889695690053,13.446406853020571,13.475988948097216,13.505636123783029,13.535348523255351,13.565126290006512,13.594969567844526]
["Rockingham County","Aggregated intercity VOT",null,17.331309135855001,{"$f":"+D421*(1+$B$4)","v":17.369438015953882},17.40765077958898,17.445947611304074,17.484328696048944,17.522794219180252,17.56134436646245,17.599979324068666,17.638699278581615,17.677504416994495,17.716394926711882,17.755370995550649,17.794432811740862,17.833580563926692,17.872814441167328,17.912134632937896,17.951541329130357,17.991034720054444,18.030614996438562,18.070282349430727,18.110036970599474,18.149879051934793,18.189808785849049,18.229826365177917,18.269931983181309,18.310125833544308]
["Russell County","Local Personal VOT",{"$f":"'Detailed Location'!$G$230","v":{"$error":"#DIV/0!"}},8.2697014375788154,{"$f":"+D422*(1+$B$4)","v":8.2878947807414889},8.3061281492591199,8.3244016311874898,8.3427153147761022,8.3610692884686095,8.379463640903241,8.3978984609132272,8.416373837527237,8.4348898599697968,8.4534466176617293,8.4720442002205854,8.4906826974610698,8.5093621993954844,8.5280827962341537,8.5468445783858691,8.5656476364583174,8.5844920612585263,8.6033779437932942,8.6223053752696401,8.641274447095233,8.660285250878843,8.6793378784307755,8.6984324217633233,8.7175689730912023,8.7367476248320024]
["Russell County","Intercity Personal VOT",null,11.577582012610339,{"$f":"+D423*(1+$B$4)","v":11.603052693038082},11.628579408962766,11.654162283662483,11.679801440686541,11.705497003856051,11.731249097264534,11.757057845278515,11.782923372538129,11.808845803957713,11.834825264726419,11.860861880308816,11.886955776445495,11.913107079153674,11.939315914727812,11.965582409740213,11.991906691041642,12.018288885761933,12.04472912131061,12.071227525377493,12.097784225933323,12.124399351230375,12.151073029803081,12.177805390468647,12.204596562327678,12.231446674764799]
["Russell County","Business VOT",null,19.564844783805462,{"$f":"+D424*(1+$B$4)","v":19.607887442329833},19.651024794702959,19.694257049251306,19.73758441475966,19.781007100472131,19.824525316093169,19.868139271788575,19.911849178186511,19.95565524637852,19.99955768792055,20.043556714833976,20.087652539606609,20.131845375193741,20.176135435019166,20.220522932976209,20.265008083428757,20.309591101212298,20.354272201634966,20.399051600478565,20.443929513999617,20.488906158930416,20.533981752480063,20.579156512335519,20.624430656662657,20.669804404107314]
["Russell County","Aggregated local VOT",null,8.7892780315052406,{"$f":"+D425*(1+$B$4)","v":8.8086144431745517},8.8279933949495355,8.8474149804184243,8.8668792933753444,8.8863864278207707,8.9059364779619763,8.9255295382134925,8.9451657031975618,8.9648450677445961,8.9845677268936335,9.0043337758927997,9.0241433101997632,9.0439964254822023,9.0638932176182632,9.0838337826970239,9.1038182170189579,9.1238466170963992,9.1439190796540117,9.1640357016292509,9.1841965801728342,9.2044018126492144,9.2246514966370423,9.2449457299296434,9.2652846105354882,9.2856682366786654]
["Russell County","Aggregated intercity VOT",null,13.286856245646096,{"$f":"+D426*(1+$B$4)","v":13.316087329386518},13.345382721511168,13.374742563498492,13.404166997138189,13.433656164531893,13.463210208093862,13.492829270551669,13.522513494946882,13.552263024635765,13.582078003289963,13.611958574897201,13.641904883761976,13.671917074506252,13.701995292070166,13.73213968171272,13.762350389012488,13.792627559868315,13.822971340500025,13.853381877449126,13.883859317579514,13.914403808078189,13.945015496455961,13.975694530548163,14.006441058515369,14.037255228844103]
["Scott County","Local Personal VOT",{"$f":"'Detailed Location'!$G$232","v":{"$error":"#DIV/0!"}},9.3642063839848682,{"$f":"+D427*(1+$B$4)","v":9.3848076380296348},9.4054542148333002,9.426146214105934,9.4468837357769662,9.4676668799956758,9.4884957471316653,9.5093704377753543,9.530291052738459,9.5512576930544828,9.5722704599792028,9.5933294549911565,9.6144347797921377,9.6355865363076809,9.6567848266875576,9.6780297533062694,9.6993214187635424,9.7206599258848225,9.7420453777217695,9.7634778775527575,9.784957528883373,9.8064844354469169,9.8280587012049008,9.8496804303475507,9.8713497272943158,9.8930666966943637]
["Scott County","Intercity Personal VOT",null,13.109888937578814,{"$f":"+D428*(1+$B$4)","v":13.138730693241488},13.167635900766619,13.196604699748306,13.225637230087752,13.254733631993945,13.283894045984331,13.313118612885496,13.342407473833845,13.371760770276278,13.401178643970885,13.430661236987621,13.460208691708994,13.489821150830753,13.51949875736258,13.549241654628778,13.579049986268961,13.608923896238753,13.638863528810479,13.668869028573862,13.698940540436725,13.729078209625685,13.759282181686862,13.789552602486573,13.819889618212043,13.850293375372109]
["Scott County","Business VOT",null,18.559386884691687,{"$f":"+D429*(1+$B$4)","v":18.600217535838009},18.641138014416853,18.682148518048571,18.723249244788278,18.764440393126812,18.805722161991689,18.84709475074807,18.888558359199717,18.930113187589956,18.971759436602653,19.013497307363178,19.055327001439377,19.097248720842543,19.139262668028397,19.181369045898059,19.223568057799035,19.265859907526192,19.30824479932275,19.350722937881262,19.393294528344601,19.435959776306959,19.478718887814832,19.521572069368023,19.564519527920634,19.607561470882057]
["Scott County","Aggregated local VOT",null,9.7871846870173815,{"$f":"+D430*(1+$B$4)","v":9.80871649332882},9.8302956696141433,9.8519223200872936,9.8735965491914861,9.8953184615997074,9.9170881622152258,9.9389057561720993,9.9607713488356779,9.982685045803116,10.004646952903883,10.026657176200271,10.04871582198791,10.070822996796283,10.092978807389235,10.11518336076549,10.137436764159174,10.159739125040325,10.182090551115413,10.204491150327867,10.226941030858587,10.249440301126475,10.271989069788953,10.294587445742488,10.317235538123121,10.339933456306992]
["Scott County","Aggregated intercity VOT",null,14.276081498260968,{"$f":"+D431*(1+$B$4)","v":14.307488877557143},14.338965353087769,14.370511076864561,14.402126201233663,14.433810878876377,14.465565262809905,14.497389506388087,14.529283763302141,14.561248187581405,14.593282933594084,14.625388156047991,14.657564009991297,14.689810650813278,14.722128234245067,14.754516916360407,14.7869768535764,14.819508202654267,14.852111120700107,14.884785765165647,14.91753229384901,14.950350864895478,14.983241636798247,15.016204768399204,15.049240418889681,15.082348747811238]
["Shenandoah County","Local Personal VOT",{"$f":"'Detailed Location'!$G$233","v":{"$error":"#DIV/0!"}},12.115727853089533,{"$f":"+D432*(1+$B$4)","v":12.142382454366329},12.169095695765934,12.195867706296619,12.222698615250472,12.249588552204022,12.276537647018872,12.303546029842312,12.330613831107966,12.357741181536403,12.384928212135783,12.412175054202482,12.439481839321727,12.466848699368235,12.494275766506846,12.521763173193161,12.549311052174186,12.576919536488969,12.604588759469245,12.632318854740076,12.660109956220504,12.68796219812419,12.715875714960063,12.743850641532974,12.771887112944347,12.799985264592824]
["Shenandoah County","Intercity Personal VOT",null,16.962018994325348,{"$f":"+D433*(1+$B$4)","v":16.999335436112862},17.036733974072309,17.074214788815269,17.111778061350662,17.149423973085632,17.187152705826421,17.224964441779239,17.262859363551154,17.300837654150968,17.338899496990098,17.377045075883476,17.415274575050418,17.453588179115528,17.491986073109583,17.530468442470426,17.569035473043861,17.607687351084557,17.646424263256943,17.685246396636106,17.724153938708707,17.763147077373866,17.802226000944088,17.841390898146166,17.880641958122087,17.919979370429957]
["Shenandoah County","Business VOT",null,16.744201647145807,{"$f":"+D434*(1+$B$4)","v":16.781038890769526},16.817957176329219,16.854956682117145,16.892037586817803,16.929200069508802,16.966444309661721,17.003770487142976,17.04117878221469,17.078669375535561,17.116242448161739,17.153898181547692,17.191636757547098,17.229458358413702,17.267363166802213,17.305351365769177,17.343423138773868,17.381578669679172,17.419818142752465,17.45814174266652,17.496549654500384,17.535042063740285,17.573619156280515,17.612281118424331,17.651028136884864,17.68986039878601]
["Shenandoah County","Aggregated local VOT",null,12.328637647616119,{"$f":"+D435*(1+$B$4)","v":12.355760650440875},12.382943323871844,12.410185799184362,12.437488207942566,12.464850682000041,12.49227335350044,12.51975635487814,12.547299818858871,12.574903878460361,12.602568666992974,12.63029431806036,12.658080965560092,12.685928743684324,12.713837786920429,12.741808230051653,12.769840208157767,12.797933856615714,12.826089311100269,12.854306707584689,12.882586182341376,12.910927871942526,12.9393319132608,12.967798443469974,12.996327600045607,13.024919520765707]
["Shenandoah County","Aggregated intercity VOT",null,16.915406082028927,{"$f":"+D436*(1+$B$4)","v":16.952619975409391},16.98991573935529,17.02729355398187,17.064753599800632,17.102296057720192,17.139921109047176,17.177628935487078,17.215419719145149,17.253293642527268,17.291250888540826,17.329291640495615,17.367416082104704,17.405624397485333,17.443916771159799,17.482293388056352,17.520754433510074,17.559300093263797,17.597930553468977,17.636646000686607,17.675446621888117,17.714332604456271,17.753304136186074,17.792361405285682,17.831504600377311,17.870733910498142]
["Smyth County","Local Personal VOT",{"$f":"'Detailed Location'!$G$234","v":{"$error":"#DIV/0!"}},9.0917398392181585,{"$f":"+D437*(1+$B$4)","v":9.1117416668644378},9.1317874985315388,9.1518774310283089,9.1720115613765714,9.1921899868116004,9.212412804782586,9.2326801129531066,9.2529920092016038,9.273348591621847,9.2937499585234153,9.3141962084321666,9.3346874400907165,9.3552237524589152,9.375805244714325,9.396432016252696,9.4171041666884516,9.4378217958551662,9.4585850038060482,9.4793938908144213,9.5002485573742135,9.5211491042004361,9.5420956322296764,9.5630882426205819,9.5841270367543476,9.6052121162352062]
["Smyth County","Intercity Personal VOT",null,12.728435774905423,{"$f":"+D438*(1+$B$4)","v":12.756438333610214},12.784502497944157,12.812628403439634,12.840816185927201,12.86906598153624,12.897377926695619,12.925752158134349,12.954188812882245,12.982688028270585,13.01124994193278,13.039874691805032,13.068562416127003,13.097313253442483,13.126127342600055,13.155004822753774,13.183945833363833,13.212950514197233,13.242019005328467,13.271151447140189,13.300347980323897,13.329608745880609,13.358933885121546,13.388323539668813,13.417777851456083,13.447296962729286]
["Smyth County","Business VOT",null,18.153828068997488,{"$f":"+D439*(1+$B$4)","v":18.193766490749283},18.233792777028931,18.273907121138393,18.314109716804897,18.354400758181868,18.394780439849868,18.435248956817539,18.475806504522538,18.516453278832486,18.557189476045917,18.598015292893216,18.638930926537579,18.679936574575962,18.72103243504003,18.762218706397118,18.80349558755119,18.844863277843803,18.886321977055058,18.927871885404578,18.969513203552467,19.011246132600281,19.053070874092001,19.094987630015002,19.136996602801034,19.179097995327197]
["Smyth County","Aggregated local VOT",null,9.5085958977880072,{"$f":"+D440*(1+$B$4)","v":9.5295148087631407},9.5504797413424196,9.5714907967733733,9.5925480765262741,9.6136516822946323,9.63480171599568,9.6559982797708699,9.6772414759863654,9.6985314072335349,9.7198681763294488,9.7412518863173734,9.762682640467272,9.7841605422763003,9.8056856954693075,9.8272582039993406,9.8488781720481384,9.8705457040266449,9.8922609045755028,9.914023878565569,9.9358347310984136,9.9576935675068299,9.9796004933553455,10.001555614440727,10.023559036792497,10.04561086667344]
["Smyth County","Aggregated intercity VOT",null,13.889469725841124,{"$f":"+D441*(1+$B$4)","v":13.920026559237975},13.950650617668298,13.981342049027168,14.012101001535028,14.042927623738404,14.073822064510628,14.10478447305255,14.135814998893267,14.166913791890831,14.198081002232991,14.229316780437903,14.260621277354867,14.291994644165047,14.323437032382211,14.354948593853452,14.386529480759929,14.418179845617601,14.44989984127796,14.481689620928771,14.513549338094814,14.545479146638622,14.577479200761227,14.609549655002901,14.641690664243907,14.673902383705244]
["Southampton County","Local Personal VOT",{"$f":"'Detailed Location'!$G$235","v":{"$error":"#DIV/0!"}},11.267321721311475,{"$f":"+D442*(1+$B$4)","v":11.29210982909836},11.316952470722375,11.341849766157964,11.366801835643511,11.391808799681925,11.416870779041226,11.441987894755115,11.467160268123576,11.492388020713449,11.517671274359017,11.543010151162607,11.568404773495164,11.593855263996852,11.619361745577645,11.644924341417916,11.670543174969035,11.696218369953966,11.721950050367864,11.747738340478673,11.773583364827726,11.799485248230347,11.825444115776454,11.851460092831163,11.87753330503539,11.903663878306467]
["Southampton County","Intercity Personal VOT",null,15.774250409836064,{"$f":"+D443*(1+$B$4)","v":15.808953760737703},15.843733459011325,15.87858967262115,15.913522569900916,15.948532319554698,15.983619090657717,16.018783052657163,16.054024375373007,16.089343228998828,16.124739784102626,16.16021421162765,16.195766682893233,16.231397369595598,16.267106443808707,16.302894077985087,16.338760444956655,16.374705717935559,16.410730070515015,16.446833676670149,16.483016710758822,16.519279347522492,16.555621762087039,16.592044129963629,16.628546627049548,16.665129429629058]
["Southampton County","Business VOT",null,15.332373841693,{"$f":"+D444*(1+$B$4)","v":15.366105064144724},15.399910495285843,15.433790298375472,15.467744637031897,15.501773675233368,15.535877577318882,15.570056507988983,15.604310632306559,15.638640115697633,15.673045123952168,15.707525823224863,15.742082380035958,15.776714961272036,15.811423734186835,15.846208866402046,15.881070525908131,15.916008881065128,15.951024100603471,15.986116353624798,16.021285809602773,16.056532638383899,16.091857010188342,16.127259095610757,16.1627390656211,16.198297091565465]
["Southampton County","Aggregated local VOT",null,11.454314118849025,{"$f":"+D445*(1+$B$4)","v":11.479513609910493},11.504768539852295,11.530079030639969,11.555445204507377,11.580867183957293,11.606345091762,11.631879050963876,11.657469184875996,11.683115617082724,11.708818471440305,11.734577872077473,11.760393943396043,11.786266810071513,11.812196597053671,11.838183429567188,11.864227433112235,11.890328733465083,11.916487456678706,11.942703729083398,11.968977677287381,11.995309428177412,12.021699108919403,12.048146846959026,12.074652770022336,12.101217006116386]
["Southampton County","Aggregated intercity VOT",null,15.67968882425345,{"$f":"+D446*(1+$B$4)","v":15.714184139666807},15.748755344774073,15.783402606532576,15.818126092266947,15.852925969669935,15.887802406803209,15.922755572098175,15.957785634356791,15.992892762752374,16.028077126830429,16.063338896509457,16.098678242081778,16.134095334214358,16.169590343949629,16.205163442706318,16.240814802280273,16.276544594845291,16.312352992953951,16.34824016953845,16.384206297911433,16.420251551766839,16.456376105180727,16.492580132612122,16.528863808903868,16.565227309283458]
["Spotsylvania County","Local Personal VOT",{"$f":"'Detailed Location'!$G$236","v":{"$error":"#DIV/0!"}},19.12759090479193,{"$f":"+D447*(1+$B$4)","v":19.169671604782472},19.211844882312992,19.25411094105408,19.2964699851244,19.338922219091675,19.381467847973678,19.424107077239221,19.466840112809148,19.50966716105733,19.552588428811656,19.595604123355042,19.638714452426424,19.681919624221763,19.725219847395049,19.768615331059319,19.812106284787649,19.855692918614182,19.899375443035133,19.943154069009811,19.987029007961631,20.031000471779148,20.075068672817061,20.119233823897257,20.163496138309831,20.207855829814111]
["Spotsylvania County","Intercity Personal VOT",null,26.778627266708703,{"$f":"+D448*(1+$B$4)","v":26.837540246695461},26.896582835238192,26.955755317475717,27.015057979174163,27.074491106728345,27.134054987163147,27.193749908134905,27.253576157932802,27.313534025480255,27.373623800336311,27.433845772697051,27.494200233396985,27.554687473910459,27.61530778635306,27.676061463483038,27.736948798702699,27.797970086059845,27.859125620249177,27.920415696613723,27.981840611146271,28.043400660490793,28.105096141943871,28.166927353456149,28.228894593633751,28.290998161739743]
["Spotsylvania County","Business VOT",null,20.026315704128908,{"$f":"+D449*(1+$B$4)","v":20.070373598677993},20.114528420595082,20.158780383120391,20.203129699963256,20.247576585303175,20.292121253790842,20.336763920549181,20.38150480117439,20.426344111736974,20.471282068782795,20.516318889334116,20.56145479089065,20.60668999143061,20.652024709411755,20.697459163772461,20.742993573932761,20.788628159795412,20.834363141746962,20.880198740658805,20.926135177888256,20.972172675279609,21.018311455165222,21.064551740366586,21.110893754195391,21.15733772045462]
["Spotsylvania County","Aggregated local VOT",null,19.168932245561429,{"$f":"+D450*(1+$B$4)","v":19.211103896501662},19.253368325073964,19.295725735389126,19.338176332006981,19.380720319937396,19.423357904641257,19.466089292031466,19.508914688473936,19.551834300788578,19.594848336250312,19.637957002590063,19.681160507995759,19.72445906111335,19.767852871047801,19.811342147364105,19.854927100088304,19.898607939708498,19.942384877175858,19.986258123905646,20.030227891778239,20.07429439314015,20.118457840805057,20.162718448054829,20.207076428640548,20.251531996783555]
["Spotsylvania County","Aggregated intercity VOT",null,25.333632592316629,{"$f":"+D451*(1+$B$4)","v":25.389366584019726},25.445223190504567,25.501202681523676,25.557305327423027,25.613531399143358,25.669881168221472,25.72635490679156,25.7829528875865,25.839675383939191,25.896522669783856,25.953495019657382,26.010592708700628,26.067816012659769,26.125165207887619,26.182640571344972,26.240242380601931,26.297970913839254,26.355826449849701,26.413809268039369,26.471919648429054,26.530157871655597,26.588524218973237,26.647018972254976,26.705642413993935,26.76439482730472]
["Stafford County","Local Personal VOT",{"$f":"'Detailed Location'!$G$237","v":{"$error":"#DIV/0!"}},23.70898401639344,{"$f":"+D452*(1+$B$4)","v":23.761143781229507},23.81341829754821,23.865807817802818,23.918312595001982,23.970932882710986,24.02366893505295,24.076521006710067,24.129489352924828,24.182574229501263,24.235775892806167,24.28909459977034,24.342530607889834,24.396084175227191,24.44975556041269,24.503545022645596,24.557452821695417,24.611479217903145,24.665624472182532,24.719888846021334,24.774272601482579,24.828776001205842,24.883399308408496,24.938142786886996,24.993006701018146,25.047991315760385]
["Stafford County","Intercity Personal VOT",null,33.192577622950822,{"$f":"+D453*(1+$B$4)","v":33.265601293721311},33.338785616567499,33.412130944923945,33.485637633002774,33.55930603579538,33.633136509074127,33.707129409394092,33.781285094094756,33.855603921301764,33.930086249928628,34.00473243967847,34.079542851045765,34.154517845318068,34.229657784577768,34.304963031703835,34.380433950373586,34.456070905064408,34.531874261055549,34.607844384429868,34.683981642075615,34.760286401688184,34.836759031771898,34.913399901641796,34.990209381425409,35.067187842064541]
["Stafford County","Business VOT",null,22.229435174456572,{"$f":"+D454*(1+$B$4)","v":22.278339931840378},22.327352279690427,22.376472454705745,22.425700694106098,22.475037235633131,22.524482317551524,22.574036178650136,22.623699058243165,22.673471196171299,22.723352832802874,22.773344209035042,22.823445566294918,22.873657146540765,22.923979192263154,22.974411946486132,23.024955652768401,23.075610555204491,23.126376898425942,23.17725492760248,23.228244888443204,23.27934702719778,23.330561590657613,23.381888826157059,23.433328981574604,23.484882305334068]
["Stafford County","Aggregated local VOT",null,23.640924769664345,{"$f":"+D455*(1+$B$4)","v":23.692934804157606},23.745059260726752,23.797298391100352,23.849652447560771,23.902121682945406,23.954706350647886,24.00740670461931,24.060222999369472,24.113155489968083,24.166204432046012,24.219370081796512,24.272652695976465,24.326052531907614,24.379569847477811,24.433204901142261,24.486957951924772,24.540829259419006,24.594819083789726,24.648927685774062,24.703155326682765,24.757502268401467,24.81196877339195,24.866555104693411,24.921261525923736,24.976088301280768]
["Stafford County","Aggregated intercity VOT",null,30.846465138973048,{"$f":"+D456*(1+$B$4)","v":30.91432736227879},30.982338882475801,31.050500028017247,31.118811128078885,31.187272512560657,31.25588451208829,31.324647458014883,31.393561682422515,31.462627518123846,31.531845298663718,31.601215358320779,31.670738032109085,31.740413655779726,31.810242565822442,31.88022509946725,31.950361594686076,32.020652390194385,32.091097825452813,32.161698240668805,32.232453976798276,32.30336537554723,32.374432779373436,32.445656531488055,32.51703697585733,32.588574457204217]
["Surry County","Local Personal VOT",{"$f":"'Detailed Location'!$G$240","v":{"$error":"#DIV/0!"}},11.54613605296343,{"$f":"+D457*(1+$B$4)","v":11.571537552279949},11.596994934894965,11.622508323751735,11.648077842063989,11.67370361331653,11.699385761265825,11.725124409940609,11.750919683642477,11.776771706946491,11.802680604701774,11.828646502032118,11.854669524336588,11.880749797290129,11.906887446844166,11.933082599227223,11.959335380945523,11.985645918783604,12.012014339804928,12.038440771352498,12.064925341049474,12.091468176799783,12.118069406788742,12.144729159483676,12.171447563634541,12.198224748274535]
["Surry County","Intercity Personal VOT",null,16.164590474148802,{"$f":"+D458*(1+$B$4)","v":16.200152573191929},16.23579290885295,16.271511653252425,16.30730897888958,16.343185058643137,16.379140065772152,16.415174173916849,16.451287557099466,16.487480389725086,16.523752846582479,16.560105102844961,16.596537334071218,16.633049716206173,16.669642425581827,16.706315638918106,16.743069533323727,16.77990428629704,16.816820075726891,16.853817079893489,16.890895477469254,16.928055447519686,16.965297169504229,17.002620823277137,17.040026589088345,17.077514647584341]
["Surry County","Business VOT",null,17.150999723041558,{"$f":"+D459*(1+$B$4)","v":17.18873192243225},17.226547132661601,17.264445536353456,17.302427316533432,17.340492656629806,17.378641740474389,17.416874752303432,17.455191876758498,17.493593298887365,17.532079204144917,17.570649778394035,17.609305207906502,17.648045679363896,17.686871379858498,17.725782496894187,17.764779218387353,17.803861732667805,17.843030228479673,17.882284894982327,17.921625921751289,17.96105349877914,18.000567816476455,18.040169065672703,18.079857437617182,18.119633123979941]
["Surry County","Aggregated local VOT",null,11.803959781787022,{"$f":"+D460*(1+$B$4)","v":11.829928493306953},11.855954335992228,11.88203743553141,11.90817791788958,11.934375909308937,11.960631536309416,11.986944925689297,12.013316204525813,12.039745500175769,12.066232940276155,12.092778652744762,12.1193827657808,12.146045407865518,12.172766707762822,12.1995467945199,12.226385797467843,12.253283846222272,12.280241070683962,12.307257601039467,12.334333567761753,12.36146910161083,12.388664333634374,12.41591939516837,12.44323441783774,12.470609533556983]
["Surry County","Aggregated intercity VOT",null,16.37568205341185,{"$f":"+D461*(1+$B$4)","v":16.411708553929355},16.447814312747997,16.483999504236042,16.52026430314536,16.556608884612281,16.593033424158428,16.629538097691576,16.666123081506498,16.702788552285813,16.739534687100843,16.776361663412466,16.813269659071974,16.850258852321932,16.887329421797041,16.924481546524994,16.96171540592735,16.999031179820388,17.036429048415993,17.073909192322507,17.111471792545615,17.149117030489215,17.186845087956289,17.224656147149794,17.262550390673525,17.300528001533007]
["Sussex County","Local Personal VOT",{"$f":"'Detailed Location'!$G$241","v":{"$error":"#DIV/0!"}},9.6767128152585116,{"$f":"+D462*(1+$B$4)","v":9.698001583452081},9.7193371869356753,9.7407197287469334,9.7621493121501768,9.7836260406369071,9.8051500179263087,9.826721347965746,9.84834013493127,9.8700064832281189,9.891720497491221,9.9134822825857007,9.935291943607389,9.9571495858833252,9.9790553149722676,10.001009236665206,10.02301145698587,10.045062082191238,10.067161218772059,10.089308973453358,10.111505453194955,10.133750765191984,10.156045016875407,10.178388315912532,10.200780770207539,10.223222487901994]
["Sussex County","Intercity Personal VOT",null,13.547397941361917,{"$f":"+D463*(1+$B$4)","v":13.577202216832912},13.607072061709944,13.637007620245706,13.667009037010246,13.697076456891669,13.727210025096831,13.757409887152043,13.787676188903777,13.818009076519365,13.848408696487708,13.87887519561998,13.909408721050344,13.940009420236654,13.970677440961175,14.00141293133129,14.032216039780218,14.063086915067734,14.094025706280883,14.125032562834701,14.156107634472937,14.187251071268777,14.218463023625569,14.249743642277545,14.281093078290557,14.312511483062796]
["Sussex County","Business VOT",null,12.384049986667574,{"$f":"+D464*(1+$B$4)","v":12.411294896638243},12.438599745410846,12.46596466485075,12.493389787113422,12.520875244645071,12.548421170183289,12.576027696757691,12.603694957690559,12.631423086597477,12.659212217387992,12.687062484266246,12.714974021731631,12.74294696457944,12.770981447901514,12.799077607086897,12.827235577822488,12.855455496093697,12.883737498185102,12.912081720681108,12.940488300466606,12.968957374727633,12.997489080952034,13.026083556930129,13.054740940755375,13.083461370825036]
["Sussex County","Aggregated local VOT",null,9.8012503251433269,{"$f":"+D465*(1+$B$4)","v":9.8228130758586421},9.8444232646255312,9.8660809958077067,9.8877863739984839,9.9095395040212804,9.9313404909301273,9.9531894400101741,9.9750864567781967,9.9970316469831086,10.019025116606471,10.041066971863005,10.063157319201103,10.085296265303345,10.107483917087013,10.129720381704605,10.152005766544354,10.174340179230752,10.196723727625059,10.219156519825834,10.24163866416945,10.264170269230624,10.286751443822931,10.309382296999342,10.33206293805274,10.354793476516456]
["Sussex County","Aggregated intercity VOT",null,13.298441479057328,{"$f":"+D466*(1+$B$4)","v":13.327698050311254},13.357018986021938,13.386404427791186,13.415854517532326,13.445369397470897,13.474949210145333,13.504594098407653,13.534304205424149,13.564079674676082,13.593920649960369,13.623827275390282,13.65379969539614,13.683838054726012,13.713942498446409,13.74411317194299,13.774350220921264,13.80465379140729,13.835024029748386,13.865461082613832,13.895965096995582,13.926536220208972,13.957174599893431,13.987880384013197,14.018653720858026,14.049494759043913]
["Tazewell County","Local Personal VOT",{"$f":"'Detailed Location'!$G$242","v":{"$error":"#DIV/0!"}},8.7142906651954597,{"$f":"+D467*(1+$B$4)","v":8.7334621046588889},8.7526757212891386,8.7719316078759739,8.7912298574133008,8.8105705630996098,8.8299538183384296,8.849379716738774,8.8688483521155987,8.8883598184902528,8.9079142100909312,8.9275116213531316,8.947152146920109,8.9668358816433322,8.9865629205829478,9.0063333590082308,9.0261472923980488,9.0460048164413251,9.0659060270374958,9.0858510202969782,9.1058398925416313,9.1258727403052227,9.1459496603338941,9.1660707495866287,9.1862361052357198,9.206445824667238]
["Tazewell County","Intercity Personal VOT",null,12.200006931273645,{"$f":"+D468*(1+$B$4)","v":12.226846946522446},12.253746009804795,12.280704251026364,12.307721800378623,12.334798788339455,12.361935345673801,12.389131603434283,12.416387692961838,12.443703745886353,12.471079894127303,12.498516269894383,12.526013005688149,12.553570234300663,12.581188088816123,12.608866702611518,12.636606209357263,12.664406743017848,12.692268437852487,12.720191428415763,12.748175849558278,12.776221836427306,12.804329524467445,12.832499049421273,12.860730547329998,12.889024154534123]
["Tazewell County","Business VOT",null,17.208001293049893,{"$f":"+D469*(1+$B$4)","v":17.245858895894603},17.283799785465572,17.321824144993595,17.359932158112581,17.398124008860428,17.436399881679922,17.474759961419618,17.513204433334742,17.551733483088078,17.59034729675087,17.629046060803724,17.667829962137493,17.706699188054195,17.745653926267913,17.7846943649057,17.823820692508491,17.863033098032009,17.902331770847677,17.941716900743543,17.981188677925179,18.020747293016612,18.060392937061248,18.100125801522783,18.139946078286133,18.179853959658363]
["Tazewell County","Aggregated local VOT",null,9.105001354076764,{"$f":"+D470*(1+$B$4)","v":9.1250323570557335},9.1451074282412552,9.1652266645833862,9.1853901632454686,9.205598021604608,9.2258503372521385,9.2461472079940936,9.2664887318516804,9.2868750070617541,9.3073061320772901,9.3277822055678605,9.3483033264201101,9.3688695937382338,9.3894811068444586,9.4101379652795156,9.4308402688031308,9.4515881173944969,9.4723816112527643,9.4932208507975204,9.5141059366692744,9.535036969729946,9.556014051063352,9.5770372819756915,9.5981067639960376,9.6192225988768278]
["Tazewell County","Aggregated intercity VOT",null,13.271717724693762,{"$f":"+D471*(1+$B$4)","v":13.300915503688088},13.330177517796201,13.359503908335352,13.388894816933689,13.418350385530943,13.44787075637911,13.477456072043145,13.50710647540164,13.536822109647524,13.566603118288748,13.596449645148983,13.626361834368311,13.656339830403921,13.686383778030809,13.716493822342477,13.74667010875163,13.776912782990884,13.807221991113463,13.837597879493913,13.8680405948288,13.898550284137423,13.929127094762524,13.959771174371001,13.990482670954616,14.021261732830716]
["Warren County","Local Personal VOT",{"$f":"'Detailed Location'!$G$244","v":{"$error":"#DIV/0!"}},15.04181346153846,{"$f":"+D472*(1+$B$4)","v":15.074905451153844},15.108070243146383,15.141307997681304,15.174618875276202,15.208003036801809,15.241460643482773,15.274991856898435,15.308596838983611,15.342275752029375,15.376028758683839,15.409856021952944,15.443757705201239,15.477733972152683,15.511784986891419,15.54591091386258,15.580111917873078,15.614388164092398,15.648739818053402,15.68316704565312,15.717670013153556,15.752248887182494,15.786903834734295,15.82163502317071,15.856442620221685,15.891326793986172]
["Warren County","Intercity Personal VOT",null,21.058538846153844,{"$f":"+D473*(1+$B$4)","v":21.104867631615381},21.151298340404935,21.197831196753825,21.244466425386683,21.291204251522533,21.338044900875882,21.38498859965781,21.432035574577057,21.479186052841126,21.526440262157376,21.573798430734122,21.621260787281738,21.668827561013757,21.716498981647987,21.764275279407613,21.812156685022309,21.860143429729359,21.908235745274762,21.956433863914366,22.004738018414976,22.053148442055488,22.101665368628009,22.150289032438991,22.199019668310356,22.247857511580637]
["Warren County","Business VOT",null,18.392038434629342,{"$f":"+D474*(1+$B$4)","v":18.432500919185525},18.473052421207733,18.513693136534389,18.554423261434764,18.595242992609919,18.636152527193659,18.677152062753485,18.718241797291544,18.759421929245583,18.800692657489922,18.842054181336398,18.883506700535339,18.925050415276516,18.966685526190123,19.008412234347741,19.050230741263306,19.092141248894084,19.134143959641651,19.176239076352864,19.218426802320842,19.260707341285947,19.303080897436775,19.345547675411137,19.388107880297042,19.430761717633697]
["Warren County","Aggregated local VOT",null,15.195923810300641,{"$f":"+D475*(1+$B$4)","v":15.229354842683302},15.262859423337204,15.296437714068546,15.330089877039496,15.363816074768982,15.397616470133473,15.431491226367767,15.465440507065775,15.49946447618132,15.533563298028918,15.567737137284581,15.601986158986607,15.636310528536377,15.670710411699156,15.705185974604895,15.739737383749025,15.774364805993272,15.809068408566457,15.843848359065303,15.878704825455246,15.913637976071248,15.948647979618604,15.983735005173765,16.018899222185148,16.054140800473956]
["Warren County","Aggregated intercity VOT",null,20.487907758087598,{"$f":"+D476*(1+$B$4)","v":20.53298115515539},20.578153713696732,20.623425651866864,20.668797188300971,20.714268542115231,20.759839932907884,20.805511580760282,20.851283706237954,20.897156530391676,20.943130274758538,20.989205161363007,21.035381412718007,21.081659251825986,21.128038902180002,21.174520587764796,21.221104533057879,21.267790963030606,21.314580103149272,21.3614721793762,21.408467418170826,21.455566046490802,21.502768291793082,21.550074382035024,21.597484545675503,21.644999011675988]
["Washington County","Local Personal VOT",{"$f":"'Detailed Location'!$G$245","v":{"$error":"#DIV/0!"}},10.228970274274905,{"$f":"+D477*(1+$B$4)","v":10.25147400887831},10.274027251697841,10.296630111651577,10.31928269789721,10.341985119832584,10.364737487096216,10.387539909567828,10.410392497368877,10.433295360863088,10.456248610656987,10.479252357600432,10.502306712787153,10.525411787555285,10.548567693487907,10.57177454241358,10.59503244640689,10.618341517788984,10.64170186912812,10.665113613240202,10.688576863189329,10.712091732288345,10.735658334099378,10.759276782434396,10.782947191355751,10.806669675176733]
["Washington County","Intercity Personal VOT",null,14.320558383984867,{"$f":"+D478*(1+$B$4)","v":14.352063612429633},14.383638152376978,14.415282156312207,14.446995777056094,14.478779167765616,14.510632481934699,14.542555873394955,14.574549496316424,14.606613505208319,14.638748054919777,14.670953300640599,14.703229397902009,14.735576502577393,14.767994770883064,14.800484359379006,14.833045424969638,14.865678124904571,14.898382616779362,14.931159058536275,14.964007608465055,14.996928425203677,15.029921667739124,15.06298749540815,15.096126067898048,15.129337545247424]
["Washington County","Business VOT",null,17.071503708153195,{"$f":"+D479*(1+$B$4)","v":17.109061016311131},17.146700950547014,17.184423692638216,17.22222942476202,17.260118329496496,17.298090589821388,17.336146389118994,17.374285911175054,17.412509340179639,17.450816860728033,17.489208657821635,17.527684916868843,17.566245823685954,17.604891564498061,17.643622325939955,17.682438295057022,17.721339659306146,17.760326606556621,17.799399325091045,17.838558003606245,17.877802831214179,17.91713399744285,17.956551692237223,17.996056105960143,18.035647429393254]
["Washington County","Aggregated local VOT",null,10.543726812233306,{"$f":"+D480*(1+$B$4)","v":10.566923011220219},10.590170241844904,10.613468616376963,10.636818247332991,10.660219247477123,10.683671729821572,10.707175807627179,10.730731594403958,10.754339203911647,10.777998750160252,10.801710347410605,10.825474110174909,10.849290153217293,10.87315859155437,10.89707954045579,10.921053115444792,10.945079432298771,10.969158607049827,10.993290755985337,11.017475995648503,11.041714442838931,11.066006214613177,11.090351428285325,11.114750201427553,11.139202651870693]
["Washington County","Aggregated intercity VOT",null,14.909260683356891,{"$f":"+D481*(1+$B$4)","v":14.942061056860275},14.974933591185367,15.007878445085975,15.040895777665163,15.073985748376026,15.107148517022454,15.140384243759902,15.173693089096174,15.207075213892185,15.240530779362748,15.274059947077346,15.307662878960915,15.341339737294629,15.375090684716676,15.408915884223052,15.442815499168344,15.476789693266513,15.510838630591699,15.544962475579,15.579161393025274,15.61343554808993,15.647785106295727,15.682210233529577,15.716711096043342,15.751287860454637]
["Westmoreland County","Local Personal VOT",null,12.001467689155106,{"$f":"+D482*(1+$B$4)","v":12.027870918071248},12.054332234091005,12.080851765006004,12.107429638889018,12.134065984094574,12.160760929259583,12.187514603303955,12.214327135431223,12.241198655129171,12.268129292170455,12.29511917661323,12.322168438801778,12.349277209367143,12.37644561922775,12.403673799590051,12.430961881949148,12.458309998089437,12.485718280085234,12.51318686030142,12.540715871394083,12.56830544631115,12.595955718293034,12.623666820873279,12.6514388878792,12.679272053432534]
["Westmoreland County","Intercity Personal VOT",null,16.802054764817147,{"$f":"+D483*(1+$B$4)","v":16.839019285299745},16.876065127727404,16.913192471008404,16.950401494444623,16.987692377732401,17.025065300963412,17.06252044462553,17.100057989603705,17.137678117180833,17.175381009038631,17.213166847258517,17.251035814322485,17.288988093113993,17.327023866918843,17.365143319426064,17.403346634728802,17.441633997325205,17.480005592119319,17.518461604421983,17.557002219951713,17.595627624835608,17.634338005610246,17.673133549222587,17.712014443030878,17.750980874805546]
["Westmoreland County","Business VOT",null,18.239650457962355,{"$f":"+D484*(1+$B$4)","v":18.279777688969872},18.319993199885605,18.360297184925354,18.400689838732191,18.441171356377403,18.481741933361434,18.522401765614827,18.563151049499179,18.603989981808077,18.644918759768053,18.685937581039543,18.727046643717831,18.768246146334011,18.809536287855945,18.850917267689226,18.892389285678142,18.933952542106635,18.975607237699268,19.017353573622206,19.059191751484175,19.101121973337438,19.143144441678782,19.185259359450473,19.227466930041263,19.269767357287353]
["Westmoreland County","Aggregated local VOT",null,12.28842409652024,{"$f":"+D485*(1+$B$4)","v":12.315458629532584},12.342552638517555,12.369706254322294,12.396919608081802,12.424192831219582,12.451526055448264,12.478919412770249,12.506373035478344,12.533887056156395,12.56146160767994,12.589096823216835,12.616792836227912,12.644549780467614,12.672367789984643,12.700246999122609,12.728187542520677,12.756189555114222,12.784253172135474,12.812378529114172,12.840565761878223,12.868815006554355,12.897126399568775,12.925500077647825,12.953936177818651,12.982434837409851]
["Westmoreland County","Aggregated intercity VOT",null,17.109700243150218,{"$f":"+D486*(1+$B$4)","v":17.147341583685147},17.185065735169253,17.222872879786625,17.260763200122156,17.298736879162423,17.336794100296579,17.37493504731723,17.413159904421327,17.451468856211054,17.489862087694718,17.528339784287645,17.566902131813077,17.605549316503065,17.644281524999371,17.68309894435437,17.722001762031951,17.760990165908421,17.800064344273419,17.839224485830819,17.878470779699647,17.917803415414987,17.9572225829289,17.996728472611341,18.036321275251087,18.07600118205664]
["Wise County","Local Personal VOT",{"$f":"'Detailed Location'!$G$248","v":{"$error":"#DIV/0!"}},8.8424671311475418,{"$f":"+D487*(1+$B$4)","v":8.8619205588360668},8.8814167840655056,8.90095590099045,8.920538003972629,8.9401631875813692,8.9598315465940477,8.9795431759965538,8.9992981709837458,9.0190966269599091,9.0389386395392215,9.0588243045462082,9.078753718016209,9.0987269761958451,9.1187441755434762,9.1388054127296723,9.158910784637678,9.1790603883638813,9.199254321218282,9.2194926807249615,9.2397755646225566,9.2601030708647265,9.2804752976206295,9.3008923432753949,9.3213543064306013,9.3418612859047485]
["Wise County","Intercity Personal VOT",null,12.379453983606558,{"$f":"+D488*(1+$B$4)","v":12.406688782370493},12.433983497691708,12.461338261386629,12.488753205561679,12.516228462613915,12.543764165231666,12.571360446395175,12.599017439377244,12.626735277743874,12.65451409535491,12.68235402636469,12.710255205222692,12.738217766674182,12.766241845760865,12.794327577821539,12.822475098492745,12.850684543709429,12.878956049705589,12.907289753014942,12.935685790471574,12.964144299210611,12.992665416668874,13.021249280585545,13.049896029002833,13.078605800266638]
["Wise County","Business VOT",null,16.800294763993843,{"$f":"+D489*(1+$B$4)","v":16.837255412474629},16.874297374382074,16.911420828605713,16.948625954428646,16.985912931528389,17.023281939977753,17.060733160245704,17.098266773198244,17.135882960099281,17.173581902611499,17.211363782797243,17.249228783119396,17.287177086442259,17.325208876032431,17.363324335559703,17.401523649097935,17.439807001125949,17.478174576528424,17.516626560596787,17.5551631390301,17.593784497935964,17.632490823831422,17.671282303643849,17.710159124711865,17.749121474786232]
["Wise County","Aggregated local VOT",null,9.2085272022584697,{"$f":"+D490*(1+$B$4)","v":9.2287859621034389},9.2490892912200664,9.2694372876607503,9.2898300496936042,9.3102676758029297,9.330750264689696,9.3512779152720125,9.3718507266856115,9.3924687982843196,9.4131322296405457,9.433841120545754,9.4545955710109553,9.4753956812671785,9.4962415517659657,9.5171332831798505,9.538070976402846,9.5590547325509316,9.5800846529625439,9.6011608391990606,9.6222833930452989,9.643452416509998,9.6646680118263202,9.6859302814523378,9.7072393280715321,9.728595254593289]
["Wise County","Aggregated intercity VOT",null,13.325513910609438,{"$f":"+D491*(1+$B$4)","v":13.354830041212779},13.384210667303446,13.413655930771514,13.443165973819211,13.472740938961612,13.502380969027328,13.532086207159187,13.561856796814936,13.591692881767928,13.621594606107818,13.651562114241255,13.681595550892585,13.711695061104548,13.741860790238977,13.772092883977503,13.802391488322254,13.832756749596562,13.863188814445675,13.893687829837456,13.924253943063098,13.954887301737836,13.985588053801658,14.016356347520022,14.047192331484565,14.078096154613831]
["Wythe County","Local Personal VOT",{"$f":"'Detailed Location'!$G$249","v":{"$error":"#DIV/0!"}},10.077111680327869,{"$f":"+D492*(1+$B$4)","v":10.09928132602459},10.121499744941843,10.143767044380715,10.166083331878353,10.188448715208485,10.210863302381943,10.233327201647183,10.255840521490807,10.278403370638086,10.301015858053489,10.323678092941206,10.346390184745676,10.369152243152117,10.391964378087051,10.414826699718843,10.437739318458224,10.460702344958833,10.483715890117741,10.506780065076001,10.529894981219167,10.553060750177849,10.576277483828241,10.599545294292662,10.622864293940106,10.646234595386774]
["Wythe County","Intercity Personal VOT",null,14.107956352459018,{"$f":"+D493*(1+$B$4)","v":14.138993856434428},14.170099642918585,14.201273862133005,14.232516664629697,14.263828201291883,14.295208623334725,14.326658082306061,14.358176730087134,14.389764718893325,14.42142220127489,14.453149330117695,14.484946258643953,14.516813140412969,14.548750129321878,14.580757379606386,14.612835045841519,14.64498328294237,14.677202246164843,14.709492091106405,14.741852973706839,14.774285050248993,14.806788477359541,14.839363412009732,14.872010011516153,14.904728433541488]
["Wythe County","Business VOT",null,14.939124062102564,{"$f":"+D494*(1+$B$4)","v":14.97199013503919},15.004928513336276,15.037939356065616,15.07102282264896,15.104179072858788,15.137408266819076,15.170710565006077,15.20408612824909,15.237535117731237,15.271057694990246,15.304654021919223,15.338324260767445,15.372068574141133,15.405887125004243,15.439780076679252,15.473747592847946,15.507789837552211,15.541906975194825,15.576099170540253,15.610366588715442,15.644709395210615,15.679127755880078,15.713621836943014,15.748191804984289,15.782837826955255]
["Wythe County","Aggregated local VOT",null,10.300764249889506,{"$f":"+D495*(1+$B$4)","v":10.323425931239262},10.346137468287989,10.368898970718222,10.391710548453801,10.414572311660399,10.437484370746052,10.460446836361694,10.483459819401689,10.506523431004373,10.529637782552582,10.552802985674198,10.576019152242681,10.599286394377614,10.622604824445245,10.645974555059025,10.669395699080155,10.692868369618131,10.716392680031291,10.73996874392736,10.763596675163999,10.787276587849359,10.811008596342628,10.834792815254582,10.858629359448143,10.882518344038928]
["Wythe County","Aggregated intercity VOT",null,14.285826242322734,{"$f":"+D496*(1+$B$4)","v":14.317255060055844},14.348753021187967,14.380320277834581,14.411956982445817,14.443663287807198,14.475439347040373,14.507285313603862,14.53920134129379,14.571187584244637,14.603244196929975,14.635371334163221,14.66756915109838,14.699837803230796,14.732177446397904,14.764588236779979,14.797070330900894,14.829623885628875,14.862249058177259,14.894946006105249,14.927714887318681,14.960555860070782,14.993469082962937,15.026454714945455,15.059512915318335,15.092643843732034]
["York County","Local Personal VOT",{"$f":"'Detailed Location'!$G$250","v":{"$error":"#DIV/0!"}},20.037765885876414,{"$f":"+D497*(1+$B$4)","v":20.081848970825341},20.126029038561157,20.17030630244599,20.214680976311371,20.259153274459255,20.303723411663064,20.348391603168722,20.393158064695694,20.438023012438023,20.482986663065386,20.528049233724129,20.573210942038322,20.618472006110807,20.663832644524248,20.709293076342203,20.754853521110157,20.8005141988566,20.846275330094084,20.892137135820292,20.938099837519097,20.984163657161638,21.030328817207394,21.076595540605251,21.122964050794582,21.169434571706329]
["York County","Intercity Personal VOT",null,28.052872240226982,{"$f":"+D498*(1+$B$4)","v":28.114588559155482},28.176440653985622,28.238428823424389,28.300553366835921,28.362814584242958,28.425212776328291,28.487748244436212,28.550421290573972,28.613232217413234,28.676181328291541,28.739268927213782,28.802495318853651,28.86586080855513,28.92936570233395,28.993010306879086,29.056794929554218,29.120719878399239,29.184785462131718,29.248991990148408,29.313339772526735,29.377829120026295,29.442460344090353,29.507233756847352,29.572149671112417,29.637208400388865]
["York County","Business VOT",null,21.599481895128974,{"$f":"+D499*(1+$B$4)","v":21.647000755298258},21.694624156959915,21.742352330105227,21.790185505231459,21.838123913342969,21.886167785952324,21.934317355081419,21.982572853262596,22.030934513539773,22.079402569469561,22.127977255122392,22.176658805083662,22.225447454454844,22.274343438854643,22.323346994420124,22.372458357807847,22.421677766195025,22.471005457280654,22.520441669286672,22.569986640959101,22.61964061156921,22.669403820914663,22.719276509320675,22.769258917641181,22.819351287259991]
["York County","Aggregated local VOT",null,20.109604822302032,{"$f":"+D500*(1+$B$4)","v":20.153845952911094},20.1981844140075,20.242620419718317,20.287154184641697,20.331785923847907,20.37651585288037,20.421344187756706,20.46627114496977,20.511296941488702,20.556421794759977,20.60164592270845,20.646969543738408,20.692392876734633,20.737916141063447,20.783539556573785,20.829263343598246,20.875087722954163,20.921012915944662,20.967039144359738,21.013166630477329,21.05939559706438,21.105726267377921,21.152158865166154,21.198693614669519,21.245330740621792]
["York County","Aggregated intercity VOT",null,26.671846706376005,{"$f":"+D501*(1+$B$4)","v":26.730524769130032},26.789331923622118,26.848268453854086,26.907334644452565,26.966530780670361,27.025857148387836,27.085314034114287,27.144901724989339,27.204620508784316,27.264470673903642,27.32445250938623,27.38456630490688,27.444812350777674,27.505190937949383,27.565702358012871,27.626346903200499,27.687124866387538,27.74803654109359,27.809082221483994,27.870262202371258,27.931576779216474,27.99302624813075,28.054610905876636,28.116331049869565,28.178186978179276]
["Alexandria city","Local Personal VOT",{"$f":"'Detailed Location'!$G$156","v":{"$error":"#DIV/0!"}},20.924747030264815,{"$f":"+D502*(1+$B$4)","v":20.970781473731396},21.016917192973605,21.063154410798145,21.1094933505019,21.155934235873005,21.202477291191926,21.249122741232547,21.29587081126326,21.34272172704804,21.389675714847545,21.436733001420208,21.483893814023332,21.531158380414183,21.578526928851094,21.625999688094566,21.673576887408373,21.721258756560673,21.769045525825106,21.816937425981923,21.864934688319082,21.913037544633383,21.961246227231577,22.009560968931485,22.057982003063135,22.106509563469874]
["Alexandria city","Intercity Personal VOT",null,29.294645842370741,{"$f":"+D503*(1+$B$4)","v":29.359094063223957},29.423684070163048,29.488416175117408,29.553290690702667,29.618307930222212,29.6834682076687,29.74877183772557,29.814219135768568,29.879810417867258,29.945546000786564,30.011426201988293,30.077451339632667,30.143621732579859,30.209937700391535,30.276399563332397,30.343007642371727,30.409762259184944,30.47666373615515,30.543712396374691,30.610908563646714,30.678252562486737,30.745744718124207,30.813385356504082,30.881174804288388,30.949113388857821]
["Alexandria city","Business VOT",null,24.937500865900567,{"$f":"+D504*(1+$B$4)","v":24.992363367805549},25.047346567214721,25.102450729662593,25.157676121267851,25.213023008734641,25.268491659353856,25.324082341004434,25.379795322154642,25.435630871863381,25.491589259781481,25.547670756153,25.603875631816535,25.660204158206533,25.716656607354587,25.773233251890765,25.829934365044924,25.886760220648021,25.943711093133448,26.000787257538342,26.057988989504924,26.115316565281834,26.172770261725454,26.230350356301248,26.288057127085111,26.345890852764697]
["Alexandria city","Aggregated local VOT",null,21.10933370670406,{"$f":"+D505*(1+$B$4)","v":21.155774240858808},21.202316944188695,21.248962041465909,21.295709757957134,21.342560319424638,21.389513952127373,21.436570882822053,21.483731338764262,21.530995547709544,21.578363737914504,21.625836138137917,21.673412977641821,21.721094486192634,21.768880894062256,21.816772432029193,21.864769331379655,21.912871823908691,21.96108014192129,22.009394518233517,22.057815186173631,22.106342379583211,22.154976332818293,22.203717280750492,22.252565458768142,22.301521102777432]
["Alexandria city","Aggregated intercity VOT",null,28.362216817406122,{"$f":"+D506*(1+$B$4)","v":28.424613694404414},28.487147844532103,28.549819569790074,28.612629172843612,28.675576957023868,28.738663226329319,28.801888285427243,28.865252439655183,28.928755995022424,28.992399258211474,29.056182536579538,29.120106138160011,29.184170371663964,29.248375546481622,29.312721972683882,29.377209961023787,29.441839822938039,29.506611870548504,29.571526416663708,29.63658377478037,29.701784259084885,29.767128184454872,29.832615866460671,29.898247621366885,29.964023766133892]
["Bedford city","Local Personal VOT",{"$f":"'Detailed Location'!$G$162","v":{"$error":"#DIV/0!"}},8.6898761002522065,{"$f":"+D507*(1+$B$4)","v":8.7089938276727619},8.7281536140936424,8.7473555520446489,8.7665997342591471,8.7858862536745175,8.805215203432601,8.824586676880152,8.8440007675692875,8.8634575692579389,8.8829571759103061,8.902499681697309,8.9220851809970423,8.9417137683952355,8.961385538685704,8.9811005868708129,9.0008590081619282,9.0206608979798837,9.0405063519554396,9.0603954659297408,9.0803283359547855,9.1003050582938858,9.1203257294221327,9.1403904460268617,9.1604993050081198,9.1806524034791384]
["Bedford city","Intercity Personal VOT",null,12.165826540353088,{"$f":"+D508*(1+$B$4)","v":12.192591358741865},12.219415059731096,12.246297772862505,12.273239627962802,12.300240755144319,12.327301284805637,12.35442134763221,12.381601074597,12.408840596961113,12.436140046274428,12.463499554376231,12.490919253395859,12.51839927575333,12.545939754159987,12.573540821619138,12.6012026114267,12.628925257171838,12.656708892737615,12.684553652301638,12.712459670336701,12.740427081611442,12.768456021190987,12.796546624437607,12.82469902701137,12.852913364870794]
["Bedford city","Business VOT",null,15.092992392592851,{"$f":"+D509*(1+$B$4)","v":15.126196975856555},15.159474609203439,15.192825453343687,15.226249669341042,15.259747418613593,15.293318862934543,15.326964164432999,15.360683485594752,15.39447698926306,15.428344838639438,15.462287197284445,15.49630422911847,15.53039609842253,15.564562969839059,15.598805008372706,15.633122379391125,15.667515248625785,15.701983782172761,15.736528146493541,15.771148508415827,15.805845035134341,15.840617894211636,15.875467253578902,15.910393281536775,15.945396146756156]
["Bedford city","Aggregated local VOT",null,8.9844194496998764,{"$f":"+D510*(1+$B$4)","v":9.0041851724892155},9.0239943798686912,9.0438471675044028,9.0637436312729118,9.083683867261712,9.1036679717696867,9.1236960413075803,9.1437681725984561,9.1638844625781726,9.1840450083958451,9.2042499074143151,9.2244992572106259,9.24479315557649,9.2651317005187579,9.2855149902598981,9.3059431232384693,9.3264161981095945,9.3469343137454359,9.3674975692356757,9.3881060638879941,9.4087598972285473,9.4294591690024507,9.4502039791742565,9.4709944279284404,9.4918306156698833]
["Bedford city","Aggregated intercity VOT",null,12.7922400327324,{"$f":"+D511*(1+$B$4)","v":12.820382960804411},12.84858780331818,12.876854696485481,12.905183776817749,12.933575181126749,12.962029046525227,12.990545510427582,13.019124710550523,13.047766784913733,13.076471871840543,13.105240109958592,13.134071638200501,13.162966595804543,13.191925122315313,13.220947357584407,13.250033441771093,13.279183515342989,13.308397719076744,13.337676194058712,13.36701908168564,13.396426523665349,13.425898662017413,13.455435639073851,13.485037597479813,13.514704680194269]
["Bristol city","Local Personal VOT",{"$f":"'Detailed Location'!$G$165","v":{"$error":"#DIV/0!"}},7.8666169703656985,{"$f":"+D512*(1+$B$4)","v":7.8839235277005031},7.901268159461444,7.9186509494122594,7.9360719815009659,7.9535313398602678,7.9710291088079606,7.9885653728473383,8.0061402166676015,8.0237537251442692,8.0414059833395868,8.0590970765029333,8.0768270900712391,8.0945961096693964,8.1124042211106691,8.1302515103971125,8.1481380637199852,8.1660639674601683,8.1840293081885811,8.2020341726665951,8.2200786478464618,8.2381628208717235,8.2562867790776409,8.2744506099916109,8.2926544013335928,8.3108982410165257]
["Bristol city","Intercity Personal VOT",null,11.013263758511979,{"$f":"+D513*(1+$B$4)","v":11.037492938780705},11.061775423246022,11.086111329177163,11.110500774101352,11.134943875804375,11.159440752331143,11.183991521986272,11.208596303334641,11.233255215201977,11.257968376675421,11.282735907104108,11.307557926099737,11.332434553537155,11.357365909554936,11.382352114555957,11.407393289207979,11.432489554444237,11.457641031464014,11.482847841733236,11.508110106985049,11.533427949220416,11.558801490708701,11.584230853988259,11.609716161867034,11.635257537423142]
["Bristol city","Business VOT",null,16.509237938488695,{"$f":"+D514*(1+$B$4)","v":16.545558261953371},16.581958490129669,16.618438798807954,16.654999364165331,16.691640362766496,16.728361971564581,16.765164367902024,16.802047729511408,16.839012234516332,16.876058061432268,16.913185389167417,16.950394397023583,16.987685264697035,17.025058172279369,17.062513300258384,17.100050829518953,17.137670941343895,17.175373817414851,17.213159639813163,17.251028591020752,17.288980853920997,17.327016611799621,17.36513604834558,17.40333934765194,17.441626694216772]
["Bristol city","Aggregated local VOT",null,8.2641775348993569,{"$f":"+D515*(1+$B$4)","v":8.2823587254761346},8.3005799146721824,8.318841190484461,8.3371426411035259,8.355484354913953,8.3738664204947639,8.3922889266198517,8.4107519622584146,8.4292556165753822,8.4477999789318474,8.4663851388854976,8.4850111861910449,8.5036782108006648,8.522386302864426,8.5411355527307276,8.5599260509467356,8.5787578882588189,8.597631155612989,8.6165459441553374,8.6355023452324797,8.6545004503919909,8.6735403513828526,8.6926221401558941,8.7117459088642377,8.7309117498637381]
["Bristol city","Aggregated intercity VOT",null,12.189402233026998,{"$f":"+D516*(1+$B$4)","v":12.216218917939656},12.243094599559123,12.270029407678154,12.297023472375045,12.324076924014269,12.351189893247101,12.378362511012245,12.405594908536472,12.432887217335251,12.460239569213389,12.487652096265657,12.515124930877441,12.54265820572537,12.570252053777965,12.597906608296276,12.625622002834527,12.653398371240764,12.681235847657494,12.709134566522339,12.737094662568689,12.76511627082634,12.793199526622157,12.821344565580725,12.849551523625003,12.877820536976978]
["Buena Vista city","Local Personal VOT",null,8.9335334583858756,{"$f":"+D517*(1+$B$4)","v":8.953187231994324},8.9728842439047121,8.9926245892413021,9.0124083633376326,9.0322356617369746,9.0521065801927953,9.0720212146692187,9.0919796613414903,9.1119820165964409,9.1320283770329524,9.1521188394624247,9.1722535009092425,9.1924324586112434,9.2126558100201876,9.2329236528022314,9.2532360848383952,9.2735932042250386,9.2939951092743343,9.3144418985147368,9.3349336706914698,9.3554705247669911,9.3760525599214777,9.3966798755533052,9.4173525712795225,9.4380707469363365]
["Buena Vista city","Intercity Personal VOT",null,12.506946841740227,{"$f":"+D518*(1+$B$4)","v":12.534462124792055},12.562037941466597,12.589674424937824,12.617371708672687,12.645129926431768,12.672949212269918,12.700829700536911,12.728771525878091,12.756774823235023,12.784839727846141,12.812966375247402,12.841154901272946,12.869405442055745,12.897718134028267,12.926093113923129,12.954530518773758,12.98303048591506,13.011593152984073,13.040218657920638,13.068907138968063,13.097658734673793,13.126473583890075,13.155351825774632,13.184293599791337,13.213299045710878]
["Buena Vista city","Business VOT",null,15.869210461886745,{"$f":"+D519*(1+$B$4)","v":15.904122724902896},15.939111794897682,15.974177840846457,16.00932103209632,16.044541538366932,16.079839529751339,16.115215176716791,16.150668650105569,16.186200121135801,16.221809761402298,16.257497742877383,16.293264237911714,16.32910941923512,16.365033459957438,16.401036533569343,16.437118813943194,16.473280475333869,16.509521692379604,16.545842640102837,16.582243493911061,16.618724429597666,16.655285623342781,16.691927251714134,16.728649491667905,16.765452520549573]
["Buena Vista city","Aggregated local VOT",null,9.2525746005469145,{"$f":"+D520*(1+$B$4)","v":9.2729302646681173},9.2933307112503876,9.3137760388151385,9.3342663461005309,9.3548017320619525,9.3753822958724893,9.3960081369234079,9.4166793548246392,9.4373960494052529,9.4581583207139435,9.478966269019514,9.4998199948113573,9.5207195987999427,9.5416651819173026,9.5626568453175214,9.5836946903772198,9.6047788186960492,9.62590933209718,9.6470863326277936,9.6683099225595743,9.6895802043892054,9.7108972808388607,9.7322612548567058,9.7536722296173899,9.7751303085225487]
["Buena Vista city","Aggregated intercity VOT",null,13.22647125645158,{"$f":"+D521*(1+$B$4)","v":13.255569493215773},13.284731746100848,13.313958155942268,13.343248863885341,13.372604011385889,13.402023740210938,13.431508192439402,13.461057510462769,13.490671836985786,13.520351315027154,13.550096087920213,13.579906299313638,13.609782093172129,13.639723613777107,13.669731005727417,13.699804413940017,13.729943983650685,13.760149860414716,13.790422190107627,13.820761118925864,13.851166793387501,13.881639360332953,13.912178966925685,13.942785760652921,13.973459889326357]
["Charlottesville city","Local Personal VOT",{"$f":"'Detailed Location'!$G$171","v":{"$error":"#DIV/0!"}},10.889140110340479,{"$f":"+D522*(1+$B$4)","v":10.913096218583227},10.93710503026411,10.96116666133069,10.985281227985617,11.009448846687185,11.033669634149897,11.057943707345027,11.082271183501186,11.106652180104888,11.131086814901119,11.155575205893902,11.180117471346868,11.204713729783832,11.229364099989356,11.254068701009333,11.278827652151552,11.303641072986284,11.328509083346853,11.353431803330217,11.378409353297544,11.403441853874797,11.428529425953322,11.453672190690419,11.478870269509938,11.504123784102861]
["Charlottesville city","Intercity Personal VOT",null,15.244796154476669,{"$f":"+D523*(1+$B$4)","v":15.278334706016517},15.311947042369754,15.345633325862966,15.379393719179864,15.413228385362061,15.447137487809856,15.481121190283037,15.51517965690166,15.549313052146843,15.583521540861566,15.617805288251461,15.652164459885613,15.686599221697362,15.721109739985096,15.755696181413063,15.790358713012171,15.825097502180798,15.859912716685596,15.894804524662304,15.929773094616561,15.964818595424717,15.999941196334651,16.035141066966588,16.070418377313914,16.105773297744005]
["Charlottesville city","Business VOT",null,16.650851505514535,{"$f":"+D524*(1+$B$4)","v":16.687483378826666},16.724195842260084,16.760989073113056,16.797863249073902,16.834818548221865,16.871855149027951,16.908973230355812,16.946172971462595,16.983454551999813,17.020818152014211,17.058263951948643,17.095792132642931,17.133402875334745,17.171096361660481,17.208872773656132,17.246732293758175,17.284675104804442,17.322701390035011,17.360811333093089,17.399005118025894,17.437282929285551,17.475644951729979,17.514091370623785,17.552622371639156,17.591238140856763]
["Charlottesville city","Aggregated local VOT",null,11.154178834518486,{"$f":"+D525*(1+$B$4)","v":11.178718027954426},11.203311207615926,11.227958492272681,11.252660000955681,11.277415852957782,11.30222616783429,11.327091065403526,11.352010665747413,11.376985089212058,11.402014456408324,11.427098888212422,11.452238505766489,11.477433430479175,11.50268378402623,11.527989688351088,11.55335126566546,11.578768638449924,11.604241929454513,11.629771261699313,11.655356758475051,11.680998543343696,11.706696740139051,11.732451472967357,11.758262866207884,11.784131044513542]
["Charlottesville city","Aggregated intercity VOT",null,15.545691999598773,{"$f":"+D526*(1+$B$4)","v":15.579892521997889},15.614168285546285,15.648519455774487,15.68294619857719,15.717448680214058,15.752027067310529,15.786681526858612,15.821412226217701,15.85621933311538,15.891103015648234,15.926063442282659,15.961100781855681,15.996215203575764,16.031406877023631,16.066675972153082,16.102022659291819,16.137447109142261,16.172949492782372,16.208529981666494,16.244188747626161,16.279925962870937,16.315741799989254,16.351636431949231,16.38761003209952,16.42366277417014]
["Chesapeake city","Local Personal VOT",{"$f":"'Detailed Location'!$G$172","v":{"$error":"#DIV/0!"}},17.027450028373266,{"$f":"+D527*(1+$B$4)","v":17.064910418435687},17.102453221356246,17.14007861844323,17.177786791403804,17.215577922344892,17.253452193774049,17.291409788600351,17.32945089013527,17.367575682093566,17.405784348594171,17.444077074161079,17.482454043724232,17.520915442620424,17.559461456594189,17.598092271798695,17.636808074796651,17.675609052561203,17.714495392476838,17.753467282340285,17.792524910361433,17.831668465164228,17.870898135787588,17.910214111686319,17.949616582732027,17.989105739214036]
["Chesapeake city","Intercity Personal VOT",null,23.838430039722571,{"$f":"+D528*(1+$B$4)","v":23.890874585809961},23.943434509898744,23.99611006582052,24.048901507965326,24.101809091282849,24.154833071283672,24.207973704040494,24.261231246189382,24.314605954930997,24.368098088031843,24.421707903825514,24.475435661213929,24.529281619668598,24.58324603923187,24.637329180518179,24.691531304715319,24.745852673585691,24.800293549467579,24.854854195276406,24.909534874506015,24.964335851229929,25.019257390102634,25.074299756360858,25.129463215824853,25.184748034899666]
["Chesapeake city","Business VOT",null,18.588341281258117,{"$f":"+D529*(1+$B$4)","v":18.629235632076885},18.670219950467452,18.711294434358479,18.752459282114067,18.793714692534717,18.835060864858292,18.876497998760978,18.918026294358253,18.95964595220584,19.001357173300693,19.043160159081953,19.085055111431934,19.127042232677084,19.169121725588973,19.211293793385266,19.253558639730713,19.29591646873812,19.338367484969343,19.380911893436274,19.423549899601834,19.466281709380958,19.509107529141595,19.552027565705707,19.59504202635026,19.638151118808231]
["Chesapeake city","Aggregated local VOT",null,17.099251026005966,{"$f":"+D530*(1+$B$4)","v":17.136869378263178},17.174570490895356,17.212354545975327,17.250221725976473,17.28817221377362,17.326206192643923,17.364323846267741,17.40252535872953,17.440810914518735,17.479180698530676,17.517634896067442,17.55617369283879,17.594797274963035,17.633505828967955,17.672299541791684,17.711178600783626,17.750143193705348,17.789193508731501,17.828329734450708,17.867552059866501,17.906860674398207,17.946255767881883,17.985737530571225,18.02530615313848,18.064961826675386]
["Chesapeake city","Aggregated intercity VOT",null,22.714911045411174,{"$f":"+D531*(1+$B$4)","v":22.764883849711079},22.814966594180444,22.865159520687641,22.915462871633153,22.965876889950746,23.016401819108637,23.067037903110677,23.11778538649752,23.168644514347815,23.219615532279381,23.270698686450395,23.321894223560584,23.373202390852416,23.424623436112292,23.476157607671738,23.527805154408615,23.579566325748313,23.631441371664959,23.683430542682622,23.735534089876523,23.78775226487425,23.840085319856971,23.892533507560657,23.945097081277289,23.997776294856099]
["Colonial Heights city","Local Personal VOT",{"$f":"'Detailed Location'!$G$175","v":{"$error":"#DIV/0!"}},12.411144088902899,{"$f":"+D532*(1+$B$4)","v":12.438448605898486},12.465813192831463,12.493237981855692,12.520723105415774,12.548268696247689,12.575874887379433,12.603541812131667,12.631269604118357,12.659058397247417,12.686908325721362,12.714819524037949,12.742792126990832,12.770826269670211,12.798922087463485,12.827079716055904,12.855299291431226,12.883580949872375,12.911924827962094,12.94033106258361,12.968799790921294,12.997331150461321,13.025925278992336,13.054582314606119,13.083302395698253,13.112085660968788]
["Colonial Heights city","Intercity Personal VOT",null,17.375601724464058,{"$f":"+D533*(1+$B$4)","v":17.41382804825788},17.452138469964048,17.490533174597967,17.529012347582082,17.567576174746762,17.606224842331205,17.644958536984333,17.683777445765699,17.722681756146383,17.761671656009906,17.800747333653128,17.839908977787164,17.879156777538295,17.918490922448878,17.957911602478266,17.997419008003718,18.037013329821324,18.076694759146932,18.116463487617054,18.156319707289811,18.196263610645847,18.236295390589266,18.276415240448561,18.316623353977548,18.356919925356298]
["Colonial Heights city","Business VOT",null,19.820987774739486,{"$f":"+D534*(1+$B$4)","v":19.864593947843911},19.908296054529167,19.95209430584913,19.995988913321998,20.039980088931305,20.084068045126955,20.128252994826234,20.172535151414852,20.216914728747966,20.26139194115121,20.305967003421742,20.350640130829269,20.395411539117095,20.440281444503153,20.485250063681061,20.530317613821158,20.575484312571565,20.620750378059221,20.666116028890951,20.711581484154511,20.75714696341965,20.802812686739173,20.848578874649998,20.894445748174228,20.940413528820212]
["Colonial Heights city","Aggregated local VOT",null,12.751996898451383,{"$f":"+D535*(1+$B$4)","v":12.780051291627975},12.808167404469557,12.836345372759391,12.864585332579461,12.892887420311135,12.92125177263582,12.949678526535619,12.978167819293997,13.006719788496444,13.035334572031136,13.064012308089604,13.092753135167401,13.121557192064769,13.15042461788731,13.179355552046662,13.208350134261165,13.237408504556539,13.266530803266564,13.295717171033751,13.324967748810025,13.354282677857407,13.383662099748694,13.413106156368141,13.442614989912149,13.472188742889957]
["Colonial Heights city","Aggregated intercity VOT",null,17.898914339223001,{"$f":"+D536*(1+$B$4)","v":17.93829195076929},17.977756193060983,18.017307256685719,18.056945332650425,18.096670612382255,18.136483287729494,18.176383550962498,18.216371594774614,18.256447612283118,18.296611797030142,18.336864342983606,18.37720544453817,18.417635296516153,18.458154094168489,18.498762033175659,18.539459309648645,18.580246120129871,18.621122661594157,18.662089131449665,18.703145727538853,18.744292648139439,18.785530091965345,18.826858258167668,18.868277346335638,18.909787556497577]
["Covington city","Local Personal VOT",{"$f":"'Detailed Location'!$G$176","v":{"$error":"#DIV/0!"}},8.3788345428751576,{"$f":"+D537*(1+$B$4)","v":8.3972679788694826},8.4157419684229957,8.4342566007535265,8.4528119652751847,8.4714081515987907,8.490045249532308,8.5087233490812793,8.5274425404492575,8.5462029140382452,8.5650045604491289,8.5838475704821171,8.6027320351371781,8.6216580456144793,8.6406256933148313,8.6596350698401245,8.6786862669937719,8.697779376781158,8.7169144914100762,8.7360917032911782,8.7553111050384178,8.7745727894695023,8.7938768496063346,8.8132233786754686,8.832612470108554,8.852044217542792]
["Covington city","Intercity Personal VOT",null,11.730368360025221,{"$f":"+D538*(1+$B$4)","v":11.756175170417276},11.782038755792193,11.807959241054936,11.833936751385258,11.859971412238306,11.88606334934523,11.91221268871379,11.938419556628959,11.964684079653543,11.991006384628781,12.017386598674964,12.043824849192049,12.07032126386027,12.096875970640763,12.123489097776172,12.15016077379128,12.17689112749362,12.203680287974105,12.230528384607648,12.257435547053785,12.284401905257303,12.311427589448869,12.338512730145656,12.365657458151976,12.39286190455991]
["Covington city","Business VOT",null,15.402612809671059,{"$f":"+D539*(1+$B$4)","v":15.436498557852335},15.47045885467961,15.504493864159905,15.538603750661055,15.572788678912509,15.607048814006117,15.641384321396929,15.675795366904001,15.710282116711189,15.744844737367954,15.779483395790162,15.8141982592609,15.848989495431274,15.883857272321222,15.918801758320329,15.953823122188634,15.988921533057448,16.024097160430173,16.05935017418312,16.094680744566322,16.130089042204368,16.165575238097219,16.201139503621032,16.236782010528998,16.272502930952161]
["Covington city","Aggregated local VOT",null,8.7019283431477703,{"$f":"+D540*(1+$B$4)","v":8.7210725855026947},8.740258945190801,8.7594875148702211,8.7787583874029362,8.7980716558552228,8.8174274134981037,8.8368257538077994,8.8562667704661759,8.8757505573612008,8.8952772085873946,8.9148468184462875,8.9344594814468685,8.9541152923060512,8.9738143459491244,8.9935567375102128,9.0133425623327348,9.0331719159698665,9.0530448941849997,9.0729615929522058,9.0929221084567011,9.112926537095305,9.1329749754769143,9.1530675204229635,9.1732042689678934,9.1933853183596224]
["Covington city","Aggregated intercity VOT",null,12.516228672249431,{"$f":"+D541*(1+$B$4)","v":12.543764375328379},12.571360656954102,12.5990176503994,12.626735489230278,12.654514307306584,12.68235423878266,12.71025541810798,12.738217980027818,12.766242059583879,12.794327792114963,12.822475313257616,12.850684758946782,12.878956265416464,12.907289969200381,12.935686007132622,12.964144516348314,12.992665634284281,13.021249498679706,13.049896247576802,13.078606019321471,13.107378952563979,13.136215186259619,13.165114859669391,13.194078112360662,13.223105084207855]
["Danville city","Local Personal VOT",{"$f":"'Detailed Location'!$G$178","v":{"$error":"#DIV/0!"}},7.5162679634300122,{"$f":"+D542*(1+$B$4)","v":7.5328037529495582},7.5493759212060469,7.5659845482327004,7.5826297142388119,7.5993114996101374,7.6160299849092796,7.6327852508760801,7.649577378428007,7.6664064486605481,7.6832725428476012,7.700175742441866,7.7171161290752384,7.7340937845592039,7.7511087908852341,7.7681612302251812,7.7852511849316768,7.8023787375385263,7.819543970761111,7.8367469674967856,7.8539878108252781,7.8712665840090938,7.8885833704939134,7.9059382539089995,7.923331318067599,7.9407626469673476]
["Danville city","Intercity Personal VOT",null,10.522775148802017,{"$f":"+D543*(1+$B$4)","v":10.545925254129381},10.569126289688466,10.592378367525781,10.615681599934337,10.639036099454193,10.662441978872993,10.685899351226514,10.709408329799212,10.732969028124769,10.756581559986643,10.780246039418612,10.803962580705333,10.827731298382885,10.851552307239327,10.875425722315253,10.899351658904346,10.923330232553935,10.947361559065554,10.971445754495498,10.995582935155388,11.01977321761273,11.044016718691479,11.068313555472599,11.09266384529464,11.117067705754287]
["Danville city","Business VOT",null,16.494147610188179,{"$f":"+D544*(1+$B$4)","v":16.530434734930594},16.56680169134744,16.603248655068402,16.639775802109551,16.67638330887419,16.713071352153712,16.749840109128449,16.786689757368531,16.82362047483474,16.860632439879378,16.897725831247111,16.934900828075854,16.972157609897621,17.009496356639396,17.046917248624002,17.084420466570975,17.122006191597432,17.159674605218946,17.197425889350427,17.235260226306998,17.273177798804873,17.311178789962245,17.349263383300162,17.387431762743422,17.425684112621457]
["Danville city","Aggregated local VOT",null,7.9292504271808868,{"$f":"+D545*(1+$B$4)","v":7.9466947781206843},7.9641775066325495,7.9816986971471406,7.9992584342808639,8.0168568028362817,8.0344938878025207,8.0521697743556864,8.0698845478592691,8.0876382938645595,8.1054310981110618,8.1232630465269065,8.1411342252292656,8.1590447205247703,8.1769946189099247,8.1949840070715272,8.2130129718870837,8.2310816004252345,8.2491899799461699,8.2673381979020508,8.2855263419374356,8.3037544998896973,8.3220227597894549,8.3403312098609916,8.3586799385226858,8.3770690343874357]
["Danville city","Aggregated intercity VOT",null,11.800648855538658,{"$f":"+D546*(1+$B$4)","v":11.826610283020843},11.852628825643489,11.878704609059904,11.904837759199836,11.931028402270075,11.957276664755069,11.98358267341753,12.009946555299049,12.036368437720707,12.062848448283692,12.089386714869915,12.115983365642629,12.142638529047042,12.169352333810945,12.196124908945329,12.222956383745009,12.249846887789248,12.276796550942384,12.303805503354457,12.330873875461837,12.358001797987853,12.385189401943427,12.412436818627702,12.439744179628683,12.467111616823866]
["Emporia city","Local Personal VOT",{"$f":"'Detailed Location'!$G$180","v":{"$error":"#DIV/0!"}},7.8505033575031522,{"$f":"+D547*(1+$B$4)","v":7.867774464889659},7.8850835687124166,7.9024307525635837,7.9198161002192231,7.9372396956397049,7.954701622970112,7.9722019665406458,7.9897408108670351,8.0073182406509424,8.0249343407803746,8.0425891963300913,8.060282892562018,8.0780155149256547,8.0957871490584914,8.1135978807864202,8.1314477961241494,8.1493369812756224,8.1672655226344286,8.1852335067842237,8.2032410204991493,8.2212881507442468,8.2393749846758837,8.2575016096421709,8.275668113183384,8.2938745830323874]
["Emporia city","Intercity Personal VOT",null,10.990704700504413,{"$f":"+D548*(1+$B$4)","v":11.014884250845522},11.039116996197382,11.063403053589017,11.087742540306913,11.112135573895587,11.136582272158158,11.161082753156906,11.185637135213851,11.210245536911321,11.234908077092525,11.259624874862128,11.284396049586825,11.309221720895914,11.334102008681885,11.359037033100986,11.384026914573807,11.40907177378587,11.434171731688199,11.459326909497912,11.484537428698808,11.509803411041945,11.535124978546238,11.560502253499038,11.585935358456735,11.61142441624534]
["Emporia city","Business VOT",null,15.385479739104678,{"$f":"+D549*(1+$B$4)","v":15.419327794530709},15.453250315678677,15.487247466373169,15.52131941079919,15.555466313502949,15.589688339392655,15.623985653739318,15.658358422177544,15.692806810706335,15.727330985689889,15.761931113858406,15.796607362308894,15.831359898505973,15.866188890282686,15.901094505841307,15.936076913754158,15.971136282964418,16.00627278278694,16.041486582909073,16.076777853391473,16.112146764668935,16.147593487551205,16.183118193223816,16.21872105324891,16.254402239566058]
["Emporia city","Aggregated local VOT",null,8.1971122710568221,{"$f":"+D550*(1+$B$4)","v":8.2151459180531461},8.2332192390728629,8.2513323213988237,8.2694852525059002,8.2876781200614129,8.3059110119255486,8.3241840161517846,8.3424972209873189,8.3608507148734912,8.3792445864462124,8.3976789245363932,8.4161538181703737,8.4346693565703479,8.4532256291548027,8.4718227255389422,8.4904607355351285,8.5091397491533058,8.5278598566014434,8.5466211482859666,8.5654237148121961,8.5842676469847827,8.6031530358081483,8.6220799724869259,8.6410485484263972,8.6600588552329345]
["Emporia city","Aggregated intercity VOT",null,11.931186558764869,{"$f":"+D551*(1+$B$4)","v":11.957435169194152},11.98374152656638,12.010105757924826,12.03652799059226,12.063008352171563,12.089546970546341,12.116143973881542,12.14279949062408,12.169513649503452,12.196286579532359,12.223118410007329,12.250009270509345,12.276959290904465,12.303968601344454,12.331037332267412,12.3581656143984,12.385353578750076,12.412601356623325,12.439909079607895,12.467276879583032,12.494704888718115,12.522193239473294,12.549742064600135,12.577351497142255,12.605021670435967]
["Fairfax city","Local Personal VOT",{"$f":"'Detailed Location'!$G$181","v":{"$error":"#DIV/0!"}},23.741211242118535,{"$f":"+D552*(1+$B$4)","v":23.793441906851196},23.845787479046269,23.898248211500171,23.95082435756547,24.003516171152114,24.056323906728647,24.10924781932345,24.162288164525961,24.215445198487917,24.268719177924588,24.322110360116021,24.375619002908277,24.429245364714674,24.482989704517045,24.536852281866981,24.590833356887089,24.644933190272241,24.699152043290837,24.753490177786077,24.807947856177204,24.862525341460792,24.917222897212007,24.972040787585872,25.02697927731856,25.082038631728661]
["Fairfax city","Intercity Personal VOT",null,33.237695738965947,{"$f":"+D553*(1+$B$4)","v":33.310818669591669},33.384102470664772,33.457547496100233,33.53115410059165,33.604922639612951,33.678853469420098,33.75294694705282,33.827203430336333,33.901623277883076,33.976206849094417,34.050954504162426,34.125866604071582,34.200943510600538,34.276185586323862,34.351593194613777,34.42716669964193,34.502906466381141,34.578812860607179,34.654886248900517,34.731126998648101,34.807535478045125,34.884112056096825,34.960857102620238,35.037770988246002,35.114854084420145]
["Fairfax city","Business VOT",null,21.455323726630247,{"$f":"+D554*(1+$B$4)","v":21.502525438828833},21.549830994794256,21.597240622982802,21.644754552353366,21.692373012368542,21.740096232995754,21.787924444708345,21.835857878486703,21.883896765819372,21.932041338704174,21.980291829649321,22.028648471674551,22.077111498312235,22.125681143608521,22.174357642124459,22.223141228937131,22.272032139640793,22.321030610348,22.370136877690765,22.419351178821685,22.468673751415093,22.518104833668204,22.567644664302275,22.617293482563738,22.667051528225379]
["Fairfax city","Aggregated local VOT",null,23.636060416406071,{"$f":"+D555*(1+$B$4)","v":23.688059749322164},23.740173480770672,23.792401862428367,23.84474514652571,23.897203585848068,23.949777433736934,24.002466944091154,24.055272371368154,24.108193970585162,24.161231997320449,24.214386707714553,24.267658358471525,24.321047206860161,24.374553510715252,24.428177528438827,24.481919519001391,24.535779741943195,24.589758457375471,24.643855925981697,24.698072409018856,24.752408168318699,24.806863466288998,24.861438565914835,24.916133730759846,24.970949224967516]
["Fairfax city","Aggregated intercity VOT",null,30.716268128326107,{"$f":"+D556*(1+$B$4)","v":30.783843918208422},30.851568374828481,30.919441825253102,30.987464597268659,31.055637019382647,31.12395942082529,31.192432131551104,31.261055482240515,31.329829804301443,31.398755429870906,31.467832691816621,31.537061923738616,31.606443459970841,31.675977635582775,31.745664786381056,31.815505248911094,31.885499360458699,31.955647459051708,32.025949883461621,32.096406973205234,32.167019068546281,32.237786510497081,32.308709640820176,32.379788802029978,32.451024337394443]
["Falls Church city","Local Personal VOT",{"$f":"'Detailed Location'!$G$183","v":{"$error":"#DIV/0!"}},29.297477931904162,{"$f":"+D557*(1+$B$4)","v":29.36193238335435},29.42652863459773,29.491266997593844,29.55614778498855,29.621171310115525,29.686337886997777,29.751647830349171,29.817101455575937,29.882699078778202,29.948441016751513,30.014327586988365,30.08035910767974,30.146535897716635,30.212858276691613,30.279326564900334,30.345941083343114,30.412702153726467,30.479610098464665,30.546665240681286,30.613867904210785,30.68121841360005,30.748717094109971,30.816364271717013,30.884160273114791,30.952105425715644]
["Falls Church city","Intercity Personal VOT",null,41.016469104665816,{"$f":"+D558*(1+$B$4)","v":41.106705336696081},41.197140088436811,41.28777379663137,41.378606898983961,41.469639834161725,41.560873041796881,41.652306962488836,41.743942037806313,41.835778710289489,41.927817423452126,42.020058621783718,42.112502750751645,42.2051502568033,42.298001587368269,42.391057190860479,42.48431751668037,42.577783015217065,42.671454137850539,42.765331336953807,42.859415065895107,42.953705779040078,43.048203931753967,43.142909980403822,43.237824382360706,43.332947596001901]
["Falls Church city","Business VOT",null,28.191779143233891,{"$f":"+D559*(1+$B$4)","v":28.253801057349005},28.31595941967517,28.378254530398454,28.440686690365329,28.503256201084131,28.565963364726514,28.628808484128911,28.691791862793995,28.754913804892141,28.818174615262901,28.881574599416478,28.945114063535193,29.008793314474971,29.072612659766815,29.136572407618303,29.200672866915063,29.264914347222277,29.329297158786165,29.393821612535493,29.45848802008307,29.523296693727254,29.588247946453453,29.653342091935649,29.718579444537905,29.783960319315888]
["Falls Church city","Aggregated local VOT",null,29.246615787625331,{"$f":"+D560*(1+$B$4)","v":29.310958342358106},29.375442450711294,29.440068424102858,29.504836574635885,29.569747215100083,29.634800658973301,29.699997220423043,29.765337214307973,29.830820956179451,29.896448762283047,29.96222094956007,30.028137835649101,30.094199738887529,30.16040697831308,30.226759873665369,30.293258745387433,30.359903914627285,30.426695703239464,30.493634433786589,30.560720429540918,30.627954014485908,30.695335513317776,30.762865251447074,30.830543555000258,30.898370750821258]
["Falls Church city","Aggregated intercity VOT",null,38.271985452919388,{"$f":"+D561*(1+$B$4)","v":38.35618382091581},38.440567425321824,38.525136673657528,38.609891974339575,38.694833736683123,38.779962370903824,38.865278288119811,38.950781900353675,39.036473620534451,39.122353862499629,39.208423040997125,39.29468157168732,39.381129871145035,39.467768356861555,39.55459744724665,39.641617561630589,39.728829120266177,39.816232544330759,39.903828255928289,39.991616678091333,40.079598234783134,40.167773350899658,40.256142452271639,40.344705965666634,40.433464318791103]
["Franklin city","Local Personal VOT",{"$f":"'Detailed Location'!$G$187","v":{"$error":"#DIV/0!"}},7.7950822950819667,{"$f":"+D562*(1+$B$4)","v":7.8122314761311467},7.8294183853786352,7.8466431058264678,7.8639057206592859,7.8812063132447365,7.8985449671338746,7.9159217660615688,7.9333367939469044,7.9507901348935874,7.9682818731903531,7.9858120933113721,8.0033808799166568,8.0209883178524741,8.0386344921517487,8.0563194880344824,8.0740433909081588,8.0918062863681559,8.1096082601981649,8.1274493983706009,8.1453297870470163,8.1632495125785187,8.1812086615061919,8.1992073205615057,8.2172455766667412,8.2353235169354075]
["Franklin city","Intercity Personal VOT",null,10.913115213114754,{"$f":"+D563*(1+$B$4)","v":10.937124066583605},10.961185739530089,10.985300348157056,11.009468008923001,11.033688838542631,11.057962953987424,11.082290472486196,11.106671511525665,11.131106188851021,11.155594622466493,11.18013693063592,11.204733231883319,11.229383644993462,11.254088289012447,11.278847283248274,11.303660747271419,11.328528800915416,11.35345156427743,11.378429157718839,11.403461701865821,11.428549317609924,11.453692126108667,11.478890248786106,11.504143807333435,11.529452923709568]
["Franklin city","Business VOT",null,16.624256371637465,{"$f":"+D564*(1+$B$4)","v":16.660829735655067},16.697483561073508,16.734218024907868,16.771033304562664,16.807929577832702,16.844907022903932,16.88196581835432,16.9191061431547,16.95632817666964,16.993632098658313,17.03101808927536,17.068486329071764,17.10603699899572,17.143670280393511,17.181386355010378,17.2191854049914,17.257067612882381,17.295033161630723,17.33308223458631,17.371215015502401,17.409431688536504,17.447732438251283,17.486117449615435,17.52458690800459,17.563140999202201]
["Franklin city","Aggregated local VOT",null,8.2012243026035208,{"$f":"+D565*(1+$B$4)","v":8.2192669960692477},8.2373493834606002,8.255471552104213,8.2736335895188429,8.291835583415784,8.310077621699298,8.3283597924670367,8.3466821840104632,8.365044884815287,8.3834479835618811,8.4018915691257163,8.420375730577792,8.4389005571850628,8.4574661384108705,8.4760725639153733,8.4947199235559872,8.5134083073878095,8.5321378056640622,8.5509085088365229,8.5697205075559637,8.5885738926725868,8.6074687552364662,8.6264051864979869,8.645383277908282,8.6644031211196797]
["Franklin city","Aggregated intercity VOT",null,12.135299421038615,{"$f":"+D566*(1+$B$4)","v":12.1619970797649},12.188753473340382,12.215568730981731,12.242442982189891,12.269376356750708,12.29636898473556,12.323420996501978,12.350532522694282,12.377703694244209,12.404934642371547,12.432225498584764,12.459576394681649,12.48698746274995,12.514458835168,12.54199064460537,12.569583024023501,12.597236106676352,12.624950026111039,12.652724916168482,12.680560910984052,12.708458144988217,12.736416752907191,12.764436869763587,12.792518630877067,12.820662171864997]
["Fredericksburg city","Local Personal VOT",{"$f":"'Detailed Location'!$G$189","v":{"$error":"#DIV/0!"}},11.484611349306432,{"$f":"+D567*(1+$B$4)","v":11.509877494274907},11.535199224762311,11.560576663056787,11.586009931715513,11.611499153565287,11.63704445170313,11.662645949496875,11.688303770585769,11.714018038881058,11.739788878566596,11.765616414099442,11.791500770210462,11.817442071904924,11.843440444463115,11.869496013440934,11.895608904670503,11.921779244260778,11.948007158598152,11.974292774347068,12.000636218450632,12.027037618131223,12.053497100891111,12.080014794513071,12.106590827061,12.133225326880535]
["Fredericksburg city","Intercity Personal VOT",null,16.078455889029001,{"$f":"+D568*(1+$B$4)","v":16.113828491984865},16.149278914667232,16.184807328279501,16.220413904401717,16.2560988149914,16.291862232384382,16.327704329295628,16.363625278820077,16.399625254433481,16.435704429993233,16.471862979739218,16.508101078294644,16.544418900666891,16.580816622248356,16.617294418817302,16.653852466538698,16.690490941965084,16.727210022037408,16.76400988408589,16.800890705830881,16.837852665383707,16.874895941247551,16.912020712318295,16.949227157885396,16.986515457632745]
["Fredericksburg city","Business VOT",null,18.479926129923822,{"$f":"+D569*(1+$B$4)","v":18.520581967409655},18.561327247737957,18.60216216768298,18.643086924451882,18.684101715685678,18.725206739460187,18.766402194287,18.80768827911443,18.849065193328482,18.890533136753803,18.93209230965466,18.973742912735901,19.01548514714392,19.057319214467636,19.099245316739463,19.141263656436291,19.183374436480449,19.225577860240705,19.267874131533233,19.310263454622607,19.352746034222776,19.395322075498065,19.43799178406416,19.480755365989101,19.523613027794276]
["Fredericksburg city","Aggregated local VOT",null,11.806395829214832,{"$f":"+D570*(1+$B$4)","v":11.832369900039104},11.858401113819191,11.884489596269594,11.910635473381387,11.936838871422825,11.963099916939955,11.989418736757223,12.015795457978088,12.042230207985639,12.068723114443207,12.095274305294982,12.12188390876663,12.148552053365917,12.175278867883321,12.202064481392664,12.228909023251727,12.255812623102882,12.282775410873708,12.30979751677763,12.336879071314542,12.364020205271434,12.391221049723031,12.418481736032421,12.445802395851691,12.473183161122565]
["Fredericksburg city","Aggregated intercity VOT",null,16.592370520580495,{"$f":"+D571*(1+$B$4)","v":16.628873735725772},16.665457257944368,16.702121263911845,16.738865930692452,16.775691435739976,16.812597956898603,16.84958567240378,16.886654760883069,16.923805401357011,16.961037773239998,16.998352056341126,17.035748430865077,17.07322707741298,17.110788176983288,17.148431910972651,17.186158461176792,17.223968009791381,17.261860739412921,17.299836833039627,17.337896474072313,17.376039846315273,17.414267133977166,17.452578521671917,17.490974194419596,17.529454337647319]
["Galax city","Local Personal VOT",{"$f":"'Detailed Location'!$G$190","v":{"$error":"#DIV/0!"}},7.4037168190416134,{"$f":"+D572*(1+$B$4)","v":7.4200049960435051},7.4363290070348009,7.4526889308502771,7.4690848464981476,7.4855168331604434,7.5019849701933961,7.5184893371278214,7.5350300136695028,7.5516070796995756,7.5682206152749147,7.5848707006285192,7.6015574161699018,7.6182808424854755,7.6350410603389438,7.651838150671689,7.6686721946031664,7.6855432734312936,7.7024514686328427,7.7193968618638351,7.7363795349599354,7.753399569936847,7.7704570489907079,7.7875520544984873,7.8046846690183838,7.8218549752902238]
["Galax city","Intercity Personal VOT",null,10.365203546658259,{"$f":"+D573*(1+$B$4)","v":10.388006994460907},10.41086060984872,10.433764503190387,10.456718785097406,10.479723566424621,10.502778958270754,10.52588507197895,10.549042019137303,10.572249911579405,10.595508861384879,10.618818980879926,10.642180382637861,10.665593179479664,10.689057484474519,10.712573410940363,10.736141072444433,10.759760582803811,10.783432056085978,10.807155606609367,10.830931348943908,10.854759397911584,10.878639868586989,10.90257287629788,10.926558536625734,10.95059696540631]
["Galax city","Business VOT",null,14.519698631094069,{"$f":"+D574*(1+$B$4)","v":14.551641968082476},14.583655580412257,14.615739622689164,14.64789424985908,14.680119617208769,14.712415880366628,14.744783195303434,14.7772217183331,14.809731606113433,14.842313015646882,14.874966104281304,14.907691029710723,14.940487949976086,14.973357023466033,15.006298408917658,15.039312265417276,15.072398752401194,15.105558029656477,15.138790257321721,15.172095595887829,15.205474206198781,15.238926249452419,15.272451887201214,15.306051281353056,15.339724594172033]
["Galax city","Aggregated local VOT",null,7.7310519823960258,{"$f":"+D575*(1+$B$4)","v":7.7480602967572967},7.7651060294101626,7.7821892626748648,7.7993100790527494,7.8164685612266656,7.8336647920613638,7.8508988546038987,7.8681708320840267,7.885480807914611,7.9028288656920234,7.9202150891965459,7.9376395623927785,7.9551023694300422,7.9726035946427878,7.9901433225510017,8.0077216378606142,8.0253386254639079,8.0429943704399278,8.0606889580548948,8.0784224737626147,8.0961950032048922,8.1140066322119431,8.13185744680281,8.149747533185776,8.1676769777587843]
["Galax city","Aggregated intercity VOT",null,11.254265494727521,{"$f":"+D576*(1+$B$4)","v":11.279024878815921},11.303838733549316,11.328707178763125,11.353630334556403,11.378608321292427,11.40364125959927,11.428729270370388,11.453872474765202,11.479070994209685,11.504324950396946,11.529634465287819,11.554999661111452,11.580420660365897,11.605897585818703,11.631430560507503,11.65701970774062,11.682665151097648,11.708367014430063,11.73412542186181,11.759940497789906,11.785812366885043,11.811741154092189,11.837726984631193,11.863769983997381,11.889870277962174]
["Hampton city","Local Personal VOT",{"$f":"'Detailed Location'!$G$197","v":{"$error":"#DIV/0!"}},12.379405154476672,{"$f":"+D577*(1+$B$4)","v":12.406639845816519},12.433934453477315,12.461289109274965,12.48870394531537,12.516179093995063,12.543714688001852,12.571310860315457,12.598967744208151,12.626685473245409,12.654464181286549,12.682304002485379,12.710205071290847,12.738167522447688,12.766191490997072,12.794277112277264,12.822424521924274,12.850633855872507,12.878905250355427,12.907238841906208,12.935634767358401,12.96409316384659,12.992614168807052,13.021197919978427,13.049844555402379,13.078554213424264]
["Hampton city","Intercity Personal VOT",null,17.331167216267339,{"$f":"+D578*(1+$B$4)","v":17.369295784143127},17.407508234868242,17.445804752984952,17.484185523441518,17.522650731593089,17.561200563202593,17.599835204441639,17.638554841891409,17.677359662543569,17.716249853801166,17.755225603479527,17.794287099807182,17.833434531426757,17.872668087395894,17.911987957188163,17.951394330693976,17.990887398221503,18.030467350497588,18.070134378668683,18.109888674301754,18.149730429385219,18.189659836329866,18.22967708796979,18.269782377563324,18.309975898793962]
["Hampton city","Business VOT",null,18.010596934484134,{"$f":"+D579*(1+$B$4)","v":18.05022024774},18.08993073228503,18.129728579896057,18.169613982771828,18.209587133533926,18.249648225227702,18.289797451323203,18.330035005716113,18.370361082728689,18.410775877110691,18.451279584040336,18.491872399125224,18.532554518403298,18.573326138343784,18.614187455848139,18.655138668251006,18.696179973321158,18.737311569262463,18.778533654714838,18.819846428755209,18.861250090898469,18.902744841098446,18.944330879748861,18.986008407684309,19.027777626181216]
["Hampton city","Aggregated local VOT",null,12.638439976357013,{"$f":"+D580*(1+$B$4)","v":12.666244544304998},12.69411028230247,12.722037324923535,12.750025807038368,12.778075863813852,12.806187630714241,12.834361243501812,12.862596838237515,12.890894551281637,12.919254519294457,12.947676879236905,12.976161768371226,13.004709324261642,13.033319684775018,13.061992988081522,13.090729372655302,13.119528977275143,13.148391941025148,13.177318403295402,13.206308503782651,13.235362382490973,13.264480179732452,13.293662036127863,13.322908092607344,13.352218490411079]
["Hampton city","Aggregated intercity VOT",null,17.476565175965732,{"$f":"+D581*(1+$B$4)","v":17.515013619352857},17.553546649315432,17.592164451943926,17.630867213738203,17.669655121608425,17.708528362875963,17.74748712527429,17.786531596949892,17.82566196646318,17.864878422789399,17.904181155319534,17.943570353861237,17.983046208639731,18.022608910298739,18.062258649901395,18.101995618931177,18.141820009292825,18.181732013313269,18.221731823742559,18.261819633754794,18.301995636949055,18.342260027350342,18.382612999410512,18.423054748009214,18.463585468454834]
["Harrisonburg city","Local Personal VOT",{"$f":"'Detailed Location'!$G$199","v":{"$error":"#DIV/0!"}},9.2892536696090779,{"$f":"+D582*(1+$B$4)","v":9.3096900276822172},9.3301713457431177,9.3506977227037531,9.3712692576937009,9.3918860500606272,9.4125481993707609,9.4332558054093756,9.4540089681812756,9.4748077879112742,9.4956523650446787,9.5165428002477768,9.5374791944083217,9.558461648636019,9.5794902642630184,9.6005651428443972,9.6216863861586539,9.6428540962082021,9.6640683752198608,9.6853293256453448,9.7066370501617651,9.7279916516721201,9.7493932333057991,9.7708418984190715,9.7923377505955926,9.8138808936469033]
["Harrisonburg city","Intercity Personal VOT",null,13.004955137452709,{"$f":"+D583*(1+$B$4)","v":13.033566038755104},13.062239884040366,13.090976811785255,13.119776960771183,13.14864047008488,13.177567479119066,13.206558127573128,13.235612555453789,13.264730903075787,13.293913311062553,13.323159920346891,13.352470872171654,13.381846308090431,13.411286369968229,13.44079119998216,13.47036094062212,13.499995734691488,13.529695725307809,13.559461055903485,13.589291870226473,13.619188312340972,13.649150526628121,13.679178657786704,13.709272850833834,13.739433251105668]
["Harrisonburg city","Business VOT",null,9.3160357700361036,{"$f":"+D584*(1+$B$4)","v":9.3365310487301834},9.357071417037389,9.3776569741548705,9.3982878194980106,9.4189640527009058,9.4396857736168478,9.4604530823188053,9.4812660790999068,9.5021248644739256,9.5230295391757682,9.5439802041619544,9.5649769606111104,9.5860199099244543,9.607109153726288,9.6282447938644857,9.6494269324109876,9.670655671662292,9.6919311141399493,9.7132533625910575,9.7346225199887577,9.7560386895327333,9.7775019746497058,9.7990124789939355,9.8205703064477223,9.8421755611219073]
["Harrisonburg city","Aggregated local VOT",null,9.2904856462287224,{"$f":"+D585*(1+$B$4)","v":9.3109247146504259},9.3314087490226569,9.3519378482705058,9.3725121115367003,9.39313163818208,9.4137965277860811,9.4345068801472109,9.4552627952835344,9.4760643734331573,9.4969117150547095,9.5178049208278299,9.5387440916536512,9.5597293286552887,9.5807607331783302,9.6018384067913232,9.6229624512862646,9.6441329686790933,9.6653500612101872,9.6866138313448502,9.7079243817738092,9.729281815413712,9.7506862354076222,9.7721377451255194,9.7936364481647953,9.8151824483507575]
["Harrisonburg city","Aggregated intercity VOT",null,12.215526392825558,{"$f":"+D586*(1+$B$4)","v":12.242400550889773},12.269333832101729,12.296326366532353,12.323378284538725,12.350489716764709,12.377660794141592,12.404891647888704,12.432182409514059,12.459533210814989,12.486944183878782,12.514415461083315,12.541947175097699,12.569539458882913,12.597192445692455,12.624906269072978,12.652681062864939,12.680516961203242,12.708414098517888,12.736372609534628,12.764392629275605,12.79247429306001,12.820617736504742,12.848823095525052,12.877090506335207,12.905420105449144]
["Hopewell city","Local Personal VOT",null,9.2611769199243383,{"$f":"+D587*(1+$B$4)","v":9.2815515091481711},9.3019709224682963,9.3224352584977268,9.342944616066422,9.3634990942217673,9.3840987922290555,9.4047438095719595,9.4254342459530172,9.4461702012941142,9.4669517757369608,9.4877790696435813,9.5086521835967979,9.5295712184007098,9.5505362750811909,9.5715474548863693,9.5926048592871194,9.6137085899775503,9.6348587488755015,9.6560554381230279,9.6772987600868987,9.6985888173590897,9.7199257127572789,9.7413095493253454,9.7627404303338619,9.7842184592805967]
["Hopewell city","Intercity Personal VOT",null,12.965647687894073,{"$f":"+D588*(1+$B$4)","v":12.994172112807439},13.022759291455614,13.051409361896816,13.080122462492989,13.108898731910474,13.137738309120676,13.166641333400742,13.195607944334224,13.224638281811758,13.253732486031744,13.282890697501013,13.312113057035516,13.341399705760994,13.370750785113668,13.400166436840918,13.429646803001967,13.459192025968571,13.488802248425701,13.518477613372237,13.548218264121656,13.578024344302724,13.60789599786019,13.637833369055482,13.667836602467403,13.697905842992832]
["Hopewell city","Business VOT",null,19.172606752853287,{"$f":"+D589*(1+$B$4)","v":19.214786487709564},19.257059017982524,19.299424547822085,19.341883281827293,19.384435425047315,19.42708118298242,19.46982076158498,19.512654367260467,19.55558220686844,19.598604487723549,19.641721417596539,19.68493320471525,19.728240057765625,19.771642185892709,19.815139798701672,19.858733106258814,19.902422319092583,19.946207648194587,19.990089305020614,20.034067501491659,20.078142449994939,20.122314363384927,20.166583454984373,20.210949938585337,20.255414028450225]
["Hopewell city","Aggregated local VOT",null,9.7171026922390684,{"$f":"+D590*(1+$B$4)","v":9.7384803181619937},9.75990497486195,9.7813767658066464,9.8028957946914215,9.8244621654397424,9.8460759822037094,9.8677373493645568,9.8894463715331593,9.9112031535505327,9.933007800488344,9.9548604176494173,9.9767611105682459,9.9987099850114962,10.020707146978522,10.042752702701874,10.064846758647818,10.086989421516842,10.109180798244179,10.131420996000315,10.153710122191516,10.176048284460338,10.198435590686151,10.220872148985659,10.243358067713428,10.265893455462397]
["Hopewell city","Aggregated intercity VOT",null,14.293936927795347,{"$f":"+D591*(1+$B$4)","v":14.325383589036496},14.356899432932376,14.388484611684827,14.420139277830534,14.451863584241762,14.483657684127094,14.515521731032173,14.547455878840443,14.579460281773892,14.611535094393794,14.64368047160146,14.675896568638983,14.708183541089989,14.740541544880386,14.772970736279124,14.805471271898938,14.838043308697115,14.870687003976249,14.903402515384997,14.936190000918844,14.969049618920865,15.00198152808249,15.034985887444272,15.068062856396649,15.101212594680721]
["Lexington city","Local Personal VOT",null,8.9125369325346799,{"$f":"+D592*(1+$B$4)","v":8.9321445137862554},8.9517952317165843,8.9714891812263602,8.9912264574250589,9.0110071556313933,9.0308313713737824,9.0506992003908042,9.0706107386316646,9.0905660822566539,9.1105653276376177,9.1306085713584206,9.1506959102154095,9.1708274412178827,9.1910032615885626,9.2112234687640573,9.2314881603953385,9.2517974343482088,9.2721513887037741,9.2925501217589215,9.3129937320267917,9.3334823182372499,9.3540159793373725,9.374594814491914,9.3952189230837959,9.4158884047145808]
["Lexington city","Intercity Personal VOT",null,12.477551705548549,{"$f":"+D593*(1+$B$4)","v":12.505002319300756},12.532513324403217,12.560084853716903,12.587717040395081,12.615410017883949,12.643163919923294,12.670978880547125,12.698855034084328,12.726792515159314,12.754791458692663,12.782851999901787,12.810974274301572,12.839158417705034,12.867404566223986,12.895712856269679,12.924083424553471,12.952516408087488,12.98101194418528,13.009570170462487,13.038191224837504,13.066875245532147,13.095622371072318,13.124432740288677,13.153306492317311,13.18224376660041]
["Lexington city","Business VOT",null,5.9391915817846916,{"$f":"+D594*(1+$B$4)","v":5.9522578032646178},5.9653527704317995,5.9784765465267489,5.9916291949291072,6.0048107791579515,6.0180213628720987,6.0312610098704171,6.0445297840921315,6.0578277496171342,6.0711549706662922,6.0845115116017583,6.0978974369272825,6.1113128112885224,6.1247576994733572,6.1382321664121982,6.1517362771783048,6.1652700969880971,6.1788336912014712,6.1924271253221139,6.2060504649978228,6.2197037760208183,6.2333871243280639,6.2471005760015856,6.2608441972687894,6.2746180545027803]
["Lexington city","Aggregated local VOT",null,8.7757630464001792,{"$f":"+D595*(1+$B$4)","v":8.7950697251022589},8.8144188784974844,8.8338106000301782,8.853244983350244,8.8727221223136148,8.8922421109827052,8.9118050436268668,8.9314110147228458,8.9510601189552368,8.9707524512169385,8.9904881066096163,9.0102671804441581,9.030089768241135,9.0499559657312645,9.0698658688558726,9.0898195737673557,9.1098171768296439,9.1298587746186683,9.1499444639228287,9.170074341743458,9.190248505295294,9.210467052006944,9.2307300795213596,9.251037685696307,9.2713899686048382]
["Lexington city","Aggregated intercity VOT",null,11.078342639063083,{"$f":"+D596*(1+$B$4)","v":11.102714992869021},11.127140965853332,11.15162067597821,11.176154241465362,11.200741780796585,11.225383412714338,11.250079256222309,11.274829430585998,11.299634055333286,11.324493250255019,11.349407135405579,11.374375831103471,11.399399457931899,11.424478136739349,11.449611988640175,11.474801135015182,11.500045697512215,11.525345798046741,11.550701558802444,11.57611310223181,11.60158055105672,11.627104028269045,11.652683657131236,11.678319561176925,11.704011864211514]
["Lynchburg city","Local Personal VOT",{"$f":"'Detailed Location'!$G$206","v":{"$error":"#DIV/0!"}},9.3112267780580087,{"$f":"+D597*(1+$B$4)","v":9.3317114769697369},9.3522412422190708,9.3728161729519535,9.3934363685324485,9.4141019285432197,9.4348129527860145,9.4555695412821432,9.4763717942729642,9.497219812220365,9.5181136958072496,9.5390535459380246,9.5600394637390878,9.5810715505593134,9.6021499079705439,9.6232746377680787,9.6444458419711676,9.6656636228235033,9.686928082793715,9.7082393245758603,9.7295974510899264,9.7510025654823238,9.7724547711263838,9.7939541716228611,9.815500870800431,9.8370949727161925]
["Lynchburg city","Intercity Personal VOT",null,13.035717489281211,{"$f":"+D598*(1+$B$4)","v":13.064396067757629},13.093137739106696,13.121942642132732,13.150810915945423,13.179742699960503,13.208738133900416,13.237797357794998,13.266920511982146,13.296107737108507,13.325359174130146,13.354674964313231,13.38405524923472,13.413500170783037,13.443009871158759,13.472584492875308,13.502224178759633,13.531929071952904,13.5616993159112,13.591535054406204,13.621436431525897,13.651403591675253,13.681436679576938,13.711535840272008,13.741701219120607,13.771932961802673]
["Lynchburg city","Business VOT",null,13.986022769700687,{"$f":"+D599*(1+$B$4)","v":14.016792019794028},14.047628962237575,14.078533745954497,14.109506520195596,14.140547434540027,14.171656638896014,14.202834283501584,14.234080518925287,14.265395496066922,14.296779366158269,14.328232280763817,14.359754391781497,14.391345851443416,14.423006812316592,14.454737427303687,14.486537849643755,14.51840823291297,14.550348731025379,14.582359498233634,14.614440689129747,14.646592458645832,14.678814962054853,14.711108354971373,14.743472793352309,14.775908433497683]
["Lynchburg city","Aggregated local VOT",null,9.5262673936735709,{"$f":"+D600*(1+$B$4)","v":9.5472251819396519},9.5682290773399181,9.5892791813100651,9.6103755955089465,9.6315184218190666,9.6527077623470685,9.6739437194242317,9.695226395606964,9.7165558936772989,9.7379323166433895,9.7593557677400042,9.7808263504290327,9.8023441683999764,9.8239093255704564,9.8455219260867111,9.8671820743241021,9.8888898748876155,9.9106454326123679,9.9324488525641144,9.9543002400397551,9.9761997005678431,9.9981473399090923,10.020143264056893,10.042187579237817,10.06428039191214]
["Lynchburg city","Aggregated intercity VOT",null,13.239082819290978,{"$f":"+D601*(1+$B$4)","v":13.268208801493417},13.297398860856703,13.326653138350586,13.355971775254957,13.385354913160517,13.41480269396947,13.444315259896202,13.473892753467974,13.503535317525603,13.53324309522416,13.563016230033652,13.592854865739726,13.622759146444354,13.652729216566531,13.682765220842978,13.712867304328832,13.743035612398355,13.77327029074563,13.803571485385271,13.833939342653119,13.864374009206955,13.89487563202721,13.925444358417669,13.956080336006188,13.986783712745401]
["Manassas city","Local Personal VOT",null,17.343130353089535,{"$f":"+D602*(1+$B$4)","v":17.381285239866333},17.41952406739404,17.457847020342307,17.49625428378706,17.534746043211392,17.573322484506456,17.611983793972371,17.65073015831911,17.689561764667413,17.728478800549681,17.767481453910889,17.806569913109492,17.845744366918332,17.885005004525553,17.924352015535508,17.963785589969685,18.003305918267618,18.042913191287806,18.082607600308638,18.122389337029315,18.16225859357078,18.202215562476635,18.242260436714083,18.282393409674853,18.322614675176137]
["Manassas city","Intercity Personal VOT",null,24.280382494325345,{"$f":"+D603*(1+$B$4)","v":24.333799335812859},24.387333694351646,24.440985828479221,24.494755997301876,24.54864446049594,24.602651478309031,24.65677731156131,24.711022221646743,24.765386470534366,24.819870320769542,24.874474035475235,24.929197878353278,24.984042113685653,25.039007006335762,25.094092821749701,25.149299825957549,25.204628285574653,25.260078467802916,25.315650640432082,25.371345071841031,25.427162030999082,25.48310178746728,25.539164611399709,25.595350773544787,25.651660545246585]
["Manassas city","Business VOT",null,16.805872693447252,{"$f":"+D604*(1+$B$4)","v":16.842845613372837},16.879899873722259,16.917035653444447,16.954253131882023,16.991552488772165,17.028933904247463,17.066397558836808,17.103943633466248,17.141572309459875,17.179283768540685,17.217078192831476,17.254955764855705,17.292916667538385,17.330961084206969,17.369089198592224,17.407301194829127,17.445597257457752,17.483977571424159,17.522442322081293,17.560991695189873,17.599625876919291,17.638345053848514,17.67714941296698,17.716039141675505,17.755014427787192]
["Manassas city","Aggregated local VOT",null,17.31841650074599,{"$f":"+D605*(1+$B$4)","v":17.356517017047629},17.394701354485132,17.432969697464998,17.471322230799419,17.509759139707178,17.548280609814533,17.586886827156125,17.625577978175869,17.664354249727854,17.703215829077255,17.742162903901225,17.781195662289807,17.820314292746843,17.859518984190885,17.898809925956105,17.938187307793207,17.97765131987035,18.017202152774065,18.056839997510167,18.09656504550469,18.136377488604801,18.176277519079729,18.216265329621706,18.256341113346874,18.296505063796236]
["Manassas city","Aggregated intercity VOT",null,22.680837396937434,{"$f":"+D606*(1+$B$4)","v":22.730735239210695},22.780742856736957,22.830860491021777,22.881088384102025,22.931426778547049,22.981875917459853,23.032436044478263,23.083107403776115,23.133890240064421,23.184784798592563,23.235791325149467,23.286910066064795,23.338141268210137,23.3894851790002,23.440942046393999,23.492512118896066,23.544195645557636,23.595992875977863,23.647904060305013,23.699929449237683,23.752069294026004,23.804323846472862,23.8566933589351,23.909178084324758,23.961778276110273]
["Manassas Park city","Local Personal VOT",null,17.389762172131146,{"$f":"+D607*(1+$B$4)","v":17.428019648909835},17.466361292137435,17.504787286980136,17.543297819011492,17.581893074213315,17.620573238976583,17.659338500102329,17.698189044802554,17.737125060701118,17.776146735834661,17.815254258653496,17.854447818022532,17.893727603222182,17.933093803949269,17.972546610317956,18.012086212860655,18.05171280252895,18.091426570694512,18.131227709150039,18.171116410110169,18.211092866212411,18.251157270518078,18.291309816513216,18.331550698109545,18.371880109645385]
["Manassas Park city","Intercity Personal VOT",null,24.345667040983606,{"$f":"+D608*(1+$B$4)","v":24.399227508473771},24.452905808992412,24.506702201772196,24.560616946616094,24.614650303898649,24.668802534567227,24.723073900143273,24.777464662723588,24.831975084981579,24.886605430168537,24.941355962114908,24.996226945231562,25.051218644511071,25.106331325528995,25.161565254445158,25.216920698004937,25.272397923540549,25.327997198972337,25.383718792810075,25.439562974154256,25.495530012697394,25.551620178725326,25.607833743118523,25.664170977353383,25.720632153503558]
["Manassas Park city","Business VOT",null,15.230364072977828,{"$f":"+D609*(1+$B$4)","v":15.263870873938378},15.297451389861042,15.331105782918735,15.364834215641157,15.398636850915567,15.432513851987581,15.466465382461953,15.500491606303369,15.534592687837236,15.568768791750477,15.603020083092328,15.637346727275132,15.671748890075136,15.706226737633301,15.740780436456093,15.775410153416297,15.810116055753813,15.844898311076472,15.87975708736084,15.914692552953033,15.94970487656953,15.984794227297982,16.019960774598037,16.055204688302151,16.090526138616415]
["Manassas Park city","Aggregated local VOT",null,17.290429859570093,{"$f":"+D610*(1+$B$4)","v":17.328468805261146},17.366591436632721,17.404797937793312,17.443088493256457,17.481463287941622,17.519922507175092,17.558466336690877,17.597094962631598,17.635808571549386,17.674607350406795,17.713491486577691,17.752461167848161,17.791516582417426,17.830657918898744,17.869885366320322,17.909199114126228,17.948599352177304,17.988086270752095,18.027660060547749,18.067320912680955,18.107069018688854,18.146904570529969,18.186827760585135,18.226838781658422,18.266937826978072]
["Manassas Park city","Aggregated intercity VOT",null,22.394992205830366,{"$f":"+D611*(1+$B$4)","v":22.444261188683193},22.493638563298294,22.54312456813755,22.592719442187452,22.642423424960263,22.692236756495177,22.742159677359467,22.792192428649656,22.842335251992687,22.892588389547068,22.942952084004073,22.993426578588881,23.044012117061776,23.094708943719311,23.145517303395494,23.196437441462962,23.24746960383418,23.298614036962615,23.349870987843932,23.401240704017187,23.452723433566025,23.504319425119871,23.556028927855134,23.607852191496416,23.659789466317708]
["Martinsville city","Local Personal VOT",{"$f":"'Detailed Location'!$G$208","v":{"$error":"#DIV/0!"}},6.8643990794451444,{"$f":"+D612*(1+$B$4)","v":6.8795007574199234},6.894635659086247,6.9098038575362368,6.9250054260228167,6.9402404379600666,6.9555089669235786,6.9708110866508104,6.9861468710414423,7.0015163941577336,7.0169197302248802,7.0323569536313748,7.047828138929364,7.0633333608350082,7.0788726942288447,7.0944462141561484,7.1100539958272915,7.125696114618111,7.1413726460702707,7.1570836658916255,7.1728292499565871,7.1886094743064914,7.2044244151499655,7.2202741488632949,7.2361587519907937,7.2520783012451737]
["Martinsville city","Intercity Personal VOT",null,9.6101587112232032,{"$f":"+D613*(1+$B$4)","v":9.6313010603878944},9.652489922720747,9.6737254005507332,9.6950075964319442,9.7163366131440938,9.7377125536930098,9.7591355213111335,9.7806056194580187,9.8021229518208255,9.8236876223148304,9.8452997350839233,9.8669593945011069,9.88866670516901,9.9104217719203813,9.9322246998186063,9.9540755941582066,9.9759745604653549,9.9979217044983777,10.019917132248274,10.04196094993922,10.064053264029086,10.086194181209949,10.108383808408611,10.130622252787109,10.152909621743241]
["Martinsville city","Business VOT",null,16.92955659113143,{"$f":"+D614*(1+$B$4)","v":16.966801615631919},17.004128579186307,17.041537662060517,17.07902904491705,17.116602908815867,17.154259435215263,17.191998805972737,17.229821203345878,17.267726809993238,17.305715808975222,17.343788383754966,17.381944718199225,17.420184996579263,17.458509403571735,17.496918124259594,17.535411344132964,17.573989249090054,17.612652025438052,17.651399859894017,17.690232939585783,17.729151452052871,17.768155585247388,17.807245527534931,17.846421467695507,17.885683594924437]
["Martinsville city","Aggregated local VOT",null,7.3273963249827148,{"$f":"+D615*(1+$B$4)","v":7.3435165968976763},7.3596723334108507,7.3758636125443546,7.3920905124919525,7.4083531116194346,7.4246514884649972,7.4409857217396205,7.4573558903274471,7.4737620732861672,7.4902043498473967,7.5066827994170611,7.5231975015757788,7.5397485360792453,7.5563359828586192,7.5729599220209076,7.5896204338493538,7.6063175988038223,7.6230514975211907,7.639822210815737,7.656629819679531,7.6734744052828256,7.690356048974448,7.7072748322821916,7.724230836913212,7.7412241447544208]
["Martinsville city","Aggregated intercity VOT",null,11.176509857523563,{"$f":"+D616*(1+$B$4)","v":11.201098179210113},11.225740595204375,11.250437224513824,11.275188186407755,11.299993600417851,11.32485358633877,11.349768264228716,11.374737754410019,11.39976217746972,11.424841654260153,11.449976305899524,11.475166253772503,11.500411619530803,11.525712525093772,11.551069092648978,11.576481444652806,11.601949703831043,11.627473993179471,11.653054435964465,11.678691155723588,11.704384276266179,11.730133921673964,11.755940216301648,11.78180328477751,11.807723252004021]
["Newport News city","Local Personal VOT",{"$f":"'Detailed Location'!$G$213","v":{"$error":"#DIV/0!"}},12.458020053593946,{"$f":"+D617*(1+$B$4)","v":12.485427697711852},12.512895638646818,12.54042400905184,12.568012941871753,12.595662570343871,12.623373027998626,12.651144448660224,12.678976966447276,12.70687071577346,12.734825831348163,12.762842448177128,12.790920701563119,12.819060727106557,12.847262660706191,12.875526638559744,12.903852797164575,12.932241273318336,12.960692204119637,12.989205726968699,13.01778197956803,13.046421099923078,13.075123226342908,13.103888497440863,13.132717052135233,13.161609029649929]
["Newport News city","Intercity Personal VOT",null,17.441228075031521,{"$f":"+D618*(1+$B$4)","v":17.479598776796589},17.518053894105542,17.556593612672575,17.595218118620455,17.633927598481421,17.67272223919808,17.711602228124317,17.750567753026189,17.789619002082848,17.82875616388743,17.867979427447981,17.907288982188366,17.946685017949179,17.986167724988665,18.025737293983639,18.065393916030402,18.10513778264567,18.144969085767489,18.184888017756176,18.224894771395238,18.264989539892309,18.30517251688007,18.345443896417205,18.385803872989321,18.426252641509898]
["Newport News city","Business VOT",null,15.75359592858528,{"$f":"+D619*(1+$B$4)","v":15.788253839628167},15.822987998075348,15.857798571671113,15.892685728528789,15.927649637131552,15.962690466333241,15.997808385359173,16.033003563806965,16.068276171647341,16.103626379224966,16.139054357259262,16.174560276845231,16.210144309454289,16.245806626935089,16.281547401514345,16.317366805797676,16.353265012770429,16.389242195798523,16.425298528629281,16.461434185392264,16.497649340600127,16.533944169149446,16.570318846321573,16.606773547783479,16.643308449588602]
["Newport News city","Aggregated local VOT",null,12.609616543843549,{"$f":"+D620*(1+$B$4)","v":12.637357700240004},12.665159887180533,12.69302323893233,12.720947890057982,12.74893397541611,12.776981630162025,12.805090989748381,12.833262189925827,12.861495366743664,12.889790656550501,12.918148195994911,12.9465681220261,12.975050571894558,13.003595683152726,13.032203593655662,13.060874441561705,13.08960836533314,13.118405503736872,13.147265995845093,13.176189981035952,13.205177598994231,13.234228989712019,13.263344293489386,13.292523650935061,13.321767202967118]
["Newport News city","Aggregated intercity VOT",null,17.080074795692028,{"$f":"+D621*(1+$B$4)","v":17.11765096024255},17.155309792355084,17.193051473898265,17.23087618714084,17.268784114752549,17.306775439805005,17.344850345772574,17.383009016533272,17.421251636369647,17.459578389969661,17.497989462427594,17.536485039244933,17.575065306331272,17.6137304500052,17.652480656995209,17.6913161144406,17.73023700989237,17.769243531314132,17.808335867083024,17.847514205990606,17.886778737243784,17.926129650465718,17.965567135696741,18.005091383395275,18.044702584438745]
["Norfolk city","Local Personal VOT",{"$f":"'Detailed Location'!$G$214","v":{"$error":"#DIV/0!"}},10.924785375157629,{"$f":"+D622*(1+$B$4)","v":10.948819902982976},10.972907306769539,10.997047702844432,11.021241207790689,11.045487938447829,11.069788011912415,11.094141545538623,11.118548656938808,11.143009463984074,11.167524084804839,11.19209263779141,11.216715241594551,11.24139201512606,11.266123077559337,11.290908548329968,11.315748547136293,11.340643193939993,11.365592608966661,11.390596912706387,11.415656225914342,11.440770669611354,11.465940365084498,11.491165433887684,11.516445997842236,11.541782179037488]
["Norfolk city","Intercity Personal VOT",null,15.294699525220679,{"$f":"+D623*(1+$B$4)","v":15.328347864176164},15.362070229477352,15.395866783982202,15.429737690906963,15.463683113826958,15.497703216677378,15.531798163754068,15.565968119714327,15.600213249577699,15.63453371872677,15.668929692907968,15.703401338232364,15.737948821176476,15.772572308583063,15.807271967661945,15.842047965990801,15.876900471515981,15.911829652553315,15.946835677788933,15.981918716280068,16.017078937455885,16.052316511118288,16.087631607442749,16.123024396979122,16.158495050652476]
["Norfolk city","Business VOT",null,14.868340765423664,{"$f":"+D624*(1+$B$4)","v":14.901051115107595},14.933833427560831,14.966687861101464,14.999614574395887,15.032613726459557,15.065685476657768,15.098829984706414,15.132047410672769,15.165337914976249,15.198701658389195,15.232138802037651,15.265649507402134,15.299233936318419,15.33289225097832,15.366624613930473,15.40043118808112,15.434312136694897,15.468267623395626,15.502297812167097,15.536402867353864,15.570582953662042,15.604838236160099,15.63916888027965,15.673575051816265,15.708056916930261]
["Norfolk city","Aggregated local VOT",null,11.106188923109867,{"$f":"+D625*(1+$B$4)","v":11.130622538740708},11.155109908325937,11.179651150124254,11.204246382654528,11.228895724696368,11.2535992952907,11.278357213740339,11.303169599610568,11.328036572729712,11.352958253189717,11.377934761346735,11.402966217821698,11.428052743500904,11.453194459536606,11.478391487347587,11.50364394861975,11.528951965306714,11.554315659630388,11.579735154081575,11.605210571420555,11.630742034677679,11.656329667153969,11.681973592421707,11.707673934325035,11.733430816980549]
["Norfolk city","Aggregated intercity VOT",null,15.203458750624117,{"$f":"+D626*(1+$B$4)","v":15.236906359875491},15.270427553867217,15.304022494485725,15.337691343973594,15.371434264930336,15.405251420313183,15.439142973437871,15.473109087979434,15.507149927972989,15.541265657814529,15.575456442261721,15.609722446434697,15.644063835816853,15.67848077625565,15.712973433963413,15.747541975518132,15.782186567864272,15.816907378313573,15.851704574545863,15.886578324609864,15.921528796924006,15.956556160277239,15.99166058382985,16.026842237114273,16.062101290035926]
["Norton city","Local Personal VOT",{"$f":"'Detailed Location'!$G$215","v":{"$error":"#DIV/0!"}},9.6232449180327873,{"$f":"+D627*(1+$B$4)","v":9.6444160568524584},9.6656337721775341,9.6868981664763236,9.7082093424425722,9.7295674029959454,9.7509724512825358,9.7724245906753566,9.7939239247748429,9.8154705574093466,9.837064592635647,9.858706134739446,9.8803952882358725,9.9021321578699908,9.9239168486173046,9.945749465684262,9.9676301145087667,9.9895589007606862,10.01153593034236,10.033561309389112,10.055635144269768,10.077757541587161,10.099928608178653,10.122148451116646,10.144417177709101,10.166734895500062]
["Norton city","Intercity Personal VOT",null,13.472542885245902,{"$f":"+D628*(1+$B$4)","v":13.502182479593444},13.531887281048549,13.561657433066856,13.591493079419603,13.621394364194327,13.651361431795554,13.681394426945504,13.711493494684783,13.74165878037309,13.771890429689911,13.802188588635229,13.832553403530225,13.862985021017991,13.89348358806423,13.924049251957971,13.954682160312279,13.985382461064965,14.016150302479309,14.046985833144763,14.077889201977682,14.108860558222032,14.13990005145012,14.17100783156331,14.202184048792748,14.233428853700092]
["Norton city","Business VOT",null,14.128952663250642,{"$f":"+D629*(1+$B$4)","v":14.160036359109792},14.191188439099834,14.222409053665853,14.253698353583918,14.285056489961802,14.316483614239717,14.347979878191044,14.379545433923063,14.411180433877693,14.442885030832223,14.474659377900053,14.506503628531433,14.538417936514202,14.570402455974532,14.602457341377676,14.634582747528706,14.666778829573268,14.699045742998329,14.731383643632926,14.763792687648918,14.796273031561745,14.828824832231181,14.861448246862089,14.894143433005185,14.926910548557796]
["Norton city","Aggregated local VOT",null,9.8305074743128067,{"$f":"+D630*(1+$B$4)","v":9.8521345907562949},9.873809286855959,9.8955316672870417,9.9173018369550725,9.9391199009963742,9.9609859647785655,9.9829001339010777,10.00486251419566,10.02687321172689,10.04893233279269,10.071039983924834,10.093196271889468,10.115401303687625,10.137655186555737,10.159958027966159,10.182309935627684,10.204711017486064,10.227161381724533,10.249661136764328,10.272210391265208,10.294809254125992,10.317457834485069,10.340156241720935,10.362904585452721,10.385702975540717]
["Norton city","Aggregated intercity VOT",null,13.613014577738914,{"$f":"+D631*(1+$B$4)","v":13.64296320980994},13.672977728871521,13.703058279875037,13.733205008090762,13.763418059108561,13.7936975788386,13.824043713512046,13.854456609681773,13.884936414223072,13.915483274334361,13.946097337537896,13.976778751680479,14.007527664934177,14.038344225797031,14.069228583093784,14.10018088597659,14.131201283925739,14.162289926750375,14.193446964589226,14.224672547911322,14.255966827516726,14.287329954537263,14.318762080437246,14.350263357014207,14.381833936399637]
["Petersburg city","Local Personal VOT",{"$f":"'Detailed Location'!$G$218","v":{"$error":"#DIV/0!"}},8.404469836065573,{"$f":"+D632*(1+$B$4)","v":8.4229596697049178},8.4414901809782688,8.460061459376421,8.4786735945870486,8.4973266764951401,8.5160207951834295,8.534756040932832,8.5535325042228845,8.572350275732175,8.5912094463387856,8.6101101071207307,8.629052349356396,8.6480362645249791,8.6670619443069334,8.6861294805844089,8.7052389654416942,8.724390491165666,8.7435841502462299,8.7628200353767713,8.7820982394545997,8.8014188555813995,8.8207819770636782,8.840187697413219,8.8596361103475285,8.8791273097902934]
["Petersburg city","Intercity Personal VOT",null,11.766257770491801,{"$f":"+D633*(1+$B$4)","v":11.792143537586883},11.818086253369573,11.844086043126985,11.870143032421865,11.896257347093194,11.922429113256799,11.948658457305964,11.974945505912036,12.001290386025042,12.027693224874296,12.054154149969019,12.08067328909895,12.107250770334968,12.133886722029704,12.160581272818169,12.187334551618369,12.21414668763193,12.241017810344719,12.267948049527476,12.294937535236436,12.321986397813955,12.349094767889145,12.376262776378502,12.403490554486535,12.430778233706405]
["Petersburg city","Business VOT",null,19.597236256117924,{"$f":"+D634*(1+$B$4)","v":19.640350175881384},19.683558946268324,19.726862775950114,19.770261874057205,19.813756450180129,19.857346714370525,19.901032877142139,19.94481514947185,19.988693742800688,20.03266886903485,20.076740740546725,20.120909570175929,20.165175571230314,20.20953895748702,20.253999943193492,20.298558743068519,20.343215572303269,20.387970646562337,20.432824181984774,20.477776395185138,20.522827503254547,20.567977723761707,20.613227274753982,20.658576374758439,20.704025242782908]
["Petersburg city","Aggregated local VOT",null,8.9193370913879821,{"$f":"+D635*(1+$B$4)","v":8.938959632989036},8.9586253441816108,8.9783343199388099,8.9980866554426751,9.0178824460846485,9.0377217874660349,9.0576047753984597,9.0775315059043358,9.0975020752173243,9.1175165797828015,9.1375751162583239,9.1576777815140922,9.1778246726334238,9.1980158869132165,9.2182515218644259,9.2385316752125277,9.2588564448979955,9.2792259290767714,9.29964022612074,9.3200994346182053,9.3406036533743659,9.3611529814117898,9.3817475179708953,9.4023873625104315,9.4230726147079551]
["Petersburg city","Aggregated intercity VOT",null,13.442087166415794,{"$f":"+D636*(1+$B$4)","v":13.471659758181909},13.50129740964991,13.531000263951139,13.560768464531831,13.590602155153801,13.62050147989514,13.650466583150909,13.680497609633841,13.710594704375035,13.74075801272466,13.770987680352654,13.80128385324943,13.831646677726578,13.862076300417577,13.892572868278496,13.923136528588708,13.953767428951604,13.984465717295297,14.015231541873346,14.046065051265467,14.076966394378251,14.107935720445884,14.138973179030865,14.170078920024732,14.201253093648786]
["Poquoson city","Local Personal VOT",null,19.993575523329127,{"$f":"+D637*(1+$B$4)","v":20.037561389480452},20.081644024537308,20.125823641391289,20.170100453402348,20.214474674399835,20.258946518683516,20.303516201024618,20.348183936666871,20.392949941327537,20.437814431198458,20.482777622947093,20.527839733717578,20.573000981131756,20.618261583290245,20.663621758773484,20.709081726642786,20.754641706441401,20.800301918195572,20.846062582415602,20.891923920096914,20.937886152721127,20.983949502257111,21.030114191162077,21.076380442382632,21.122748479355874]
["Poquoson city","Intercity Personal VOT",null,27.991005732660778,{"$f":"+D638*(1+$B$4)","v":28.052585945272632},28.114301634352231,28.176153097947804,28.238140634763287,28.300264544159766,28.362525126156918,28.424922681434463,28.48745751133362,28.550129917858552,28.612940203677841,28.675888672125932,28.73897562720461,28.80220137358446,28.865566216606346,28.92907046228288,28.992714417299901,29.05649838901796,29.120422685473798,29.18448761538184,29.248693488135679,29.313040613809576,29.377529303159957,29.442159867626909,29.506932619335689,29.571847871098228]
["Poquoson city","Business VOT",null,22.614138166394024,{"$f":"+D639*(1+$B$4)","v":22.663889270360091},22.713749826754881,22.76372007637374,22.813800260541761,22.863990621114951,22.914291400481403,22.964702841562463,23.0152251878139,23.065858683227091,23.116603572330192,23.167460100189317,23.218428512409734,23.269509055137036,23.320701975058338,23.372007519403464,23.423425935946153,23.474957473005233,23.526602379445844,23.578360904680626,23.630233298670923,23.682219811928,23.734320695514242,23.786536201044374,23.83886658068667,23.891312087164181]
["Poquoson city","Aggregated local VOT",null,20.114121404910112,{"$f":"+D640*(1+$B$4)","v":20.158372472000913},20.202720891439313,20.247166877400478,20.29171064453076,20.336352407948727,20.381092383246212,20.425930786489353,20.470867834219629,20.51590374345491,20.561038731690509,20.606273016900229,20.651606817537409,20.697040352535993,20.742573841311572,20.788207503762457,20.833941560270734,20.879776231703328,20.925711739413074,20.971748305239782,21.017886151511309,21.064125501044632,21.11046657714693,21.156909603616654,21.203454804744609,21.250102405315047]
["Poquoson city","Aggregated intercity VOT",null,26.840356073479693,{"$f":"+D641*(1+$B$4)","v":26.899404856841347},26.958583547526398,27.017892431330957,27.077331794679885,27.13690192462818,27.196603108862362,27.256435635701859,27.316399794100402,27.376495873647421,27.436724164569444,27.497084957731495,27.557578544638503,27.618205217436707,27.678965268915068,27.739858992506679,27.800886682290194,27.862048632991232,27.923345139983812,27.984776499291776,28.046343007590217,28.108044962206915,28.169882661123768,28.231856402978242,28.293966487064793,28.356213213336336]
["Portsmouth city","Local Personal VOT",{"$f":"'Detailed Location'!$G$220","v":{"$error":"#DIV/0!"}},11.271228051702396,{"$f":"+D642*(1+$B$4)","v":11.296024753416141},11.320876007873656,11.345781935090978,11.370742655348177,11.395758289189944,11.420828957426162,11.4459547811325,11.471135881650991,11.496372380590623,11.521664399827921,11.547012061507543,11.572415488042859,11.597874802116554,11.62339012668121,11.648961584959908,11.674589300446819,11.700273396907802,11.726013998380999,11.751811229177438,11.777665213881628,11.803576077352167,11.829543944722342,11.855568941400731,11.881651193071813,11.907790825696571]
["Portsmouth city","Intercity Personal VOT",null,15.779719272383355,{"$f":"+D643*(1+$B$4)","v":15.814434654782598},15.849226411023119,15.884094709127369,15.919039717487449,15.95406160486592,15.989160540396625,16.024336693585497,16.059590234311383,16.094921332826868,16.130330159759087,16.165816886110555,16.201381683259999,16.23702472296317,16.272746177353689,16.308546218943867,16.344425020625543,16.380382755670919,16.416419597733395,16.45253572084841,16.488731299434274,16.525006508293028,16.561361522611271,16.597796517961015,16.63431167030053,16.67090715597519]
["Portsmouth city","Business VOT",null,16.975365429728512,{"$f":"+D644*(1+$B$4)","v":17.012711233673915},17.050139198387999,17.087649504624451,17.125242333534626,17.162917866668401,17.200676285975071,17.238517773804215,17.276442512906584,17.314450686434977,17.352542477945132,17.390718071396613,17.428977651153684,17.467321401986222,17.50574950907059,17.544262157990545,17.582859534738123,17.621541825714548,17.660309217731118,17.699161898010125,17.738100054185747,17.777123874304955,17.816233546828425,17.855429260631446,17.894711205004835,17.934079569655847]
["Portsmouth city","Aggregated local VOT",null,11.533618371091597,{"$f":"+D645*(1+$B$4)","v":11.558992331507998},11.584422114637315,11.609907843289516,11.635449640544753,11.66104762975395,11.686701934539409,11.712412678795395,11.738179986688746,11.76400398265946,11.789884791421311,11.815822537962438,11.841817347545955,11.867869345710556,11.893978658271118,11.920145411319314,11.946369731224216,11.972651744632909,11.998991578471101,12.025389359943738,12.051845216535613,12.078359276011991,12.104931666419217,12.131562516085339,12.158251953620725,12.185000107918691]
["Portsmouth city","Aggregated intercity VOT",null,16.035587550055219,{"$f":"+D646*(1+$B$4)","v":16.070865842665341},16.106221747519204,16.141655435363745,16.177167077321545,16.212756844891654,16.248424909950415,16.284171444752307,16.319996621930763,16.35590061449901,16.391883595850906,16.427945739761778,16.464087220389253,16.50030821227411,16.536608890341114,16.572989429899863,16.609450006645641,16.645990796660261,16.682611976412915,16.719313722761022,16.756096212951096,16.792959624619588,16.82990413579375,16.866929924892496,16.904037170727261,16.941226052502859]
["Radford city","Local Personal VOT",null,7.4986894766708696,{"$f":"+D647*(1+$B$4)","v":7.5151865935195454},7.5317200040252885,7.5482897880341442,7.564896025567819,7.5815387968240682,7.5982181821770807,7.6149342621778704,7.6316871175546614,7.6484768292132816,7.6653034782375506,7.6821671458896734,7.6990679136106301,7.7160058630205732,7.7329810759192181,7.7499936342862403,7.7670436202816697,7.7841311162462894,7.8012562047020308,7.8184189683523755,7.8356194900827507,7.8528578529609323,7.8701341402374458,7.8874484353459682,7.9048008219037289,7.9221913837119171]
["Radford city","Intercity Personal VOT",null,10.498165267339216,{"$f":"+D648*(1+$B$4)","v":10.521261230927362},10.544408005635402,10.5676057032478,10.590854435794945,10.614154315553694,10.637505455047913,10.660907967049019,10.684361964576526,10.707867560898594,10.731424869532571,10.755034004245543,10.778695079054883,10.802408208228803,10.826173506286906,10.849991088000737,10.873861068394339,10.897783562744806,10.921758686582844,10.945786555693326,10.969867286115852,10.994000994145306,11.018187796332425,11.042427809484357,11.066721150665222,11.091067937196685]
["Radford city","Business VOT",null,8.9881158650878845,{"$f":"+D649*(1+$B$4)","v":9.007889719991077},9.027707077375057,9.0475680329452821,9.0674726826177618,9.0874211225195207,9.1074134489890639,9.127449758576839,9.1475301480457087,9.1676547143714089,9.1878235547430265,9.2080367665634615,9.2282944474499011,9.2485966952342906,9.2689436079638057,9.289335283901325,9.3097718215259082,9.3302533195332646,9.3507798768362385,9.3713515925652775,9.3919685660689201,9.4126308969142709,9.4333386848874827,9.4540920299942357,9.4748910324602225,9.4957357927316348]
["Radford city","Aggregated local VOT",null,7.5672030905380527,{"$f":"+D650*(1+$B$4)","v":7.5838509373372363},7.6005354093993782,7.6172565873000568,7.6340145517921165,7.6508093838060587,7.6676411644504316,7.6845099750122223,7.7014158969572488,7.7183590119305547,7.7353394017568018,7.7523571484406668,7.7694123341672361,7.7865050413024042,7.8036353523932691,7.8208033501685339,7.8380091175389044,7.8552527375974899,7.8725342936202045,7.8898538690661688,7.9072115475781146,7.9246074129827866,7.942041549291349,7.9595140406997897,7.9770249715893291,7.9945744265268255]
["Radford city","Aggregated intercity VOT",null,10.175014695257431,{"$f":"+D651*(1+$B$4)","v":10.197399727586998},10.219834006987689,10.242317641803062,10.264850740615028,10.287433412244381,10.310065765751318,10.332747910435971,10.355479955838931,10.378262011741777,10.401094188167608,10.423976595381577,10.446909343891416,10.469892544447978,10.492926308045764,10.516010745923465,10.539145969564496,10.562332090697538,10.585569221297073,10.608857473583926,10.63219696002581,10.655587793337867,10.679030086483211,10.702523952673474,10.726069505369354,10.749666858281167]
["Richmond city","Local Personal VOT",{"$f":"'Detailed Location'!$G$225","v":{"$error":"#DIV/0!"}},9.8869222194199242,{"$f":"+D652*(1+$B$4)","v":9.9086734483026486},9.9304725298889149,9.9523195694546711,9.9742146725074718,9.9961579447869884,10.01814949226552,10.040189421148504,10.062277837875031,10.084414849118357,10.106600561786417,10.128835083022347,10.151118520204996,10.173450980949447,10.195832573107536,10.218263404768372,10.240743584258862,10.263273220144232,10.285852421228549,10.308481296555252,10.331159955407673,10.35388850730957,10.376667062025652,10.399495729562108,10.422374620167146,10.445303844331514]
["Richmond city","Intercity Personal VOT",null,13.841691107187893,{"$f":"+D653*(1+$B$4)","v":13.872142827623707},13.902661541844479,13.933247397236537,13.963900541510457,13.99462112270178,14.025409289171723,14.056265189607901,14.087188973025038,14.118180788765693,14.149240786500977,14.180369116231279,14.211565928286989,14.242831373329221,14.274165602350545,14.305568766675716,14.337041017962402,14.36858250820192,14.400193389719963,14.431873815177346,14.463623937570736,14.495443910233391,14.527333886835905,14.559294021386943,14.591324468233994,14.623425382064109]
["Richmond city","Business VOT",null,18.074848775614342,{"$f":"+D654*(1+$B$4)","v":18.114613442920692},18.154465592495118,18.194405416798606,18.234433108715564,18.274548861554738,18.314752869050157,18.355045325362067,18.395426425077861,18.435896363213033,18.476455335212101,18.517103536949566,18.557841164730856,18.598668415293265,18.639585485806908,18.680592573875682,18.721689877538207,18.76287759526879,18.804155925978382,18.845525069015533,18.886985224167368,18.928536591660535,18.970179372162189,19.011913766780946,19.053739977067863,19.095658205017411]
["Richmond city","Aggregated local VOT",null,10.263566841004865,{"$f":"+D655*(1+$B$4)","v":10.286146688055075},10.308776210768796,10.331455518432488,10.35418472057304,10.3769639269583,10.399793247597609,10.422672792742324,10.445602672886357,10.468582998766706,10.491613881363993,10.514695431902993,10.53782776185318,10.561010982929256,10.584245207091699,10.6075305465473,10.630867113749705,10.654255021399955,10.677694382447035,10.701185310088418,10.724727917770613,10.748322319189707,10.771968628291924,10.795666959274167,10.81941742658457,10.843220144923055]
["Richmond city","Aggregated intercity VOT",null,14.747586848231153,{"$f":"+D656*(1+$B$4)","v":14.78003153929726},14.812547608683714,14.845135213422818,14.877794510892349,14.910525658816312,14.943328815265707,14.976204138659291,15.009151787764342,15.042171921697424,15.075264699925158,15.108430282264994,15.141668828885976,15.174980500309525,15.208365457410206,15.241823861416508,15.275355873911623,15.308961656834228,15.342641372479262,15.376395183498715,15.410223252902412,15.444125744058796,15.478102820695726,15.512154646901257,15.54628138712444,15.580483206176114]
["Roanoke city","Local Personal VOT",{"$f":"'Detailed Location'!$G$226","v":{"$error":"#DIV/0!"}},9.3129357976040357,{"$f":"+D657*(1+$B$4)","v":9.3334242563587644},9.3539577897227542,9.3745364968601432,9.3951604771532349,9.4158298302029717,9.4365446558294188,9.4573050540722434,9.4781111251912016,9.4989629696666213,9.5198606881998877,9.5408043817139276,9.5617941513536984,9.5828300984866761,9.6039123247033462,9.6250409318176935,9.6462160218676924,9.6674376971158011,9.688706060049455,9.7100212133815642,9.731383260051004,9.7527923032231154,9.7742484462902066,9.7957517928720446,9.8173024468163632,9.8389005121993591]
["Roanoke city","Intercity Personal VOT",null,13.038110116645647,{"$f":"+D658*(1+$B$4)","v":13.066793958902268},13.095540905611854,13.124351095604199,13.153224668014529,13.18216176228416,13.211162518161185,13.240227075701139,13.269355575267682,13.29854815753327,13.327804963479844,13.357126134399499,13.386511811895177,13.415962137881346,13.445477254584684,13.475057304544771,13.504702430614769,13.534412775962121,13.564188484069238,13.59402969873419,13.623936564071405,13.653909224512361,13.683947824806289,13.714052510020862,13.744223425542907,13.774460717079101]
["Roanoke city","Business VOT",null,16.103297556725153,{"$f":"+D659*(1+$B$4)","v":16.138724811349949},16.17423000593492,16.209813311947975,16.24547490123426,16.281214946016977,16.317033618898215,16.352931092859791,16.388907541264082,16.424963137854864,16.461098056758143,16.49731247248301,16.533606559922472,16.569980494354301,16.606434451441881,16.642968607235055,16.679583138170972,16.716278221074948,16.753054033161312,16.789910752034267,16.826848555688741,16.863867622511258,16.900968131280781,16.938150261169596,16.975414191744168,17.012760102966006]
["Roanoke city","Aggregated local VOT",null,9.6252924385236067,{"$f":"+D660*(1+$B$4)","v":9.6464680818883579},9.6676903116685118,9.6889592303541825,9.7102749406609608,9.7316375455304147,9.753047148130582,9.7745038518564691,9.7960077603305535,9.8175589774032801,9.8391576071535667,9.8608037538893036,9.8824975221478599,9.9042390166965841,9.926028342533316,9.9478656048868892,9.9697509092176393,9.9916843612179171,10.013666066812597,10.035696132159584,10.057774663650335,10.079901767910366,10.102077551799768,10.124302122413727,10.146575587083037,10.168898053374619]
["Roanoke city","Aggregated intercity VOT",null,13.694060228822661,{"$f":"+D661*(1+$B$4)","v":13.72418716132607},13.754380373080986,13.784640009901764,13.814966217923548,13.845359143602979,13.875818933718906,13.906345735373087,13.936939695990908,13.967600963322088,13.998329685441396,14.029126010749367,14.059990087973016,14.090922066166558,14.121922094712124,14.152990323320491,14.184126902031796,14.215331981216266,14.246605711574942,14.277948244140406,14.309359730277514,14.340840321684125,14.37239017039183,14.404009428766692,14.435698249509977,14.4674567856589]
["Salem city","Local Personal VOT",{"$f":"'Detailed Location'!$G$231","v":{"$error":"#DIV/0!"}},11.897949933795713,{"$f":"+D662*(1+$B$4)","v":11.924125423650064},11.950358499582094,11.976649288281175,12.002997916715394,12.029404512132167,12.055869202058858,12.082392114303387,12.108973376954854,12.135613118384153,12.162311467244598,12.189068552472536,12.215884503287976,12.242759449195209,12.269693519983438,12.2966868457274,12.323739556788,12.350851783812933,12.378023657737321,12.405255309784343,12.432546871465869,12.459898474583094,12.487310251227177,12.514782333779877,12.542314854914192,12.569907947595002]
["Salem city","Intercity Personal VOT",null,16.657129907313998,{"$f":"+D663*(1+$B$4)","v":16.69377559311009},16.730501899414932,16.767309003593645,16.804197083401551,16.841166316985035,16.878216882882402,16.915348960024744,16.952562727736797,16.989858365737817,17.027236054142438,17.06469597346155,17.102238304603166,17.139863228873292,17.177570927976813,17.21536158401836,17.253235379503202,17.291192497338109,17.329233120832253,17.367357433698082,17.405565620052219,17.443857864416334,17.482234351718049,17.520695267291828,17.55924079687987,17.597871126633006]
["Salem city","Business VOT",null,16.975905906740781,{"$f":"+D664*(1+$B$4)","v":17.013252899735612},17.050682056115029,17.088193556638483,17.125787582463087,17.163464315144505,17.201223936637824,17.239066629298428,17.276992575882883,17.315001959549825,17.353094963860833,17.391271772781327,17.429532570681445,17.467877542336943,17.506306872930082,17.54482074805053,17.58341935369624,17.622102876274372,17.660871502602177,17.699725419907903,17.738664815831701,17.777689878426528,17.816800796159068,17.855997757910618,17.89528095297802,17.93465057107457]
["Salem city","Aggregated local VOT",null,12.131535908551186,{"$f":"+D665*(1+$B$4)","v":12.158225287549998},12.184973383182607,12.211780324625609,12.238646241339785,12.265571263070733,12.292555519849488,12.319599141993157,12.346702260105541,12.373865005077773,12.401087508088944,12.428369900606739,12.455712314388075,12.483114881479729,12.510577734218984,12.538101005234266,12.56568482744578,12.59332933406616,12.621034658601106,12.648800934850028,12.676628296906697,12.704516879159891,12.732466816294043,12.760478243289889,12.788551295425126,12.816686108275061]
["Salem city","Aggregated intercity VOT",null,16.725347971191329,{"$f":"+D666*(1+$B$4)","v":16.76214373672795},16.799020452948749,16.835978297945235,16.873017450200713,16.910138088591154,16.947340392386053,16.984624541249303,17.021990715240051,17.05943909481358,17.096969860822171,17.134583194515979,17.172279277543915,17.21005829195451,17.247920420196809,17.285865845121243,17.323894749980511,17.362007318430468,17.400203734531015,17.438484182746983,17.476848847949025,17.515297915414514,17.553831570828425,17.592450000284249,17.631153390284872,17.669941927743498]
["Staunton city","Local Personal VOT",{"$f":"'Detailed Location'!$G$238","v":{"$error":"#DIV/0!"}},9.3998516488020165,{"$f":"+D667*(1+$B$4)","v":9.4205313224293814},9.4412564913387254,9.4620272556196703,9.4828437155820335,9.5037059717563146,9.5246141248941782,9.5455682759689449,9.5665685261760771,9.5876149769336649,9.6087077298829193,9.6298468868886609,9.6510325500398153,9.6722648216499021,9.6935438042575317,9.7148696006268977,9.7362423137482761,9.7576620468385222,9.7791289033415669,9.8006429869289189,9.8222044015001622,9.8438132511834624,9.865469640336066,9.8871736735448046,9.9089254556266031,9.9307250916289806]
["Staunton city","Intercity Personal VOT",null,13.159792308322823,{"$f":"+D668*(1+$B$4)","v":13.188743851401133},13.217759087874215,13.246838157867538,13.275981201814846,13.305188360458837,13.334459774851846,13.363795586356519,13.393195936646503,13.422660967707126,13.452190821836082,13.481785641644121,13.511445570055738,13.54117075030986,13.570961325960541,13.600817440877654,13.630739239247584,13.660726865573928,13.690780464678189,13.720900181700481,13.751086162100222,13.781338551656843,13.811657496470488,13.842043142962723,13.87249563787724,13.90301512828057]
["Staunton city","Business VOT",null,15.89572990590556,{"$f":"+D669*(1+$B$4)","v":15.930700511698552},15.965748052824289,16.000872698540501,16.03607461847729,16.071353982637941,16.106710961399745,16.142145725514823,16.177658446110954,16.213249294692396,16.24891844314072,16.28466606371563,16.320492329055803,16.356397412179724,16.392381486486521,16.42844472575679,16.464587304153454,16.500809396222593,16.537111176894282,16.573492821483448,16.609954505690713,16.64649640560323,16.683118697695559,16.719821558830489,16.756605166259916,16.793469697625689]
["Staunton city","Aggregated local VOT",null,9.6986620486287816,{"$f":"+D670*(1+$B$4)","v":9.7199991051357646},9.7413831031670632,9.7628141459940299,9.7842923371152164,9.80581778025687,9.8273905793734357,9.8490108386480575,9.8706786624930825,9.8923941555505674,9.914157422692778,9.9359685690227018,9.9578276998745512,9.9797349208142752,10.001690337640067,10.023694056382874,10.045746183306916,10.067846824910191,10.089996087924993,10.112194079318428,10.134440906292928,10.156736676286773,10.179081496974604,10.201475476267948,10.223918722315737,10.246411343504832]
["Staunton city","Aggregated intercity VOT",null,13.745282954205528,{"$f":"+D671*(1+$B$4)","v":13.77552257670478},13.80582872637353,13.836201549571552,13.866641192980609,13.897147803605165,13.927721528773096,13.958362516136397,13.989070913671897,14.019846869681976,14.050690532795276,14.081602051967424,14.112581576481752,14.143629255950012,14.174745240313102,14.205929679841791,14.237182725137442,14.268504527132745,14.299895237092436,14.331355006614039,14.362883987628591,14.394482332401374,14.426150193532656,14.457887723958429,14.489695076951136,14.521572406120429]
["Suffolk city","Local Personal VOT",{"$f":"'Detailed Location'!$G$239","v":{"$error":"#DIV/0!"}},16.134365242749055,{"$f":"+D672*(1+$B$4)","v":16.169860846283104},16.205434540144925,16.241086496133242,16.276816886424736,16.312625883574871,16.348513660518734,16.384480390571873,16.42052624743113,16.456651405175478,16.492856038266865,16.529140321551051,16.565504430258464,16.601948540005033,16.638472826793045,16.675077467011988,16.711762637439413,16.74852851524178,16.785375277975312,16.822303103586858,16.85931217041475,16.896402657189661,16.933574743035479,16.970828607470157,17.008164430406591,17.045582392153484]
["Suffolk city","Intercity Personal VOT",null,22.588111339848677,{"$f":"+D673*(1+$B$4)","v":22.637805184796342},22.687608356202894,22.73752109458654,22.787543640994631,22.837676237004818,22.887919124726228,22.938272546800626,22.988736746403585,23.039311967245673,23.089998453573614,23.140796450171475,23.191706202361853,23.242727956007048,23.293861957510263,23.345108453816785,23.396467692415182,23.447939921338495,23.499525389165438,23.551224345021602,23.603037038580648,23.654963720065524,23.707004640249668,23.759160050458217,23.811430202569223,23.863815349014875]
["Suffolk city","Business VOT",null,18.963194241870827,{"$f":"+D674*(1+$B$4)","v":19.004913269202941},19.046724078395187,19.088626871367655,19.130621850484662,19.172709218555728,19.21488917883655,19.257161935029991,19.299527691287057,19.34198665220789,19.384539022842748,19.427185008693002,19.469924815712126,19.512758650306694,19.555686719337366,19.598709230119908,19.641826390426171,19.685038408485109,19.728345492983777,19.771747853068341,19.815245698345091,19.858839238881451,19.902528685206988,19.946314248314444,19.990196139660735,20.034174571167988]
["Suffolk city","Aggregated local VOT",null,16.264491376708655,{"$f":"+D675*(1+$B$4)","v":16.300273257737413},16.336133858904436,16.372073353394025,16.408091914771493,16.444189716983988,16.480366934361353,16.516623741616947,16.552960313848505,16.58937682653897,16.625873455557354,16.66245037715958,16.699107767989332,16.73584580507891,16.772664665850083,16.809564528114954,16.846545570076806,16.883607970330974,16.920751907865704,16.957977562063007,16.995285112699545,17.032674739947485,17.070146624375369,17.107700946948995,17.145337889032284,17.183057632388156]
["Suffolk city","Aggregated intercity VOT",null,21.812379080881417,{"$f":"+D676*(1+$B$4)","v":21.860366314859355},21.908459120752045,21.9566577308177,22.0049623778255,22.053373295056716,22.101890716305839,22.150514875881711,22.19924600860865,22.24808434982759,22.297030135397211,22.346083601695085,22.395244985618813,22.444514524587174,22.493892456541264,22.543379019945654,22.592974453789534,22.642678997587872,22.692492891382564,22.742416375743606,22.792449691770241,22.842593081092133,22.892846785870535,22.943211048799451,22.993686113106811,23.044272222555644]
["Virginia Beach city","Local Personal VOT",{"$f":"'Detailed Location'!$G$243","v":{"$error":"#DIV/0!"}},15.922935110340479,{"$f":"+D677*(1+$B$4)","v":15.957965567583228},15.993073091831912,16.028257852633942,16.063520019909735,16.098859763953534,16.134277255434231,16.169772665396184,16.205346165260057,16.240997926823628,16.276728122262639,16.312536924131617,16.348424505364708,16.384391039276508,16.420436699562917,16.456561660301954,16.492766095954618,16.529050181365719,16.565414091764723,16.601858002766605,16.638382090372691,16.674986530971509,16.711671501339644,16.74843717864259,16.785283740435602,16.822211364664561]
["Virginia Beach city","Intercity Personal VOT",null,22.292109154476666,{"$f":"+D678*(1+$B$4)","v":22.341151794616515},22.390302328564669,22.439560993687511,22.488928027873623,22.538403669534944,22.587988157607921,22.637681731554657,22.687484631364079,22.737397097553078,22.787419371167694,22.837551693784263,22.887794307510589,22.93814745498711,22.988611379388082,23.039186324422737,23.089872534336465,23.140670253912003,23.191579728470607,23.242601203873242,23.293734926521761,23.344981143360108,23.396340101875499,23.447812050099625,23.499397236609845,23.551095910530385]
["Virginia Beach city","Business VOT",null,17.595096010465003,{"$f":"+D679*(1+$B$4)","v":17.633805221688025},17.67259959317574,17.711479312280726,17.750444566767744,17.789495544814631,17.828632435013223,17.867855426370252,17.907164708308265,17.946560470666544,17.98604290370201,18.025612198090155,18.065268544925953,18.105012135724788,18.144843162423381,18.184761817380711,18.224768293378947,18.26486278362438,18.305045481748355,18.345316581808202,18.38567627828818,18.426124766100415,18.466662240585837,18.507288897515124,18.548004933089658,18.588810543942454]
["Virginia Beach city","Aggregated local VOT",null,15.999854511746204,{"$f":"+D680*(1+$B$4)","v":16.035054191672046},16.070331310893724,16.105686039777691,16.141118549065201,16.176629009873142,16.212217593694863,16.24788447240099,16.283629818240271,16.3194538038404,16.355356602208847,16.391338386733707,16.427399331184521,16.463539609713127,16.499759396854497,16.536058867527576,16.572438197036135,16.608897561069615,16.645437135703968,16.682057097402517,16.718757623016803,16.755538889787438,16.792401075344969,16.829344357710728,16.866368915297691,16.903474926911347]
["Virginia Beach city","Aggregated intercity VOT",null,21.286948341658171,{"$f":"+D681*(1+$B$4)","v":21.333779628009818},21.380713943191438,21.427751513866458,21.474892567196964,21.522137330844796,21.569486032972655,21.616938902245195,21.664496167830134,21.712158059399361,21.759924807130037,21.807796641705721,21.855773794317475,21.903856496664972,21.952044980957634,22.000339479915741,22.048740226771557,22.097247455270452,22.145861399672047,22.194582294751324,22.243410375799776,22.292345878626534,22.341389039559512,22.390540095446543,22.439799283656523,22.489166842080568]
["Waynesboro city","Local Personal VOT",{"$f":"'Detailed Location'!$G$246","v":{"$error":"#DIV/0!"}},10.949199940100883,{"$f":"+D682*(1+$B$4)","v":10.973288179969105},10.997429413965037,11.02162375867576,11.045871330944847,11.070172247872925,11.094526626818245,11.118934585397245,11.143396241485119,11.167911713216386,11.192481118985462,11.21710457744723,11.241782207517614,11.266514128374153,11.291300459456576,11.316141320467381,11.341036831372408,11.365987112401427,11.390992284048711,11.416052467073618,11.441167782501179,11.466338351622682,11.491564295996252,11.516845737447444,11.542182798069827,11.567575600225581]
["Waynesboro city","Intercity Personal VOT",null,15.328879916141233,{"$f":"+D683*(1+$B$4)","v":15.362603451956744},15.396401179551049,15.430273262146061,15.464219863322782,15.498241147022092,15.53233727754554,15.56650841955614,15.600754738079162,15.635076398502937,15.669473566579644,15.703946408426118,15.738495090524655,15.773119779723809,15.8078206432392,15.842597848654327,15.877451563921365,15.912381957361992,15.947389197668189,15.982473453903058,16.017634895501644,16.052873692271746,16.088190014394744,16.123584032426411,16.159055917297749,16.194605840315806]
["Waynesboro city","Business VOT",null,17.304000567996475,{"$f":"+D684*(1+$B$4)","v":17.342069369246065},17.380221921858407,17.418458410086494,17.456779018588684,17.49518393242958,17.533673337080923,17.572247418422503,17.61090636274303,17.649650356741066,17.688479587525897,17.727394242618455,17.766394509952217,17.805480577874111,17.844652635145433,17.883910870942753,17.923255474858827,17.962686636903516,18.002204547504704,18.041809397509212,18.081501378183731,18.121280681215733,18.161147498714406,18.201102023211579,18.241144447662645,18.281274965447501]
["Waynesboro city","Aggregated local VOT",null,11.241520768984081,{"$f":"+D685*(1+$B$4)","v":11.266252114675845},11.291037869328132,11.315878152640654,11.340773084576464,11.365722785362532,11.39072737549033,11.41578697571641,11.440901707062986,11.466071690818524,11.491297048538325,11.516577902045109,11.541914373429607,11.567306585051153,11.592754659538265,11.61825871978925,11.643818888972786,11.669435290528526,11.695108048167688,11.720837285873657,11.746623127902579,11.772465698783964,11.79836512332129,11.824321526592596,11.850335033951099,11.876405771025791]
["Waynesboro city","Aggregated intercity VOT",null,15.751555735638258,{"$f":"+D686*(1+$B$4)","v":15.786209158256661},15.820938818404825,15.855744883805315,15.890627522549686,15.925586903099294,15.960623194286113,15.995736565313541,16.030927185757232,16.066195225565899,16.101540855062144,16.136964244943279,16.172465566282153,16.208044990527974,16.243702689507135,16.279438835424049,16.315253600861983,16.351147158783878,16.387119682533204,16.423171345834778,16.459302322795615,16.495512787905763,16.531802916039155,16.568172882454441,16.604622862795839,16.641153033093989]
["Williamsburg city","Local Personal VOT",null,11.869384892812105,{"$f":"+D687*(1+$B$4)","v":11.895497539576292},11.921667634163359,11.947895302958518,11.974180672625026,12.000523870104802,12.026925022619032,12.053384257668794,12.079901703035665,12.106477486782342,12.133111737253262,12.159804583075219,12.186556153157985,12.213366576694932,12.240235983163661,12.26716450232662,12.294152264231739,12.321199399213048,12.348306037891318,12.375472311174679,12.402698350259262,12.429984286629832,12.457330252060418,12.484736378614951,12.512202798647904,12.539729644804929]
["Williamsburg city","Intercity Personal VOT",null,16.617138849936946,{"$f":"+D688*(1+$B$4)","v":16.653696555406807},16.690334687828702,16.727053424141925,16.763852941675037,16.80073341814672,16.837695031666641,16.874737960736308,16.911862384249929,16.949068481495278,16.986356432154569,17.023726416305308,17.061178614421181,17.098713207372906,17.136330376429125,17.174030303257268,17.211813169924433,17.249679158898267,17.287628453047844,17.325661235644549,17.363777690362966,17.401978001281766,17.440262352884584,17.47863093006093,17.517083918107065,17.5556215027269]
["Williamsburg city","Business VOT",null,9.5455289375869796,{"$f":"+D689*(1+$B$4)","v":9.5665291012496709},9.5875754652724208,9.6086681312960192,9.629807201184871,9.6509927770274775,9.6722249611369371,9.6935038560514375,9.7148295645347513,9.7362021895767281,9.757621834393797,9.7790886024294625,9.800602597354807,9.8221639230689881,9.8437726836997399,9.8654289836038789,9.8871329273678068,9.9088846198080152,9.9306841659715932,9.9525316711367307,9.9744272408132311,9.9963709807430199,10.018362996900654,10.040403395493836,10.062492282963923,10.084629765986444]
["Williamsburg city","Aggregated local VOT",null,11.762487518871749,{"$f":"+D690*(1+$B$4)","v":11.788364991413268},11.814299394394377,11.840290853062044,11.86633949293878,11.892445439823245,11.918608819790856,11.944829759194397,11.971108384664625,11.997444823110886,12.02383920172173,12.050291647965517,12.076802289591042,12.103371254628142,12.129998671388323,12.156684668465378,12.183429374736001,12.21023291936042,12.237095431783013,12.264017041732936,12.290997879224749,12.318038074559043,12.345137758323073,12.372297061391384,12.399516114926445,12.426795050379283]
["Williamsburg city","Aggregated intercity VOT",null,15.103814328694055,{"$f":"+D691*(1+$B$4)","v":15.137042720217181},15.170344214201659,15.203718971472902,15.237167153210143,15.270688920947205,15.304284436573289,15.33795386233375,15.371697360830884,15.405515095024713,15.439407228233767,15.473373924135881,15.50741534676898,15.541531660531872,15.575723030185042,15.609989620851449,15.644331598017322,15.67874912753296,15.713242375613532,15.747811508839883,15.782456694159331,15.817178098886481,15.851975890704031,15.88685023766358,15.92180130818644,15.95682927106445]
["Winchester city","Local Personal VOT",{"$f":"'Detailed Location'!$G$247","v":{"$error":"#DIV/0!"}},10.791237704918032,{"$f":"+D692*(1+$B$4)","v":10.814978427868851},10.838771380410163,10.862616677447065,10.886514434137448,10.91046476589255,10.934467788377514,10.958523617511945,10.982632369470471,11.006794160683306,11.031009107836809,11.05527732787405,11.079598937995373,11.103974055658963,11.128402798581412,11.152885284738291,11.177421632364716,11.202011959955918,11.226656386267821,11.25135503031761,11.276108011384309,11.300915449009354,11.325777462997173,11.350694173415768,11.375665700597283,11.400692165138597]
["Winchester city","Intercity Personal VOT",null,15.107732786885244,{"$f":"+D693*(1+$B$4)","v":15.140969799016391},15.174279932574226,15.207663348425889,15.241120207792425,15.274650672249569,15.308254903728518,15.34193306451672,15.375685317258656,15.409511824956624,15.443412750971529,15.477388259023666,15.511438513193518,15.545563677922543,15.579763918013972,15.614039398633603,15.648390285310596,15.682816743938279,15.717318940774943,15.751897042444648,15.786551215938026,15.82128162861309,15.856088448196038,15.890971842782069,15.925931980836189,15.960969031194029]
["Winchester city","Business VOT",null,17.066670533092669,{"$f":"+D694*(1+$B$4)","v":17.104217208265471},17.141846486123654,17.179558548393125,17.217353577199589,17.255231755069428,17.293193264930579,17.331238290113426,17.369367014351674,17.407579621783249,17.445876296951173,17.484257224804466,17.522722590699036,17.561272580398573,17.59990738007545,17.638627176311616,17.677432156099499,17.716322506842918,17.75529841635797,17.794360072873957,17.833507665034279,17.872741381897356,17.912061412937529,17.951467948045991,17.990961177531691,18.030541292122262]
["Winchester city","Aggregated local VOT",null,11.079907615014067,{"$f":"+D695*(1+$B$4)","v":11.104283411767097},11.128712835272985,11.153196003510585,11.177733034718308,11.202324047394688,11.226969160298957,11.251668492451614,11.276422163135008,11.301230291893905,11.326092998536071,11.35101040313285,11.375982626019741,11.401009787796985,11.426092009330139,11.451229411750665,11.476422116456517,11.50167024511272,11.526973919651969,11.552333262275203,11.577748395452209,11.603219441922205,11.628746524694433,11.654329767048761,11.679969292536269,11.705665224979848]
["Winchester city","Aggregated intercity VOT",null,15.526945464573632,{"$f":"+D696*(1+$B$4)","v":15.561104744595694},15.595339175033804,15.629648921218877,15.664034148845557,15.698495023973017,15.733031713025756,15.767644382794412,15.802333200436559,15.837098333477519,15.87193994981117,15.906858217700753,15.941853305779695,15.976925383052411,16.012074618895127,16.047301183056696,16.082605245659419,16.11798697719987,16.153446548549709,16.18898413095652,16.224599896044623,16.260294015815919,16.296066662650713,16.331918009308545,16.367848228929024,16.403857495032668]
[null,null,null,2015,2016,2017,2018,2019,2020,2021,2022,2023,2024,2025,2026,2027,2028,2029,2030,2031,2032,2033,2034,2035,2036,2037,2038,2039,2040]
["Multiple Counties or Cities","Local Personal VOT",null,{"$f":"D692*$C$692+D682*$C$682+D677*$C$677+D672*$C$672+D667*$C$667+D662*$C$662+D657*$C$657+D652*$C$652+D642*$C$642+D632*$C$632+D627*$C$627+D622*$C$622+D617*$C$617+D612*$C$612+D597*$C$597+D582*$C$582+D577*$C$577+D572*$C$572+D567*$C$567+D562*$C$562+D557*$C$557+D552*$C$552+D547*$C$547+D542*$C$542+D537*$C$537+D532*$C$532+D527*$C$527+D522*$C$522+D512*$C$512+D507*$C$507+D502*$C$502+D497*$C$497+D492*$C$492+D487*$C$487+D477*$C$477+D472*$C$472+D467*$C$467+D462*$C$462+D457*$C$457+D452*$C$452+D447*$C$447+D442*$C$442+D437*$C$437+D432*$C$432+D427*$C$427+D422*$C$422+D417*$C$417+D412*$C$412+D407*$C$407+D392*$C$392+D387*$C$387+D382*$C$382+D377*$C$377+D367*$C$367+D362*$C$362+D347*$C$347+D332*$C$332+D327*$C$327+D322*$C$322+D312*$C$312+D302*$C$302+D292*$C$292+D282*$C$282+D257*$C$257+D252*$C$252+D242*$C$242+D237*$C$237+D232*$C$232+D227*$C$227+D222*$C$222+D217*$C$217+D212*$C$212+D207*$C$207+D197*$C$197+D192*$C$192+D187*$C$187+D182*$C$182+D177*$C$177+D172*$C$172+D167*$C$167+D157*$C$157+$D142*$C$142+D127*$C$127+D112*$C$112+D107*$C$107+D102*$C$102+D92*$C$92+D87*$C$87+D82*$C$82+D72*$C$72+D62*$C$62+D57*$C$57+D52*$C$52+D47*$C$47+D37*$C$37+D32*$C$32","v":{"$error":"#DIV/0!"}},{"$f":"E692*$C$692+E682*$C$682+E677*$C$677+E672*$C$672+E667*$C$667+E662*$C$662+E657*$C$657+E652*$C$652+E642*$C$642+E632*$C$632+E627*$C$627+E622*$C$622+E617*$C$617+E612*$C$612+E597*$C$597+E582*$C$582+E577*$C$577+E572*$C$572+E567*$C$567+E562*$C$562+E557*$C$557+E552*$C$552+E547*$C$547+E542*$C$542+E537*$C$537+E532*$C$532+E527*$C$527+E522*$C$522+E512*$C$512+E507*$C$507+E502*$C$502+E497*$C$497+E492*$C$492+E487*$C$487+E477*$C$477+E472*$C$472+E467*$C$467+E462*$C$462+E457*$C$457+E452*$C$452+E447*$C$447+E442*$C$442+E437*$C$437+E432*$C$432+E427*$C$427+E422*$C$422+E417*$C$417+E412*$C$412+E407*$C$407+E392*$C$392+E387*$C$387+E382*$C$382+E377*$C$377+E367*$C$367+E362*$C$362+E347*$C$347+E332*$C$332+E327*$C$327+E322*$C$322+E312*$C$312+E302*$C$302+E292*$C$292+E282*$C$282+E257*$C$257+E252*$C$252+E242*$C$242+E237*$C$237+E232*$C$232+E227*$C$227+E222*$C$222+E217*$C$217+E212*$C$212+E207*$C$207+E197*$C$197+E192*$C$192+E187*$C$187+E182*$C$182+E177*$C$177+E172*$C$172+E167*$C$167+E157*$C$157+$D142*$C$142+E127*$C$127+E112*$C$112+E107*$C$107+E102*$C$102+E92*$C$92+E87*$C$87+E82*$C$82+E72*$C$72+E62*$C$62+E57*$C$57+E52*$C$52+E47*$C$47+E37*$C$37+E32*$C$32","v":{"$error":"#DIV/0!"}},{"$error":"#DIV/0!"},{"$error":"#DIV/0!"},{"$error":"#DIV/0!"},{"$error":"#DIV/0!"},{"$error":"#DIV/0!"},{"$error":"#DIV/0!"},{"$error":"#DIV/0!"},{"$error":"#DIV/0!"},{"$error":"#DIV/0!"},{"$error":"#DIV/0!"},{"$error":"#DIV/0!"},{"$error":"#DIV/0!"},{"$error":"#DIV/0!"},{"$error":"#DIV/0!"},{"$error":"#DIV/0!"},{"$error":"#DIV/0!"},{"$error":"#DIV/0!"},{"$error":"#DIV/0!"},{"$error":"#DIV/0!"},{"$error":"#DIV/0!"},{"$error":"#DIV/0!"},{"$error":"#DIV/0!"},{"$error":"#DIV/0!"},{"$error":"#DIV/0!"}]
["Multiple Counties or Cities","Intercity Personal VOT",null,{"$f":"D693*$C$692+D683*$C$682+D678*$C$677+D673*$C$672+D668*$C$667+D663*$C$662+D658*$C$657+D653*$C$652+D643*$C$642+D633*$C$632+D628*$C$627+D623*$C$622+D618*$C$617+D613*$C$612+D598*$C$597+D583*$C$582+D578*$C$577+D573*$C$572+D568*$C$567+D563*$C$562+D558*$C$557+D553*$C$552+D548*$C$547+D543*$C$542+D538*$C$537+D533*$C$532+D528*$C$527+D523*$C$522+D513*$C$512+D508*$C$507+D503*$C$502+D498*$C$497+D493*$C$492+D488*$C$487+D478*$C$477+D473*$C$472+D468*$C$467+D463*$C$462+D458*$C$457+D453*$C$452+D448*$C$447+D443*$C$442+D438*$C$437+D433*$C$432+D428*$C$427+D423*$C$422+D418*$C$417+D413*$C$412+D408*$C$407+D393*$C$392+D388*$C$387+D383*$C$382+D378*$C$377+D368*$C$367+D363*$C$362+D348*$C$347+D333*$C$332+D328*$C$327+D323*$C$322+D313*$C$312+D303*$C$302+D293*$C$292+D283*$C$282+D258*$C$257+D253*$C$252+D243*$C$242+D238*$C$237+D233*$C$232+D228*$C$227+D223*$C$222+D218*$C$217+D213*$C$212+D208*$C$207+D198*$C$197+D193*$C$192+D188*$C$187+D183*$C$182+D178*$C$177+D173*$C$172+D168*$C$167+D158*$C$157+$D143*$C$142+D128*$C$127+D113*$C$112+D108*$C$107+D103*$C$102+D93*$C$92+D88*$C$87+D83*$C$82+D73*$C$72+D63*$C$62+D58*$C$57+D53*$C$52+D48*$C$47+D38*$C$37+D33*$C$32","v":{"$error":"#DIV/0!"}},{"$error":"#DIV/0!"},{"$error":"#DIV/0!"},{"$error":"#DIV/0!"},{"$error":"#DIV/0!"},{"$error":"#DIV/0!"},{"$error":"#DIV/0!"},{"$error":"#DIV/0!"},{"$error":"#DIV/0!"},{"$error":"#DIV/0!"},{"$error":"#DIV/0!"},{"$error":"#DIV/0!"},{"$error":"#DIV/0!"},{"$error":"#DIV/0!"},{"$error":"#DIV/0!"},{"$error":"#DIV/0!"},{"$error":"#DIV/0!"},{"$error":"#DIV/0!"},{"$error":"#DIV/0!"},{"$error":"#DIV/0!"},{"$error":"#DIV/0!"},{"$error":"#DIV/0!"},{"$error":"#DIV/0!"},{"$error":"#DIV/0!"},{"$error":"#DIV/0!"},{"$error":"#DIV/0!"}]
["Multiple Counties or Cities","Business VOT",null,{"$error":"#DIV/0!"},{"$error":"#DIV/0!"},{"$error":"#DIV/0!"},{"$error":"#DIV/0!"},{"$error":"#DIV/0!"},{"$error":"#DIV/0!"},{"$error":"#DIV/0!"},{"$error":"#DIV/0!"},{"$error":"#DIV/0!"},{"$error":"#DIV/0!"},{"$error":"#DIV/0!"},{"$error":"#DIV/0!"},{"$error":"#DIV/0!"},{"$error":"#DIV/0!"},{"$error":"#DIV/0!"},{"$error":"#DIV/0!"},{"$error":"#DIV/0!"},{"$error":"#DIV/0!"},{"$error":"#DIV/0!"},{"$error":"#DIV/0!"},{"$error":"#DIV/0!"},{"$error":"#DIV/0!"},{"$error":"#DIV/0!"},{"$error":"#DIV/0!"},{"$error":"#DIV/0!"},{"$error":"#DIV/0!"}]
["Multiple Counties or Cities","Aggregated local VOT",null,{"$error":"#DIV/0!"},{"$error":"#DIV/0!"},{"$error":"#DIV/0!"},{"$error":"#DIV/0!"},{"$error":"#DIV/0!"},{"$error":"#DIV/0!"},{"$error":"#DIV/0!"},{"$error":"#DIV/0!"},{"$error":"#DIV/0!"},{"$error":"#DIV/0!"},{"$error":"#DIV/0!"},{"$error":"#DIV/0!"},{"$error":"#DIV/0!"},{"$error":"#DIV/0!"},{"$error":"#DIV/0!"},{"$error":"#DIV/0!"},{"$error":"#DIV/0!"},{"$error":"#DIV/0!"},{"$error":"#DIV/0!"},{"$error":"#DIV/0!"},{"$error":"#DIV/0!"},{"$error":"#DIV/0!"},{"$error":"#DIV/0!"},{"$error":"#DIV/0!"},{"$error":"#DIV/0!"},{"$error":"#DIV/0!"}]
["Multiple Counties or Cities","Aggregated intercity VOT",null,{"$error":"#DIV/0!"},{"$error":"#DIV/0!"},{"$error":"#DIV/0!"},{"$error":"#DIV/0!"},{"$error":"#DIV/0!"},{"$error":"#DIV/0!"},{"$error":"#DIV/0!"},{"$error":"#DIV/0!"},{"$error":"#DIV/0!"},{"$error":"#DIV/0!"},{"$error":"#DIV/0!"},{"$error":"#DIV/0!"},{"$error":"#DIV/0!"},{"$error":"#DIV/0!"},{"$error":"#DIV/0!"},{"$error":"#DIV/0!"},{"$error":"#DIV/0!"},{"$error":"#DIV/0!"},{"$error":"#DIV/0!"},{"$error":"#DIV/0!"},{"$error":"#DIV/0!"},{"$error":"#DIV/0!"},{"$error":"#DIV/0!"},{"$error":"#DIV/0!"},{"$error":"#DIV/0!"},{"$error":"#DIV/0!"}]

{"sheet":"BCA Values Passenger Congestion","index":14,"n_rows":121,"n_cols":29,"rows_kept":121,"cut":false,"hidden":false,"merged":[[0,0,0,1],[2,0,2,3],[4,2,4,28]]}
["Passenger BCA Values (continued)"]
[]
["Passenger Vehicle Congestion Cost"]
[]
[null,null,"Congestion ($/mi)"]
["Highway","Number of Vehicles Reduced","Year",2015,2016,2017,2018,2019,2020,2021,2022,2023,2024,2025,2026,2027,2028,2029,2030,2031,2032,2033,2034,2035,2036,2037,2038,2039,2040]
["I-64",0,null,0,{"$f":"($I7-$D7)/($I$6-$D$6)*(E$6-$D$6)+$D7","v":0},{"$f":"($I7-$D7)/($I$6-$D$6)*(F$6-$D$6)+$D7","v":0},{"$f":"($I7-$D7)/($I$6-$D$6)*(G$6-$D$6)+$D7","v":0},{"$f":"($I7-$D7)/($I$6-$D$6)*(H$6-$D$6)+$D7","v":0},0,{"$f":"($N7-$I7)/($N$6-$I$6)*(J$6-$I$6)+$I7","v":0},{"$f":"($N7-$I7)/($N$6-$I$6)*(K$6-$I$6)+$I7","v":0},{"$f":"($N7-$I7)/($N$6-$I$6)*(L$6-$I$6)+$I7","v":0},{"$f":"($N7-$I7)/($N$6-$I$6)*(M$6-$I$6)+$I7","v":0},0,{"$f":"($S7-$N7)/($S$6-$N$6)*(O$6-$N$6)+$N7","v":0},{"$f":"($S7-$N7)/($S$6-$N$6)*(P$6-$N$6)+$N7","v":0},{"$f":"($S7-$N7)/($S$6-$N$6)*(Q$6-$N$6)+$N7","v":0},{"$f":"($S7-$N7)/($S$6-$N$6)*(R$6-$N$6)+$N7","v":0},0,{"$f":"($X7-$S7)/($X$6-$S$6)*(T$6-$S$6)+$S7","v":0},{"$f":"($X7-$S7)/($X$6-$S$6)*(U$6-$S$6)+$S7","v":0},{"$f":"($X7-$S7)/($X$6-$S$6)*(V$6-$S$6)+$S7","v":0},{"$f":"($X7-$S7)/($X$6-$S$6)*(W$6-$S$6)+$S7","v":0},0,{"$f":"($AC7-$X7)/($AC$6-$X$6)*(Y$6-$X$6)+$X7","v":0},{"$f":"($AC7-$X7)/($AC$6-$X$6)*(Z$6-$X$6)+$X7","v":0},{"$f":"($AC7-$X7)/($AC$6-$X$6)*(AA$6-$X$6)+$X7","v":0},{"$f":"($AC7-$X7)/($AC$6-$X$6)*(AB$6-$X$6)+$X7","v":0},0]
["I-64",20,null,0.1664411029023535,{"$f":"($I8-$D8)/($I$6-$D$6)*(E$6-$D$6)+$D8","v":0.16756277623214855},0.16868444956194362,0.16980612289173866,0.17092779622153373,0.17204946955132877,{"$f":"($N8-$I8)/($N$6-$I$6)*(J$6-$I$6)+$I8","v":0.17300319843927814},0.17395692732722751,0.17491065621517687,0.17586438510312624,0.17681811399107561,{"$f":"($S8-$N8)/($S$6-$N$6)*(O$6-$N$6)+$N8","v":0.17762923325467281},0.17844035251827001,0.17925147178186723,0.18006259104546443,0.18087371030906163,{"$f":"($X8-$S8)/($X$6-$S$6)*(T$6-$S$6)+$S8","v":0.18152955253955994},0.18218539477005824,0.18284123700055654,0.18349707923105485,0.18415292146155315,{"$f":"($AC8-$X8)/($AC$6-$X$6)*(Y$6-$X$6)+$X8","v":0.18496404072515035},0.18577515998874758,0.18658627925234478,0.187397398515942,0.1882085177795392]
["I-64",40,null,0.26986938243598285,0.27196494931576232,0.27406051619554178,0.27615608307532119,0.27825164995510066,0.28034721683488012,0.28211710139682733,0.28388698595877448,0.2856568705207217,0.28742675508266885,0.28919663964461606,0.29067228032712777,0.29214792100963954,0.29362356169215126,0.29509920237466303,0.29657484305717474,0.29774052064105261,0.29890619822493053,0.3000718758088084,0.30123755339268632,0.30240323097656419,0.3038788716590759,0.30535451234158761,0.30683015302409938,0.3083057937066111,0.30978143438912281]
["I-64",60,null,0.3729032011672625,0.37596894774549489,0.37903469432372722,0.3821004409019596,0.38516618748019193,0.38823193405842432,0.3908148619478326,0.39339778983724083,0.39598071772664911,0.39856364561605734,0.40114657350546562,0.40328420147166921,0.40542182943787286,0.40755945740407645,0.4096970853702801,0.41183471333648369,0.41350828199667294,0.41518185065686214,0.41685541931705139,0.41852898797724059,0.42020255663742984,0.42234018460363343,0.42447781256983702,0.42661544053604067,0.42875306850224426,0.43089069646844785]
["I-64",80,null,0.47554329982759813,0.47957551922667008,0.48360773862574202,0.48763995802481397,0.49167217742388591,0.49570439682295786,0.49909726153769707,0.50249012625243628,0.50588299096717548,0.50927585568191469,0.5126687203966539,0.51546580626996596,0.51826289214327814,0.52105997801659021,0.52385706388990239,0.52665414976321445,0.52883366887364669,0.53101318798407893,0.53319270709451105,0.53537222620494329,0.53755174531537553,0.54034883118868759,0.54314591706199966,0.54594300293531184,0.5487400888086239,0.55153717468193597]
["I-64",100,null,0.57779041796616348,0.58278541027124919,0.5877804025763349,0.5927753948814205,0.59777038718650621,0.60276537949159192,0.60696508036461072,0.61116478123762941,0.6153644821106482,0.61956418298366689,0.62376388385668569,0.62721790301156721,0.63067192216644874,0.63412594132133027,0.63757996047621179,0.64103397963109332,0.64371751221087281,0.6464010447906523,0.64908457737043168,0.65176810995021117,0.65445164252999066,0.65790566168487219,0.66135968083975372,0.66481369999463524,0.66826771914951677,0.6717217383043983]
["I-64",120,null,0.67964529395159834,0.68559936619954487,0.6915534384474914,0.69750751069543804,0.70346158294338457,0.7094156551913311,0.71441909738134235,0.71942253957135349,0.72442598176136475,0.72942942395137589,0.73443286614138714,0.73854129869575935,0.74264973125013156,0.74675816380450388,0.75086659635887609,0.7549750289132483,0.75816064162083341,0.76134625432841851,0.76453186703600362,0.76771747974358873,0.77090309245117383,0.77501152500554615,0.77911995755991836,0.78322839011429068,0.78733682266866289,0.79144525522303522]
["I-64",140,null,0.78110866497358211,0.78801813114180985,0.79492759731003748,0.80183706347826522,0.80874652964649285,0.81565599581472059,0.82146009029689926,0.82726418477907804,0.83306827926125671,0.83887237374343548,0.84467646822561415,0.84943679903328473,0.8541971298409553,0.85895746064862599,0.86371779145629657,0.86847812226396714,0.87216388539135925,0.87584964851875136,0.87953541164614335,0.88322117477353546,0.88690693790092756,0.89166726870859814,0.89642759951626871,0.90118793032393929,0.90594826113160987,0.91070859193928044]
["I-64",160,null,0.88218126704415556,0.89004244803957067,0.89790362903498577,0.90576481003040077,0.91362599102581588,0.92148717202123098,0.92808883557792321,0.93469049913461533,0.94129216269130755,0.94789382624799967,0.9544954898046919,0.95990520844778948,0.96531492709088706,0.97072464573398465,0.97613436437708223,0.98154408302017981,0.98572807048711863,0.98991205795405746,0.99409604542099639,0.99828003288793521,1.002464020354874,1.0078737389979717,1.0132834576410692,1.0186931762841669,1.0241028949272644,1.0295126135703621]
["I-64",180,null,0.98286383499985042,0.99167305864777755,1.0004822822957047,1.009291505943632,1.0181007295915592,1.0269099532394863,1.0343061084509335,1.0417022636623809,1.0490984188738282,1.0564945740852756,1.0638907292967228,1.0699473300781452,1.0760039308595677,1.0820605316409901,1.0881171324224126,1.094173733203835,1.0988540225520051,1.1035343119001755,1.1082146012483456,1.1128948905965159,1.117575179944686,1.1236317807261085,1.1296883815075309,1.1357449822889536,1.141801583070376,1.1478581838517985]
["I-64",200,null,1.0831571025026188,1.0929107035357428,1.1026643045688669,1.1124179056019912,1.1221715066351152,1.1319251076682393,1.1401126829033119,1.1483002581383845,1.156487833373457,1.1646754086085296,1.1728629838436022,1.179563965779471,1.1862649477153397,1.1929659296512085,1.1996669115870773,1.206367893522946,1.2115425659101873,1.2167172382974283,1.2218919106846695,1.2270665830719105,1.2322412554591518,1.2389422373950205,1.2456432193308893,1.2523442012667583,1.259045183202627,1.2657461651384958]
["I-64",220,null,1.1830618020426273,1.1937561220899608,1.2044504421372946,1.2151447621846281,1.2258390822319618,1.2365334022792953,1.2455093316862462,1.2544852610931971,1.2634611905001483,1.2724371199070992,1.2814130493140501,1.2887559161261821,1.2960987829383142,1.3034416497504464,1.3107845165625784,1.3181273833747105,1.3237945235692419,1.3294616637637731,1.3351288039583045,1.3407959441528357,1.3464630843473671,1.3538059511594991,1.3611488179716311,1.3684916847837634,1.3758345515958954,1.3831774184080274]
["I-64",240,null,1.2825786649381541,1.2942100525140043,1.3058414400898548,1.3174728276657051,1.3291042152415555,1.3407356028174058,1.3504968263146249,1.360258049811844,1.3700192733090633,1.3797804968062823,1.3895417203035014,1.3975239804118809,1.4055062405202605,1.41348850062864,1.4214707607370196,1.429453020845399,1.4356107172200432,1.4417684135946875,1.4479261099693317,1.454083806343976,1.4602415027186202,1.4682237628269998,1.4762060229353795,1.4841882830437589,1.4921705431521386,1.5001528032605183]
["I-64",260,null,1.2825786649381541,1.2942100525140043,1.3058414400898548,1.3174728276657051,1.3291042152415555,1.3407356028174058,1.3504968263146249,1.360258049811844,1.3700192733090633,1.3797804968062823,1.3895417203035014,1.3975239804118809,1.4055062405202605,1.41348850062864,1.4214707607370196,1.429453020845399,1.4356107172200432,1.4417684135946875,1.4479261099693317,1.454083806343976,1.4602415027186202,1.4682237628269998,1.4762060229353795,1.4841882830437589,1.4921705431521386,1.5001528032605183]
["I-66",0,null,0,{"$f":"($I21-$D21)/($I$6-$D$6)*(E$6-$D$6)+$D21","v":0},{"$f":"($I21-$D21)/($I$6-$D$6)*(F$6-$D$6)+$D21","v":0},{"$f":"($I21-$D21)/($I$6-$D$6)*(G$6-$D$6)+$D21","v":0},{"$f":"($I21-$D21)/($I$6-$D$6)*(H$6-$D$6)+$D21","v":0},0,{"$f":"($N21-$I21)/($N$6-$I$6)*(J$6-$I$6)+$I21","v":0},{"$f":"($N21-$I21)/($N$6-$I$6)*(K$6-$I$6)+$I21","v":0},{"$f":"($N21-$I21)/($N$6-$I$6)*(L$6-$I$6)+$I21","v":0},{"$f":"($N21-$I21)/($N$6-$I$6)*(M$6-$I$6)+$I21","v":0},0,{"$f":"($S21-$N21)/($S$6-$N$6)*(O$6-$N$6)+$N21","v":0},{"$f":"($S21-$N21)/($S$6-$N$6)*(P$6-$N$6)+$N21","v":0},{"$f":"($S21-$N21)/($S$6-$N$6)*(Q$6-$N$6)+$N21","v":0},{"$f":"($S21-$N21)/($S$6-$N$6)*(R$6-$N$6)+$N21","v":0},0,{"$f":"($X21-$S21)/($X$6-$S$6)*(T$6-$S$6)+$S21","v":0},{"$f":"($X21-$S21)/($X$6-$S$6)*(U$6-$S$6)+$S21","v":0},{"$f":"($X21-$S21)/($X$6-$S$6)*(V$6-$S$6)+$S21","v":0},{"$f":"($X21-$S21)/($X$6-$S$6)*(W$6-$S$6)+$S21","v":0},0,{"$f":"($AC21-$X21)/($AC$6-$X$6)*(Y$6-$X$6)+$X21","v":0},{"$f":"($AC21-$X21)/($AC$6-$X$6)*(Z$6-$X$6)+$X21","v":0},{"$f":"($AC21-$X21)/($AC$6-$X$6)*(AA$6-$X$6)+$X21","v":0},{"$f":"($AC21-$X21)/($AC$6-$X$6)*(AB$6-$X$6)+$X21","v":0},0]
["I-66",20,null,2.2675747128654281E-2,2.2741109688734981E-2,2.2806472248815678E-2,2.2871834808896378E-2,2.2937197368977074E-2,2.3002559929057774E-2,2.3063724269893806E-2,2.3124888610729838E-2,2.3186052951565873E-2,2.3247217292401905E-2,2.3308381633237937E-2,2.3369872413290377E-2,2.3431363193342821E-2,2.3492853973395261E-2,2.3554344753447705E-2,2.3615835533500145E-2,2.3675531437945273E-2,2.3735227342390398E-2,2.3794923246835527E-2,2.3854619151280652E-2,2.391431505572578E-2,2.3972946054745817E-2,2.4031577053765855E-2,2.4090208052785889E-2,2.4148839051805926E-2,2.4207470050825963E-2]
["I-66",40,null,2.4798836938896857E-2,2.4882270260054122E-2,2.4965703581211383E-2,2.5049136902368648E-2,2.5132570223525909E-2,2.5216003544683174E-2,2.5294193116430622E-2,2.5372382688178069E-2,2.5450572259925513E-2,2.552876183167296E-2,2.5606951403420408E-2,2.5682643534986109E-2,2.5758335666551811E-2,2.5834027798117516E-2,2.5909719929683217E-2,2.5985412061248919E-2,2.6057515540497577E-2,2.6129619019746232E-2,2.6201722498994891E-2,2.6273825978243546E-2,2.6345929457492204E-2,2.6415903777870123E-2,2.6485878098248043E-2,2.6555852418625965E-2,2.6625826739003884E-2,2.6695801059381803E-2]
["I-66",60,null,2.6920625360250982E-2,{"$f":"($I24-$D24)/($I$6-$D$6)*(E$6-$D$6)+$D24","v":2.7022118374722116E-2},2.7123611389193249E-2,2.722510440366438E-2,2.7326597418135513E-2,2.7428090432606647E-2,2.7523294807886126E-2,2.7618499183165609E-2,2.7713703558445088E-2,2.7808907933724571E-2,2.790411230900405E-2,2.799399709349128E-2,2.8083881877978511E-2,2.8173766662465741E-2,2.8263651446952972E-2,2.8353536231440202E-2,2.8438039685198375E-2,2.8522543138956549E-2,2.8607046592714722E-2,2.8691550046472895E-2,2.8776053500231068E-2,2.88573641932964E-2,2.8938674886361732E-2,2.901998557942706E-2,2.9101296272492392E-2,2.9182606965557724E-2]
["I-66",80,null,2.9041113103364151E-2,2.9160654749428767E-2,2.9280196395493379E-2,2.9399738041557995E-2,2.9519279687622607E-2,2.9638821333687223E-2,2.9751030090812054E-2,2.9863238847936884E-2,2.9975447605061718E-2,3.0087656362186549E-2,3.019986511931138E-2,3.030393386287741E-2,3.0408002606443441E-2,3.0512071350009471E-2,3.0616140093575502E-2,3.0720208837141532E-2,3.0817104669264662E-2,3.0914000501387793E-2,3.1010896333510923E-2,3.1107792165634054E-2,3.1204687997757184E-2,3.1297328118633193E-2,3.1389968239509201E-2,3.1482608360385217E-2,3.1575248481261226E-2,3.1667888602137234E-2]
["I-66",100,null,3.1160300878511481E-2,3.129788010048834E-2,3.1435459322465199E-2,3.1573038544442052E-2,3.1710617766418911E-2,3.184819698839577E-2,3.1977399711368988E-2,3.2106602434342206E-2,3.2235805157315417E-2,3.2365007880288635E-2,3.2494210603261853E-2,3.2612454616810477E-2,3.2730698630359094E-2,3.2848942643907718E-2,3.2967186657456335E-2,3.3085430671004959E-2,3.3194711289495776E-2,3.3303991907986587E-2,3.3413272526477404E-2,3.3522553144968215E-2,3.3631833763459032E-2,3.3735796371060743E-2,3.3839758978662454E-2,3.3943721586264172E-2,3.4047684193865883E-2,3.4151646801467594E-2]
["I-66",120,null,3.3278189395515245E-2,3.3433795143758639E-2,3.3589400892002033E-2,3.3745006640245427E-2,3.3900612388488821E-2,3.4056218136732215E-2,3.4202404415243158E-2,3.4348590693754101E-2,3.4494776972265051E-2,3.4640963250775994E-2,3.4787149529286937E-2,3.4919560128465602E-2,3.5051970727644259E-2,3.5184381326822924E-2,3.5316791926001581E-2,3.5449202525180246E-2,3.557086034218624E-2,3.5692518159192242E-2,3.5814175976198237E-2,3.5935833793204239E-2,3.6057491610210234E-2,3.6172769767242131E-2,3.6288047924274022E-2,3.640332608130592E-2,3.6518604238337811E-2,3.6633882395369709E-2]
["I-66",140,null,3.5394779363787147E-2,3.5568400594683421E-2,3.5742021825579687E-2,3.591564305647596E-2,3.6089264287372226E-2,3.6262885518268499E-2,3.642604494768955E-2,3.6589204377110593E-2,3.6752363806531643E-2,3.6915523235952687E-2,3.7078682665373737E-2,3.7225251170570808E-2,3.7371819675767887E-2,3.7518388180964958E-2,3.7664956686162036E-2,3.7811525191359108E-2,3.7945552623170169E-2,3.807958005498123E-2,3.8213607486792291E-2,3.8347634918603352E-2,3.8481662350414413E-2,3.860824912336823E-2,3.8734835896322047E-2,3.886142266927587E-2,3.8988009442229687E-2,3.9114596215183504E-2]
["I-66",160,null,3.7510071492376458E-2,3.7701697168340834E-2,3.7893322844305202E-2,3.8084948520269578E-2,3.8276574196233946E-2,3.8468199872198322E-2,3.8648322053581895E-2,3.882844423496546E-2,3.9008566416349033E-2,3.9188688597732599E-2,3.9368810779116171E-2,3.9529528515458469E-2,3.9690246251800759E-2,3.9850963988143057E-2,4.0011681724485347E-2,4.0172399460827644E-2,4.0318788927873862E-2,4.0465178394920087E-2,4.0611567861966305E-2,4.075795732901253E-2,4.0904346796058748E-2,4.1042235255211522E-2,4.1180123714364296E-2,4.131801217351707E-2,4.1455900632669844E-2,4.1593789091822618E-2]
["I-66",180,null,3.9624066489941163E-2,3.9833685579414413E-2,4.0043304668887655E-2,4.0252923758360905E-2,4.0462542847834147E-2,4.0672161937307397E-2,4.086923647738281E-2,4.106631101745823E-2,4.1263385557533644E-2,4.1460460097609064E-2,4.1657534637684478E-2,4.1832392935034615E-2,4.200725123238476E-2,4.2182109529734897E-2,4.2356967827085042E-2,4.2531826124435179E-2,4.2690570051284585E-2,4.2849313978133984E-2,4.3008057904983389E-2,4.3166801831832788E-2,4.3325545758682193E-2,4.3474728978094151E-2,4.3623912197506103E-2,4.3773095416918061E-2,4.3922278636330012E-2,4.407146185574197E-2]
["I-66",200,null,4.1736765064694939E-2,4.1964366542139718E-2,4.2191968019584497E-2,4.2419569497029283E-2,4.2647170974474062E-2,4.2874772451918841E-2,4.3088788963088875E-2,4.330280547425891E-2,4.3516821985428951E-2,4.3730838496598985E-2,4.3944855007769019E-2,4.4133845200722568E-2,4.4322835393676117E-2,4.4511825586629666E-2,4.4700815779583215E-2,4.4889805972536764E-2,4.5060896787892768E-2,4.5231987603248772E-2,4.5403078418604782E-2,4.5574169233960786E-2,4.574526004931679E-2,4.590573110682903E-2,4.6066202164341277E-2,4.6226673221853518E-2,4.6387144279365765E-2,4.6547615336878005E-2]
["I-66",220,null,4.3848167924508914E-2,4.4093740770406731E-2,4.4339313616304547E-2,4.4584886462202357E-2,4.4830459308100173E-2,4.507603215399799E-2,4.5306980254336014E-2,4.5537928354674045E-2,4.576887645501207E-2,4.5999824555350101E-2,4.6230772655688125E-2,4.6433886083571192E-2,4.6636999511454259E-2,4.6840112939337326E-2,4.7043226367220393E-2,4.7246339795103461E-2,4.7429769931802812E-2,4.7613200068502171E-2,4.7796630205201522E-2,4.7980060341900881E-2,4.8163490478600232E-2,4.8335242455832858E-2,4.8506994433065491E-2,4.8678746410298117E-2,4.885049838753075E-2,4.9022250364763376E-2]
["I-66",240,null,4.5958275776823508E-2,4.6221808977671128E-2,4.6485342178518747E-2,4.6748875379366367E-2,4.7012408580213987E-2,4.7275941781061606E-2,4.7523811094308206E-2,4.7771680407554806E-2,4.8019549720801413E-2,4.8267419034048013E-2,4.8515288347294613E-2,4.8732516354161037E-2,4.8949744361027461E-2,4.9166972367893878E-2,4.9384200374760302E-2,4.9601428381626726E-2,4.9797190276637031E-2,4.9992952171647342E-2,5.0188714066657647E-2,5.0384475961667959E-2,5.0580237856678263E-2,5.0763263839028107E-2,5.0946289821377951E-2,5.1129315803727787E-2,5.1312341786077631E-2,5.1495367768427475E-2]
["I-66",260,null,4.8067089328694836E-2,4.8348571877001006E-2,4.8630054425307177E-2,4.8911536973613341E-2,4.9193019521919512E-2,4.9474502070225683E-2,4.973928222578556E-2,5.0004062381345429E-2,5.0268842536905306E-2,5.0533622692465176E-2,5.0798402848025052E-2,5.1029736782653823E-2,5.1261070717282586E-2,5.1492404651911357E-2,5.172373858654012E-2,5.1955072521168891E-2,5.2163158615586361E-2,5.2371244710003824E-2,5.2579330804421294E-2,5.2787416898838757E-2,5.2995502993256227E-2,5.3189796069894775E-2,5.338408914653333E-2,5.3578382223171878E-2,5.3772675299810432E-2,5.396696837644898E-2]
["I-81",0,null,0,{"$f":"($I35-$D35)/($I$6-$D$6)*(E$6-$D$6)+$D35","v":0},0,0,0,0,0,0,0,0,0,0,0,0,0,0,0,0,0,0,0,0,0,0,0,0]
["I-81",20,null,2.8504801393704655E-3,2.8600266438243791E-3,2.8695731482782931E-3,2.8791196527322067E-3,2.8886661571861207E-3,2.8982126616400343E-3,2.9067458271068406E-3,2.9152789925736469E-3,2.9238121580404531E-3,2.9323453235072594E-3,2.9408784889740657E-3,2.9491686422384914E-3,2.9574587955029175E-3,2.9657489487673432E-3,2.9740391020317693E-3,2.9823292552961949E-3,2.9899912329658766E-3,2.9976532106355579E-3,3.0053151883052396E-3,3.0129771659749209E-3,3.0206391436446026E-3,3.0289292969090283E-3,3.0372194501734539E-3,3.0455096034378792E-3,3.0537997567023048E-3,3.0620899099667305E-3]
["I-81",40,null,2.0533200571365802E-3,2.0640066098818245E-3,2.0746931626270683E-3,2.0853797153723127E-3,2.0960662681175565E-3,2.1067528208628008E-3,2.1159749730631601E-3,2.1251971252635193E-3,2.1344192774638785E-3,2.1436414296642377E-3,2.152863581864597E-3,2.161043588959168E-3,2.1692235960537386E-3,2.1774036031483096E-3,2.1855836102428802E-3,2.1937636173374512E-3,2.2006903516066855E-3,2.2076170858759195E-3,2.2145438201451539E-3,2.2214705544143878E-3,2.2283972886836222E-3,2.2365772957781932E-3,2.2447573028727638E-3,2.2529373099673348E-3,2.2611173170619054E-3,2.2692973241564764E-3]
["I-81",60,null,3.6811948512329106E-3,3.6985859177051483E-3,3.715976984177386E-3,3.7333680506496242E-3,3.7507591171218619E-3,3.7681501835940996E-3,3.7832566651584431E-3,3.7983631467227862E-3,3.8134696282871297E-3,3.8285761098514727E-3,3.8436825914158162E-3,3.8573230563000143E-3,3.8709635211842119E-3,3.88460398606841E-3,3.8982444509526076E-3,3.9118849158368057E-3,3.9236500799269842E-3,3.9354152440171626E-3,3.9471804081073402E-3,3.9589455721975187E-3,3.9707107362876972E-3,3.9843512011718948E-3,3.9979916660560933E-3,4.0116321309402909E-3,4.0252725958244895E-3,4.0389130607086871E-3]
["I-81",80,null,4.0934810239511869E-3,4.1147654452363498E-3,4.1360498665215127E-3,4.1573342878066756E-3,4.1786187090918385E-3,4.1999031303770014E-3,4.2182720290938301E-3,4.2366409278106597E-3,4.2550098265274885E-3,4.2733787252443181E-3,4.2917476239611469E-3,4.3080435080819005E-3,4.324339392202654E-3,4.3406352763234067E-3,4.3569311604441602E-3,4.3732270445649138E-3,4.3870286601034618E-3,4.4008302756420106E-3,4.4146318911805586E-3,4.4284335067191075E-3,4.4422351222576555E-3,4.458531006378409E-3,4.4748268904991617E-3,4.4911227746199153E-3,4.5074186587406679E-3,4.5237145428614215E-3]
["I-81",100,null,4.5037278243098668E-3,4.528886392382781E-3,4.5540449604556952E-3,4.5792035285286102E-3,4.6043620966015244E-3,4.6295206646744386E-3,4.6511358837255205E-3,4.6727511027766025E-3,4.6943663218276853E-3,4.7159815408787673E-3,4.7375967599298493E-3,4.7565349575017478E-3,4.7754731550736463E-3,4.7944113526455449E-3,4.8133495502174434E-3,4.8322877477893419E-3,4.8481157601107322E-3,4.8639437724321234E-3,4.8797717847535137E-3,4.8955997970749048E-3,4.9114278093962951E-3,4.9303660069681936E-3,4.9493042045400922E-3,4.9682424021119916E-3,4.9871805996838901E-3,5.0061187972557887E-3]
["I-81",120,null,4.9119412972720147E-3,4.9409548610232154E-3,4.9699684247744161E-3,4.998981988525616E-3,5.0279955522768167E-3,5.0570091160280174E-3,5.0818546062925407E-3,5.106700096557064E-3,5.1315455868215874E-3,5.1563910770861107E-3,5.181236567350634E-3,5.2028040114242878E-3,5.2243714554979417E-3,5.2459388995715964E-3,5.2675063436452502E-3,5.289073787718904E-3,5.3069181719537844E-3,5.3247625561886648E-3,5.3426069404235461E-3,5.3604513246584265E-3,5.3782957088933069E-3,5.3998631529669607E-3,5.4214305970406145E-3,5.4429980411142692E-3,5.464565485187923E-3,5.4861329292615769E-3]
["I-81",140,null,5.3181274739484618E-3,5.3509769390537526E-3,5.3838264041590426E-3,5.4166758692643334E-3,5.4495253343696233E-3,5.4823747994749141E-3,5.5104345594201758E-3,5.5384943193654375E-3,5.5665540793106991E-3,5.5946138392559608E-3,5.6226735992012224E-3,5.6468572615742587E-3,5.6710409239472941E-3,5.6952245863203304E-3,5.7194082486933659E-3,5.7435919110664022E-3,5.7634426720733116E-3,5.7832934330802202E-3,5.8031441940871297E-3,5.8229949550940383E-3,5.8428457161009478E-3,5.8670293784739832E-3,5.8912130408470195E-3,5.915396703220055E-3,5.9395803655930913E-3,5.9637640279661267E-3]
["I-81",160,null,5.7222923716148998E-3,5.7589587004051018E-3,5.7956250291953029E-3,5.8322913579855048E-3,5.8689576867757059E-3,5.9056240155659079E-3,5.9368820911381579E-3,5.9681401667104079E-3,5.9993982422826579E-3,6.0306563178549079E-3,6.0619143934271579E-3,6.0887012845553421E-3,6.1154881756835264E-3,6.1422750668117107E-3,6.1690619579398949E-3,6.1958488490680792E-3,6.217696021365255E-3,6.23954319366243E-3,6.2613903659596059E-3,6.2832375382567808E-3,6.3050847105539567E-3,6.3318716016821409E-3,6.3586584928103252E-3,6.3854453839385103E-3,6.4122322750666946E-3,6.4390191661948789E-3]
["I-81",180,null,6.124441993736034E-3,6.1649062050669612E-3,6.2053704163978875E-3,6.2458346277288147E-3,6.286298839059741E-3,6.3267630503906682E-3,6.361203534906143E-3,6.3956440194216178E-3,6.4300845039370934E-3,6.4645249884525682E-3,6.498965472968043E-3,6.5283426418765583E-3,6.5577198107850737E-3,6.5870969796935882E-3,6.6164741486021035E-3,6.6458513175106189E-3,6.6696849652079287E-3,6.6935186129052386E-3,6.7173522606025476E-3,6.7411859082998574E-3,6.7650195559971673E-3,6.7943967249056826E-3,6.823773893814198E-3,6.8531510627227133E-3,6.8825282316312287E-3,6.911905400539744E-3]
["I-81",200,null,6.5245823299937208E-3,6.5688254991164126E-3,6.6130686682391053E-3,6.657311837361797E-3,6.7015550064844897E-3,6.7457981756071815E-3,6.7834052096433567E-3,6.8210122436795318E-3,6.8586192777157062E-3,6.8962263117518813E-3,6.9338333457880565E-3,6.9657878799829574E-3,6.9977424141778582E-3,7.029696948372759E-3,7.0616514825676598E-3,7.0936060167625607E-3,7.1194162334935656E-3,7.1452264502245705E-3,7.1710366669555745E-3,7.1968468836865794E-3,7.2226571004175844E-3,7.2546116346124852E-3,7.286566168807386E-3,7.318520703002286E-3,7.3504752371971868E-3,7.3824297713920876E-3]
["I-81",220,null,6.9227193563141656E-3,6.9707226147453774E-3,7.01872587317659E-3,7.0667291316078018E-3,7.1147323900390145E-3,7.1627356484702262E-3,7.2034934197572793E-3,7.2442511910443316E-3,7.2850089623313847E-3,7.3257667336184369E-3,7.36652450490549E-3,7.401043530285329E-3,7.435562555665169E-3,7.4700815810450081E-3,7.504600606424848E-3,7.5391196318046871E-3,7.5668965406588407E-3,7.5946734495129934E-3,7.622450358367147E-3,7.6502272672212997E-3,7.6780041760754533E-3,7.7125232014552923E-3,7.7470422268351323E-3,7.7815612522149713E-3,7.8160802775948113E-3,7.8505993029746503E-3]
["I-81",240,null,7.3188590348877538E-3,7.3706035702806386E-3,7.4223481056735234E-3,7.4740926410664082E-3,7.525837176459293E-3,7.5775817118521778E-3,7.6214744551646157E-3,7.6653671984770536E-3,7.7092599417894914E-3,7.7531526851019293E-3,7.7970454284143672E-3,7.834116109181959E-3,7.8711867899495507E-3,7.9082574707171425E-3,7.9453281514847342E-3,7.982398832252326E-3,8.0121325857072725E-3,8.0418663391622174E-3,8.0716000926171639E-3,8.1013338460721087E-3,8.1310675995270552E-3,8.168138280294647E-3,8.2052089610622388E-3,8.2422796418298288E-3,8.2793503225974206E-3,8.3164210033650123E-3]
["I-81",260,null,7.3188590348877538E-3,7.3706035702806386E-3,7.4223481056735234E-3,7.4740926410664082E-3,7.525837176459293E-3,7.5775817118521778E-3,7.6214744551646157E-3,7.6653671984770536E-3,7.7092599417894914E-3,7.7531526851019293E-3,7.7970454284143672E-3,7.834116109181959E-3,7.8711867899495507E-3,7.9082574707171425E-3,7.9453281514847342E-3,7.982398832252326E-3,8.0121325857072725E-3,8.0418663391622174E-3,8.0716000926171639E-3,8.1013338460721087E-3,8.1310675995270552E-3,8.168138280294647E-3,8.2052089610622388E-3,8.2422796418298288E-3,8.2793503225974206E-3,8.3164210033650123E-3]
["I-95",0,null,0,0,0,0,0,0,0,0,0,0,0,0,0,0,0,0,0,0,0,0,0,0,0,0,0,0]
["I-95",20,null,2.7344540762655609E-2,2.7455447423536554E-2,2.7566354084417499E-2,2.7677260745298447E-2,2.7788167406179391E-2,2.7899074067060336E-2,2.7996533888315099E-2,2.8093993709569866E-2,2.8191453530824629E-2,2.8288913352079396E-2,2.8386373173334159E-2,2.8477102960101378E-2,2.8567832746868596E-2,2.8658562533635811E-2,2.874929232040303E-2,2.8840022107170248E-2,2.8920663456880602E-2,2.9001304806590956E-2,2.9081946156301306E-2,2.916258750601166E-2,2.9243228855722014E-2,2.9333958642489229E-2,2.9424688429256444E-2,2.9515418216023662E-2,2.9606148002790877E-2,2.9696877789558093E-2]
["I-95",40,null,3.4065752180113082E-2,3.4239977512138225E-2,3.4414202844163369E-2,3.458842817618852E-2,3.4762653508213663E-2,3.4936878840238807E-2,3.5087400893221744E-2,3.5237922946204682E-2,3.5388444999187613E-2,3.553896705217055E-2,3.5689489105153488E-2,3.5823420247487969E-2,3.5957351389822444E-2,3.6091282532156925E-2,3.6225213674491399E-2,3.6359144816825881E-2,3.6472928864315024E-2,3.6586712911804167E-2,3.6700496959293318E-2,3.6814281006782461E-2,3.6928065054271604E-2,3.7061996196606078E-2,3.7195927338940553E-2,3.7329858481275034E-2,3.7463789623609509E-2,3.7597720765943983E-2]
["I-95",60,null,4.0767079191250839E-2,4.1004435973531726E-2,4.124179275581262E-2,4.1479149538093507E-2,4.1716506320374401E-2,4.1953863102655288E-2,4.2157290489535842E-2,4.2360717876416397E-2,4.2564145263296958E-2,4.2767572650177513E-2,4.2971000037058067E-2,4.3148004786289142E-2,4.3325009535520209E-2,4.3502014284751284E-2,4.3679019033982351E-2,4.3856023783213426E-2,4.4002852515919594E-2,4.4149681248625762E-2,4.429650998133193E-2,4.4443338714038098E-2,4.4590167446744267E-2,4.4767172195975341E-2,4.4944176945206415E-2,4.512118169443749E-2,4.5298186443668564E-2,4.5475191192899639E-2]
["I-95",80,null,4.7448550624721648E-2,4.7748851907790907E-2,4.8049153190860172E-2,4.834945447392943E-2,4.8649755756998696E-2,4.8950057040067954E-2,4.9206233090476621E-2,4.9462409140885295E-2,4.9718585191293962E-2,4.9974761241702637E-2,5.0230937292111304E-2,5.0450888084771744E-2,5.0670838877432185E-2,5.0890789670092633E-2,5.1110740462753074E-2,5.1330691255413514E-2,5.1510466802869553E-2,5.1690242350325592E-2,5.1870017897781624E-2,5.2049793445237663E-2,5.2229568992693702E-2,5.2449519785354143E-2,5.2669470578014591E-2,5.2889421370675031E-2,5.3109372163335479E-2,5.332932295599592E-2]
["I-95",100,null,5.4110195275319239E-2,5.4473254380811825E-2,5.4836313486304411E-2,5.5199372591796997E-2,5.5562431697289583E-2,5.5925490802782168E-2,5.6234259073543361E-2,5.6543027344304553E-2,5.6851795615065752E-2,5.7160563885826944E-2,5.7469332156588136E-2,5.773210161419666E-2,5.7994871071805176E-2,5.82576405294137E-2,5.8520409987022216E-2,5.878317944463074E-2,5.8995804078297229E-2,5.9208428711963711E-2,5.94210533456302E-2,5.9633677979296681E-2,5.984630261296317E-2,6.0109072070571694E-2,6.037184152818021E-2,6.0634610985788734E-2,6.089738044339725E-2,6.1160149901005774E-2]
["I-95",120,null,6.0752041904012351E-2,6.1177672424347074E-2,6.160330294468179E-2,6.2028933465016513E-2,6.2454563985351229E-2,6.2880194505685952E-2,6.3241398780551114E-2,6.3602603055416276E-2,6.3963807330281452E-2,6.4325011605146615E-2,6.4686215880011777E-2,6.4991676808855703E-2,6.5297137737699629E-2,6.5602598666543568E-2,6.5908059595387494E-2,6.621352052423142E-2,6.6458896657329958E-2,6.6704272790428482E-2,6.6949648923527019E-2,6.7195025056625543E-2,6.7440401189724081E-2,6.7745862118568007E-2,6.8051323047411932E-2,6.8356783976255858E-2,6.8662244905099784E-2,6.896770583394371E-2]
["I-95",140,null,6.7374119237967794E-2,6.78621350360291E-2,6.8350150834090406E-2,6.8838166632151698E-2,6.9326182430213004E-2,6.981419822827431E-2,7.0227682517655252E-2,7.0641166807036193E-2,7.1054651096417135E-2,7.1468135385798076E-2,7.1881619675179018E-2,7.2229645066097178E-2,7.2577670457015339E-2,7.2925695847933486E-2,7.3273721238851647E-2,7.3621746629769808E-2,7.3899776817116403E-2,7.4177807004462984E-2,7.4455837191809579E-2,7.473386737915616E-2,7.5011897566502755E-2,7.5359922957420916E-2,7.5707948348339077E-2,7.6055973739257224E-2,7.6403999130175385E-2,7.6752024521093545E-2]
["I-95",160,null,7.3976455970580626E-2,7.4526671179400664E-2,7.5076886388220701E-2,7.5627101597040738E-2,7.6177316805860776E-2,7.6727532014680813E-2,7.7193140555383233E-2,7.7658749096085639E-2,7.8124357636788058E-2,7.8589966177490464E-2,7.9055574718192884E-2,7.9446037746358639E-2,7.9836500774524394E-2,8.0226963802690135E-2,8.061742683085589E-2,8.1007889859021645E-2,8.1318476796860259E-2,8.1629063734698873E-2,8.1939650672537487E-2,8.2250237610376101E-2,8.2560824548214715E-2,8.295128757638047E-2,8.3341750604546211E-2,8.3732213632711966E-2,8.4122676660877707E-2,8.4513139689043462E-2]
["I-95",180,null,8.0559080761547372E-2,8.1171309783988663E-2,8.1783538806429967E-2,8.2395767828871258E-2,8.3007996851312563E-2,8.3620225873753853E-2,8.4137803128711441E-2,8.4655380383669016E-2,8.5172957638626604E-2,8.5690534893584178E-2,8.6208112148541766E-2,8.6640886173246501E-2,8.7073660197951236E-2,8.7506434222655985E-2,8.793920824736072E-2,8.8371982272065455E-2,8.8715028797901913E-2,8.905807532373837E-2,8.9401121849574827E-2,8.9744168375411285E-2,9.0087214901247742E-2,9.0519988925952477E-2,9.0952762950657212E-2,9.1385536975361961E-2,9.1818311000066696E-2,9.2251085024771431E-2]
["I-95",200,null,8.7122022236852822E-2,8.7796079745290939E-2,8.847013725372907E-2,8.9144194762167187E-2,8.9818252270605317E-2,9.0492309779043434E-2,9.106170043705189E-2,9.1631091095060346E-2,9.2200481753068789E-2,9.2769872411077245E-2,9.3339263069085701E-2,9.3814221633522293E-2,9.4289180197958886E-2,9.4764138762395464E-2,9.5239097326832056E-2,9.5714055891268648E-2,9.6089464983704478E-2,9.6464874076140295E-2,9.6840283168576125E-2,9.7215692261011941E-2,9.7591101353447771E-2,9.8066059917884363E-2,9.8541018482320955E-2,9.9015977046757533E-2,9.9490935611194126E-2,9.9965894175630718E-2]
["I-95",220,null,9.366530898880232E-2,9.4401009924808765E-2,9.513671086081521E-2,9.5872411796821655E-2,9.66081127328281E-2,9.7343813668834545E-2,9.7964862644285888E-2,9.8585911619737232E-2,9.920696059518859E-2,9.9828009570639933E-2,0.10044905854609128,0.1009660753771377,0.10148309220818412,0.10200010903923053,0.10251712587027695,0.10303414270132337,0.10344181747988977,0.10384949225845619,0.10425716703702259,0.10466484181558901,0.10507251659415541,0.10558953342520183,0.10610655025624825,0.10662356708729466,0.10714058391834108,0.1076576007493875]
["I-95",240,null,0.10018896957611562,0.1009861291501416,0.10178328872416757,0.10258044829819356,0.10337760787221953,0.10417476744624551,0.10484731987886305,0.10551987231148058,0.1061924247440981,0.10686497717671563,0.10753752960933316,0.10809647861733672,0.10865542762534028,0.10921437663334385,0.10977332564134741,0.11033227464935097,0.11077211837434334,0.11121196209933569,0.11165180582432806,0.11209164954932041,0.11253149327431278,0.11309044228231635,0.11364939129031991,0.11420834029832348,0.11476728930632704,0.11532623831433061]
["I-95",260,null,0.10669303252388219,0.10755146621494203,0.10840989990600187,0.1092683335970617,0.11012676728812154,0.11098520097918138,0.11170910223375434,0.11243300348832731,0.11315690474290027,0.11388080599747324,0.1146047072520462,0.11520546253060752,0.11580621780916886,0.11640697308773018,0.11700772836629152,0.11760848364485284,0.11808039971716491,0.11855231578947699,0.11902423186178908,0.11949614793410115,0.11996806400641323,0.12056881928497455,0.12116957456353589,0.12177032984209721,0.12237108512065854,0.12297184039921986]
["US29",0,null,0,{"$f":"($I63-$D63)/($I$6-$D$6)*(E$6-$D$6)+$D63","v":0},0,0,0,0,{"$f":"($N63-$I63)/($N$6-$I$6)*(J$6-$I$6)+$I63","v":0},{"$f":"($N63-$I63)/($N$6-$I$6)*(K$6-$I$6)+$I63","v":0},{"$f":"($N63-$I63)/($N$6-$I$6)*(L$6-$I$6)+$I63","v":0},{"$f":"($N63-$I63)/($N$6-$I$6)*(M$6-$I$6)+$I63","v":0},0,{"$f":"($S63-$N63)/($S$6-$N$6)*(O$6-$N$6)+$N63","v":0},{"$f":"($S63-$N63)/($S$6-$N$6)*(P$6-$N$6)+$N63","v":0},{"$f":"($S63-$N63)/($S$6-$N$6)*(Q$6-$N$6)+$N63","v":0},{"$f":"($S63-$N63)/($S$6-$N$6)*(R$6-$N$6)+$N63","v":0},0,{"$f":"($X63-$S63)/($X$6-$S$6)*(T$6-$S$6)+$S63","v":0},{"$f":"($X63-$S63)/($X$6-$S$6)*(U$6-$S$6)+$S63","v":0},{"$f":"($X63-$S63)/($X$6-$S$6)*(V$6-$S$6)+$S63","v":0},{"$f":"($X63-$S63)/($X$6-$S$6)*(W$6-$S$6)+$S63","v":0},0,{"$f":"($AC63-$X63)/($AC$6-$X$6)*(Y$6-$X$6)+$X63","v":0},{"$f":"($AC63-$X63)/($AC$6-$X$6)*(Z$6-$X$6)+$X63","v":0},{"$f":"($AC63-$X63)/($AC$6-$X$6)*(AA$6-$X$6)+$X63","v":0},{"$f":"($AC63-$X63)/($AC$6-$X$6)*(AB$6-$X$6)+$X63","v":0},0]
["US29",20,null,4.9270001677956228E-3,4.9410367879178197E-3,4.9550734080400166E-3,4.9691100281622136E-3,4.9831466482844105E-3,4.9971832684066074E-3,5.0103167266537171E-3,5.0234501849008278E-3,5.0365836431479375E-3,5.0497171013950482E-3,5.062850559642158E-3,5.076094451156303E-3,5.089338342670449E-3,5.1025822341845941E-3,5.11582612569874E-3,5.1290700172128851E-3,5.1419464164543733E-3,5.1548228156958614E-3,5.1676992149373505E-3,5.1805756141788386E-3,5.1934520134203268E-3,5.2061103783238158E-3,5.2187687432273047E-3,5.2314271081307945E-3,5.2440854730342835E-3,5.2567438379377725E-3]
["US29",40,null,5.3582288886564978E-3,5.375953654997212E-3,5.3936784213379253E-3,5.4114031876786395E-3,5.4291279540193528E-3,5.446852720360067E-3,{"$f":"($N65-$I65)/($N$6-$I$6)*(J$6-$I$6)+$I65","v":5.4634609955212044E-3},5.4800692706823426E-3,5.49667754584348E-3,5.5132858210046182E-3,5.5298940961657555E-3,{"$f":"($S65-$N65)/($S$6-$N$6)*(O$6-$N$6)+$N65","v":5.5460350020273361E-3},5.5621759078889168E-3,5.5783168137504974E-3,5.594457719612078E-3,5.6105986254736586E-3,{"$f":"($X65-$S65)/($X$6-$S$6)*(T$6-$S$6)+$S65","v":5.6260052870035267E-3},5.6414119485333949E-3,5.6568186100632639E-3,5.672225271593132E-3,5.6876319331230002E-3,{"$f":"($AC65-$X65)/($AC$6-$X$6)*(Y$6-$X$6)+$X65","v":5.7026029651479617E-3},5.7175739971729233E-3,5.7325450291978858E-3,5.7475160612228474E-3,5.7624870932478089E-3]
["US29",60,null,5.7885818830875685E-3,5.8099873442215011E-3,5.8313928053554337E-3,5.8527982664893664E-3,5.874203727623299E-3,5.8956091887572316E-3,5.9156852605360757E-3,5.935761332314919E-3,5.9558374040937631E-3,5.9759134758726063E-3,5.9959895476514504E-3,6.0150216117881312E-3,6.0340536759248111E-3,6.0530857400614918E-3,6.0721178041981717E-3,6.0911498683348525E-3,6.1090816756527696E-3,6.1270134829706866E-3,6.1449452902886037E-3,6.1628770976065207E-3,6.1808089049244378E-3,6.198087926360972E-3,6.2153669477975062E-3,6.2326459692340396E-3,6.2499249906705738E-3,6.267204012107108E-3]
["US29",80,null,6.2180599114345352E-3,6.2431386224001649E-3,6.2682173333657954E-3,6.2932960443314251E-3,6.3183747552970557E-3,6.3434534662626853E-3,6.3669903204526864E-3,6.3905271746426875E-3,6.4140640288326894E-3,6.4376008830226905E-3,6.4611377372126915E-3,6.4830551086324838E-3,6.5049724800522761E-3,6.5268898514720683E-3,6.5488072228918606E-3,6.5707245943116529E-3,6.5911764353563072E-3,6.6116282764009607E-3,6.6320801174456151E-3,6.6525319584902686E-3,6.672983799534923E-3,6.6925661367316447E-3,6.7121484739283664E-3,6.731730811125089E-3,6.7513131483218107E-3,6.7708954855185324E-3]
["US29",100,null,6.6466637337231401E-3,6.6754082560200175E-3,6.7041527783168941E-3,6.7328973006137716E-3,6.7616418229106481E-3,6.7903863452075256E-3,6.8173769736893583E-3,6.8443676021711919E-3,6.8713582306530246E-3,6.8983488591348582E-3,6.9253394876166909E-3,6.9501363204058251E-3,6.9749331531949602E-3,6.9997299859840944E-3,7.0245268187732295E-3,7.0493236515623637E-3,7.0722904187096002E-3,7.0952571858568366E-3,7.1182239530040731E-3,7.1411907201513096E-3,7.1641574872985461E-3,7.1860384706608866E-3,7.2079194540232271E-3,7.2298004373855676E-3,7.2516814207479081E-3,7.2735624041102486E-3]
["US29",120,null,7.0743941096572662E-3,7.1067970112432847E-3,7.1391999128293023E-3,7.1716028144153208E-3,7.2040057160013384E-3,7.2364086175873569E-3,7.2668460183263504E-3,7.297283419065344E-3,7.3277208198043375E-3,7.3581582205433311E-3,7.3885956212823246E-3,7.4162660746031079E-3,7.4439365279238912E-3,7.4716069812446754E-3,7.4992774345654586E-3,7.5269478878862419E-3,7.5524244779471925E-3,7.5779010680081423E-3,7.6033776580690928E-3,7.6288542481300426E-3,7.6543308381909932E-3,7.6785058021794847E-3,7.7026807661679754E-3,7.7268557301564669E-3,7.7510306941449576E-3,7.7752056581334491E-3]
["US29",140,null,7.5012517986234994E-3,7.5373056539121963E-3,7.5733595092008924E-3,7.6094133644895893E-3,7.6454672197782854E-3,7.6815210750669823E-3,7.7153982521105755E-3,7.7492754291541687E-3,7.7831526061977619E-3,7.8170297832413551E-3,7.8509069602849483E-3,7.8814451983736395E-3,7.9119834364623307E-3,7.9425216745510237E-3,7.9730599126397149E-3,8.0035981507284061E-3,8.0315794649476312E-3,8.0595607791668564E-3,8.0875420933860832E-3,8.1155234076053084E-3,8.1435047218245335E-3,8.1699690049531135E-3,8.1964332880816934E-3,8.2228975712102751E-3,8.2493618543388551E-3,8.275826137467435E-3]
["US29",160,null,7.9272375596879854E-3,7.9669349495458206E-3,8.0066323394036559E-3,8.0463297292614894E-3,8.0860271191193246E-3,8.1257245089771599E-3,8.1630344724523372E-3,8.2003444359275163E-3,8.2376543994026937E-3,8.2749643628778728E-3,8.3122743263530502E-3,8.3456745185177244E-3,8.3790747106823986E-3,8.4124749028470711E-3,8.4458750950117453E-3,8.4792752871764195E-3,8.5097562312300423E-3,8.5402371752836652E-3,8.5707181193372898E-3,8.6011990633909127E-3,8.6316800074445355E-3,8.6604289522788404E-3,8.689177897113147E-3,8.7179268419474518E-3,8.7466757867817584E-3,8.7754247316160633E-3]
["US29",180,null,8.3523521515977955E-3,8.395685663341439E-3,8.4390191750850826E-3,8.4823526868287279E-3,8.5256861985723714E-3,8.569019710316015E-3,8.6097554764267541E-3,8.6504912425374933E-3,8.6912270086482325E-3,8.7319627747589716E-3,8.7726985408697108E-3,8.8089548614881229E-3,8.8452111821065351E-3,8.8814675027249455E-3,8.9177238233433577E-3,8.9539801439617699E-3,8.9869556279556125E-3,9.019931111949455E-3,9.0529065959432959E-3,9.0858820799371385E-3,9.1188575639309811E-3,9.149886517086642E-3,9.180915470242303E-3,9.2119444233979639E-3,9.2429733765536249E-3,9.2740023297092859E-3]
["US29",200,null,8.7765963327846794E-3,8.8235585601783243E-3,8.8705207875719675E-3,8.9174830149656124E-3,8.9644452423592556E-3,9.0114074697529006E-3,9.055562060777636E-3,9.0997166518023715E-3,9.1438712428271052E-3,9.1880258338518407E-3,9.2321804248765762E-3,9.2712870533940527E-3,9.3103936819115291E-3,9.3495003104290039E-3,9.3886069389464803E-3,9.4277135674639568E-3,9.4631785059316933E-3,9.4986434443994298E-3,9.5341083828671645E-3,9.569573321334901E-3,9.6050382598026375E-3,9.6383425719435926E-3,9.6716468840845459E-3,9.704951196225501E-3,9.7382555083664543E-3,9.7715598205074094E-3]
["US29",220,null,9.1999708613595462E-3,9.2505544046121817E-3,9.3011379478648189E-3,9.3517214911174543E-3,9.4023050343700915E-3,9.452888577622727E-3,9.5004550219117863E-3,9.5480214662008456E-3,9.5955879104899031E-3,9.6431543547789624E-3,9.6907207990680217E-3,9.7326719199953178E-3,9.7746230409226139E-3,9.8165741618499083E-3,9.8585252827772044E-3,9.9004764037045005E-3,9.9384257156057889E-3,9.9763750275070756E-3,1.0014324339408364E-2,1.0052273651309651E-2,1.0090222963210939E-2,1.0125797989047721E-2,1.0161373014884505E-2,1.0196948040721287E-2,1.023252306655807E-2,1.0268098092394852E-2]
["US29",240,null,9.6224764951162878E-3,9.6766739608790085E-3,9.7308714266417309E-3,9.7850688924044516E-3,9.839266358167174E-3,9.8934638239298947E-3,9.9444351559029569E-3,9.9954064878760192E-3,1.004637781984908E-2,1.0097349151822142E-2,1.0148320483795204E-2,1.0193110286706384E-2,1.0237900089617565E-2,1.0282689892528746E-2,1.0327479695439927E-2,1.0372269498351107E-2,1.0412698107069737E-2,1.0453126715788364E-2,1.0493555324506994E-2,1.0533983933225622E-2,1.0574412541944252E-2,1.0612253640232302E-2,1.0650094738520351E-2,1.0687935836808403E-2,1.0725776935096453E-2,1.0763618033384503E-2]
["US29",260,null,1.004411399152938E-2,1.0101917992892666E-2,1.0159721994255952E-2,1.0217525995619238E-2,1.0275329996982524E-2,1.033313399834581E-2,1.0387503258489347E-2,1.0441872518632885E-2,1.0496241778776423E-2,1.0550611038919961E-2,1.0604980299063498E-2,1.0652602978593804E-2,1.0700225658124111E-2,1.0747848337654417E-2,1.0795471017184725E-2,1.0843093696715031E-2,1.0885996530057056E-2,1.0928899363399081E-2,1.0971802196741105E-2,1.101470503008313E-2,1.1057607863425155E-2,1.109771039696311E-2,1.1137812930501065E-2,1.1177915464039023E-2,1.1218017997576978E-2,1.1258120531114933E-2]
["US58",0,null,null,0,0,0,0,null,0,0,0,0,null,0,0,0,0,null,0,0,0,0,null,0,0,0,0]
["US58",20,null,null,0,0,0,0,null,0,0,0,0,null,0,0,0,0,null,0,0,0,0,null,0,0,0,0]
["US58",40,null,null,0,0,0,0,null,0,0,0,0,null,0,0,0,0,null,0,0,0,0,null,0,0,0,0]
["US58",60,null,null,0,0,0,0,null,0,0,0,0,null,0,0,0,0,null,0,0,0,0,null,0,0,0,0]
["US58",80,null,null,0,0,0,0,null,0,0,0,0,null,0,0,0,0,null,0,0,0,0,null,0,0,0,0]
["US58",100,null,null,0,0,0,0,null,0,0,0,0,null,0,0,0,0,null,0,0,0,0,null,0,0,0,0]
["US58",120,null,null,0,0,0,0,null,0,0,0,0,null,0,0,0,0,null,0,0,0,0,null,0,0,0,0]
["US58",140,null,null,0,0,0,0,null,0,0,0,0,null,0,0,0,0,null,0,0,0,0,null,0,0,0,0]
["US58",160,null,null,0,0,0,0,null,0,0,0,0,null,0,0,0,0,null,0,0,0,0,null,0,0,0,0]
["US58",180,null,null,0,0,0,0,null,0,0,0,0,null,0,0,0,0,null,0,0,0,0,null,0,0,0,0]
["US58",200,null,null,0,0,0,0,null,0,0,0,0,null,0,0,0,0,null,0,0,0,0,null,0,0,0,0]
["US58",220,null,null,0,0,0,0,null,0,0,0,0,null,0,0,0,0,null,0,0,0,0,null,0,0,0,0]
["US58",240,null,null,0,0,0,0,null,0,0,0,0,null,0,0,0,0,null,0,0,0,0,null,0,0,0,0]
["US58",260,null,null,0,0,0,0,null,0,0,0,0,null,0,0,0,0,null,0,0,0,0,null,0,0,0,0]
["US460",0,null,0,0,0,0,0,0,0,0,0,0,0,0,0,0,0,0,0,0,0,0,0,0,0,0,0,0]
["US460",20,null,9.3045203381374175E-3,9.3364272349420793E-3,9.368334131746741E-3,9.4002410285514027E-3,9.4321479253560644E-3,9.4640548221607262E-3,9.4939613593425301E-3,9.523867896524334E-3,9.553774433706138E-3,9.5836809708879419E-3,9.6135875080697458E-3,9.6424130474270266E-3,9.6712385867843056E-3,9.7000641261415863E-3,9.7288896654988653E-3,9.7577152048561461E-3,9.7851122918531791E-3,9.8125093788502121E-3,9.8399064658472434E-3,9.8673035528442764E-3,9.8947006398413095E-3,9.9212502214949573E-3,9.9477998031486051E-3,9.9743493848022512E-3,1.0000898966455899E-2,1.0027448548109547E-2]
["US460",40,null,1.0987817240871663E-2,1.1034074102883333E-2,1.1080330964895004E-2,1.1126587826906672E-2,1.1172844688918342E-2,1.1219101550930012E-2,1.1262527872806615E-2,1.1305954194683216E-2,1.1349380516559818E-2,1.1392806838436419E-2,1.1436233160313022E-2,1.1476334186290901E-2,1.1516435212268777E-2,1.1556536238246656E-2,1.1596637264224533E-2,1.1636738290202411E-2,1.1673985600354739E-2,1.1711232910507069E-2,1.1748480220659397E-2,1.1785727530811727E-2,1.1822974840964055E-2,1.1858529032411162E-2,1.1894083223858268E-2,1.1929637415305373E-2,1.196519160675248E-2,1.2000745798199586E-2]
["US460",60,null,1.2667340686486436E-2,1.2727915416836601E-2,1.2788490147186766E-2,1.2849064877536929E-2,1.2909639607887094E-2,1.2970214338237258E-2,1.3027130205055394E-2,1.3084046071873528E-2,1.3140961938691664E-2,1.3197877805509798E-2,1.3254793672327934E-2,1.3306144959143607E-2,1.3357496245959279E-2,1.3408847532774952E-2,1.3460198819590624E-2,1.3511550106406298E-2,1.355862559922162E-2,1.360570109203694E-2,1.3652776584852262E-2,1.3699852077667583E-2,1.3746927570482905E-2,1.3791466221074182E-2,1.3836004871665459E-2,1.3880543522256735E-2,1.3925082172848012E-2,1.3969620823439289E-2]
["US460",80,null,1.4343094948235578E-2,1.4417955486375169E-2,1.449281602451476E-2,1.456767656265435E-2,1.4642537100793942E-2,1.4717397638933533E-2,1.4787772845157853E-2,1.4858148051382173E-2,1.4928523257606494E-2,1.4998898463830814E-2,1.5069273670055134E-2,1.5131850020472494E-2,1.5194426370889854E-2,1.5257002721307212E-2,1.5319579071724572E-2,1.5382155422141932E-2,1.5439037082071352E-2,1.5495918742000771E-2,1.5552800401930191E-2,1.5609682061859609E-2,1.5666563721789029E-2,1.5720066703680764E-2,1.5773569685572496E-2,1.5827072667464231E-2,1.5880575649355962E-2,1.5934078631247697E-2]
["US460",100,null,1.6015084297946278E-2,1.6104198619633626E-2,1.619331294132097E-2,1.6282427263008319E-2,1.6371541584695663E-2,1.6460655906383011E-2,1.6544460280684736E-2,1.6628264654986461E-2,1.6712069029288189E-2,1.6795873403589914E-2,1.6879677777891639E-2,1.6953454023211793E-2,1.7027230268531948E-2,1.7101006513852102E-2,1.7174782759172256E-2,1.724855900449241E-2,1.7315224840922162E-2,1.7381890677351915E-2,1.7448556513781667E-2,1.7515222350211419E-2,1.7581888186641172E-2,1.7644335394787637E-2,1.7706782602934103E-2,1.7769229811080568E-2,1.7831677019227034E-2,1.7894124227373499E-2]
["US460",120,null,1.7683313006074106E-2,1.7786649123363203E-2,1.7889985240652297E-2,1.7993321357941395E-2,1.8096657475230489E-2,1.8199993592519587E-2,1.8297196997765455E-2,1.839440040301132E-2,1.8491603808257189E-2,1.8588807213503054E-2,1.8686010618748923E-2,1.8770961618800985E-2,1.8855912618853048E-2,1.8940863618905106E-2,1.9025814618957169E-2,1.9110765619009231E-2,1.9187193666252624E-2,1.9263621713496021E-2,1.9340049760739414E-2,1.9416477807982811E-2,1.9492905855226204E-2,1.9564277207372319E-2,1.9635648559518434E-2,1.9707019911664552E-2,1.9778391263810667E-2,1.9849762615956782E-2]
["US460",140,null,1.9347785341676093E-2,1.9465311302904711E-2,1.9582837264133332E-2,1.970036322536195E-2,1.9817889186590571E-2,1.9935415147819189E-2,2.0045987481060252E-2,2.0156559814301318E-2,2.0267132147542381E-2,2.0377704480783448E-2,2.0488276814024511E-2,2.0584377457156251E-2,2.0680478100287995E-2,2.0776578743419736E-2,2.087267938655148E-2,2.0968780029683221E-2,2.1054948346972486E-2,2.1141116664261748E-2,2.1227284981551013E-2,2.1313453298840275E-2,2.139962161612954E-2,2.1479897052803395E-2,2.1560172489477253E-2,2.1640447926151107E-2,2.1720723362824965E-2,2.180099879949882E-2]
["US460",160,null,2.1008505572419508E-2,2.1140189462197374E-2,2.1271873351975244E-2,2.1403557241753111E-2,2.1535241131530981E-2,2.1666925021308847E-2,2.1790836213769333E-2,2.1914747406229819E-2,2.2038658598690308E-2,2.2162569791150794E-2,2.228648098361128E-2,2.2393706186679841E-2,2.2500931389748402E-2,2.2608156592816959E-2,2.271538179588552E-2,2.2822606998954081E-2,2.2918493670432236E-2,2.301438034191039E-2,2.3110267013388544E-2,2.3206153684866698E-2,2.3302040356344852E-2,2.339119984085029E-2,2.3480359325355728E-2,2.3569518809861162E-2,2.3658678294366599E-2,2.3747837778872037E-2]
["US460",180,null,2.266547796458649E-2,2.2811287903783482E-2,2.2957097842980476E-2,2.3102907782177468E-2,2.3248717721374462E-2,2.3394527660571453E-2,2.353174767763765E-2,2.3668967694703842E-2,2.3806187711770038E-2,2.3943407728836231E-2,2.4080627745902427E-2,2.4198952454265035E-2,2.4317277162627642E-2,2.443560187099025E-2,2.4553926579352858E-2,2.4672251287715465E-2,2.4777834422428223E-2,2.4883417557140984E-2,2.4989000691853742E-2,2.5094583826566503E-2,2.5200166961279261E-2,2.5298190479688464E-2,2.5396213998097671E-2,2.5494237516506875E-2,2.5592261034916082E-2,2.5690284553325286E-2]
["US460",200,null,2.4318706783066416E-2,2.4478610928800715E-2,2.4638515074535013E-2,2.4798419220269315E-2,2.4958323366003614E-2,2.5118227511737912E-2,2.5268726352946993E-2,2.5419225194156073E-2,2.556972403536515E-2,2.5720222876574231E-2,2.5870721717783311E-2,2.6000120905287982E-2,2.6129520092792648E-2,2.6258919280297319E-2,2.6388318467801986E-2,2.6517717655306656E-2,2.663297538719429E-2,2.6748233119081925E-2,2.6863490850969559E-2,2.6978748582857193E-2,2.7094006314744828E-2,2.7200873875890891E-2,2.7307741437036955E-2,2.7414608998183022E-2,2.7521476559329086E-2,2.762834412047515E-2]
["US460",220,null,2.5968196291369018E-2,2.6142162836995355E-2,2.6316129382621692E-2,2.6490095928248032E-2,2.6664062473874369E-2,2.6838029019500706E-2,2.7001776718529671E-2,2.716552441755864E-2,2.7329272116587606E-2,2.7493019815616575E-2,2.765676751464554E-2,2.7797216183621829E-2,2.7937664852598118E-2,2.807811352157441E-2,2.8218562190550699E-2,2.8359010859526988E-2,2.8483921347416258E-2,2.8608831835305531E-2,2.87337423231948E-2,2.8858652811084073E-2,2.8983563298973343E-2,2.9099254934442893E-2,2.9214946569912439E-2,2.9330638205381988E-2,2.9446329840851534E-2,2.9562021476321084E-2]
["US460",240,null,2.7613950751616448E-2,2.78019479267143E-2,2.7989945101812151E-2,2.8177942276910006E-2,2.8365939452007858E-2,2.855393662710571E-2,2.8730903251760261E-2,2.8907869876414811E-2,2.9084836501069362E-2,2.9261803125723913E-2,2.9438769750378464E-2,2.9590242931628201E-2,2.9741716112877938E-2,2.9893189294127674E-2,3.0044662475377411E-2,3.0196135656627147E-2,3.0330677084223198E-2,3.0465218511819249E-2,3.0599759939415296E-2,3.0734301367011347E-2,3.0868842794607398E-2,3.0993338558733173E-2,3.1117834322858945E-2,3.124233008698472E-2,3.1366825851110496E-2,3.1491321615236267E-2]
["US460",260,null,2.9255974424551929E-2,2.9457970494913777E-2,2.9659966565275621E-2,2.9861962635637469E-2,3.0063958705999313E-2,3.0265954776361161E-2,3.0456110428564626E-2,3.0646266080768092E-2,3.0836421732971561E-2,3.1026577385175027E-2,3.1216733037378493E-2,3.1379205790166537E-2,3.1541678542954581E-2,3.1704151295742632E-2,3.1866624048530676E-2,3.202909680131872E-2,3.2173247377197012E-2,3.2317397953075304E-2,3.2461548528953603E-2,3.2605699104831895E-2,3.2749849680710187E-2,3.2883129650563676E-2,3.3016409620417166E-2,3.3149689590270655E-2,3.3282969560124144E-2,3.3416249529977633E-2]
[null,null,"Year",2015,2016,2017,2018,2019,2020,2021,2022,2023,2024,2025,2026,2027,2028,2029,2030,2031,2032,2033,2034,2035,2036,2037,2038,2039,2040]
["Multiple",0,null,{"$f":"D7*'Project Information'!$D$14+'Project Information'!$D$15*D21+D35*'Project Information'!$D$16+'Project Information'!$D$17*D49+D63*'Project Information'!$D$18+'Project Information'!$D$19*D77+D91*'Project Information'!$D$20","v":0},{"$f":"E7*'Project Information'!$D$14+'Project Information'!$D$15*E21+E35*'Project Information'!$D$16+'Project Information'!$D$17*E49+E63*'Project Information'!$D$18+'Project Information'!$D$19*E77+E91*'Project Information'!$D$20","v":0},{"$f":"F7*'Project Information'!$D$14+'Project Information'!$D$15*F21+F35*'Project Information'!$D$16+'Project Information'!$D$17*F49+F63*'Project Information'!$D$18+'Project Information'!$D$19*F77+F91*'Project Information'!$D$20","v":0},{"$f":"G7*'Project Information'!$D$14+'Project Information'!$D$15*G21+G35*'Project Information'!$D$16+'Project Information'!$D$17*G49+G63*'Project Information'!$D$18+'Project Information'!$D$19*G77+G91*'Project Information'!$D$20","v":0},{"$f":"H7*'Project Information'!$D$14+'Project Information'!$D$15*H21+H35*'Project Information'!$D$16+'Project Information'!$D$17*H49+H63*'Project Information'!$D$18+'Project Information'!$D$19*H77+H91*'Project Information'!$D$20","v":0},{"$f":"I7*'Project Information'!$D$14+'Project Information'!$D$15*I21+I35*'Project Information'!$D$16+'Project Information'!$D$17*I49+I63*'Project Information'!$D$18+'Project Information'!$D$19*I77+I91*'Project Information'!$D$20","v":0},{"$f":"J7*'Project Information'!$D$14+'Project Information'!$D$15*J21+J35*'Project Information'!$D$16+'Project Information'!$D$17*J49+J63*'Project Information'!$D$18+'Project Information'!$D$19*J77+J91*'Project Information'!$D$20","v":0},{"$f":"K7*'Project Information'!$D$14+'Project Information'!$D$15*K21+K35*'Project Information'!$D$16+'Project Information'!$D$17*K49+K63*'Project Information'!$D$18+'Project Information'!$D$19*K77+K91*'Project Information'!$D$20","v":0},{"$f":"L7*'Project Information'!$D$14+'Project Information'!$D$15*L21+L35*'Project Information'!$D$16+'Project Information'!$D$17*L49+L63*'Project Information'!$D$18+'Project Information'!$D$19*L77+L91*'Project Information'!$D$20","v":0},{"$f":"M7*'Project Information'!$D$14+'Project Information'!$D$15*M21+M35*'Project Information'!$D$16+'Project Information'!$D$17*M49+M63*'Project Information'!$D$18+'Project Information'!$D$19*M77+M91*'Project Information'!$D$20","v":0},{"$f":"N7*'Project Information'!$D$14+'Project Information'!$D$15*N21+N35*'Project Information'!$D$16+'Project Information'!$D$17*N49+N63*'Project Information'!$D$18+'Project Information'!$D$19*N77+N91*'Project Information'!$D$20","v":0},{"$f":"O7*'Project Information'!$D$14+'Project Information'!$D$15*O21+O35*'Project Information'!$D$16+'Project Information'!$D$17*O49+O63*'Project Information'!$D$18+'Project Information'!$D$19*O77+O91*'Project Information'!$D$20","v":0},{"$f":"P7*'Project Information'!$D$14+'Project Information'!$D$15*P21+P35*'Project Information'!$D$16+'Project Information'!$D$17*P49+P63*'Project Information'!$D$18+'Project Information'!$D$19*P77+P91*'Project Information'!$D$20","v":0},{"$f":"Q7*'Project Information'!$D$14+'Project Information'!$D$15*Q21+Q35*'Project Information'!$D$16+'Project Information'!$D$17*Q49+Q63*'Project Information'!$D$18+'Project Information'!$D$19*Q77+Q91*'Project Information'!$D$20","v":0},{"$f":"R7*'Project Information'!$D$14+'Project Information'!$D$15*R21+R35*'Project Information'!$D$16+'Project Information'!$D$17*R49+R63*'Project Information'!$D$18+'Project Information'!$D$19*R77+R91*'Project Information'!$D$20","v":0},{"$f":"S7*'Project Information'!$D$14+'Project Information'!$D$15*S21+S35*'Project Information'!$D$16+'Project Information'!$D$17*S49+S63*'Project Information'!$D$18+'Project Information'!$D$19*S77+S91*'Project Information'!$D$20","v":0},{"$f":"T7*'Project Information'!$D$14+'Project Information'!$D$15*T21+T35*'Project Information'!$D$16+'Project Information'!$D$17*T49+T63*'Project Information'!$D$18+'Project Information'!$D$19*T77+T91*'Project Information'!$D$20","v":0},{"$f":"U7*'Project Information'!$D$14+'Project Information'!$D$15*U21+U35*'Project Information'!$D$16+'Project Information'!$D$17*U49+U63*'Project Information'!$D$18+'Project Information'!$D$19*U77+U91*'Project Information'!$D$20","v":0},{"$f":"V7*'Project Information'!$D$14+'Project Information'!$D$15*V21+V35*'Project Information'!$D$16+'Project Information'!$D$17*V49+V63*'Project Information'!$D$18+'Project Information'!$D$19*V77+V91*'Project Information'!$D$20","v":0},{"$f":"W7*'Project Information'!$D$14+'Project Information'!$D$15*W21+W35*'Project Information'!$D$16+'Project Information'!$D$17*W49+W63*'Project Information'!$D$18+'Project Information'!$D$19*W77+W91*'Project Information'!$D$20","v":0},{"$f":"X7*'Project Information'!$D$14+'Project Information'!$D$15*X21+X35*'Project Information'!$D$16+'Project Information'!$D$17*X49+X63*'Project Information'!$D$18+'Project Information'!$D$19*X77+X91*'Project Information'!$D$20","v":0},{"$f":"Y7*'Project Information'!$D$14+'Project Information'!$D$15*Y21+Y35*'Project Information'!$D$16+'Project Information'!$D$17*Y49+Y63*'Project Information'!$D$18+'Project Information'!$D$19*Y77+Y91*'Project Information'!$D$20","v":0},{"$f":"Z7*'Project Information'!$D$14+'Project Information'!$D$15*Z21+Z35*'Project Information'!$D$16+'Project Information'!$D$17*Z49+Z63*'Project Information'!$D$18+'Project Information'!$D$19*Z77+Z91*'Project Information'!$D$20","v":0},{"$f":"AA7*'Project Information'!$D$14+'Project Information'!$D$15*AA21+AA35*'Project Information'!$D$16+'Project Information'!$D$17*AA49+AA63*'Project Information'!$D$18+'Project Information'!$D$19*AA77+AA91*'Project Information'!$D$20","v":0},{"$f":"AB7*'Project Information'!$D$14+'Project Information'!$D$15*AB21+AB35*'Project Information'!$D$16+'Project Information'!$D$17*AB49+AB63*'Project Information'!$D$18+'Project Information'!$D$19*AB77+AB91*'Project Information'!$D$20","v":0},{"$f":"AC7*'Project Information'!$D$14+'Project Information'!$D$15*AC21+AC35*'Project Information'!$D$16+'Project Information'!$D$17*AC49+AC63*'Project Information'!$D$18+'Project Information'!$D$19*AC77+AC91*'Project Information'!$D$20","v":0}]
["Multiple",20,null,{"$f":"D8*'Project Information'!$D$14+'Project Information'!$D$15*D22+D36*'Project Information'!$D$16+'Project Information'!$D$17*D50+D64*'Project Information'!$D$18+'Project Information'!$D$19*D78+D92*'Project Information'!$D$20","v":0},{"$f":"E8*'Project Information'!$D$14+'Project Information'!$D$15*E22+E36*'Project Information'!$D$16+'Project Information'!$D$17*E50+E64*'Project Information'!$D$18+'Project Information'!$D$19*E78+E92*'Project Information'!$D$20","v":0},{"$f":"F8*'Project Information'!$D$14+'Project Information'!$D$15*F22+F36*'Project Information'!$D$16+'Project Information'!$D$17*F50+F64*'Project Information'!$D$18+'Project Information'!$D$19*F78+F92*'Project Information'!$D$20","v":0},{"$f":"G8*'Project Information'!$D$14+'Project Information'!$D$15*G22+G36*'Project Information'!$D$16+'Project Information'!$D$17*G50+G64*'Project Information'!$D$18+'Project Information'!$D$19*G78+G92*'Project Information'!$D$20","v":0},{"$f":"H8*'Project Information'!$D$14+'Project Information'!$D$15*H22+H36*'Project Information'!$D$16+'Project Information'!$D$17*H50+H64*'Project Information'!$D$18+'Project Information'!$D$19*H78+H92*'Project Information'!$D$20","v":0},{"$f":"I8*'Project Information'!$D$14+'Project Information'!$D$15*I22+I36*'Project Information'!$D$16+'Project Information'!$D$17*I50+I64*'Project Information'!$D$18+'Project Information'!$D$19*I78+I92*'Project Information'!$D$20","v":0},{"$f":"J8*'Project Information'!$D$14+'Project Information'!$D$15*J22+J36*'Project Information'!$D$16+'Project Information'!$D$17*J50+J64*'Project Information'!$D$18+'Project Information'!$D$19*J78+J92*'Project Information'!$D$20","v":0},{"$f":"K8*'Project Information'!$D$14+'Project Information'!$D$15*K22+K36*'Project Information'!$D$16+'Project Information'!$D$17*K50+K64*'Project Information'!$D$18+'Project Information'!$D$19*K78+K92*'Project Information'!$D$20","v":0},{"$f":"L8*'Project Information'!$D$14+'Project Information'!$D$15*L22+L36*'Project Information'!$D$16+'Project Information'!$D$17*L50+L64*'Project Information'!$D$18+'Project Information'!$D$19*L78+L92*'Project Information'!$D$20","v":0},{"$f":"M8*'Project Information'!$D$14+'Project Information'!$D$15*M22+M36*'Project Information'!$D$16+'Project Information'!$D$17*M50+M64*'Project Information'!$D$18+'Project Information'!$D$19*M78+M92*'Project Information'!$D$20","v":0},{"$f":"N8*'Project Information'!$D$14+'Project Information'!$D$15*N22+N36*'Project Information'!$D$16+'Project Information'!$D$17*N50+N64*'Project Information'!$D$18+'Project Information'!$D$19*N78+N92*'Project Information'!$D$20","v":0},{"$f":"O8*'Project Information'!$D$14+'Project Information'!$D$15*O22+O36*'Project Information'!$D$16+'Project Information'!$D$17*O50+O64*'Project Information'!$D$18+'Project Information'!$D$19*O78+O92*'Project Information'!$D$20","v":0},{"$f":"P8*'Project Information'!$D$14+'Project Information'!$D$15*P22+P36*'Project Information'!$D$16+'Project Information'!$D$17*P50+P64*'Project Information'!$D$18+'Project Information'!$D$19*P78+P92*'Project Information'!$D$20","v":0},{"$f":"Q8*'Project Information'!$D$14+'Project Information'!$D$15*Q22+Q36*'Project Information'!$D$16+'Project Information'!$D$17*Q50+Q64*'Project Information'!$D$18+'Project Information'!$D$19*Q78+Q92*'Project Information'!$D$20","v":0},{"$f":"R8*'Project Information'!$D$14+'Project Information'!$D$15*R22+R36*'Project Information'!$D$16+'Project Information'!$D$17*R50+R64*'Project Information'!$D$18+'Project Information'!$D$19*R78+R92*'Project Information'!$D$20","v":0},{"$f":"S8*'Project Information'!$D$14+'Project Information'!$D$15*S22+S36*'Project Information'!$D$16+'Project Information'!$D$17*S50+S64*'Project Information'!$D$18+'Project Information'!$D$19*S78+S92*'Project Information'!$D$20","v":0},{"$f":"T8*'Project Information'!$D$14+'Project Information'!$D$15*T22+T36*'Project Information'!$D$16+'Project Information'!$D$17*T50+T64*'Project Information'!$D$18+'Project Information'!$D$19*T78+T92*'Project Information'!$D$20","v":0},{"$f":"U8*'Project Information'!$D$14+'Project Information'!$D$15*U22+U36*'Project Information'!$D$16+'Project Information'!$D$17*U50+U64*'Project Information'!$D$18+'Project Information'!$D$19*U78+U92*'Project Information'!$D$20","v":0},{"$f":"V8*'Project Information'!$D$14+'Project Information'!$D$15*V22+V36*'Project Information'!$D$16+'Project Information'!$D$17*V50+V64*'Project Information'!$D$18+'Project Information'!$D$19*V78+V92*'Project Information'!$D$20","v":0},{"$f":"W8*'Project Information'!$D$14+'Project Information'!$D$15*W22+W36*'Project Information'!$D$16+'Project Information'!$D$17*W50+W64*'Project Information'!$D$18+'Project Information'!$D$19*W78+W92*'Project Information'!$D$20","v":0},{"$f":"X8*'Project Information'!$D$14+'Project Information'!$D$15*X22+X36*'Project Information'!$D$16+'Project Information'!$D$17*X50+X64*'Project Information'!$D$18+'Project Information'!$D$19*X78+X92*'Project Information'!$D$20","v":0},{"$f":"Y8*'Project Information'!$D$14+'Project Information'!$D$15*Y22+Y36*'Project Information'!$D$16+'Project Information'!$D$17*Y50+Y64*'Project Information'!$D$18+'Project Information'!$D$19*Y78+Y92*'Project Information'!$D$20","v":0},{"$f":"Z8*'Project Information'!$D$14+'Project Information'!$D$15*Z22+Z36*'Project Information'!$D$16+'Project Information'!$D$17*Z50+Z64*'Project Information'!$D$18+'Project Information'!$D$19*Z78+Z92*'Project Information'!$D$20","v":0},{"$f":"AA8*'Project Information'!$D$14+'Project Information'!$D$15*AA22+AA36*'Project Information'!$D$16+'Project Information'!$D$17*AA50+AA64*'Project Information'!$D$18+'Project Information'!$D$19*AA78+AA92*'Project Information'!$D$20","v":0},{"$f":"AB8*'Project Information'!$D$14+'Project Information'!$D$15*AB22+AB36*'Project Information'!$D$16+'Project Information'!$D$17*AB50+AB64*'Project Information'!$D$18+'Project Information'!$D$19*AB78+AB92*'Project Information'!$D$20","v":0},{"$f":"AC8*'Project Information'!$D$14+'Project Information'!$D$15*AC22+AC36*'Project Information'!$D$16+'Project Information'!$D$17*AC50+AC64*'Project Information'!$D$18+'Project Information'!$D$19*AC78+AC92*'Project Information'!$D$20","v":0}]
["Multiple",40,null,{"$f":"D9*'Project Information'!$D$14+'Project Information'!$D$15*D23+D37*'Project Information'!$D$16+'Project Information'!$D$17*D51+D65*'Project Information'!$D$18+'Project Information'!$D$19*D79+D93*'Project Information'!$D$20","v":0},{"$f":"E9*'Project Information'!$D$14+'Project Information'!$D$15*E23+E37*'Project Information'!$D$16+'Project Information'!$D$17*E51+E65*'Project Information'!$D$18+'Project Information'!$D$19*E79+E93*'Project Information'!$D$20","v":0},{"$f":"F9*'Project Information'!$D$14+'Project Information'!$D$15*F23+F37*'Project Information'!$D$16+'Project Information'!$D$17*F51+F65*'Project Information'!$D$18+'Project Information'!$D$19*F79+F93*'Project Information'!$D$20","v":0},{"$f":"G9*'Project Information'!$D$14+'Project Information'!$D$15*G23+G37*'Project Information'!$D$16+'Project Information'!$D$17*G51+G65*'Project Information'!$D$18+'Project Information'!$D$19*G79+G93*'Project Information'!$D$20","v":0},{"$f":"H9*'Project Information'!$D$14+'Project Information'!$D$15*H23+H37*'Project Information'!$D$16+'Project Information'!$D$17*H51+H65*'Project Information'!$D$18+'Project Information'!$D$19*H79+H93*'Project Information'!$D$20","v":0},{"$f":"I9*'Project Information'!$D$14+'Project Information'!$D$15*I23+I37*'Project Information'!$D$16+'Project Information'!$D$17*I51+I65*'Project Information'!$D$18+'Project Information'!$D$19*I79+I93*'Project Information'!$D$20","v":0},{"$f":"J9*'Project Information'!$D$14+'Project Information'!$D$15*J23+J37*'Project Information'!$D$16+'Project Information'!$D$17*J51+J65*'Project Information'!$D$18+'Project Information'!$D$19*J79+J93*'Project Information'!$D$20","v":0},{"$f":"K9*'Project Information'!$D$14+'Project Information'!$D$15*K23+K37*'Project Information'!$D$16+'Project Information'!$D$17*K51+K65*'Project Information'!$D$18+'Project Information'!$D$19*K79+K93*'Project Information'!$D$20","v":0},{"$f":"L9*'Project Information'!$D$14+'Project Information'!$D$15*L23+L37*'Project Information'!$D$16+'Project Information'!$D$17*L51+L65*'Project Information'!$D$18+'Project Information'!$D$19*L79+L93*'Project Information'!$D$20","v":0},{"$f":"M9*'Project Information'!$D$14+'Project Information'!$D$15*M23+M37*'Project Information'!$D$16+'Project Information'!$D$17*M51+M65*'Project Information'!$D$18+'Project Information'!$D$19*M79+M93*'Project Information'!$D$20","v":0},{"$f":"N9*'Project Information'!$D$14+'Project Information'!$D$15*N23+N37*'Project Information'!$D$16+'Project Information'!$D$17*N51+N65*'Project Information'!$D$18+'Project Information'!$D$19*N79+N93*'Project Information'!$D$20","v":0},{"$f":"O9*'Project Information'!$D$14+'Project Information'!$D$15*O23+O37*'Project Information'!$D$16+'Project Information'!$D$17*O51+O65*'Project Information'!$D$18+'Project Information'!$D$19*O79+O93*'Project Information'!$D$20","v":0},{"$f":"P9*'Project Information'!$D$14+'Project Information'!$D$15*P23+P37*'Project Information'!$D$16+'Project Information'!$D$17*P51+P65*'Project Information'!$D$18+'Project Information'!$D$19*P79+P93*'Project Information'!$D$20","v":0},{"$f":"Q9*'Project Information'!$D$14+'Project Information'!$D$15*Q23+Q37*'Project Information'!$D$16+'Project Information'!$D$17*Q51+Q65*'Project Information'!$D$18+'Project Information'!$D$19*Q79+Q93*'Project Information'!$D$20","v":0},{"$f":"R9*'Project Information'!$D$14+'Project Information'!$D$15*R23+R37*'Project Information'!$D$16+'Project Information'!$D$17*R51+R65*'Project Information'!$D$18+'Project Information'!$D$19*R79+R93*'Project Information'!$D$20","v":0},{"$f":"S9*'Project Information'!$D$14+'Project Information'!$D$15*S23+S37*'Project Information'!$D$16+'Project Information'!$D$17*S51+S65*'Project Information'!$D$18+'Project Information'!$D$19*S79+S93*'Project Information'!$D$20","v":0},{"$f":"T9*'Project Information'!$D$14+'Project Information'!$D$15*T23+T37*'Project Information'!$D$16+'Project Information'!$D$17*T51+T65*'Project Information'!$D$18+'Project Information'!$D$19*T79+T93*'Project Information'!$D$20","v":0},{"$f":"U9*'Project Information'!$D$14+'Project Information'!$D$15*U23+U37*'Project Information'!$D$16+'Project Information'!$D$17*U51+U65*'Project Information'!$D$18+'Project Information'!$D$19*U79+U93*'Project Information'!$D$20","v":0},{"$f":"V9*'Project Information'!$D$14+'Project Information'!$D$15*V23+V37*'Project Information'!$D$16+'Project Information'!$D$17*V51+V65*'Project Information'!$D$18+'Project Information'!$D$19*V79+V93*'Project Information'!$D$20","v":0},{"$f":"W9*'Project Information'!$D$14+'Project Information'!$D$15*W23+W37*'Project Information'!$D$16+'Project Information'!$D$17*W51+W65*'Project Information'!$D$18+'Project Information'!$D$19*W79+W93*'Project Information'!$D$20","v":0},{"$f":"X9*'Project Information'!$D$14+'Project Information'!$D$15*X23+X37*'Project Information'!$D$16+'Project Information'!$D$17*X51+X65*'Project Information'!$D$18+'Project Information'!$D$19*X79+X93*'Project Information'!$D$20","v":0},{"$f":"Y9*'Project Information'!$D$14+'Project Information'!$D$15*Y23+Y37*'Project Information'!$D$16+'Project Information'!$D$17*Y51+Y65*'Project Information'!$D$18+'Project Information'!$D$19*Y79+Y93*'Project Information'!$D$20","v":0},{"$f":"Z9*'Project Information'!$D$14+'Project Information'!$D$15*Z23+Z37*'Project Information'!$D$16+'Project Information'!$D$17*Z51+Z65*'Project Information'!$D$18+'Project Information'!$D$19*Z79+Z93*'Project Information'!$D$20","v":0},{"$f":"AA9*'Project Information'!$D$14+'Project Information'!$D$15*AA23+AA37*'Project Information'!$D$16+'Project Information'!$D$17*AA51+AA65*'Project Information'!$D$18+'Project Information'!$D$19*AA79+AA93*'Project Information'!$D$20","v":0},{"$f":"AB9*'Project Information'!$D$14+'Project Information'!$D$15*AB23+AB37*'Project Information'!$D$16+'Project Information'!$D$17*AB51+AB65*'Project Information'!$D$18+'Project Information'!$D$19*AB79+AB93*'Project Information'!$D$20","v":0},{"$f":"AC9*'Project Information'!$D$14+'Project Information'!$D$15*AC23+AC37*'Project Information'!$D$16+'Project Information'!$D$17*AC51+AC65*'Project Information'!$D$18+'Project Information'!$D$19*AC79+AC93*'Project Information'!$D$20","v":0}]
["Multiple",60,null,{"$f":"D10*'Project Information'!$D$14+'Project Information'!$D$15*D24+D38*'Project Information'!$D$16+'Project Information'!$D$17*D52+D66*'Project Information'!$D$18+'Project Information'!$D$19*D80+D94*'Project Information'!$D$20","v":0},{"$f":"E10*'Project Information'!$D$14+'Project Information'!$D$15*E24+E38*'Project Information'!$D$16+'Project Information'!$D$17*E52+E66*'Project Information'!$D$18+'Project Information'!$D$19*E80+E94*'Project Information'!$D$20","v":0},{"$f":"F10*'Project Information'!$D$14+'Project Information'!$D$15*F24+F38*'Project Information'!$D$16+'Project Information'!$D$17*F52+F66*'Project Information'!$D$18+'Project Information'!$D$19*F80+F94*'Project Information'!$D$20","v":0},{"$f":"G10*'Project Information'!$D$14+'Project Information'!$D$15*G24+G38*'Project Information'!$D$16+'Project Information'!$D$17*G52+G66*'Project Information'!$D$18+'Project Information'!$D$19*G80+G94*'Project Information'!$D$20","v":0},{"$f":"H10*'Project Information'!$D$14+'Project Information'!$D$15*H24+H38*'Project Information'!$D$16+'Project Information'!$D$17*H52+H66*'Project Information'!$D$18+'Project Information'!$D$19*H80+H94*'Project Information'!$D$20","v":0},{"$f":"I10*'Project Information'!$D$14+'Project Information'!$D$15*I24+I38*'Project Information'!$D$16+'Project Information'!$D$17*I52+I66*'Project Information'!$D$18+'Project Information'!$D$19*I80+I94*'Project Information'!$D$20","v":0},{"$f":"J10*'Project Information'!$D$14+'Project Information'!$D$15*J24+J38*'Project Information'!$D$16+'Project Information'!$D$17*J52+J66*'Project Information'!$D$18+'Project Information'!$D$19*J80+J94*'Project Information'!$D$20","v":0},{"$f":"K10*'Project Information'!$D$14+'Project Information'!$D$15*K24+K38*'Project Information'!$D$16+'Project Information'!$D$17*K52+K66*'Project Information'!$D$18+'Project Information'!$D$19*K80+K94*'Project Information'!$D$20","v":0},{"$f":"L10*'Project Information'!$D$14+'Project Information'!$D$15*L24+L38*'Project Information'!$D$16+'Project Information'!$D$17*L52+L66*'Project Information'!$D$18+'Project Information'!$D$19*L80+L94*'Project Information'!$D$20","v":0},{"$f":"M10*'Project Information'!$D$14+'Project Information'!$D$15*M24+M38*'Project Information'!$D$16+'Project Information'!$D$17*M52+M66*'Project Information'!$D$18+'Project Information'!$D$19*M80+M94*'Project Information'!$D$20","v":0},{"$f":"N10*'Project Information'!$D$14+'Project Information'!$D$15*N24+N38*'Project Information'!$D$16+'Project Information'!$D$17*N52+N66*'Project Information'!$D$18+'Project Information'!$D$19*N80+N94*'Project Information'!$D$20","v":0},{"$f":"O10*'Project Information'!$D$14+'Project Information'!$D$15*O24+O38*'Project Information'!$D$16+'Project Information'!$D$17*O52+O66*'Project Information'!$D$18+'Project Information'!$D$19*O80+O94*'Project Information'!$D$20","v":0},{"$f":"P10*'Project Information'!$D$14+'Project Information'!$D$15*P24+P38*'Project Information'!$D$16+'Project Information'!$D$17*P52+P66*'Project Information'!$D$18+'Project Information'!$D$19*P80+P94*'Project Information'!$D$20","v":0},{"$f":"Q10*'Project Information'!$D$14+'Project Information'!$D$15*Q24+Q38*'Project Information'!$D$16+'Project Information'!$D$17*Q52+Q66*'Project Information'!$D$18+'Project Information'!$D$19*Q80+Q94*'Project Information'!$D$20","v":0},{"$f":"R10*'Project Information'!$D$14+'Project Information'!$D$15*R24+R38*'Project Information'!$D$16+'Project Information'!$D$17*R52+R66*'Project Information'!$D$18+'Project Information'!$D$19*R80+R94*'Project Information'!$D$20","v":0},{"$f":"S10*'Project Information'!$D$14+'Project Information'!$D$15*S24+S38*'Project Information'!$D$16+'Project Information'!$D$17*S52+S66*'Project Information'!$D$18+'Project Information'!$D$19*S80+S94*'Project Information'!$D$20","v":0},{"$f":"T10*'Project Information'!$D$14+'Project Information'!$D$15*T24+T38*'Project Information'!$D$16+'Project Information'!$D$17*T52+T66*'Project Information'!$D$18+'Project Information'!$D$19*T80+T94*'Project Information'!$D$20","v":0},{"$f":"U10*'Project Information'!$D$14+'Project Information'!$D$15*U24+U38*'Project Information'!$D$16+'Project Information'!$D$17*U52+U66*'Project Information'!$D$18+'Project Information'!$D$19*U80+U94*'Project Information'!$D$20","v":0},{"$f":"V10*'Project Information'!$D$14+'Project Information'!$D$15*V24+V38*'Project Information'!$D$16+'Project Information'!$D$17*V52+V66*'Project Information'!$D$18+'Project Information'!$D$19*V80+V94*'Project Information'!$D$20","v":0},{"$f":"W10*'Project Information'!$D$14+'Project Information'!$D$15*W24+W38*'Project Information'!$D$16+'Project Information'!$D$17*W52+W66*'Project Information'!$D$18+'Project Information'!$D$19*W80+W94*'Project Information'!$D$20","v":0},{"$f":"X10*'Project Information'!$D$14+'Project Information'!$D$15*X24+X38*'Project Information'!$D$16+'Project Information'!$D$17*X52+X66*'Project Information'!$D$18+'Project Information'!$D$19*X80+X94*'Project Information'!$D$20","v":0},{"$f":"Y10*'Project Information'!$D$14+'Project Information'!$D$15*Y24+Y38*'Project Information'!$D$16+'Project Information'!$D$17*Y52+Y66*'Project Information'!$D$18+'Project Information'!$D$19*Y80+Y94*'Project Information'!$D$20","v":0},{"$f":"Z10*'Project Information'!$D$14+'Project Information'!$D$15*Z24+Z38*'Project Information'!$D$16+'Project Information'!$D$17*Z52+Z66*'Project Information'!$D$18+'Project Information'!$D$19*Z80+Z94*'Project Information'!$D$20","v":0},{"$f":"AA10*'Project Information'!$D$14+'Project Information'!$D$15*AA24+AA38*'Project Information'!$D$16+'Project Information'!$D$17*AA52+AA66*'Project Information'!$D$18+'Project Information'!$D$19*AA80+AA94*'Project Information'!$D$20","v":0},{"$f":"AB10*'Project Information'!$D$14+'Project Information'!$D$15*AB24+AB38*'Project Information'!$D$16+'Project Information'!$D$17*AB52+AB66*'Project Information'!$D$18+'Project Information'!$D$19*AB80+AB94*'Project Information'!$D$20","v":0},{"$f":"AC10*'Project Information'!$D$14+'Project Information'!$D$15*AC24+AC38*'Project Information'!$D$16+'Project Information'!$D$17*AC52+AC66*'Project Information'!$D$18+'Project Information'!$D$19*AC80+AC94*'Project Information'!$D$20","v":0}]
["Multiple",80,null,{"$f":"D11*'Project Information'!$D$14+'Project Information'!$D$15*D25+D39*'Project Information'!$D$16+'Project Information'!$D$17*D53+D67*'Project Information'!$D$18+'Project Information'!$D$19*D81+D95*'Project Information'!$D$20","v":0},{"$f":"E11*'Project Information'!$D$14+'Project Information'!$D$15*E25+E39*'Project Information'!$D$16+'Project Information'!$D$17*E53+E67*'Project Information'!$D$18+'Project Information'!$D$19*E81+E95*'Project Information'!$D$20","v":0},{"$f":"F11*'Project Information'!$D$14+'Project Information'!$D$15*F25+F39*'Project Information'!$D$16+'Project Information'!$D$17*F53+F67*'Project Information'!$D$18+'Project Information'!$D$19*F81+F95*'Project Information'!$D$20","v":0},{"$f":"G11*'Project Information'!$D$14+'Project Information'!$D$15*G25+G39*'Project Information'!$D$16+'Project Information'!$D$17*G53+G67*'Project Information'!$D$18+'Project Information'!$D$19*G81+G95*'Project Information'!$D$20","v":0},{"$f":"H11*'Project Information'!$D$14+'Project Information'!$D$15*H25+H39*'Project Information'!$D$16+'Project Information'!$D$17*H53+H67*'Project Information'!$D$18+'Project Information'!$D$19*H81+H95*'Project Information'!$D$20","v":0},{"$f":"I11*'Project Information'!$D$14+'Project Information'!$D$15*I25+I39*'Project Information'!$D$16+'Project Information'!$D$17*I53+I67*'Project Information'!$D$18+'Project Information'!$D$19*I81+I95*'Project Information'!$D$20","v":0},{"$f":"J11*'Project Information'!$D$14+'Project Information'!$D$15*J25+J39*'Project Information'!$D$16+'Project Information'!$D$17*J53+J67*'Project Information'!$D$18+'Project Information'!$D$19*J81+J95*'Project Information'!$D$20","v":0},{"$f":"K11*'Project Information'!$D$14+'Project Information'!$D$15*K25+K39*'Project Information'!$D$16+'Project Information'!$D$17*K53+K67*'Project Information'!$D$18+'Project Information'!$D$19*K81+K95*'Project Information'!$D$20","v":0},{"$f":"L11*'Project Information'!$D$14+'Project Information'!$D$15*L25+L39*'Project Information'!$D$16+'Project Information'!$D$17*L53+L67*'Project Information'!$D$18+'Project Information'!$D$19*L81+L95*'Project Information'!$D$20","v":0},{"$f":"M11*'Project Information'!$D$14+'Project Information'!$D$15*M25+M39*'Project Information'!$D$16+'Project Information'!$D$17*M53+M67*'Project Information'!$D$18+'Project Information'!$D$19*M81+M95*'Project Information'!$D$20","v":0},{"$f":"N11*'Project Information'!$D$14+'Project Information'!$D$15*N25+N39*'Project Information'!$D$16+'Project Information'!$D$17*N53+N67*'Project Information'!$D$18+'Project Information'!$D$19*N81+N95*'Project Information'!$D$20","v":0},{"$f":"O11*'Project Information'!$D$14+'Project Information'!$D$15*O25+O39*'Project Information'!$D$16+'Project Information'!$D$17*O53+O67*'Project Information'!$D$18+'Project Information'!$D$19*O81+O95*'Project Information'!$D$20","v":0},{"$f":"P11*'Project Information'!$D$14+'Project Information'!$D$15*P25+P39*'Project Information'!$D$16+'Project Information'!$D$17*P53+P67*'Project Information'!$D$18+'Project Information'!$D$19*P81+P95*'Project Information'!$D$20","v":0},{"$f":"Q11*'Project Information'!$D$14+'Project Information'!$D$15*Q25+Q39*'Project Information'!$D$16+'Project Information'!$D$17*Q53+Q67*'Project Information'!$D$18+'Project Information'!$D$19*Q81+Q95*'Project Information'!$D$20","v":0},{"$f":"R11*'Project Information'!$D$14+'Project Information'!$D$15*R25+R39*'Project Information'!$D$16+'Project Information'!$D$17*R53+R67*'Project Information'!$D$18+'Project Information'!$D$19*R81+R95*'Project Information'!$D$20","v":0},{"$f":"S11*'Project Information'!$D$14+'Project Information'!$D$15*S25+S39*'Project Information'!$D$16+'Project Information'!$D$17*S53+S67*'Project Information'!$D$18+'Project Information'!$D$19*S81+S95*'Project Information'!$D$20","v":0},{"$f":"T11*'Project Information'!$D$14+'Project Information'!$D$15*T25+T39*'Project Information'!$D$16+'Project Information'!$D$17*T53+T67*'Project Information'!$D$18+'Project Information'!$D$19*T81+T95*'Project Information'!$D$20","v":0},{"$f":"U11*'Project Information'!$D$14+'Project Information'!$D$15*U25+U39*'Project Information'!$D$16+'Project Information'!$D$17*U53+U67*'Project Information'!$D$18+'Project Information'!$D$19*U81+U95*'Project Information'!$D$20","v":0},{"$f":"V11*'Project Information'!$D$14+'Project Information'!$D$15*V25+V39*'Project Information'!$D$16+'Project Information'!$D$17*V53+V67*'Project Information'!$D$18+'Project Information'!$D$19*V81+V95*'Project Information'!$D$20","v":0},{"$f":"W11*'Project Information'!$D$14+'Project Information'!$D$15*W25+W39*'Project Information'!$D$16+'Project Information'!$D$17*W53+W67*'Project Information'!$D$18+'Project Information'!$D$19*W81+W95*'Project Information'!$D$20","v":0},{"$f":"X11*'Project Information'!$D$14+'Project Information'!$D$15*X25+X39*'Project Information'!$D$16+'Project Information'!$D$17*X53+X67*'Project Information'!$D$18+'Project Information'!$D$19*X81+X95*'Project Information'!$D$20","v":0},{"$f":"Y11*'Project Information'!$D$14+'Project Information'!$D$15*Y25+Y39*'Project Information'!$D$16+'Project Information'!$D$17*Y53+Y67*'Project Information'!$D$18+'Project Information'!$D$19*Y81+Y95*'Project Information'!$D$20","v":0},{"$f":"Z11*'Project Information'!$D$14+'Project Information'!$D$15*Z25+Z39*'Project Information'!$D$16+'Project Information'!$D$17*Z53+Z67*'Project Information'!$D$18+'Project Information'!$D$19*Z81+Z95*'Project Information'!$D$20","v":0},{"$f":"AA11*'Project Information'!$D$14+'Project Information'!$D$15*AA25+AA39*'Project Information'!$D$16+'Project Information'!$D$17*AA53+AA67*'Project Information'!$D$18+'Project Information'!$D$19*AA81+AA95*'Project Information'!$D$20","v":0},{"$f":"AB11*'Project Information'!$D$14+'Project Information'!$D$15*AB25+AB39*'Project Information'!$D$16+'Project Information'!$D$17*AB53+AB67*'Project Information'!$D$18+'Project Information'!$D$19*AB81+AB95*'Project Information'!$D$20","v":0},{"$f":"AC11*'Project Information'!$D$14+'Project Information'!$D$15*AC25+AC39*'Project Information'!$D$16+'Project Information'!$D$17*AC53+AC67*'Project Information'!$D$18+'Project Information'!$D$19*AC81+AC95*'Project Information'!$D$20","v":0}]
["Multiple",100,null,{"$f":"D12*'Project Information'!$D$14+'Project Information'!$D$15*D26+D40*'Project Information'!$D$16+'Project Information'!$D$17*D54+D68*'Project Information'!$D$18+'Project Information'!$D$19*D82+D96*'Project Information'!$D$20","v":0},{"$f":"E12*'Project Information'!$D$14+'Project Information'!$D$15*E26+E40*'Project Information'!$D$16+'Project Information'!$D$17*E54+E68*'Project Information'!$D$18+'Project Information'!$D$19*E82+E96*'Project Information'!$D$20","v":0},{"$f":"F12*'Project Information'!$D$14+'Project Information'!$D$15*F26+F40*'Project Information'!$D$16+'Project Information'!$D$17*F54+F68*'Project Information'!$D$18+'Project Information'!$D$19*F82+F96*'Project Information'!$D$20","v":0},{"$f":"G12*'Project Information'!$D$14+'Project Information'!$D$15*G26+G40*'Project Information'!$D$16+'Project Information'!$D$17*G54+G68*'Project Information'!$D$18+'Project Information'!$D$19*G82+G96*'Project Information'!$D$20","v":0},{"$f":"H12*'Project Information'!$D$14+'Project Information'!$D$15*H26+H40*'Project Information'!$D$16+'Project Information'!$D$17*H54+H68*'Project Information'!$D$18+'Project Information'!$D$19*H82+H96*'Project Information'!$D$20","v":0},{"$f":"I12*'Project Information'!$D$14+'Project Information'!$D$15*I26+I40*'Project Information'!$D$16+'Project Information'!$D$17*I54+I68*'Project Information'!$D$18+'Project Information'!$D$19*I82+I96*'Project Information'!$D$20","v":0},{"$f":"J12*'Project Information'!$D$14+'Project Information'!$D$15*J26+J40*'Project Information'!$D$16+'Project Information'!$D$17*J54+J68*'Project Information'!$D$18+'Project Information'!$D$19*J82+J96*'Project Information'!$D$20","v":0},{"$f":"K12*'Project Information'!$D$14+'Project Information'!$D$15*K26+K40*'Project Information'!$D$16+'Project Information'!$D$17*K54+K68*'Project Information'!$D$18+'Project Information'!$D$19*K82+K96*'Project Information'!$D$20","v":0},{"$f":"L12*'Project Information'!$D$14+'Project Information'!$D$15*L26+L40*'Project Information'!$D$16+'Project Information'!$D$17*L54+L68*'Project Information'!$D$18+'Project Information'!$D$19*L82+L96*'Project Information'!$D$20","v":0},{"$f":"M12*'Project Information'!$D$14+'Project Information'!$D$15*M26+M40*'Project Information'!$D$16+'Project Information'!$D$17*M54+M68*'Project Information'!$D$18+'Project Information'!$D$19*M82+M96*'Project Information'!$D$20","v":0},{"$f":"N12*'Project Information'!$D$14+'Project Information'!$D$15*N26+N40*'Project Information'!$D$16+'Project Information'!$D$17*N54+N68*'Project Information'!$D$18+'Project Information'!$D$19*N82+N96*'Project Information'!$D$20","v":0},{"$f":"O12*'Project Information'!$D$14+'Project Information'!$D$15*O26+O40*'Project Information'!$D$16+'Project Information'!$D$17*O54+O68*'Project Information'!$D$18+'Project Information'!$D$19*O82+O96*'Project Information'!$D$20","v":0},{"$f":"P12*'Project Information'!$D$14+'Project Information'!$D$15*P26+P40*'Project Information'!$D$16+'Project Information'!$D$17*P54+P68*'Project Information'!$D$18+'Project Information'!$D$19*P82+P96*'Project Information'!$D$20","v":0},{"$f":"Q12*'Project Information'!$D$14+'Project Information'!$D$15*Q26+Q40*'Project Information'!$D$16+'Project Information'!$D$17*Q54+Q68*'Project Information'!$D$18+'Project Information'!$D$19*Q82+Q96*'Project Information'!$D$20","v":0},{"$f":"R12*'Project Information'!$D$14+'Project Information'!$D$15*R26+R40*'Project Information'!$D$16+'Project Information'!$D$17*R54+R68*'Project Information'!$D$18+'Project Information'!$D$19*R82+R96*'Project Information'!$D$20","v":0},{"$f":"S12*'Project Information'!$D$14+'Project Information'!$D$15*S26+S40*'Project Information'!$D$16+'Project Information'!$D$17*S54+S68*'Project Information'!$D$18+'Project Information'!$D$19*S82+S96*'Project Information'!$D$20","v":0},{"$f":"T12*'Project Information'!$D$14+'Project Information'!$D$15*T26+T40*'Project Information'!$D$16+'Project Information'!$D$17*T54+T68*'Project Information'!$D$18+'Project Information'!$D$19*T82+T96*'Project Information'!$D$20","v":0},{"$f":"U12*'Project Information'!$D$14+'Project Information'!$D$15*U26+U40*'Project Information'!$D$16+'Project Information'!$D$17*U54+U68*'Project Information'!$D$18+'Project Information'!$D$19*U82+U96*'Project Information'!$D$20","v":0},{"$f":"V12*'Project Information'!$D$14+'Project Information'!$D$15*V26+V40*'Project Information'!$D$16+'Project Information'!$D$17*V54+V68*'Project Information'!$D$18+'Project Information'!$D$19*V82+V96*'Project Information'!$D$20","v":0},{"$f":"W12*'Project Information'!$D$14+'Project Information'!$D$15*W26+W40*'Project Information'!$D$16+'Project Information'!$D$17*W54+W68*'Project Information'!$D$18+'Project Information'!$D$19*W82+W96*'Project Information'!$D$20","v":0},{"$f":"X12*'Project Information'!$D$14+'Project Information'!$D$15*X26+X40*'Project Information'!$D$16+'Project Information'!$D$17*X54+X68*'Project Information'!$D$18+'Project Information'!$D$19*X82+X96*'Project Information'!$D$20","v":0},{"$f":"Y12*'Project Information'!$D$14+'Project Information'!$D$15*Y26+Y40*'Project Information'!$D$16+'Project Information'!$D$17*Y54+Y68*'Project Information'!$D$18+'Project Information'!$D$19*Y82+Y96*'Project Information'!$D$20","v":0},{"$f":"Z12*'Project Information'!$D$14+'Project Information'!$D$15*Z26+Z40*'Project Information'!$D$16+'Project Information'!$D$17*Z54+Z68*'Project Information'!$D$18+'Project Information'!$D$19*Z82+Z96*'Project Information'!$D$20","v":0},{"$f":"AA12*'Project Information'!$D$14+'Project Information'!$D$15*AA26+AA40*'Project Information'!$D$16+'Project Information'!$D$17*AA54+AA68*'Project Information'!$D$18+'Project Information'!$D$19*AA82+AA96*'Project Information'!$D$20","v":0},{"$f":"AB12*'Project Information'!$D$14+'Project Information'!$D$15*AB26+AB40*'Project Information'!$D$16+'Project Information'!$D$17*AB54+AB68*'Project Information'!$D$18+'Project Information'!$D$19*AB82+AB96*'Project Information'!$D$20","v":0},{"$f":"AC12*'Project Information'!$D$14+'Project Information'!$D$15*AC26+AC40*'Project Information'!$D$16+'Project Information'!$D$17*AC54+AC68*'Project Information'!$D$18+'Project Information'!$D$19*AC82+AC96*'Project Information'!$D$20","v":0}]
["Multiple",120,null,{"$f":"D13*'Project Information'!$D$14+'Project Information'!$D$15*D27+D41*'Project Information'!$D$16+'Project Information'!$D$17*D55+D69*'Project Information'!$D$18+'Project Information'!$D$19*D83+D97*'Project Information'!$D$20","v":0},{"$f":"E13*'Project Information'!$D$14+'Project Information'!$D$15*E27+E41*'Project Information'!$D$16+'Project Information'!$D$17*E55+E69*'Project Information'!$D$18+'Project Information'!$D$19*E83+E97*'Project Information'!$D$20","v":0},{"$f":"F13*'Project Information'!$D$14+'Project Information'!$D$15*F27+F41*'Project Information'!$D$16+'Project Information'!$D$17*F55+F69*'Project Information'!$D$18+'Project Information'!$D$19*F83+F97*'Project Information'!$D$20","v":0},{"$f":"G13*'Project Information'!$D$14+'Project Information'!$D$15*G27+G41*'Project Information'!$D$16+'Project Information'!$D$17*G55+G69*'Project Information'!$D$18+'Project Information'!$D$19*G83+G97*'Project Information'!$D$20","v":0},{"$f":"H13*'Project Information'!$D$14+'Project Information'!$D$15*H27+H41*'Project Information'!$D$16+'Project Information'!$D$17*H55+H69*'Project Information'!$D$18+'Project Information'!$D$19*H83+H97*'Project Information'!$D$20","v":0},{"$f":"I13*'Project Information'!$D$14+'Project Information'!$D$15*I27+I41*'Project Information'!$D$16+'Project Information'!$D$17*I55+I69*'Project Information'!$D$18+'Project Information'!$D$19*I83+I97*'Project Information'!$D$20","v":0},{"$f":"J13*'Project Information'!$D$14+'Project Information'!$D$15*J27+J41*'Project Information'!$D$16+'Project Information'!$D$17*J55+J69*'Project Information'!$D$18+'Project Information'!$D$19*J83+J97*'Project Information'!$D$20","v":0},{"$f":"K13*'Project Information'!$D$14+'Project Information'!$D$15*K27+K41*'Project Information'!$D$16+'Project Information'!$D$17*K55+K69*'Project Information'!$D$18+'Project Information'!$D$19*K83+K97*'Project Information'!$D$20","v":0},{"$f":"L13*'Project Information'!$D$14+'Project Information'!$D$15*L27+L41*'Project Information'!$D$16+'Project Information'!$D$17*L55+L69*'Project Information'!$D$18+'Project Information'!$D$19*L83+L97*'Project Information'!$D$20","v":0},{"$f":"M13*'Project Information'!$D$14+'Project Information'!$D$15*M27+M41*'Project Information'!$D$16+'Project Information'!$D$17*M55+M69*'Project Information'!$D$18+'Project Information'!$D$19*M83+M97*'Project Information'!$D$20","v":0},{"$f":"N13*'Project Information'!$D$14+'Project Information'!$D$15*N27+N41*'Project Information'!$D$16+'Project Information'!$D$17*N55+N69*'Project Information'!$D$18+'Project Information'!$D$19*N83+N97*'Project Information'!$D$20","v":0},{"$f":"O13*'Project Information'!$D$14+'Project Information'!$D$15*O27+O41*'Project Information'!$D$16+'Project Information'!$D$17*O55+O69*'Project Information'!$D$18+'Project Information'!$D$19*O83+O97*'Project Information'!$D$20","v":0},{"$f":"P13*'Project Information'!$D$14+'Project Information'!$D$15*P27+P41*'Project Information'!$D$16+'Project Information'!$D$17*P55+P69*'Project Information'!$D$18+'Project Information'!$D$19*P83+P97*'Project Information'!$D$20","v":0},{"$f":"Q13*'Project Information'!$D$14+'Project Information'!$D$15*Q27+Q41*'Project Information'!$D$16+'Project Information'!$D$17*Q55+Q69*'Project Information'!$D$18+'Project Information'!$D$19*Q83+Q97*'Project Information'!$D$20","v":0},{"$f":"R13*'Project Information'!$D$14+'Project Information'!$D$15*R27+R41*'Project Information'!$D$16+'Project Information'!$D$17*R55+R69*'Project Information'!$D$18+'Project Information'!$D$19*R83+R97*'Project Information'!$D$20","v":0},{"$f":"S13*'Project Information'!$D$14+'Project Information'!$D$15*S27+S41*'Project Information'!$D$16+'Project Information'!$D$17*S55+S69*'Project Information'!$D$18+'Project Information'!$D$19*S83+S97*'Project Information'!$D$20","v":0},{"$f":"T13*'Project Information'!$D$14+'Project Information'!$D$15*T27+T41*'Project Information'!$D$16+'Project Information'!$D$17*T55+T69*'Project Information'!$D$18+'Project Information'!$D$19*T83+T97*'Project Information'!$D$20","v":0},{"$f":"U13*'Project Information'!$D$14+'Project Information'!$D$15*U27+U41*'Project Information'!$D$16+'Project Information'!$D$17*U55+U69*'Project Information'!$D$18+'Project Information'!$D$19*U83+U97*'Project Information'!$D$20","v":0},{"$f":"V13*'Project Information'!$D$14+'Project Information'!$D$15*V27+V41*'Project Information'!$D$16+'Project Information'!$D$17*V55+V69*'Project Information'!$D$18+'Project Information'!$D$19*V83+V97*'Project Information'!$D$20","v":0},{"$f":"W13*'Project Information'!$D$14+'Project Information'!$D$15*W27+W41*'Project Information'!$D$16+'Project Information'!$D$17*W55+W69*'Project Information'!$D$18+'Project Information'!$D$19*W83+W97*'Project Information'!$D$20","v":0},{"$f":"X13*'Project Information'!$D$14+'Project Information'!$D$15*X27+X41*'Project Information'!$D$16+'Project Information'!$D$17*X55+X69*'Project Information'!$D$18+'Project Information'!$D$19*X83+X97*'Project Information'!$D$20","v":0},{"$f":"Y13*'Project Information'!$D$14+'Project Information'!$D$15*Y27+Y41*'Project Information'!$D$16+'Project Information'!$D$17*Y55+Y69*'Project Information'!$D$18+'Project Information'!$D$19*Y83+Y97*'Project Information'!$D$20","v":0},{"$f":"Z13*'Project Information'!$D$14+'Project Information'!$D$15*Z27+Z41*'Project Information'!$D$16+'Project Information'!$D$17*Z55+Z69*'Project Information'!$D$18+'Project Information'!$D$19*Z83+Z97*'Project Information'!$D$20","v":0},{"$f":"AA13*'Project Information'!$D$14+'Project Information'!$D$15*AA27+AA41*'Project Information'!$D$16+'Project Information'!$D$17*AA55+AA69*'Project Information'!$D$18+'Project Information'!$D$19*AA83+AA97*'Project Information'!$D$20","v":0},{"$f":"AB13*'Project Information'!$D$14+'Project Information'!$D$15*AB27+AB41*'Project Information'!$D$16+'Project Information'!$D$17*AB55+AB69*'Project Information'!$D$18+'Project Information'!$D$19*AB83+AB97*'Project Information'!$D$20","v":0},{"$f":"AC13*'Project Information'!$D$14+'Project Information'!$D$15*AC27+AC41*'Project Information'!$D$16+'Project Information'!$D$17*AC55+AC69*'Project Information'!$D$18+'Project Information'!$D$19*AC83+AC97*'Project Information'!$D$20","v":0}]
["Multiple",140,null,{"$f":"D14*'Project Information'!$D$14+'Project Information'!$D$15*D28+D42*'Project Information'!$D$16+'Project Information'!$D$17*D56+D70*'Project Information'!$D$18+'Project Information'!$D$19*D84+D98*'Project Information'!$D$20","v":0},{"$f":"E14*'Project Information'!$D$14+'Project Information'!$D$15*E28+E42*'Project Information'!$D$16+'Project Information'!$D$17*E56+E70*'Project Information'!$D$18+'Project Information'!$D$19*E84+E98*'Project Information'!$D$20","v":0},{"$f":"F14*'Project Information'!$D$14+'Project Information'!$D$15*F28+F42*'Project Information'!$D$16+'Project Information'!$D$17*F56+F70*'Project Information'!$D$18+'Project Information'!$D$19*F84+F98*'Project Information'!$D$20","v":0},{"$f":"G14*'Project Information'!$D$14+'Project Information'!$D$15*G28+G42*'Project Information'!$D$16+'Project Information'!$D$17*G56+G70*'Project Information'!$D$18+'Project Information'!$D$19*G84+G98*'Project Information'!$D$20","v":0},{"$f":"H14*'Project Information'!$D$14+'Project Information'!$D$15*H28+H42*'Project Information'!$D$16+'Project Information'!$D$17*H56+H70*'Project Information'!$D$18+'Project Information'!$D$19*H84+H98*'Project Information'!$D$20","v":0},{"$f":"I14*'Project Information'!$D$14+'Project Information'!$D$15*I28+I42*'Project Information'!$D$16+'Project Information'!$D$17*I56+I70*'Project Information'!$D$18+'Project Information'!$D$19*I84+I98*'Project Information'!$D$20","v":0},{"$f":"J14*'Project Information'!$D$14+'Project Information'!$D$15*J28+J42*'Project Information'!$D$16+'Project Information'!$D$17*J56+J70*'Project Information'!$D$18+'Project Information'!$D$19*J84+J98*'Project Information'!$D$20","v":0},{"$f":"K14*'Project Information'!$D$14+'Project Information'!$D$15*K28+K42*'Project Information'!$D$16+'Project Information'!$D$17*K56+K70*'Project Information'!$D$18+'Project Information'!$D$19*K84+K98*'Project Information'!$D$20","v":0},{"$f":"L14*'Project Information'!$D$14+'Project Information'!$D$15*L28+L42*'Project Information'!$D$16+'Project Information'!$D$17*L56+L70*'Project Information'!$D$18+'Project Information'!$D$19*L84+L98*'Project Information'!$D$20","v":0},{"$f":"M14*'Project Information'!$D$14+'Project Information'!$D$15*M28+M42*'Project Information'!$D$16+'Project Information'!$D$17*M56+M70*'Project Information'!$D$18+'Project Information'!$D$19*M84+M98*'Project Information'!$D$20","v":0},{"$f":"N14*'Project Information'!$D$14+'Project Information'!$D$15*N28+N42*'Project Information'!$D$16+'Project Information'!$D$17*N56+N70*'Project Information'!$D$18+'Project Information'!$D$19*N84+N98*'Project Information'!$D$20","v":0},{"$f":"O14*'Project Information'!$D$14+'Project Information'!$D$15*O28+O42*'Project Information'!$D$16+'Project Information'!$D$17*O56+O70*'Project Information'!$D$18+'Project Information'!$D$19*O84+O98*'Project Information'!$D$20","v":0},{"$f":"P14*'Project Information'!$D$14+'Project Information'!$D$15*P28+P42*'Project Information'!$D$16+'Project Information'!$D$17*P56+P70*'Project Information'!$D$18+'Project Information'!$D$19*P84+P98*'Project Information'!$D$20","v":0},{"$f":"Q14*'Project Information'!$D$14+'Project Information'!$D$15*Q28+Q42*'Project Information'!$D$16+'Project Information'!$D$17*Q56+Q70*'Project Information'!$D$18+'Project Information'!$D$19*Q84+Q98*'Project Information'!$D$20","v":0},{"$f":"R14*'Project Information'!$D$14+'Project Information'!$D$15*R28+R42*'Project Information'!$D$16+'Project Information'!$D$17*R56+R70*'Project Information'!$D$18+'Project Information'!$D$19*R84+R98*'Project Information'!$D$20","v":0},{"$f":"S14*'Project Information'!$D$14+'Project Information'!$D$15*S28+S42*'Project Information'!$D$16+'Project Information'!$D$17*S56+S70*'Project Information'!$D$18+'Project Information'!$D$19*S84+S98*'Project Information'!$D$20","v":0},{"$f":"T14*'Project Information'!$D$14+'Project Information'!$D$15*T28+T42*'Project Information'!$D$16+'Project Information'!$D$17*T56+T70*'Project Information'!$D$18+'Project Information'!$D$19*T84+T98*'Project Information'!$D$20","v":0},{"$f":"U14*'Project Information'!$D$14+'Project Information'!$D$15*U28+U42*'Project Information'!$D$16+'Project Information'!$D$17*U56+U70*'Project Information'!$D$18+'Project Information'!$D$19*U84+U98*'Project Information'!$D$20","v":0},{"$f":"V14*'Project Information'!$D$14+'Project Information'!$D$15*V28+V42*'Project Information'!$D$16+'Project Information'!$D$17*V56+V70*'Project Information'!$D$18+'Project Information'!$D$19*V84+V98*'Project Information'!$D$20","v":0},{"$f":"W14*'Project Information'!$D$14+'Project Information'!$D$15*W28+W42*'Project Information'!$D$16+'Project Information'!$D$17*W56+W70*'Project Information'!$D$18+'Project Information'!$D$19*W84+W98*'Project Information'!$D$20","v":0},{"$f":"X14*'Project Information'!$D$14+'Project Information'!$D$15*X28+X42*'Project Information'!$D$16+'Project Information'!$D$17*X56+X70*'Project Information'!$D$18+'Project Information'!$D$19*X84+X98*'Project Information'!$D$20","v":0},{"$f":"Y14*'Project Information'!$D$14+'Project Information'!$D$15*Y28+Y42*'Project Information'!$D$16+'Project Information'!$D$17*Y56+Y70*'Project Information'!$D$18+'Project Information'!$D$19*Y84+Y98*'Project Information'!$D$20","v":0},{"$f":"Z14*'Project Information'!$D$14+'Project Information'!$D$15*Z28+Z42*'Project Information'!$D$16+'Project Information'!$D$17*Z56+Z70*'Project Information'!$D$18+'Project Information'!$D$19*Z84+Z98*'Project Information'!$D$20","v":0},{"$f":"AA14*'Project Information'!$D$14+'Project Information'!$D$15*AA28+AA42*'Project Information'!$D$16+'Project Information'!$D$17*AA56+AA70*'Project Information'!$D$18+'Project Information'!$D$19*AA84+AA98*'Project Information'!$D$20","v":0},{"$f":"AB14*'Project Information'!$D$14+'Project Information'!$D$15*AB28+AB42*'Project Information'!$D$16+'Project Information'!$D$17*AB56+AB70*'Project Information'!$D$18+'Project Information'!$D$19*AB84+AB98*'Project Information'!$D$20","v":0},{"$f":"AC14*'Project Information'!$D$14+'Project Information'!$D$15*AC28+AC42*'Project Information'!$D$16+'Project Information'!$D$17*AC56+AC70*'Project Information'!$D$18+'Project Information'!$D$19*AC84+AC98*'Project Information'!$D$20","v":0}]
["Multiple",160,null,{"$f":"D15*'Project Information'!$D$14+'Project Information'!$D$15*D29+D43*'Project Information'!$D$16+'Project Information'!$D$17*D57+D71*'Project Information'!$D$18+'Project Information'!$D$19*D85+D99*'Project Information'!$D$20","v":0},{"$f":"E15*'Project Information'!$D$14+'Project Information'!$D$15*E29+E43*'Project Information'!$D$16+'Project Information'!$D$17*E57+E71*'Project Information'!$D$18+'Project Information'!$D$19*E85+E99*'Project Information'!$D$20","v":0},{"$f":"F15*'Project Information'!$D$14+'Project Information'!$D$15*F29+F43*'Project Information'!$D$16+'Project Information'!$D$17*F57+F71*'Project Information'!$D$18+'Project Information'!$D$19*F85+F99*'Project Information'!$D$20","v":0},{"$f":"G15*'Project Information'!$D$14+'Project Information'!$D$15*G29+G43*'Project Information'!$D$16+'Project Information'!$D$17*G57+G71*'Project Information'!$D$18+'Project Information'!$D$19*G85+G99*'Project Information'!$D$20","v":0},{"$f":"H15*'Project Information'!$D$14+'Project Information'!$D$15*H29+H43*'Project Information'!$D$16+'Project Information'!$D$17*H57+H71*'Project Information'!$D$18+'Project Information'!$D$19*H85+H99*'Project Information'!$D$20","v":0},{"$f":"I15*'Project Information'!$D$14+'Project Information'!$D$15*I29+I43*'Project Information'!$D$16+'Project Information'!$D$17*I57+I71*'Project Information'!$D$18+'Project Information'!$D$19*I85+I99*'Project Information'!$D$20","v":0},{"$f":"J15*'Project Information'!$D$14+'Project Information'!$D$15*J29+J43*'Project Information'!$D$16+'Project Information'!$D$17*J57+J71*'Project Information'!$D$18+'Project Information'!$D$19*J85+J99*'Project Information'!$D$20","v":0},{"$f":"K15*'Project Information'!$D$14+'Project Information'!$D$15*K29+K43*'Project Information'!$D$16+'Project Information'!$D$17*K57+K71*'Project Information'!$D$18+'Project Information'!$D$19*K85+K99*'Project Information'!$D$20","v":0},{"$f":"L15*'Project Information'!$D$14+'Project Information'!$D$15*L29+L43*'Project Information'!$D$16+'Project Information'!$D$17*L57+L71*'Project Information'!$D$18+'Project Information'!$D$19*L85+L99*'Project Information'!$D$20","v":0},{"$f":"M15*'Project Information'!$D$14+'Project Information'!$D$15*M29+M43*'Project Information'!$D$16+'Project Information'!$D$17*M57+M71*'Project Information'!$D$18+'Project Information'!$D$19*M85+M99*'Project Information'!$D$20","v":0},{"$f":"N15*'Project Information'!$D$14+'Project Information'!$D$15*N29+N43*'Project Information'!$D$16+'Project Information'!$D$17*N57+N71*'Project Information'!$D$18+'Project Information'!$D$19*N85+N99*'Project Information'!$D$20","v":0},{"$f":"O15*'Project Information'!$D$14+'Project Information'!$D$15*O29+O43*'Project Information'!$D$16+'Project Information'!$D$17*O57+O71*'Project Information'!$D$18+'Project Information'!$D$19*O85+O99*'Project Information'!$D$20","v":0},{"$f":"P15*'Project Information'!$D$14+'Project Information'!$D$15*P29+P43*'Project Information'!$D$16+'Project Information'!$D$17*P57+P71*'Project Information'!$D$18+'Project Information'!$D$19*P85+P99*'Project Information'!$D$20","v":0},{"$f":"Q15*'Project Information'!$D$14+'Project Information'!$D$15*Q29+Q43*'Project Information'!$D$16+'Project Information'!$D$17*Q57+Q71*'Project Information'!$D$18+'Project Information'!$D$19*Q85+Q99*'Project Information'!$D$20","v":0},{"$f":"R15*'Project Information'!$D$14+'Project Information'!$D$15*R29+R43*'Project Information'!$D$16+'Project Information'!$D$17*R57+R71*'Project Information'!$D$18+'Project Information'!$D$19*R85+R99*'Project Information'!$D$20","v":0},{"$f":"S15*'Project Information'!$D$14+'Project Information'!$D$15*S29+S43*'Project Information'!$D$16+'Project Information'!$D$17*S57+S71*'Project Information'!$D$18+'Project Information'!$D$19*S85+S99*'Project Information'!$D$20","v":0},{"$f":"T15*'Project Information'!$D$14+'Project Information'!$D$15*T29+T43*'Project Information'!$D$16+'Project Information'!$D$17*T57+T71*'Project Information'!$D$18+'Project Information'!$D$19*T85+T99*'Project Information'!$D$20","v":0},{"$f":"U15*'Project Information'!$D$14+'Project Information'!$D$15*U29+U43*'Project Information'!$D$16+'Project Information'!$D$17*U57+U71*'Project Information'!$D$18+'Project Information'!$D$19*U85+U99*'Project Information'!$D$20","v":0},{"$f":"V15*'Project Information'!$D$14+'Project Information'!$D$15*V29+V43*'Project Information'!$D$16+'Project Information'!$D$17*V57+V71*'Project Information'!$D$18+'Project Information'!$D$19*V85+V99*'Project Information'!$D$20","v":0},{"$f":"W15*'Project Information'!$D$14+'Project Information'!$D$15*W29+W43*'Project Information'!$D$16+'Project Information'!$D$17*W57+W71*'Project Information'!$D$18+'Project Information'!$D$19*W85+W99*'Project Information'!$D$20","v":0},{"$f":"X15*'Project Information'!$D$14+'Project Information'!$D$15*X29+X43*'Project Information'!$D$16+'Project Information'!$D$17*X57+X71*'Project Information'!$D$18+'Project Information'!$D$19*X85+X99*'Project Information'!$D$20","v":0},{"$f":"Y15*'Project Information'!$D$14+'Project Information'!$D$15*Y29+Y43*'Project Information'!$D$16+'Project Information'!$D$17*Y57+Y71*'Project Information'!$D$18+'Project Information'!$D$19*Y85+Y99*'Project Information'!$D$20","v":0},{"$f":"Z15*'Project Information'!$D$14+'Project Information'!$D$15*Z29+Z43*'Project Information'!$D$16+'Project Information'!$D$17*Z57+Z71*'Project Information'!$D$18+'Project Information'!$D$19*Z85+Z99*'Project Information'!$D$20","v":0},{"$f":"AA15*'Project Information'!$D$14+'Project Information'!$D$15*AA29+AA43*'Project Information'!$D$16+'Project Information'!$D$17*AA57+AA71*'Project Information'!$D$18+'Project Information'!$D$19*AA85+AA99*'Project Information'!$D$20","v":0},{"$f":"AB15*'Project Information'!$D$14+'Project Information'!$D$15*AB29+AB43*'Project Information'!$D$16+'Project Information'!$D$17*AB57+AB71*'Project Information'!$D$18+'Project Information'!$D$19*AB85+AB99*'Project Information'!$D$20","v":0},{"$f":"AC15*'Project Information'!$D$14+'Project Information'!$D$15*AC29+AC43*'Project Information'!$D$16+'Project Information'!$D$17*AC57+AC71*'Project Information'!$D$18+'Project Information'!$D$19*AC85+AC99*'Project Information'!$D$20","v":0}]
["Multiple",180,null,{"$f":"D16*'Project Information'!$D$14+'Project Information'!$D$15*D30+D44*'Project Information'!$D$16+'Project Information'!$D$17*D58+D72*'Project Information'!$D$18+'Project Information'!$D$19*D86+D100*'Project Information'!$D$20","v":0},{"$f":"E16*'Project Information'!$D$14+'Project Information'!$D$15*E30+E44*'Project Information'!$D$16+'Project Information'!$D$17*E58+E72*'Project Information'!$D$18+'Project Information'!$D$19*E86+E100*'Project Information'!$D$20","v":0},{"$f":"F16*'Project Information'!$D$14+'Project Information'!$D$15*F30+F44*'Project Information'!$D$16+'Project Information'!$D$17*F58+F72*'Project Information'!$D$18+'Project Information'!$D$19*F86+F100*'Project Information'!$D$20","v":0},{"$f":"G16*'Project Information'!$D$14+'Project Information'!$D$15*G30+G44*'Project Information'!$D$16+'Project Information'!$D$17*G58+G72*'Project Information'!$D$18+'Project Information'!$D$19*G86+G100*'Project Information'!$D$20","v":0},{"$f":"H16*'Project Information'!$D$14+'Project Information'!$D$15*H30+H44*'Project Information'!$D$16+'Project Information'!$D$17*H58+H72*'Project Information'!$D$18+'Project Information'!$D$19*H86+H100*'Project Information'!$D$20","v":0},{"$f":"I16*'Project Information'!$D$14+'Project Information'!$D$15*I30+I44*'Project Information'!$D$16+'Project Information'!$D$17*I58+I72*'Project Information'!$D$18+'Project Information'!$D$19*I86+I100*'Project Information'!$D$20","v":0},{"$f":"J16*'Project Information'!$D$14+'Project Information'!$D$15*J30+J44*'Project Information'!$D$16+'Project Information'!$D$17*J58+J72*'Project Information'!$D$18+'Project Information'!$D$19*J86+J100*'Project Information'!$D$20","v":0},{"$f":"K16*'Project Information'!$D$14+'Project Information'!$D$15*K30+K44*'Project Information'!$D$16+'Project Information'!$D$17*K58+K72*'Project Information'!$D$18+'Project Information'!$D$19*K86+K100*'Project Information'!$D$20","v":0},{"$f":"L16*'Project Information'!$D$14+'Project Information'!$D$15*L30+L44*'Project Information'!$D$16+'Project Information'!$D$17*L58+L72*'Project Information'!$D$18+'Project Information'!$D$19*L86+L100*'Project Information'!$D$20","v":0},{"$f":"M16*'Project Information'!$D$14+'Project Information'!$D$15*M30+M44*'Project Information'!$D$16+'Project Information'!$D$17*M58+M72*'Project Information'!$D$18+'Project Information'!$D$19*M86+M100*'Project Information'!$D$20","v":0},{"$f":"N16*'Project Information'!$D$14+'Project Information'!$D$15*N30+N44*'Project Information'!$D$16+'Project Information'!$D$17*N58+N72*'Project Information'!$D$18+'Project Information'!$D$19*N86+N100*'Project Information'!$D$20","v":0},{"$f":"O16*'Project Information'!$D$14+'Project Information'!$D$15*O30+O44*'Project Information'!$D$16+'Project Information'!$D$17*O58+O72*'Project Information'!$D$18+'Project Information'!$D$19*O86+O100*'Project Information'!$D$20","v":0},{"$f":"P16*'Project Information'!$D$14+'Project Information'!$D$15*P30+P44*'Project Information'!$D$16+'Project Information'!$D$17*P58+P72*'Project Information'!$D$18+'Project Information'!$D$19*P86+P100*'Project Information'!$D$20","v":0},{"$f":"Q16*'Project Information'!$D$14+'Project Information'!$D$15*Q30+Q44*'Project Information'!$D$16+'Project Information'!$D$17*Q58+Q72*'Project Information'!$D$18+'Project Information'!$D$19*Q86+Q100*'Project Information'!$D$20","v":0},{"$f":"R16*'Project Information'!$D$14+'Project Information'!$D$15*R30+R44*'Project Information'!$D$16+'Project Information'!$D$17*R58+R72*'Project Information'!$D$18+'Project Information'!$D$19*R86+R100*'Project Information'!$D$20","v":0},{"$f":"S16*'Project Information'!$D$14+'Project Information'!$D$15*S30+S44*'Project Information'!$D$16+'Project Information'!$D$17*S58+S72*'Project Information'!$D$18+'Project Information'!$D$19*S86+S100*'Project Information'!$D$20","v":0},{"$f":"T16*'Project Information'!$D$14+'Project Information'!$D$15*T30+T44*'Project Information'!$D$16+'Project Information'!$D$17*T58+T72*'Project Information'!$D$18+'Project Information'!$D$19*T86+T100*'Project Information'!$D$20","v":0},{"$f":"U16*'Project Information'!$D$14+'Project Information'!$D$15*U30+U44*'Project Information'!$D$16+'Project Information'!$D$17*U58+U72*'Project Information'!$D$18+'Project Information'!$D$19*U86+U100*'Project Information'!$D$20","v":0},{"$f":"V16*'Project Information'!$D$14+'Project Information'!$D$15*V30+V44*'Project Information'!$D$16+'Project Information'!$D$17*V58+V72*'Project Information'!$D$18+'Project Information'!$D$19*V86+V100*'Project Information'!$D$20","v":0},{"$f":"W16*'Project Information'!$D$14+'Project Information'!$D$15*W30+W44*'Project Information'!$D$16+'Project Information'!$D$17*W58+W72*'Project Information'!$D$18+'Project Information'!$D$19*W86+W100*'Project Information'!$D$20","v":0},{"$f":"X16*'Project Information'!$D$14+'Project Information'!$D$15*X30+X44*'Project Information'!$D$16+'Project Information'!$D$17*X58+X72*'Project Information'!$D$18+'Project Information'!$D$19*X86+X100*'Project Information'!$D$20","v":0},{"$f":"Y16*'Project Information'!$D$14+'Project Information'!$D$15*Y30+Y44*'Project Information'!$D$16+'Project Information'!$D$17*Y58+Y72*'Project Information'!$D$18+'Project Information'!$D$19*Y86+Y100*'Project Information'!$D$20","v":0},{"$f":"Z16*'Project Information'!$D$14+'Project Information'!$D$15*Z30+Z44*'Project Information'!$D$16+'Project Information'!$D$17*Z58+Z72*'Project Information'!$D$18+'Project Information'!$D$19*Z86+Z100*'Project Information'!$D$20","v":0},{"$f":"AA16*'Project Information'!$D$14+'Project Information'!$D$15*AA30+AA44*'Project Information'!$D$16+'Project Information'!$D$17*AA58+AA72*'Project Information'!$D$18+'Project Information'!$D$19*AA86+AA100*'Project Information'!$D$20","v":0},{"$f":"AB16*'Project Information'!$D$14+'Project Information'!$D$15*AB30+AB44*'Project Information'!$D$16+'Project Information'!$D$17*AB58+AB72*'Project Information'!$D$18+'Project Information'!$D$19*AB86+AB100*'Project Information'!$D$20","v":0},{"$f":"AC16*'Project Information'!$D$14+'Project Information'!$D$15*AC30+AC44*'Project Information'!$D$16+'Project Information'!$D$17*AC58+AC72*'Project Information'!$D$18+'Project Information'!$D$19*AC86+AC100*'Project Information'!$D$20","v":0}]
["Multiple",200,null,{"$f":"D17*'Project Information'!$D$14+'Project Information'!$D$15*D31+D45*'Project Information'!$D$16+'Project Information'!$D$17*D59+D73*'Project Information'!$D$18+'Project Information'!$D$19*D87+D101*'Project Information'!$D$20","v":0},{"$f":"E17*'Project Information'!$D$14+'Project Information'!$D$15*E31+E45*'Project Information'!$D$16+'Project Information'!$D$17*E59+E73*'Project Information'!$D$18+'Project Information'!$D$19*E87+E101*'Project Information'!$D$20","v":0},{"$f":"F17*'Project Information'!$D$14+'Project Information'!$D$15*F31+F45*'Project Information'!$D$16+'Project Information'!$D$17*F59+F73*'Project Information'!$D$18+'Project Information'!$D$19*F87+F101*'Project Information'!$D$20","v":0},{"$f":"G17*'Project Information'!$D$14+'Project Information'!$D$15*G31+G45*'Project Information'!$D$16+'Project Information'!$D$17*G59+G73*'Project Information'!$D$18+'Project Information'!$D$19*G87+G101*'Project Information'!$D$20","v":0},{"$f":"H17*'Project Information'!$D$14+'Project Information'!$D$15*H31+H45*'Project Information'!$D$16+'Project Information'!$D$17*H59+H73*'Project Information'!$D$18+'Project Information'!$D$19*H87+H101*'Project Information'!$D$20","v":0},{"$f":"I17*'Project Information'!$D$14+'Project Information'!$D$15*I31+I45*'Project Information'!$D$16+'Project Information'!$D$17*I59+I73*'Project Information'!$D$18+'Project Information'!$D$19*I87+I101*'Project Information'!$D$20","v":0},{"$f":"J17*'Project Information'!$D$14+'Project Information'!$D$15*J31+J45*'Project Information'!$D$16+'Project Information'!$D$17*J59+J73*'Project Information'!$D$18+'Project Information'!$D$19*J87+J101*'Project Information'!$D$20","v":0},{"$f":"K17*'Project Information'!$D$14+'Project Information'!$D$15*K31+K45*'Project Information'!$D$16+'Project Information'!$D$17*K59+K73*'Project Information'!$D$18+'Project Information'!$D$19*K87+K101*'Project Information'!$D$20","v":0},{"$f":"L17*'Project Information'!$D$14+'Project Information'!$D$15*L31+L45*'Project Information'!$D$16+'Project Information'!$D$17*L59+L73*'Project Information'!$D$18+'Project Information'!$D$19*L87+L101*'Project Information'!$D$20","v":0},{"$f":"M17*'Project Information'!$D$14+'Project Information'!$D$15*M31+M45*'Project Information'!$D$16+'Project Information'!$D$17*M59+M73*'Project Information'!$D$18+'Project Information'!$D$19*M87+M101*'Project Information'!$D$20","v":0},{"$f":"N17*'Project Information'!$D$14+'Project Information'!$D$15*N31+N45*'Project Information'!$D$16+'Project Information'!$D$17*N59+N73*'Project Information'!$D$18+'Project Information'!$D$19*N87+N101*'Project Information'!$D$20","v":0},{"$f":"O17*'Project Information'!$D$14+'Project Information'!$D$15*O31+O45*'Project Information'!$D$16+'Project Information'!$D$17*O59+O73*'Project Information'!$D$18+'Project Information'!$D$19*O87+O101*'Project Information'!$D$20","v":0},{"$f":"P17*'Project Information'!$D$14+'Project Information'!$D$15*P31+P45*'Project Information'!$D$16+'Project Information'!$D$17*P59+P73*'Project Information'!$D$18+'Project Information'!$D$19*P87+P101*'Project Information'!$D$20","v":0},{"$f":"Q17*'Project Information'!$D$14+'Project Information'!$D$15*Q31+Q45*'Project Information'!$D$16+'Project Information'!$D$17*Q59+Q73*'Project Information'!$D$18+'Project Information'!$D$19*Q87+Q101*'Project Information'!$D$20","v":0},{"$f":"R17*'Project Information'!$D$14+'Project Information'!$D$15*R31+R45*'Project Information'!$D$16+'Project Information'!$D$17*R59+R73*'Project Information'!$D$18+'Project Information'!$D$19*R87+R101*'Project Information'!$D$20","v":0},{"$f":"S17*'Project Information'!$D$14+'Project Information'!$D$15*S31+S45*'Project Information'!$D$16+'Project Information'!$D$17*S59+S73*'Project Information'!$D$18+'Project Information'!$D$19*S87+S101*'Project Information'!$D$20","v":0},{"$f":"T17*'Project Information'!$D$14+'Project Information'!$D$15*T31+T45*'Project Information'!$D$16+'Project Information'!$D$17*T59+T73*'Project Information'!$D$18+'Project Information'!$D$19*T87+T101*'Project Information'!$D$20","v":0},{"$f":"U17*'Project Information'!$D$14+'Project Information'!$D$15*U31+U45*'Project Information'!$D$16+'Project Information'!$D$17*U59+U73*'Project Information'!$D$18+'Project Information'!$D$19*U87+U101*'Project Information'!$D$20","v":0},{"$f":"V17*'Project Information'!$D$14+'Project Information'!$D$15*V31+V45*'Project Information'!$D$16+'Project Information'!$D$17*V59+V73*'Project Information'!$D$18+'Project Information'!$D$19*V87+V101*'Project Information'!$D$20","v":0},{"$f":"W17*'Project Information'!$D$14+'Project Information'!$D$15*W31+W45*'Project Information'!$D$16+'Project Information'!$D$17*W59+W73*'Project Information'!$D$18+'Project Information'!$D$19*W87+W101*'Project Information'!$D$20","v":0},{"$f":"X17*'Project Information'!$D$14+'Project Information'!$D$15*X31+X45*'Project Information'!$D$16+'Project Information'!$D$17*X59+X73*'Project Information'!$D$18+'Project Information'!$D$19*X87+X101*'Project Information'!$D$20","v":0},{"$f":"Y17*'Project Information'!$D$14+'Project Information'!$D$15*Y31+Y45*'Project Information'!$D$16+'Project Information'!$D$17*Y59+Y73*'Project Information'!$D$18+'Project Information'!$D$19*Y87+Y101*'Project Information'!$D$20","v":0},{"$f":"Z17*'Project Information'!$D$14+'Project Information'!$D$15*Z31+Z45*'Project Information'!$D$16+'Project Information'!$D$17*Z59+Z73*'Project Information'!$D$18+'Project Information'!$D$19*Z87+Z101*'Project Information'!$D$20","v":0},{"$f":"AA17*'Project Information'!$D$14+'Project Information'!$D$15*AA31+AA45*'Project Information'!$D$16+'Project Information'!$D$17*AA59+AA73*'Project Information'!$D$18+'Project Information'!$D$19*AA87+AA101*'Project Information'!$D$20","v":0},{"$f":"AB17*'Project Information'!$D$14+'Project Information'!$D$15*AB31+AB45*'Project Information'!$D$16+'Project Information'!$D$17*AB59+AB73*'Project Information'!$D$18+'Project Information'!$D$19*AB87+AB101*'Project Information'!$D$20","v":0},{"$f":"AC17*'Project Information'!$D$14+'Project Information'!$D$15*AC31+AC45*'Project Information'!$D$16+'Project Information'!$D$17*AC59+AC73*'Project Information'!$D$18+'Project Information'!$D$19*AC87+AC101*'Project Information'!$D$20","v":0}]
["Multiple",220,null,{"$f":"D18*'Project Information'!$D$14+'Project Information'!$D$15*D32+D46*'Project Information'!$D$16+'Project Information'!$D$17*D60+D74*'Project Information'!$D$18+'Project Information'!$D$19*D88+D102*'Project Information'!$D$20","v":0},{"$f":"E18*'Project Information'!$D$14+'Project Information'!$D$15*E32+E46*'Project Information'!$D$16+'Project Information'!$D$17*E60+E74*'Project Information'!$D$18+'Project Information'!$D$19*E88+E102*'Project Information'!$D$20","v":0},{"$f":"F18*'Project Information'!$D$14+'Project Information'!$D$15*F32+F46*'Project Information'!$D$16+'Project Information'!$D$17*F60+F74*'Project Information'!$D$18+'Project Information'!$D$19*F88+F102*'Project Information'!$D$20","v":0},{"$f":"G18*'Project Information'!$D$14+'Project Information'!$D$15*G32+G46*'Project Information'!$D$16+'Project Information'!$D$17*G60+G74*'Project Information'!$D$18+'Project Information'!$D$19*G88+G102*'Project Information'!$D$20","v":0},{"$f":"H18*'Project Information'!$D$14+'Project Information'!$D$15*H32+H46*'Project Information'!$D$16+'Project Information'!$D$17*H60+H74*'Project Information'!$D$18+'Project Information'!$D$19*H88+H102*'Project Information'!$D$20","v":0},{"$f":"I18*'Project Information'!$D$14+'Project Information'!$D$15*I32+I46*'Project Information'!$D$16+'Project Information'!$D$17*I60+I74*'Project Information'!$D$18+'Project Information'!$D$19*I88+I102*'Project Information'!$D$20","v":0},{"$f":"J18*'Project Information'!$D$14+'Project Information'!$D$15*J32+J46*'Project Information'!$D$16+'Project Information'!$D$17*J60+J74*'Project Information'!$D$18+'Project Information'!$D$19*J88+J102*'Project Information'!$D$20","v":0},{"$f":"K18*'Project Information'!$D$14+'Project Information'!$D$15*K32+K46*'Project Information'!$D$16+'Project Information'!$D$17*K60+K74*'Project Information'!$D$18+'Project Information'!$D$19*K88+K102*'Project Information'!$D$20","v":0},{"$f":"L18*'Project Information'!$D$14+'Project Information'!$D$15*L32+L46*'Project Information'!$D$16+'Project Information'!$D$17*L60+L74*'Project Information'!$D$18+'Project Information'!$D$19*L88+L102*'Project Information'!$D$20","v":0},{"$f":"M18*'Project Information'!$D$14+'Project Information'!$D$15*M32+M46*'Project Information'!$D$16+'Project Information'!$D$17*M60+M74*'Project Information'!$D$18+'Project Information'!$D$19*M88+M102*'Project Information'!$D$20","v":0},{"$f":"N18*'Project Information'!$D$14+'Project Information'!$D$15*N32+N46*'Project Information'!$D$16+'Project Information'!$D$17*N60+N74*'Project Information'!$D$18+'Project Information'!$D$19*N88+N102*'Project Information'!$D$20","v":0},{"$f":"O18*'Project Information'!$D$14+'Project Information'!$D$15*O32+O46*'Project Information'!$D$16+'Project Information'!$D$17*O60+O74*'Project Information'!$D$18+'Project Information'!$D$19*O88+O102*'Project Information'!$D$20","v":0},{"$f":"P18*'Project Information'!$D$14+'Project Information'!$D$15*P32+P46*'Project Information'!$D$16+'Project Information'!$D$17*P60+P74*'Project Information'!$D$18+'Project Information'!$D$19*P88+P102*'Project Information'!$D$20","v":0},{"$f":"Q18*'Project Information'!$D$14+'Project Information'!$D$15*Q32+Q46*'Project Information'!$D$16+'Project Information'!$D$17*Q60+Q74*'Project Information'!$D$18+'Project Information'!$D$19*Q88+Q102*'Project Information'!$D$20","v":0},{"$f":"R18*'Project Information'!$D$14+'Project Information'!$D$15*R32+R46*'Project Information'!$D$16+'Project Information'!$D$17*R60+R74*'Project Information'!$D$18+'Project Information'!$D$19*R88+R102*'Project Information'!$D$20","v":0},{"$f":"S18*'Project Information'!$D$14+'Project Information'!$D$15*S32+S46*'Project Information'!$D$16+'Project Information'!$D$17*S60+S74*'Project Information'!$D$18+'Project Information'!$D$19*S88+S102*'Project Information'!$D$20","v":0},{"$f":"T18*'Project Information'!$D$14+'Project Information'!$D$15*T32+T46*'Project Information'!$D$16+'Project Information'!$D$17*T60+T74*'Project Information'!$D$18+'Project Information'!$D$19*T88+T102*'Project Information'!$D$20","v":0},{"$f":"U18*'Project Information'!$D$14+'Project Information'!$D$15*U32+U46*'Project Information'!$D$16+'Project Information'!$D$17*U60+U74*'Project Information'!$D$18+'Project Information'!$D$19*U88+U102*'Project Information'!$D$20","v":0},{"$f":"V18*'Project Information'!$D$14+'Project Information'!$D$15*V32+V46*'Project Information'!$D$16+'Project Information'!$D$17*V60+V74*'Project Information'!$D$18+'Project Information'!$D$19*V88+V102*'Project Information'!$D$20","v":0},{"$f":"W18*'Project Information'!$D$14+'Project Information'!$D$15*W32+W46*'Project Information'!$D$16+'Project Information'!$D$17*W60+W74*'Project Information'!$D$18+'Project Information'!$D$19*W88+W102*'Project Information'!$D$20","v":0},{"$f":"X18*'Project Information'!$D$14+'Project Information'!$D$15*X32+X46*'Project Information'!$D$16+'Project Information'!$D$17*X60+X74*'Project Information'!$D$18+'Project Information'!$D$19*X88+X102*'Project Information'!$D$20","v":0},{"$f":"Y18*'Project Information'!$D$14+'Project Information'!$D$15*Y32+Y46*'Project Information'!$D$16+'Project Information'!$D$17*Y60+Y74*'Project Information'!$D$18+'Project Information'!$D$19*Y88+Y102*'Project Information'!$D$20","v":0},{"$f":"Z18*'Project Information'!$D$14+'Project Information'!$D$15*Z32+Z46*'Project Information'!$D$16+'Project Information'!$D$17*Z60+Z74*'Project Information'!$D$18+'Project Information'!$D$19*Z88+Z102*'Project Information'!$D$20","v":0},{"$f":"AA18*'Project Information'!$D$14+'Project Information'!$D$15*AA32+AA46*'Project Information'!$D$16+'Project Information'!$D$17*AA60+AA74*'Project Information'!$D$18+'Project Information'!$D$19*AA88+AA102*'Project Information'!$D$20","v":0},{"$f":"AB18*'Project Information'!$D$14+'Project Information'!$D$15*AB32+AB46*'Project Information'!$D$16+'Project Information'!$D$17*AB60+AB74*'Project Information'!$D$18+'Project Information'!$D$19*AB88+AB102*'Project Information'!$D$20","v":0},{"$f":"AC18*'Project Information'!$D$14+'Project Information'!$D$15*AC32+AC46*'Project Information'!$D$16+'Project Information'!$D$17*AC60+AC74*'Project Information'!$D$18+'Project Information'!$D$19*AC88+AC102*'Project Information'!$D$20","v":0}]
["Multiple",240,null,{"$f":"D19*'Project Information'!$D$14+'Project Information'!$D$15*D33+D47*'Project Information'!$D$16+'Project Information'!$D$17*D61+D75*'Project Information'!$D$18+'Project Information'!$D$19*D89+D103*'Project Information'!$D$20","v":0},{"$f":"E19*'Project Information'!$D$14+'Project Information'!$D$15*E33+E47*'Project Information'!$D$16+'Project Information'!$D$17*E61+E75*'Project Information'!$D$18+'Project Information'!$D$19*E89+E103*'Project Information'!$D$20","v":0},{"$f":"F19*'Project Information'!$D$14+'Project Information'!$D$15*F33+F47*'Project Information'!$D$16+'Project Information'!$D$17*F61+F75*'Project Information'!$D$18+'Project Information'!$D$19*F89+F103*'Project Information'!$D$20","v":0},{"$f":"G19*'Project Information'!$D$14+'Project Information'!$D$15*G33+G47*'Project Information'!$D$16+'Project Information'!$D$17*G61+G75*'Project Information'!$D$18+'Project Information'!$D$19*G89+G103*'Project Information'!$D$20","v":0},{"$f":"H19*'Project Information'!$D$14+'Project Information'!$D$15*H33+H47*'Project Information'!$D$16+'Project Information'!$D$17*H61+H75*'Project Information'!$D$18+'Project Information'!$D$19*H89+H103*'Project Information'!$D$20","v":0},{"$f":"I19*'Project Information'!$D$14+'Project Information'!$D$15*I33+I47*'Project Information'!$D$16+'Project Information'!$D$17*I61+I75*'Project Information'!$D$18+'Project Information'!$D$19*I89+I103*'Project Information'!$D$20","v":0},{"$f":"J19*'Project Information'!$D$14+'Project Information'!$D$15*J33+J47*'Project Information'!$D$16+'Project Information'!$D$17*J61+J75*'Project Information'!$D$18+'Project Information'!$D$19*J89+J103*'Project Information'!$D$20","v":0},{"$f":"K19*'Project Information'!$D$14+'Project Information'!$D$15*K33+K47*'Project Information'!$D$16+'Project Information'!$D$17*K61+K75*'Project Information'!$D$18+'Project Information'!$D$19*K89+K103*'Project Information'!$D$20","v":0},{"$f":"L19*'Project Information'!$D$14+'Project Information'!$D$15*L33+L47*'Project Information'!$D$16+'Project Information'!$D$17*L61+L75*'Project Information'!$D$18+'Project Information'!$D$19*L89+L103*'Project Information'!$D$20","v":0},{"$f":"M19*'Project Information'!$D$14+'Project Information'!$D$15*M33+M47*'Project Information'!$D$16+'Project Information'!$D$17*M61+M75*'Project Information'!$D$18+'Project Information'!$D$19*M89+M103*'Project Information'!$D$20","v":0},{"$f":"N19*'Project Information'!$D$14+'Project Information'!$D$15*N33+N47*'Project Information'!$D$16+'Project Information'!$D$17*N61+N75*'Project Information'!$D$18+'Project Information'!$D$19*N89+N103*'Project Information'!$D$20","v":0},{"$f":"O19*'Project Information'!$D$14+'Project Information'!$D$15*O33+O47*'Project Information'!$D$16+'Project Information'!$D$17*O61+O75*'Project Information'!$D$18+'Project Information'!$D$19*O89+O103*'Project Information'!$D$20","v":0},{"$f":"P19*'Project Information'!$D$14+'Project Information'!$D$15*P33+P47*'Project Information'!$D$16+'Project Information'!$D$17*P61+P75*'Project Information'!$D$18+'Project Information'!$D$19*P89+P103*'Project Information'!$D$20","v":0},{"$f":"Q19*'Project Information'!$D$14+'Project Information'!$D$15*Q33+Q47*'Project Information'!$D$16+'Project Information'!$D$17*Q61+Q75*'Project Information'!$D$18+'Project Information'!$D$19*Q89+Q103*'Project Information'!$D$20","v":0},{"$f":"R19*'Project Information'!$D$14+'Project Information'!$D$15*R33+R47*'Project Information'!$D$16+'Project Information'!$D$17*R61+R75*'Project Information'!$D$18+'Project Information'!$D$19*R89+R103*'Project Information'!$D$20","v":0},{"$f":"S19*'Project Information'!$D$14+'Project Information'!$D$15*S33+S47*'Project Information'!$D$16+'Project Information'!$D$17*S61+S75*'Project Information'!$D$18+'Project Information'!$D$19*S89+S103*'Project Information'!$D$20","v":0},{"$f":"T19*'Project Information'!$D$14+'Project Information'!$D$15*T33+T47*'Project Information'!$D$16+'Project Information'!$D$17*T61+T75*'Project Information'!$D$18+'Project Information'!$D$19*T89+T103*'Project Information'!$D$20","v":0},{"$f":"U19*'Project Information'!$D$14+'Project Information'!$D$15*U33+U47*'Project Information'!$D$16+'Project Information'!$D$17*U61+U75*'Project Information'!$D$18+'Project Information'!$D$19*U89+U103*'Project Information'!$D$20","v":0},{"$f":"V19*'Project Information'!$D$14+'Project Information'!$D$15*V33+V47*'Project Information'!$D$16+'Project Information'!$D$17*V61+V75*'Project Information'!$D$18+'Project Information'!$D$19*V89+V103*'Project Information'!$D$20","v":0},{"$f":"W19*'Project Information'!$D$14+'Project Information'!$D$15*W33+W47*'Project Information'!$D$16+'Project Information'!$D$17*W61+W75*'Project Information'!$D$18+'Project Information'!$D$19*W89+W103*'Project Information'!$D$20","v":0},{"$f":"X19*'Project Information'!$D$14+'Project Information'!$D$15*X33+X47*'Project Information'!$D$16+'Project Information'!$D$17*X61+X75*'Project Information'!$D$18+'Project Information'!$D$19*X89+X103*'Project Information'!$D$20","v":0},{"$f":"Y19*'Project Information'!$D$14+'Project Information'!$D$15*Y33+Y47*'Project Information'!$D$16+'Project Information'!$D$17*Y61+Y75*'Project Information'!$D$18+'Project Information'!$D$19*Y89+Y103*'Project Information'!$D$20","v":0},{"$f":"Z19*'Project Information'!$D$14+'Project Information'!$D$15*Z33+Z47*'Project Information'!$D$16+'Project Information'!$D$17*Z61+Z75*'Project Information'!$D$18+'Project Information'!$D$19*Z89+Z103*'Project Information'!$D$20","v":0},{"$f":"AA19*'Project Information'!$D$14+'Project Information'!$D$15*AA33+AA47*'Project Information'!$D$16+'Project Information'!$D$17*AA61+AA75*'Project Information'!$D$18+'Project Information'!$D$19*AA89+AA103*'Project Information'!$D$20","v":0},{"$f":"AB19*'Project Information'!$D$14+'Project Information'!$D$15*AB33+AB47*'Project Information'!$D$16+'Project Information'!$D$17*AB61+AB75*'Project Information'!$D$18+'Project Information'!$D$19*AB89+AB103*'Project Information'!$D$20","v":0},{"$f":"AC19*'Project Information'!$D$14+'Project Information'!$D$15*AC33+AC47*'Project Information'!$D$16+'Project Information'!$D$17*AC61+AC75*'Project Information'!$D$18+'Project Information'!$D$19*AC89+AC103*'Project Information'!$D$20","v":0}]
["Multiple",260,null,{"$f":"D20*'Project Information'!$D$14+'Project Information'!$D$15*D34+D48*'Project Information'!$D$16+'Project Information'!$D$17*D62+D76*'Project Information'!$D$18+'Project Information'!$D$19*D90+D104*'Project Information'!$D$20","v":0},{"$f":"E20*'Project Information'!$D$14+'Project Information'!$D$15*E34+E48*'Project Information'!$D$16+'Project Information'!$D$17*E62+E76*'Project Information'!$D$18+'Project Information'!$D$19*E90+E104*'Project Information'!$D$20","v":0},{"$f":"F20*'Project Information'!$D$14+'Project Information'!$D$15*F34+F48*'Project Information'!$D$16+'Project Information'!$D$17*F62+F76*'Project Information'!$D$18+'Project Information'!$D$19*F90+F104*'Project Information'!$D$20","v":0},{"$f":"G20*'Project Information'!$D$14+'Project Information'!$D$15*G34+G48*'Project Information'!$D$16+'Project Information'!$D$17*G62+G76*'Project Information'!$D$18+'Project Information'!$D$19*G90+G104*'Project Information'!$D$20","v":0},{"$f":"H20*'Project Information'!$D$14+'Project Information'!$D$15*H34+H48*'Project Information'!$D$16+'Project Information'!$D$17*H62+H76*'Project Information'!$D$18+'Project Information'!$D$19*H90+H104*'Project Information'!$D$20","v":0},{"$f":"I20*'Project Information'!$D$14+'Project Information'!$D$15*I34+I48*'Project Information'!$D$16+'Project Information'!$D$17*I62+I76*'Project Information'!$D$18+'Project Information'!$D$19*I90+I104*'Project Information'!$D$20","v":0},{"$f":"J20*'Project Information'!$D$14+'Project Information'!$D$15*J34+J48*'Project Information'!$D$16+'Project Information'!$D$17*J62+J76*'Project Information'!$D$18+'Project Information'!$D$19*J90+J104*'Project Information'!$D$20","v":0},{"$f":"K20*'Project Information'!$D$14+'Project Information'!$D$15*K34+K48*'Project Information'!$D$16+'Project Information'!$D$17*K62+K76*'Project Information'!$D$18+'Project Information'!$D$19*K90+K104*'Project Information'!$D$20","v":0},{"$f":"L20*'Project Information'!$D$14+'Project Information'!$D$15*L34+L48*'Project Information'!$D$16+'Project Information'!$D$17*L62+L76*'Project Information'!$D$18+'Project Information'!$D$19*L90+L104*'Project Information'!$D$20","v":0},{"$f":"M20*'Project Information'!$D$14+'Project Information'!$D$15*M34+M48*'Project Information'!$D$16+'Project Information'!$D$17*M62+M76*'Project Information'!$D$18+'Project Information'!$D$19*M90+M104*'Project Information'!$D$20","v":0},{"$f":"N20*'Project Information'!$D$14+'Project Information'!$D$15*N34+N48*'Project Information'!$D$16+'Project Information'!$D$17*N62+N76*'Project Information'!$D$18+'Project Information'!$D$19*N90+N104*'Project Information'!$D$20","v":0},{"$f":"O20*'Project Information'!$D$14+'Project Information'!$D$15*O34+O48*'Project Information'!$D$16+'Project Information'!$D$17*O62+O76*'Project Information'!$D$18+'Project Information'!$D$19*O90+O104*'Project Information'!$D$20","v":0},{"$f":"P20*'Project Information'!$D$14+'Project Information'!$D$15*P34+P48*'Project Information'!$D$16+'Project Information'!$D$17*P62+P76*'Project Information'!$D$18+'Project Information'!$D$19*P90+P104*'Project Information'!$D$20","v":0},{"$f":"Q20*'Project Information'!$D$14+'Project Information'!$D$15*Q34+Q48*'Project Information'!$D$16+'Project Information'!$D$17*Q62+Q76*'Project Information'!$D$18+'Project Information'!$D$19*Q90+Q104*'Project Information'!$D$20","v":0},{"$f":"R20*'Project Information'!$D$14+'Project Information'!$D$15*R34+R48*'Project Information'!$D$16+'Project Information'!$D$17*R62+R76*'Project Information'!$D$18+'Project Information'!$D$19*R90+R104*'Project Information'!$D$20","v":0},{"$f":"S20*'Project Information'!$D$14+'Project Information'!$D$15*S34+S48*'Project Information'!$D$16+'Project Information'!$D$17*S62+S76*'Project Information'!$D$18+'Project Information'!$D$19*S90+S104*'Project Information'!$D$20","v":0},{"$f":"T20*'Project Information'!$D$14+'Project Information'!$D$15*T34+T48*'Project Information'!$D$16+'Project Information'!$D$17*T62+T76*'Project Information'!$D$18+'Project Information'!$D$19*T90+T104*'Project Information'!$D$20","v":0},{"$f":"U20*'Project Information'!$D$14+'Project Information'!$D$15*U34+U48*'Project Information'!$D$16+'Project Information'!$D$17*U62+U76*'Project Information'!$D$18+'Project Information'!$D$19*U90+U104*'Project Information'!$D$20","v":0},{"$f":"V20*'Project Information'!$D$14+'Project Information'!$D$15*V34+V48*'Project Information'!$D$16+'Project Information'!$D$17*V62+V76*'Project Information'!$D$18+'Project Information'!$D$19*V90+V104*'Project Information'!$D$20","v":0},{"$f":"W20*'Project Information'!$D$14+'Project Information'!$D$15*W34+W48*'Project Information'!$D$16+'Project Information'!$D$17*W62+W76*'Project Information'!$D$18+'Project Information'!$D$19*W90+W104*'Project Information'!$D$20","v":0},{"$f":"X20*'Project Information'!$D$14+'Project Information'!$D$15*X34+X48*'Project Information'!$D$16+'Project Information'!$D$17*X62+X76*'Project Information'!$D$18+'Project Information'!$D$19*X90+X104*'Project Information'!$D$20","v":0},{"$f":"Y20*'Project Information'!$D$14+'Project Information'!$D$15*Y34+Y48*'Project Information'!$D$16+'Project Information'!$D$17*Y62+Y76*'Project Information'!$D$18+'Project Information'!$D$19*Y90+Y104*'Project Information'!$D$20","v":0},{"$f":"Z20*'Project Information'!$D$14+'Project Information'!$D$15*Z34+Z48*'Project Information'!$D$16+'Project Information'!$D$17*Z62+Z76*'Project Information'!$D$18+'Project Information'!$D$19*Z90+Z104*'Project Information'!$D$20","v":0},{"$f":"AA20*'Project Information'!$D$14+'Project Information'!$D$15*AA34+AA48*'Project Information'!$D$16+'Project Information'!$D$17*AA62+AA76*'Project Information'!$D$18+'Project Information'!$D$19*AA90+AA104*'Project Information'!$D$20","v":0},{"$f":"AB20*'Project Information'!$D$14+'Project Information'!$D$15*AB34+AB48*'Project Information'!$D$16+'Project Information'!$D$17*AB62+AB76*'Project Information'!$D$18+'Project Information'!$D$19*AB90+AB104*'Project Information'!$D$20","v":0},{"$f":"AC20*'Project Information'!$D$14+'Project Information'!$D$15*AC34+AC48*'Project Information'!$D$16+'Project Information'!$D$17*AC62+AC76*'Project Information'!$D$18+'Project Information'!$D$19*AC90+AC104*'Project Information'!$D$20","v":0}]
["Rural Interstate",null,null,1.6976294999999999E-2,1.6976294999999999E-2,1.6976294999999999E-2,1.6976294999999999E-2,1.6976294999999999E-2,1.6976294999999999E-2,1.6976294999999999E-2,1.6976294999999999E-2,1.6976294999999999E-2,1.6976294999999999E-2,1.6976294999999999E-2,1.6976294999999999E-2,1.6976294999999999E-2,1.6976294999999999E-2,1.6976294999999999E-2,1.6976294999999999E-2,1.6976294999999999E-2,1.6976294999999999E-2,1.6976294999999999E-2,1.6976294999999999E-2,1.6976294999999999E-2,1.6976294999999999E-2,1.6976294999999999E-2,1.6976294999999999E-2,1.6976294999999999E-2,1.6976294999999999E-2]
["Urban Interstate",null,null,0.169624368,0.169624368,0.169624368,0.169624368,0.169624368,0.169624368,0.169624368,0.169624368,0.169624368,0.169624368,0.169624368,0.169624368,0.169624368,0.169624368,0.169624368,0.169624368,0.169624368,0.169624368,0.169624368,0.169624368,0.169624368,0.169624368,0.169624368,0.169624368,0.169624368,0.169624368]